{"text_format":"1","workbook":"xlsx","n_sheets":13,"sheets":["TELA INICIAL","GASTOS_JUROS","BASE DE DADOS","AUXILIAR","relatório","ANALISE","CALENDARIO","FERIADOS","GASTOS_MENSAIS","Planilha1","CONFIG","FILTRO","Planilha3"],"not_rendered":{"charts":0,"images":1,"macros":1,"external_links":0,"defined_names":14,"comments":2,"pivot_tables":0},"unopened":[],"bounds":{"document_bytes":16777216,"sheet_cells":100000,"rows_first":2000,"rows_last":500,"rows_between":2000,"halvings":0,"cell_chars":16384,"cell_head_chars":4096},"cells_cut":0,"cells_raw":0,"read":"whole","date_system":"1900"}

{"sheet":"TELA INICIAL","index":0,"n_rows":28,"n_cols":14,"rows_kept":28,"cut":false,"hidden":false,"merged":[]}
[]
[]
[null,null,null,null,null,null,null,null,null,null,null,"JUNIOR"]
[null,null,"APP","DINHEIRO","CREDITO A VISTA ","CREDITO PARCELADO",null,null,"CARTÃO"]
[null,null,"RECARGAPAY",0,3.49E-2,0,null,null,"AZUL",null,null,"CARD"]
[null,null,"REC.BOLETO",0,3.9899999999999998E-2,0,null,null,"BMG",null,null,"MELIUZ_JUNIOR"]
[null,null,"PICPAY",0,4.99E-2,0,null,null,"C6",null,null,"PAN_JUNIOR",null,"CARDMÃE"]
[null,null,"PAGSEGURO",0,2.8899999999999999E-2,0,null,null,"C6MAE",null,null,"C6_JUNIOR",null,"C6"]
[null,null,"CONTA",0,0,0,null,null,"CLICK",null,null,"BMG_JUNIOR",null,"TRIGG"]
[null,null,"GERAL",0,0,0,null,null,"CLICKV",null,null,"FREE_JUNIOR",null,"NEON"]
[null,null,"PAG",0,2.7900000000000001E-2,0,null,null,"DÉBITO",null,null,"NUBANK_JUNIOR",null,"PAN"]
[null,null,"JUROS",0,0,0,null,null,"DIGIO",null,null,"PAG_JUNIOR",null,"DIGIO"]
[null,null,null,null,null,null,null,null,"FREE",null,null,"AZUL_JUNIOR",null,"PAG"]
[null,null,null,null,null,null,null,null,"GOLD",null,null,"GOLD_JUNIOR"]
[null,null,null,null,null,null,null,null,"INTER",null,null,"LATAM_JUNIOR"]
[null,null,null,null,null,null,null,null,"LATAM",null,null,"ZERO_JUNIOR"]
[null,null,null,null,null,null,null,null,"MELIUZ",null,null,"CLICK_JUNIOR"]
[null,null,null,null,null,null,null,null,"MNEXT",null,null,"INTER_JUNIOR"]
[null,null,null,null,null,null,null,null,"NCARD",null,null,"NCARD_JUNIOR"]
[null,null,null,null,null,null,null,null,"NEON",null,null,"ORIGINAL_JUNIOR"]
[null,null,null,null,null,null,null,null,"NUBANK",null,null,"CLICKV_JUNIOR"]
[null,null,null,null,null,null,null,null,"ORIGINAL"]
[null,null,null,null,null,null,null,null,"PAGMAE"]
[null,null,null,null,null,null,null,null,"PAN"]
[null,null,null,null,null,null,null,null,"PANMAE"]
[null,null,null,null,null,null,null,null,"TRIGMAE"]
[null,null,null,null,null,null,null,null,"ZERO"]
[null,null,null,null,null,null,null,null,"WILL"]

{"sheet":"GASTOS_JUROS","index":1,"n_rows":29,"n_cols":30,"rows_kept":29,"cut":false,"hidden":false,"merged":[]}
[]
[null,null,null,null,null,null,null,null,null,null,null,null,null,null,null,null,null,"LIMITE D"]
[null,"PGTO",null,null,null,null,null,null,null,null,null,null,null,null,null,null,null,"LIMITE G"]
[null,"GASTOS",{"$f":"ANNO","v":2022}]
["CARTÃO","JANEIRO","FEVEREIRO","MARÇO","ABRIL","MAIO","JUNHO","JULHO","AGOSTO","SETEMBRO","OUTUBRO","NOVEMBRO","DEZEMBRO","TOTAL",null,null,null,"CARDS","JANEIRO","FEVEREIRO","MARÇO","ABRIL","MAIO","JUNHO","JULHO","AGOSTO","SETEMBRO","OUTUBRO","NOVEMBRO","DEZEMBRO"]
["CARTÃO","2022-01-01","2022-02-01","2022-03-01","2022-04-01","2022-05-01","2022-06-01","2022-07-01","2022-08-01","2022-09-01","2022-10-01","2022-11-01","2022-12-01"]
[{"$f":"CONFIG!A2","v":"CLICK"},{"$f":"SUMIFS('BASE DE DADOS'!$N:$N,'BASE DE DADOS'!$B:$B,GASTOS_JUROS!$B$3,'BASE DE DADOS'!$G:$G,GASTOS_JUROS!$A7,'BASE DE DADOS'!$O:$O,GASTOS_JUROS!B$5)","v":77.939378000000033},{"$f":"SUMIFS('BASE DE DADOS'!$N:$N,'BASE DE DADOS'!$B:$B,GASTOS_JUROS!$B$3,'BASE DE DADOS'!$G:$G,GASTOS_JUROS!$A7,'BASE DE DADOS'!$O:$O,GASTOS_JUROS!C$5)","v":77.939726999999834},{"$f":"SUMIFS('BASE DE DADOS'!$N:$N,'BASE DE DADOS'!$B:$B,GASTOS_JUROS!$B$3,'BASE DE DADOS'!$G:$G,GASTOS_JUROS!$A7,'BASE DE DADOS'!$O:$O,GASTOS_JUROS!D$5)","v":72.889773000000105},{"$f":"SUMIFS('BASE DE DADOS'!$N:$N,'BASE DE DADOS'!$B:$B,GASTOS_JUROS!$B$3,'BASE DE DADOS'!$G:$G,GASTOS_JUROS!$A7,'BASE DE DADOS'!$O:$O,GASTOS_JUROS!E$5)","v":77.586189999999988},{"$f":"SUMIFS('BASE DE DADOS'!$N:$N,'BASE DE DADOS'!$B:$B,GASTOS_JUROS!$B$3,'BASE DE DADOS'!$G:$G,GASTOS_JUROS!$A7,'BASE DE DADOS'!$O:$O,GASTOS_JUROS!F$5)","v":39.445376000000067},{"$f":"SUMIFS('BASE DE DADOS'!$N:$N,'BASE DE DADOS'!$B:$B,GASTOS_JUROS!$B$3,'BASE DE DADOS'!$G:$G,GASTOS_JUROS!$A7,'BASE DE DADOS'!$O:$O,GASTOS_JUROS!G$5)","v":102.423182},{"$f":"SUMIFS('BASE DE DADOS'!$N:$N,'BASE DE DADOS'!$B:$B,GASTOS_JUROS!$B$3,'BASE DE DADOS'!$G:$G,GASTOS_JUROS!$A7,'BASE DE DADOS'!$O:$O,GASTOS_JUROS!H$5)","v":53.126175999999987},{"$f":"SUMIFS('BASE DE DADOS'!$N:$N,'BASE DE DADOS'!$B:$B,GASTOS_JUROS!$B$3,'BASE DE DADOS'!$G:$G,GASTOS_JUROS!$A7,'BASE DE DADOS'!$O:$O,GASTOS_JUROS!I$5)","v":77.190074999999922},{"$f":"SUMIFS('BASE DE DADOS'!$N:$N,'BASE DE DADOS'!$B:$B,GASTOS_JUROS!$B$3,'BASE DE DADOS'!$G:$G,GASTOS_JUROS!$A7,'BASE DE DADOS'!$O:$O,GASTOS_JUROS!J$5)","v":0},{"$f":"SUMIFS('BASE DE DADOS'!$N:$N,'BASE DE DADOS'!$B:$B,GASTOS_JUROS!$B$3,'BASE DE DADOS'!$G:$G,GASTOS_JUROS!$A7,'BASE DE DADOS'!$O:$O,GASTOS_JUROS!K$5)","v":77.563156000000163},{"$f":"SUMIFS('BASE DE DADOS'!$N:$N,'BASE DE DADOS'!$B:$B,GASTOS_JUROS!$B$3,'BASE DE DADOS'!$G:$G,GASTOS_JUROS!$A7,'BASE DE DADOS'!$O:$O,GASTOS_JUROS!L$5)","v":0},{"$f":"SUMIFS('BASE DE DADOS'!$N:$N,'BASE DE DADOS'!$B:$B,GASTOS_JUROS!$B$3,'BASE DE DADOS'!$G:$G,GASTOS_JUROS!$A7,'BASE DE DADOS'!$O:$O,GASTOS_JUROS!M$5)","v":0},{"$f":"SUM(B7:M7)","v":656.1030330000001}]
["DIGIO",{"$f":"SUMIFS('BASE DE DADOS'!$N:$N,'BASE DE DADOS'!$B:$B,GASTOS_JUROS!$B$3,'BASE DE DADOS'!$G:$G,GASTOS_JUROS!$A8,'BASE DE DADOS'!$O:$O,GASTOS_JUROS!B$5)","v":0},{"$f":"SUMIFS('BASE DE DADOS'!$N:$N,'BASE DE DADOS'!$B:$B,GASTOS_JUROS!$B$3,'BASE DE DADOS'!$G:$G,GASTOS_JUROS!$A8,'BASE DE DADOS'!$O:$O,GASTOS_JUROS!C$5)","v":29.820304999999962},{"$f":"SUMIFS('BASE DE DADOS'!$N:$N,'BASE DE DADOS'!$B:$B,GASTOS_JUROS!$B$3,'BASE DE DADOS'!$G:$G,GASTOS_JUROS!$A8,'BASE DE DADOS'!$O:$O,GASTOS_JUROS!D$5)","v":25.548054999999977},{"$f":"SUMIFS('BASE DE DADOS'!$N:$N,'BASE DE DADOS'!$B:$B,GASTOS_JUROS!$B$3,'BASE DE DADOS'!$G:$G,GASTOS_JUROS!$A8,'BASE DE DADOS'!$O:$O,GASTOS_JUROS!E$5)","v":29.664999999999964},{"$f":"SUMIFS('BASE DE DADOS'!$N:$N,'BASE DE DADOS'!$B:$B,GASTOS_JUROS!$B$3,'BASE DE DADOS'!$G:$G,GASTOS_JUROS!$A8,'BASE DE DADOS'!$O:$O,GASTOS_JUROS!F$5)","v":29.664999999999964},{"$f":"SUMIFS('BASE DE DADOS'!$N:$N,'BASE DE DADOS'!$B:$B,GASTOS_JUROS!$B$3,'BASE DE DADOS'!$G:$G,GASTOS_JUROS!$A8,'BASE DE DADOS'!$O:$O,GASTOS_JUROS!G$5)","v":29.664999999999964},{"$f":"SUMIFS('BASE DE DADOS'!$N:$N,'BASE DE DADOS'!$B:$B,GASTOS_JUROS!$B$3,'BASE DE DADOS'!$G:$G,GASTOS_JUROS!$A8,'BASE DE DADOS'!$O:$O,GASTOS_JUROS!H$5)","v":0},{"$f":"SUMIFS('BASE DE DADOS'!$N:$N,'BASE DE DADOS'!$B:$B,GASTOS_JUROS!$B$3,'BASE DE DADOS'!$G:$G,GASTOS_JUROS!$A8,'BASE DE DADOS'!$O:$O,GASTOS_JUROS!I$5)","v":0},{"$f":"SUMIFS('BASE DE DADOS'!$N:$N,'BASE DE DADOS'!$B:$B,GASTOS_JUROS!$B$3,'BASE DE DADOS'!$G:$G,GASTOS_JUROS!$A8,'BASE DE DADOS'!$O:$O,GASTOS_JUROS!J$5)","v":29.533775999999989},{"$f":"SUMIFS('BASE DE DADOS'!$N:$N,'BASE DE DADOS'!$B:$B,GASTOS_JUROS!$B$3,'BASE DE DADOS'!$G:$G,GASTOS_JUROS!$A8,'BASE DE DADOS'!$O:$O,GASTOS_JUROS!K$5)","v":29.676167999999961},{"$f":"SUMIFS('BASE DE DADOS'!$N:$N,'BASE DE DADOS'!$B:$B,GASTOS_JUROS!$B$3,'BASE DE DADOS'!$G:$G,GASTOS_JUROS!$A8,'BASE DE DADOS'!$O:$O,GASTOS_JUROS!L$5)","v":0},{"$f":"SUMIFS('BASE DE DADOS'!$N:$N,'BASE DE DADOS'!$B:$B,GASTOS_JUROS!$B$3,'BASE DE DADOS'!$G:$G,GASTOS_JUROS!$A8,'BASE DE DADOS'!$O:$O,GASTOS_JUROS!M$5)","v":0},{"$f":"SUM(B8:M8)","v":203.57330399999978}]
[{"$f":"CONFIG!A3","v":"MELIUZ"},{"$f":"SUMIFS('BASE DE DADOS'!$N:$N,'BASE DE DADOS'!$B:$B,GASTOS_JUROS!$B$3,'BASE DE DADOS'!$G:$G,GASTOS_JUROS!$A9,'BASE DE DADOS'!$O:$O,GASTOS_JUROS!B$5)","v":30.302971999999954},{"$f":"SUMIFS('BASE DE DADOS'!$N:$N,'BASE DE DADOS'!$B:$B,GASTOS_JUROS!$B$3,'BASE DE DADOS'!$G:$G,GASTOS_JUROS!$A9,'BASE DE DADOS'!$O:$O,GASTOS_JUROS!C$5)","v":0},{"$f":"SUMIFS('BASE DE DADOS'!$N:$N,'BASE DE DADOS'!$B:$B,GASTOS_JUROS!$B$3,'BASE DE DADOS'!$G:$G,GASTOS_JUROS!$A9,'BASE DE DADOS'!$O:$O,GASTOS_JUROS!D$5)","v":54.276273999999944},{"$f":"SUMIFS('BASE DE DADOS'!$N:$N,'BASE DE DADOS'!$B:$B,GASTOS_JUROS!$B$3,'BASE DE DADOS'!$G:$G,GASTOS_JUROS!$A9,'BASE DE DADOS'!$O:$O,GASTOS_JUROS!E$5)","v":62.112925999999902},{"$f":"SUMIFS('BASE DE DADOS'!$N:$N,'BASE DE DADOS'!$B:$B,GASTOS_JUROS!$B$3,'BASE DE DADOS'!$G:$G,GASTOS_JUROS!$A9,'BASE DE DADOS'!$O:$O,GASTOS_JUROS!F$5)","v":31.493759999999952},{"$f":"SUMIFS('BASE DE DADOS'!$N:$N,'BASE DE DADOS'!$B:$B,GASTOS_JUROS!$B$3,'BASE DE DADOS'!$G:$G,GASTOS_JUROS!$A9,'BASE DE DADOS'!$O:$O,GASTOS_JUROS!G$5)","v":39.691769999999906},{"$f":"SUMIFS('BASE DE DADOS'!$N:$N,'BASE DE DADOS'!$B:$B,GASTOS_JUROS!$B$3,'BASE DE DADOS'!$G:$G,GASTOS_JUROS!$A9,'BASE DE DADOS'!$O:$O,GASTOS_JUROS!H$5)","v":62.75892500000009},{"$f":"SUMIFS('BASE DE DADOS'!$N:$N,'BASE DE DADOS'!$B:$B,GASTOS_JUROS!$B$3,'BASE DE DADOS'!$G:$G,GASTOS_JUROS!$A9,'BASE DE DADOS'!$O:$O,GASTOS_JUROS!I$5)","v":0},{"$f":"SUMIFS('BASE DE DADOS'!$N:$N,'BASE DE DADOS'!$B:$B,GASTOS_JUROS!$B$3,'BASE DE DADOS'!$G:$G,GASTOS_JUROS!$A9,'BASE DE DADOS'!$O:$O,GASTOS_JUROS!J$5)","v":442.06643399999984},{"$f":"SUMIFS('BASE DE DADOS'!$N:$N,'BASE DE DADOS'!$B:$B,GASTOS_JUROS!$B$3,'BASE DE DADOS'!$G:$G,GASTOS_JUROS!$A9,'BASE DE DADOS'!$O:$O,GASTOS_JUROS!K$5)","v":204.96490799999992},{"$f":"SUMIFS('BASE DE DADOS'!$N:$N,'BASE DE DADOS'!$B:$B,GASTOS_JUROS!$B$3,'BASE DE DADOS'!$G:$G,GASTOS_JUROS!$A9,'BASE DE DADOS'!$O:$O,GASTOS_JUROS!L$5)","v":0},{"$f":"SUMIFS('BASE DE DADOS'!$N:$N,'BASE DE DADOS'!$B:$B,GASTOS_JUROS!$B$3,'BASE DE DADOS'!$G:$G,GASTOS_JUROS!$A9,'BASE DE DADOS'!$O:$O,GASTOS_JUROS!M$5)","v":0},927.66796899999952]
[{"$f":"CONFIG!A4","v":"ZERO"},{"$f":"SUMIFS('BASE DE DADOS'!$N:$N,'BASE DE DADOS'!$B:$B,GASTOS_JUROS!$B$3,'BASE DE DADOS'!$G:$G,GASTOS_JUROS!$A10,'BASE DE DADOS'!$O:$O,GASTOS_JUROS!B$5)","v":45.523210999999947},{"$f":"SUMIFS('BASE DE DADOS'!$N:$N,'BASE DE DADOS'!$B:$B,GASTOS_JUROS!$B$3,'BASE DE DADOS'!$G:$G,GASTOS_JUROS!$A10,'BASE DE DADOS'!$O:$O,GASTOS_JUROS!C$5)","v":0},{"$f":"SUMIFS('BASE DE DADOS'!$N:$N,'BASE DE DADOS'!$B:$B,GASTOS_JUROS!$B$3,'BASE DE DADOS'!$G:$G,GASTOS_JUROS!$A10,'BASE DE DADOS'!$O:$O,GASTOS_JUROS!D$5)","v":54.218545999999947},{"$f":"SUMIFS('BASE DE DADOS'!$N:$N,'BASE DE DADOS'!$B:$B,GASTOS_JUROS!$B$3,'BASE DE DADOS'!$G:$G,GASTOS_JUROS!$A10,'BASE DE DADOS'!$O:$O,GASTOS_JUROS!E$5)","v":20.904751000000033},{"$f":"SUMIFS('BASE DE DADOS'!$N:$N,'BASE DE DADOS'!$B:$B,GASTOS_JUROS!$B$3,'BASE DE DADOS'!$G:$G,GASTOS_JUROS!$A10,'BASE DE DADOS'!$O:$O,GASTOS_JUROS!F$5)","v":53.956795999999883},{"$f":"SUMIFS('BASE DE DADOS'!$N:$N,'BASE DE DADOS'!$B:$B,GASTOS_JUROS!$B$3,'BASE DE DADOS'!$G:$G,GASTOS_JUROS!$A10,'BASE DE DADOS'!$O:$O,GASTOS_JUROS!G$5)","v":53.95679599999994},{"$f":"SUMIFS('BASE DE DADOS'!$N:$N,'BASE DE DADOS'!$B:$B,GASTOS_JUROS!$B$3,'BASE DE DADOS'!$G:$G,GASTOS_JUROS!$A10,'BASE DE DADOS'!$O:$O,GASTOS_JUROS!H$5)","v":53.95679599999994},{"$f":"SUMIFS('BASE DE DADOS'!$N:$N,'BASE DE DADOS'!$B:$B,GASTOS_JUROS!$B$3,'BASE DE DADOS'!$G:$G,GASTOS_JUROS!$A10,'BASE DE DADOS'!$O:$O,GASTOS_JUROS!I$5)","v":53.69713999999999},{"$f":"SUMIFS('BASE DE DADOS'!$N:$N,'BASE DE DADOS'!$B:$B,GASTOS_JUROS!$B$3,'BASE DE DADOS'!$G:$G,GASTOS_JUROS!$A10,'BASE DE DADOS'!$O:$O,GASTOS_JUROS!J$5)","v":53.697488999999905},{"$f":"SUMIFS('BASE DE DADOS'!$N:$N,'BASE DE DADOS'!$B:$B,GASTOS_JUROS!$B$3,'BASE DE DADOS'!$G:$G,GASTOS_JUROS!$A10,'BASE DE DADOS'!$O:$O,GASTOS_JUROS!K$5)","v":55.838604000000032},{"$f":"SUMIFS('BASE DE DADOS'!$N:$N,'BASE DE DADOS'!$B:$B,GASTOS_JUROS!$B$3,'BASE DE DADOS'!$G:$G,GASTOS_JUROS!$A10,'BASE DE DADOS'!$O:$O,GASTOS_JUROS!L$5)","v":0},{"$f":"SUMIFS('BASE DE DADOS'!$N:$N,'BASE DE DADOS'!$B:$B,GASTOS_JUROS!$B$3,'BASE DE DADOS'!$G:$G,GASTOS_JUROS!$A10,'BASE DE DADOS'!$O:$O,GASTOS_JUROS!M$5)","v":0},445.75012899999962]
[{"$f":"CONFIG!A5","v":"NUBANK"},{"$f":"SUMIFS('BASE DE DADOS'!$N:$N,'BASE DE DADOS'!$B:$B,GASTOS_JUROS!$B$3,'BASE DE DADOS'!$G:$G,GASTOS_JUROS!$A11,'BASE DE DADOS'!$O:$O,GASTOS_JUROS!B$5)","v":119.38312799999994},{"$f":"SUMIFS('BASE DE DADOS'!$N:$N,'BASE DE DADOS'!$B:$B,GASTOS_JUROS!$B$3,'BASE DE DADOS'!$G:$G,GASTOS_JUROS!$A11,'BASE DE DADOS'!$O:$O,GASTOS_JUROS!C$5)","v":122.94816300000002},{"$f":"SUMIFS('BASE DE DADOS'!$N:$N,'BASE DE DADOS'!$B:$B,GASTOS_JUROS!$B$3,'BASE DE DADOS'!$G:$G,GASTOS_JUROS!$A11,'BASE DE DADOS'!$O:$O,GASTOS_JUROS!D$5)","v":104.30674800000008},{"$f":"SUMIFS('BASE DE DADOS'!$N:$N,'BASE DE DADOS'!$B:$B,GASTOS_JUROS!$B$3,'BASE DE DADOS'!$G:$G,GASTOS_JUROS!$A11,'BASE DE DADOS'!$O:$O,GASTOS_JUROS!E$5)","v":121.40279100000021},{"$f":"SUMIFS('BASE DE DADOS'!$N:$N,'BASE DE DADOS'!$B:$B,GASTOS_JUROS!$B$3,'BASE DE DADOS'!$G:$G,GASTOS_JUROS!$A11,'BASE DE DADOS'!$O:$O,GASTOS_JUROS!F$5)","v":124.77517799999987},{"$f":"SUMIFS('BASE DE DADOS'!$N:$N,'BASE DE DADOS'!$B:$B,GASTOS_JUROS!$B$3,'BASE DE DADOS'!$G:$G,GASTOS_JUROS!$A11,'BASE DE DADOS'!$O:$O,GASTOS_JUROS!G$5)","v":123.69118400000025},{"$f":"SUMIFS('BASE DE DADOS'!$N:$N,'BASE DE DADOS'!$B:$B,GASTOS_JUROS!$B$3,'BASE DE DADOS'!$G:$G,GASTOS_JUROS!$A11,'BASE DE DADOS'!$O:$O,GASTOS_JUROS!H$5)","v":129.89780000000019},{"$f":"SUMIFS('BASE DE DADOS'!$N:$N,'BASE DE DADOS'!$B:$B,GASTOS_JUROS!$B$3,'BASE DE DADOS'!$G:$G,GASTOS_JUROS!$A11,'BASE DE DADOS'!$O:$O,GASTOS_JUROS!I$5)","v":134.24354799999992},{"$f":"SUMIFS('BASE DE DADOS'!$N:$N,'BASE DE DADOS'!$B:$B,GASTOS_JUROS!$B$3,'BASE DE DADOS'!$G:$G,GASTOS_JUROS!$A11,'BASE DE DADOS'!$O:$O,GASTOS_JUROS!J$5)","v":87.083177999999862},{"$f":"SUMIFS('BASE DE DADOS'!$N:$N,'BASE DE DADOS'!$B:$B,GASTOS_JUROS!$B$3,'BASE DE DADOS'!$G:$G,GASTOS_JUROS!$A11,'BASE DE DADOS'!$O:$O,GASTOS_JUROS!K$5)","v":116.2170000000001},{"$f":"SUMIFS('BASE DE DADOS'!$N:$N,'BASE DE DADOS'!$B:$B,GASTOS_JUROS!$B$3,'BASE DE DADOS'!$G:$G,GASTOS_JUROS!$A11,'BASE DE DADOS'!$O:$O,GASTOS_JUROS!L$5)","v":0},{"$f":"SUMIFS('BASE DE DADOS'!$N:$N,'BASE DE DADOS'!$B:$B,GASTOS_JUROS!$B$3,'BASE DE DADOS'!$G:$G,GASTOS_JUROS!$A11,'BASE DE DADOS'!$O:$O,GASTOS_JUROS!M$5)","v":0},1183.9487180000006]
["NEON",{"$f":"SUMIFS('BASE DE DADOS'!$N:$N,'BASE DE DADOS'!$B:$B,GASTOS_JUROS!$B$3,'BASE DE DADOS'!$G:$G,GASTOS_JUROS!$A12,'BASE DE DADOS'!$O:$O,GASTOS_JUROS!B$5)","v":0},{"$f":"SUMIFS('BASE DE DADOS'!$N:$N,'BASE DE DADOS'!$B:$B,GASTOS_JUROS!$B$3,'BASE DE DADOS'!$G:$G,GASTOS_JUROS!$A12,'BASE DE DADOS'!$O:$O,GASTOS_JUROS!C$5)","v":25.415226999999959},{"$f":"SUMIFS('BASE DE DADOS'!$N:$N,'BASE DE DADOS'!$B:$B,GASTOS_JUROS!$B$3,'BASE DE DADOS'!$G:$G,GASTOS_JUROS!$A12,'BASE DE DADOS'!$O:$O,GASTOS_JUROS!D$5)","v":24.677067999999963},{"$f":"SUMIFS('BASE DE DADOS'!$N:$N,'BASE DE DADOS'!$B:$B,GASTOS_JUROS!$B$3,'BASE DE DADOS'!$G:$G,GASTOS_JUROS!$A12,'BASE DE DADOS'!$O:$O,GASTOS_JUROS!E$5)","v":28.664765999999986},{"$f":"SUMIFS('BASE DE DADOS'!$N:$N,'BASE DE DADOS'!$B:$B,GASTOS_JUROS!$B$3,'BASE DE DADOS'!$G:$G,GASTOS_JUROS!$A12,'BASE DE DADOS'!$O:$O,GASTOS_JUROS!F$5)","v":28.664765999999986},{"$f":"SUMIFS('BASE DE DADOS'!$N:$N,'BASE DE DADOS'!$B:$B,GASTOS_JUROS!$B$3,'BASE DE DADOS'!$G:$G,GASTOS_JUROS!$A12,'BASE DE DADOS'!$O:$O,GASTOS_JUROS!G$5)","v":28.664765999999986},{"$f":"SUMIFS('BASE DE DADOS'!$N:$N,'BASE DE DADOS'!$B:$B,GASTOS_JUROS!$B$3,'BASE DE DADOS'!$G:$G,GASTOS_JUROS!$A12,'BASE DE DADOS'!$O:$O,GASTOS_JUROS!H$5)","v":35.715613000000019},{"$f":"SUMIFS('BASE DE DADOS'!$N:$N,'BASE DE DADOS'!$B:$B,GASTOS_JUROS!$B$3,'BASE DE DADOS'!$G:$G,GASTOS_JUROS!$A12,'BASE DE DADOS'!$O:$O,GASTOS_JUROS!I$5)","v":0},{"$f":"SUMIFS('BASE DE DADOS'!$N:$N,'BASE DE DADOS'!$B:$B,GASTOS_JUROS!$B$3,'BASE DE DADOS'!$G:$G,GASTOS_JUROS!$A12,'BASE DE DADOS'!$O:$O,GASTOS_JUROS!J$5)","v":37.252259999999978},{"$f":"SUMIFS('BASE DE DADOS'!$N:$N,'BASE DE DADOS'!$B:$B,GASTOS_JUROS!$B$3,'BASE DE DADOS'!$G:$G,GASTOS_JUROS!$A12,'BASE DE DADOS'!$O:$O,GASTOS_JUROS!K$5)","v":0},{"$f":"SUMIFS('BASE DE DADOS'!$N:$N,'BASE DE DADOS'!$B:$B,GASTOS_JUROS!$B$3,'BASE DE DADOS'!$G:$G,GASTOS_JUROS!$A12,'BASE DE DADOS'!$O:$O,GASTOS_JUROS!L$5)","v":0},{"$f":"SUMIFS('BASE DE DADOS'!$N:$N,'BASE DE DADOS'!$B:$B,GASTOS_JUROS!$B$3,'BASE DE DADOS'!$G:$G,GASTOS_JUROS!$A12,'BASE DE DADOS'!$O:$O,GASTOS_JUROS!M$5)","v":0},209.05446599999988]
[{"$f":"CONFIG!A6","v":"AZUL"},{"$f":"SUMIFS('BASE DE DADOS'!$N:$N,'BASE DE DADOS'!$B:$B,GASTOS_JUROS!$B$3,'BASE DE DADOS'!$G:$G,GASTOS_JUROS!$A13,'BASE DE DADOS'!$O:$O,GASTOS_JUROS!B$5)","v":72.856542000000104},{"$f":"SUMIFS('BASE DE DADOS'!$N:$N,'BASE DE DADOS'!$B:$B,GASTOS_JUROS!$B$3,'BASE DE DADOS'!$G:$G,GASTOS_JUROS!$A13,'BASE DE DADOS'!$O:$O,GASTOS_JUROS!C$5)","v":72.856891000000076},{"$f":"SUMIFS('BASE DE DADOS'!$N:$N,'BASE DE DADOS'!$B:$B,GASTOS_JUROS!$B$3,'BASE DE DADOS'!$G:$G,GASTOS_JUROS!$A13,'BASE DE DADOS'!$O:$O,GASTOS_JUROS!D$5)","v":33.143482999999947},{"$f":"SUMIFS('BASE DE DADOS'!$N:$N,'BASE DE DADOS'!$B:$B,GASTOS_JUROS!$B$3,'BASE DE DADOS'!$G:$G,GASTOS_JUROS!$A13,'BASE DE DADOS'!$O:$O,GASTOS_JUROS!E$5)","v":73.116546999999969},{"$f":"SUMIFS('BASE DE DADOS'!$N:$N,'BASE DE DADOS'!$B:$B,GASTOS_JUROS!$B$3,'BASE DE DADOS'!$G:$G,GASTOS_JUROS!$A13,'BASE DE DADOS'!$O:$O,GASTOS_JUROS!F$5)","v":73.040464999999983},{"$f":"SUMIFS('BASE DE DADOS'!$N:$N,'BASE DE DADOS'!$B:$B,GASTOS_JUROS!$B$3,'BASE DE DADOS'!$G:$G,GASTOS_JUROS!$A13,'BASE DE DADOS'!$O:$O,GASTOS_JUROS!G$5)","v":37.780995000000061},{"$f":"SUMIFS('BASE DE DADOS'!$N:$N,'BASE DE DADOS'!$B:$B,GASTOS_JUROS!$B$3,'BASE DE DADOS'!$G:$G,GASTOS_JUROS!$A13,'BASE DE DADOS'!$O:$O,GASTOS_JUROS!H$5)","v":68.47833700000001},{"$f":"SUMIFS('BASE DE DADOS'!$N:$N,'BASE DE DADOS'!$B:$B,GASTOS_JUROS!$B$3,'BASE DE DADOS'!$G:$G,GASTOS_JUROS!$A13,'BASE DE DADOS'!$O:$O,GASTOS_JUROS!I$5)","v":72.169012000000066},{"$f":"SUMIFS('BASE DE DADOS'!$N:$N,'BASE DE DADOS'!$B:$B,GASTOS_JUROS!$B$3,'BASE DE DADOS'!$G:$G,GASTOS_JUROS!$A13,'BASE DE DADOS'!$O:$O,GASTOS_JUROS!J$5)","v":0},{"$f":"SUMIFS('BASE DE DADOS'!$N:$N,'BASE DE DADOS'!$B:$B,GASTOS_JUROS!$B$3,'BASE DE DADOS'!$G:$G,GASTOS_JUROS!$A13,'BASE DE DADOS'!$O:$O,GASTOS_JUROS!K$5)","v":72.504750000000058},{"$f":"SUMIFS('BASE DE DADOS'!$N:$N,'BASE DE DADOS'!$B:$B,GASTOS_JUROS!$B$3,'BASE DE DADOS'!$G:$G,GASTOS_JUROS!$A13,'BASE DE DADOS'!$O:$O,GASTOS_JUROS!L$5)","v":0},{"$f":"SUMIFS('BASE DE DADOS'!$N:$N,'BASE DE DADOS'!$B:$B,GASTOS_JUROS!$B$3,'BASE DE DADOS'!$G:$G,GASTOS_JUROS!$A13,'BASE DE DADOS'!$O:$O,GASTOS_JUROS!M$5)","v":0},575.94702200000029]
[{"$f":"CONFIG!A7","v":"GOLD"},{"$f":"SUMIFS('BASE DE DADOS'!$N:$N,'BASE DE DADOS'!$B:$B,GASTOS_JUROS!$B$3,'BASE DE DADOS'!$G:$G,GASTOS_JUROS!$A14,'BASE DE DADOS'!$O:$O,GASTOS_JUROS!B$5)","v":82.972307000000228},{"$f":"SUMIFS('BASE DE DADOS'!$N:$N,'BASE DE DADOS'!$B:$B,GASTOS_JUROS!$B$3,'BASE DE DADOS'!$G:$G,GASTOS_JUROS!$A14,'BASE DE DADOS'!$O:$O,GASTOS_JUROS!C$5)","v":84.716958000000091},{"$f":"SUMIFS('BASE DE DADOS'!$N:$N,'BASE DE DADOS'!$B:$B,GASTOS_JUROS!$B$3,'BASE DE DADOS'!$G:$G,GASTOS_JUROS!$A14,'BASE DE DADOS'!$O:$O,GASTOS_JUROS!D$5)","v":78.648408000000046},{"$f":"SUMIFS('BASE DE DADOS'!$N:$N,'BASE DE DADOS'!$B:$B,GASTOS_JUROS!$B$3,'BASE DE DADOS'!$G:$G,GASTOS_JUROS!$A14,'BASE DE DADOS'!$O:$O,GASTOS_JUROS!E$5)","v":84.307929999999942},{"$f":"SUMIFS('BASE DE DADOS'!$N:$N,'BASE DE DADOS'!$B:$B,GASTOS_JUROS!$B$3,'BASE DE DADOS'!$G:$G,GASTOS_JUROS!$A14,'BASE DE DADOS'!$O:$O,GASTOS_JUROS!F$5)","v":84.307581000000027},{"$f":"SUMIFS('BASE DE DADOS'!$N:$N,'BASE DE DADOS'!$B:$B,GASTOS_JUROS!$B$3,'BASE DE DADOS'!$G:$G,GASTOS_JUROS!$A14,'BASE DE DADOS'!$O:$O,GASTOS_JUROS!G$5)","v":22.583741999999972},{"$f":"SUMIFS('BASE DE DADOS'!$N:$N,'BASE DE DADOS'!$B:$B,GASTOS_JUROS!$B$3,'BASE DE DADOS'!$G:$G,GASTOS_JUROS!$A14,'BASE DE DADOS'!$O:$O,GASTOS_JUROS!H$5)","v":41.884187999999995},{"$f":"SUMIFS('BASE DE DADOS'!$N:$N,'BASE DE DADOS'!$B:$B,GASTOS_JUROS!$B$3,'BASE DE DADOS'!$G:$G,GASTOS_JUROS!$A14,'BASE DE DADOS'!$O:$O,GASTOS_JUROS!I$5)","v":82.828170000000227},{"$f":"SUMIFS('BASE DE DADOS'!$N:$N,'BASE DE DADOS'!$B:$B,GASTOS_JUROS!$B$3,'BASE DE DADOS'!$G:$G,GASTOS_JUROS!$A14,'BASE DE DADOS'!$O:$O,GASTOS_JUROS!J$5)","v":0},{"$f":"SUMIFS('BASE DE DADOS'!$N:$N,'BASE DE DADOS'!$B:$B,GASTOS_JUROS!$B$3,'BASE DE DADOS'!$G:$G,GASTOS_JUROS!$A14,'BASE DE DADOS'!$O:$O,GASTOS_JUROS!K$5)","v":0},{"$f":"SUMIFS('BASE DE DADOS'!$N:$N,'BASE DE DADOS'!$B:$B,GASTOS_JUROS!$B$3,'BASE DE DADOS'!$G:$G,GASTOS_JUROS!$A14,'BASE DE DADOS'!$O:$O,GASTOS_JUROS!L$5)","v":0},{"$f":"SUMIFS('BASE DE DADOS'!$N:$N,'BASE DE DADOS'!$B:$B,GASTOS_JUROS!$B$3,'BASE DE DADOS'!$G:$G,GASTOS_JUROS!$A14,'BASE DE DADOS'!$O:$O,GASTOS_JUROS!M$5)","v":0},562.24928400000044]
[{"$f":"CONFIG!A8","v":"LATAM"},{"$f":"SUMIFS('BASE DE DADOS'!$N:$N,'BASE DE DADOS'!$B:$B,GASTOS_JUROS!$B$3,'BASE DE DADOS'!$G:$G,GASTOS_JUROS!$A15,'BASE DE DADOS'!$O:$O,GASTOS_JUROS!B$5)","v":128.77018099999992},{"$f":"SUMIFS('BASE DE DADOS'!$N:$N,'BASE DE DADOS'!$B:$B,GASTOS_JUROS!$B$3,'BASE DE DADOS'!$G:$G,GASTOS_JUROS!$A15,'BASE DE DADOS'!$O:$O,GASTOS_JUROS!C$5)","v":128.76913399999989},{"$f":"SUMIFS('BASE DE DADOS'!$N:$N,'BASE DE DADOS'!$B:$B,GASTOS_JUROS!$B$3,'BASE DE DADOS'!$G:$G,GASTOS_JUROS!$A15,'BASE DE DADOS'!$O:$O,GASTOS_JUROS!D$5)","v":128.73528099999999},{"$f":"SUMIFS('BASE DE DADOS'!$N:$N,'BASE DE DADOS'!$B:$B,GASTOS_JUROS!$B$3,'BASE DE DADOS'!$G:$G,GASTOS_JUROS!$A15,'BASE DE DADOS'!$O:$O,GASTOS_JUROS!E$5)","v":127.54205000000009},{"$f":"SUMIFS('BASE DE DADOS'!$N:$N,'BASE DE DADOS'!$B:$B,GASTOS_JUROS!$B$3,'BASE DE DADOS'!$G:$G,GASTOS_JUROS!$A15,'BASE DE DADOS'!$O:$O,GASTOS_JUROS!F$5)","v":128.14791400000001},{"$f":"SUMIFS('BASE DE DADOS'!$N:$N,'BASE DE DADOS'!$B:$B,GASTOS_JUROS!$B$3,'BASE DE DADOS'!$G:$G,GASTOS_JUROS!$A15,'BASE DE DADOS'!$O:$O,GASTOS_JUROS!G$5)","v":220.21330400000005},{"$f":"SUMIFS('BASE DE DADOS'!$N:$N,'BASE DE DADOS'!$B:$B,GASTOS_JUROS!$B$3,'BASE DE DADOS'!$G:$G,GASTOS_JUROS!$A15,'BASE DE DADOS'!$O:$O,GASTOS_JUROS!H$5)","v":113.46722900000017},{"$f":"SUMIFS('BASE DE DADOS'!$N:$N,'BASE DE DADOS'!$B:$B,GASTOS_JUROS!$B$3,'BASE DE DADOS'!$G:$G,GASTOS_JUROS!$A15,'BASE DE DADOS'!$O:$O,GASTOS_JUROS!I$5)","v":0},{"$f":"SUMIFS('BASE DE DADOS'!$N:$N,'BASE DE DADOS'!$B:$B,GASTOS_JUROS!$B$3,'BASE DE DADOS'!$G:$G,GASTOS_JUROS!$A15,'BASE DE DADOS'!$O:$O,GASTOS_JUROS!J$5)","v":0},{"$f":"SUMIFS('BASE DE DADOS'!$N:$N,'BASE DE DADOS'!$B:$B,GASTOS_JUROS!$B$3,'BASE DE DADOS'!$G:$G,GASTOS_JUROS!$A15,'BASE DE DADOS'!$O:$O,GASTOS_JUROS!K$5)","v":0},{"$f":"SUMIFS('BASE DE DADOS'!$N:$N,'BASE DE DADOS'!$B:$B,GASTOS_JUROS!$B$3,'BASE DE DADOS'!$G:$G,GASTOS_JUROS!$A15,'BASE DE DADOS'!$O:$O,GASTOS_JUROS!L$5)","v":0},{"$f":"SUMIFS('BASE DE DADOS'!$N:$N,'BASE DE DADOS'!$B:$B,GASTOS_JUROS!$B$3,'BASE DE DADOS'!$G:$G,GASTOS_JUROS!$A15,'BASE DE DADOS'!$O:$O,GASTOS_JUROS!M$5)","v":0},975.6450930000002]
[{"$f":"CONFIG!A9","v":"FREE"},{"$f":"SUMIFS('BASE DE DADOS'!$N:$N,'BASE DE DADOS'!$B:$B,GASTOS_JUROS!$B$3,'BASE DE DADOS'!$G:$G,GASTOS_JUROS!$A16,'BASE DE DADOS'!$O:$O,GASTOS_JUROS!B$5)","v":0},{"$f":"SUMIFS('BASE DE DADOS'!$N:$N,'BASE DE DADOS'!$B:$B,GASTOS_JUROS!$B$3,'BASE DE DADOS'!$G:$G,GASTOS_JUROS!$A16,'BASE DE DADOS'!$O:$O,GASTOS_JUROS!C$5)","v":0},{"$f":"SUMIFS('BASE DE DADOS'!$N:$N,'BASE DE DADOS'!$B:$B,GASTOS_JUROS!$B$3,'BASE DE DADOS'!$G:$G,GASTOS_JUROS!$A16,'BASE DE DADOS'!$O:$O,GASTOS_JUROS!D$5)","v":2.0025619999999975},{"$f":"SUMIFS('BASE DE DADOS'!$N:$N,'BASE DE DADOS'!$B:$B,GASTOS_JUROS!$B$3,'BASE DE DADOS'!$G:$G,GASTOS_JUROS!$A16,'BASE DE DADOS'!$O:$O,GASTOS_JUROS!E$5)","v":0},{"$f":"SUMIFS('BASE DE DADOS'!$N:$N,'BASE DE DADOS'!$B:$B,GASTOS_JUROS!$B$3,'BASE DE DADOS'!$G:$G,GASTOS_JUROS!$A16,'BASE DE DADOS'!$O:$O,GASTOS_JUROS!F$5)","v":0},{"$f":"SUMIFS('BASE DE DADOS'!$N:$N,'BASE DE DADOS'!$B:$B,GASTOS_JUROS!$B$3,'BASE DE DADOS'!$G:$G,GASTOS_JUROS!$A16,'BASE DE DADOS'!$O:$O,GASTOS_JUROS!G$5)","v":0},{"$f":"SUMIFS('BASE DE DADOS'!$N:$N,'BASE DE DADOS'!$B:$B,GASTOS_JUROS!$B$3,'BASE DE DADOS'!$G:$G,GASTOS_JUROS!$A16,'BASE DE DADOS'!$O:$O,GASTOS_JUROS!H$5)","v":0},{"$f":"SUMIFS('BASE DE DADOS'!$N:$N,'BASE DE DADOS'!$B:$B,GASTOS_JUROS!$B$3,'BASE DE DADOS'!$G:$G,GASTOS_JUROS!$A16,'BASE DE DADOS'!$O:$O,GASTOS_JUROS!I$5)","v":0},{"$f":"SUMIFS('BASE DE DADOS'!$N:$N,'BASE DE DADOS'!$B:$B,GASTOS_JUROS!$B$3,'BASE DE DADOS'!$G:$G,GASTOS_JUROS!$A16,'BASE DE DADOS'!$O:$O,GASTOS_JUROS!J$5)","v":0},{"$f":"SUMIFS('BASE DE DADOS'!$N:$N,'BASE DE DADOS'!$B:$B,GASTOS_JUROS!$B$3,'BASE DE DADOS'!$G:$G,GASTOS_JUROS!$A16,'BASE DE DADOS'!$O:$O,GASTOS_JUROS!K$5)","v":0},{"$f":"SUMIFS('BASE DE DADOS'!$N:$N,'BASE DE DADOS'!$B:$B,GASTOS_JUROS!$B$3,'BASE DE DADOS'!$G:$G,GASTOS_JUROS!$A16,'BASE DE DADOS'!$O:$O,GASTOS_JUROS!L$5)","v":0},{"$f":"SUMIFS('BASE DE DADOS'!$N:$N,'BASE DE DADOS'!$B:$B,GASTOS_JUROS!$B$3,'BASE DE DADOS'!$G:$G,GASTOS_JUROS!$A16,'BASE DE DADOS'!$O:$O,GASTOS_JUROS!M$5)","v":0},2.0025619999999975]
[{"$f":"CONFIG!A10","v":"WILL"},{"$f":"SUMIFS('BASE DE DADOS'!$N:$N,'BASE DE DADOS'!$B:$B,GASTOS_JUROS!$B$3,'BASE DE DADOS'!$G:$G,GASTOS_JUROS!$A17,'BASE DE DADOS'!$O:$O,GASTOS_JUROS!B$5)","v":84.925660000000107},{"$f":"SUMIFS('BASE DE DADOS'!$N:$N,'BASE DE DADOS'!$B:$B,GASTOS_JUROS!$B$3,'BASE DE DADOS'!$G:$G,GASTOS_JUROS!$A17,'BASE DE DADOS'!$O:$O,GASTOS_JUROS!C$5)","v":89.597025000000031},{"$f":"SUMIFS('BASE DE DADOS'!$N:$N,'BASE DE DADOS'!$B:$B,GASTOS_JUROS!$B$3,'BASE DE DADOS'!$G:$G,GASTOS_JUROS!$A17,'BASE DE DADOS'!$O:$O,GASTOS_JUROS!D$5)","v":100.69278200000008},{"$f":"SUMIFS('BASE DE DADOS'!$N:$N,'BASE DE DADOS'!$B:$B,GASTOS_JUROS!$B$3,'BASE DE DADOS'!$G:$G,GASTOS_JUROS!$A17,'BASE DE DADOS'!$O:$O,GASTOS_JUROS!E$5)","v":104.99979099999996},{"$f":"SUMIFS('BASE DE DADOS'!$N:$N,'BASE DE DADOS'!$B:$B,GASTOS_JUROS!$B$3,'BASE DE DADOS'!$G:$G,GASTOS_JUROS!$A17,'BASE DE DADOS'!$O:$O,GASTOS_JUROS!F$5)","v":110.240724},{"$f":"SUMIFS('BASE DE DADOS'!$N:$N,'BASE DE DADOS'!$B:$B,GASTOS_JUROS!$B$3,'BASE DE DADOS'!$G:$G,GASTOS_JUROS!$A17,'BASE DE DADOS'!$O:$O,GASTOS_JUROS!G$5)","v":149.4469180000001},{"$f":"SUMIFS('BASE DE DADOS'!$N:$N,'BASE DE DADOS'!$B:$B,GASTOS_JUROS!$B$3,'BASE DE DADOS'!$G:$G,GASTOS_JUROS!$A17,'BASE DE DADOS'!$O:$O,GASTOS_JUROS!H$5)","v":125.75900899999988},{"$f":"SUMIFS('BASE DE DADOS'!$N:$N,'BASE DE DADOS'!$B:$B,GASTOS_JUROS!$B$3,'BASE DE DADOS'!$G:$G,GASTOS_JUROS!$A17,'BASE DE DADOS'!$O:$O,GASTOS_JUROS!I$5)","v":111.06575999999995},{"$f":"SUMIFS('BASE DE DADOS'!$N:$N,'BASE DE DADOS'!$B:$B,GASTOS_JUROS!$B$3,'BASE DE DADOS'!$G:$G,GASTOS_JUROS!$A17,'BASE DE DADOS'!$O:$O,GASTOS_JUROS!J$5)","v":18.394045000000006},{"$f":"SUMIFS('BASE DE DADOS'!$N:$N,'BASE DE DADOS'!$B:$B,GASTOS_JUROS!$B$3,'BASE DE DADOS'!$G:$G,GASTOS_JUROS!$A17,'BASE DE DADOS'!$O:$O,GASTOS_JUROS!K$5)","v":44.586843999999928},{"$f":"SUMIFS('BASE DE DADOS'!$N:$N,'BASE DE DADOS'!$B:$B,GASTOS_JUROS!$B$3,'BASE DE DADOS'!$G:$G,GASTOS_JUROS!$A17,'BASE DE DADOS'!$O:$O,GASTOS_JUROS!L$5)","v":0},{"$f":"SUMIFS('BASE DE DADOS'!$N:$N,'BASE DE DADOS'!$B:$B,GASTOS_JUROS!$B$3,'BASE DE DADOS'!$G:$G,GASTOS_JUROS!$A17,'BASE DE DADOS'!$O:$O,GASTOS_JUROS!M$5)","v":0},939.70855800000004]
[{"$f":"CONFIG!A11","v":"NCARD"},{"$f":"SUMIFS('BASE DE DADOS'!$N:$N,'BASE DE DADOS'!$B:$B,GASTOS_JUROS!$B$3,'BASE DE DADOS'!$G:$G,GASTOS_JUROS!$A18,'BASE DE DADOS'!$O:$O,GASTOS_JUROS!B$5)","v":11.006413000000009},{"$f":"SUMIFS('BASE DE DADOS'!$N:$N,'BASE DE DADOS'!$B:$B,GASTOS_JUROS!$B$3,'BASE DE DADOS'!$G:$G,GASTOS_JUROS!$A18,'BASE DE DADOS'!$O:$O,GASTOS_JUROS!C$5)","v":53.609541000000092},{"$f":"SUMIFS('BASE DE DADOS'!$N:$N,'BASE DE DADOS'!$B:$B,GASTOS_JUROS!$B$3,'BASE DE DADOS'!$G:$G,GASTOS_JUROS!$A18,'BASE DE DADOS'!$O:$O,GASTOS_JUROS!D$5)","v":48.255967999999996},{"$f":"SUMIFS('BASE DE DADOS'!$N:$N,'BASE DE DADOS'!$B:$B,GASTOS_JUROS!$B$3,'BASE DE DADOS'!$G:$G,GASTOS_JUROS!$A18,'BASE DE DADOS'!$O:$O,GASTOS_JUROS!E$5)","v":53.654561999999999},{"$f":"SUMIFS('BASE DE DADOS'!$N:$N,'BASE DE DADOS'!$B:$B,GASTOS_JUROS!$B$3,'BASE DE DADOS'!$G:$G,GASTOS_JUROS!$A18,'BASE DE DADOS'!$O:$O,GASTOS_JUROS!F$5)","v":53.965520999999939},{"$f":"SUMIFS('BASE DE DADOS'!$N:$N,'BASE DE DADOS'!$B:$B,GASTOS_JUROS!$B$3,'BASE DE DADOS'!$G:$G,GASTOS_JUROS!$A18,'BASE DE DADOS'!$O:$O,GASTOS_JUROS!G$5)","v":55.840000000000146},{"$f":"SUMIFS('BASE DE DADOS'!$N:$N,'BASE DE DADOS'!$B:$B,GASTOS_JUROS!$B$3,'BASE DE DADOS'!$G:$G,GASTOS_JUROS!$A18,'BASE DE DADOS'!$O:$O,GASTOS_JUROS!H$5)","v":53.39665100000002},{"$f":"SUMIFS('BASE DE DADOS'!$N:$N,'BASE DE DADOS'!$B:$B,GASTOS_JUROS!$B$3,'BASE DE DADOS'!$G:$G,GASTOS_JUROS!$A18,'BASE DE DADOS'!$O:$O,GASTOS_JUROS!I$5)","v":48.652344999999968},{"$f":"SUMIFS('BASE DE DADOS'!$N:$N,'BASE DE DADOS'!$B:$B,GASTOS_JUROS!$B$3,'BASE DE DADOS'!$G:$G,GASTOS_JUROS!$A18,'BASE DE DADOS'!$O:$O,GASTOS_JUROS!J$5)","v":61.045004999999946},{"$f":"SUMIFS('BASE DE DADOS'!$N:$N,'BASE DE DADOS'!$B:$B,GASTOS_JUROS!$B$3,'BASE DE DADOS'!$G:$G,GASTOS_JUROS!$A18,'BASE DE DADOS'!$O:$O,GASTOS_JUROS!K$5)","v":53.654561999999942},{"$f":"SUMIFS('BASE DE DADOS'!$N:$N,'BASE DE DADOS'!$B:$B,GASTOS_JUROS!$B$3,'BASE DE DADOS'!$G:$G,GASTOS_JUROS!$A18,'BASE DE DADOS'!$O:$O,GASTOS_JUROS!L$5)","v":0},{"$f":"SUMIFS('BASE DE DADOS'!$N:$N,'BASE DE DADOS'!$B:$B,GASTOS_JUROS!$B$3,'BASE DE DADOS'!$G:$G,GASTOS_JUROS!$A18,'BASE DE DADOS'!$O:$O,GASTOS_JUROS!M$5)","v":0},493.08056800000008]
[{"$f":"CONFIG!A12","v":"INTER"},{"$f":"SUMIFS('BASE DE DADOS'!$N:$N,'BASE DE DADOS'!$B:$B,GASTOS_JUROS!$B$3,'BASE DE DADOS'!$G:$G,GASTOS_JUROS!$A19,'BASE DE DADOS'!$O:$O,GASTOS_JUROS!B$5)","v":137.43305899999996},{"$f":"SUMIFS('BASE DE DADOS'!$N:$N,'BASE DE DADOS'!$B:$B,GASTOS_JUROS!$B$3,'BASE DE DADOS'!$G:$G,GASTOS_JUROS!$A19,'BASE DE DADOS'!$O:$O,GASTOS_JUROS!C$5)","v":152.33500999999978},{"$f":"SUMIFS('BASE DE DADOS'!$N:$N,'BASE DE DADOS'!$B:$B,GASTOS_JUROS!$B$3,'BASE DE DADOS'!$G:$G,GASTOS_JUROS!$A19,'BASE DE DADOS'!$O:$O,GASTOS_JUROS!D$5)","v":101.5562470000001},{"$f":"SUMIFS('BASE DE DADOS'!$N:$N,'BASE DE DADOS'!$B:$B,GASTOS_JUROS!$B$3,'BASE DE DADOS'!$G:$G,GASTOS_JUROS!$A19,'BASE DE DADOS'!$O:$O,GASTOS_JUROS!E$5)","v":143.22750599999983},{"$f":"SUMIFS('BASE DE DADOS'!$N:$N,'BASE DE DADOS'!$B:$B,GASTOS_JUROS!$B$3,'BASE DE DADOS'!$G:$G,GASTOS_JUROS!$A19,'BASE DE DADOS'!$O:$O,GASTOS_JUROS!F$5)","v":148.73263199999997},{"$f":"SUMIFS('BASE DE DADOS'!$N:$N,'BASE DE DADOS'!$B:$B,GASTOS_JUROS!$B$3,'BASE DE DADOS'!$G:$G,GASTOS_JUROS!$A19,'BASE DE DADOS'!$O:$O,GASTOS_JUROS!G$5)","v":164.51511000000016},{"$f":"SUMIFS('BASE DE DADOS'!$N:$N,'BASE DE DADOS'!$B:$B,GASTOS_JUROS!$B$3,'BASE DE DADOS'!$G:$G,GASTOS_JUROS!$A19,'BASE DE DADOS'!$O:$O,GASTOS_JUROS!H$5)","v":158.7956979999999},{"$f":"SUMIFS('BASE DE DADOS'!$N:$N,'BASE DE DADOS'!$B:$B,GASTOS_JUROS!$B$3,'BASE DE DADOS'!$G:$G,GASTOS_JUROS!$A19,'BASE DE DADOS'!$O:$O,GASTOS_JUROS!I$5)","v":166.01790399999993},{"$f":"SUMIFS('BASE DE DADOS'!$N:$N,'BASE DE DADOS'!$B:$B,GASTOS_JUROS!$B$3,'BASE DE DADOS'!$G:$G,GASTOS_JUROS!$A19,'BASE DE DADOS'!$O:$O,GASTOS_JUROS!J$5)","v":201.41081099999974},{"$f":"SUMIFS('BASE DE DADOS'!$N:$N,'BASE DE DADOS'!$B:$B,GASTOS_JUROS!$B$3,'BASE DE DADOS'!$G:$G,GASTOS_JUROS!$A19,'BASE DE DADOS'!$O:$O,GASTOS_JUROS!K$5)","v":119.87521799999979},{"$f":"SUMIFS('BASE DE DADOS'!$N:$N,'BASE DE DADOS'!$B:$B,GASTOS_JUROS!$B$3,'BASE DE DADOS'!$G:$G,GASTOS_JUROS!$A19,'BASE DE DADOS'!$O:$O,GASTOS_JUROS!L$5)","v":0},{"$f":"SUMIFS('BASE DE DADOS'!$N:$N,'BASE DE DADOS'!$B:$B,GASTOS_JUROS!$B$3,'BASE DE DADOS'!$G:$G,GASTOS_JUROS!$A19,'BASE DE DADOS'!$O:$O,GASTOS_JUROS!M$5)","v":0},1493.8991949999991]
[{"$f":"CONFIG!A13","v":"C6"},{"$f":"SUMIFS('BASE DE DADOS'!$N:$N,'BASE DE DADOS'!$B:$B,GASTOS_JUROS!$B$3,'BASE DE DADOS'!$G:$G,GASTOS_JUROS!$A20,'BASE DE DADOS'!$O:$O,GASTOS_JUROS!B$5)","v":33.195832999999965},{"$f":"SUMIFS('BASE DE DADOS'!$N:$N,'BASE DE DADOS'!$B:$B,GASTOS_JUROS!$B$3,'BASE DE DADOS'!$G:$G,GASTOS_JUROS!$A20,'BASE DE DADOS'!$O:$O,GASTOS_JUROS!C$5)","v":34.338110000000029},{"$f":"SUMIFS('BASE DE DADOS'!$N:$N,'BASE DE DADOS'!$B:$B,GASTOS_JUROS!$B$3,'BASE DE DADOS'!$G:$G,GASTOS_JUROS!$A20,'BASE DE DADOS'!$O:$O,GASTOS_JUROS!D$5)","v":28.364974999999959},{"$f":"SUMIFS('BASE DE DADOS'!$N:$N,'BASE DE DADOS'!$B:$B,GASTOS_JUROS!$B$3,'BASE DE DADOS'!$G:$G,GASTOS_JUROS!$A20,'BASE DE DADOS'!$O:$O,GASTOS_JUROS!E$5)","v":34.900000000000091},{"$f":"SUMIFS('BASE DE DADOS'!$N:$N,'BASE DE DADOS'!$B:$B,GASTOS_JUROS!$B$3,'BASE DE DADOS'!$G:$G,GASTOS_JUROS!$A20,'BASE DE DADOS'!$O:$O,GASTOS_JUROS!F$5)","v":60.66876400000001},{"$f":"SUMIFS('BASE DE DADOS'!$N:$N,'BASE DE DADOS'!$B:$B,GASTOS_JUROS!$B$3,'BASE DE DADOS'!$G:$G,GASTOS_JUROS!$A20,'BASE DE DADOS'!$O:$O,GASTOS_JUROS!G$5)","v":26.181979999999953},{"$f":"SUMIFS('BASE DE DADOS'!$N:$N,'BASE DE DADOS'!$B:$B,GASTOS_JUROS!$B$3,'BASE DE DADOS'!$G:$G,GASTOS_JUROS!$A20,'BASE DE DADOS'!$O:$O,GASTOS_JUROS!H$5)","v":238.95855499999993},{"$f":"SUMIFS('BASE DE DADOS'!$N:$N,'BASE DE DADOS'!$B:$B,GASTOS_JUROS!$B$3,'BASE DE DADOS'!$G:$G,GASTOS_JUROS!$A20,'BASE DE DADOS'!$O:$O,GASTOS_JUROS!I$5)","v":56.619666000000052},{"$f":"SUMIFS('BASE DE DADOS'!$N:$N,'BASE DE DADOS'!$B:$B,GASTOS_JUROS!$B$3,'BASE DE DADOS'!$G:$G,GASTOS_JUROS!$A20,'BASE DE DADOS'!$O:$O,GASTOS_JUROS!J$5)","v":152.69482900000025},{"$f":"SUMIFS('BASE DE DADOS'!$N:$N,'BASE DE DADOS'!$B:$B,GASTOS_JUROS!$B$3,'BASE DE DADOS'!$G:$G,GASTOS_JUROS!$A20,'BASE DE DADOS'!$O:$O,GASTOS_JUROS!K$5)","v":280.83598499999999},{"$f":"SUMIFS('BASE DE DADOS'!$N:$N,'BASE DE DADOS'!$B:$B,GASTOS_JUROS!$B$3,'BASE DE DADOS'!$G:$G,GASTOS_JUROS!$A20,'BASE DE DADOS'!$O:$O,GASTOS_JUROS!L$5)","v":0},{"$f":"SUMIFS('BASE DE DADOS'!$N:$N,'BASE DE DADOS'!$B:$B,GASTOS_JUROS!$B$3,'BASE DE DADOS'!$G:$G,GASTOS_JUROS!$A20,'BASE DE DADOS'!$O:$O,GASTOS_JUROS!M$5)","v":0},946.75869700000021]
["C6MAE",{"$f":"SUMIFS('BASE DE DADOS'!$N:$N,'BASE DE DADOS'!$B:$B,GASTOS_JUROS!$B$3,'BASE DE DADOS'!$G:$G,GASTOS_JUROS!$A21,'BASE DE DADOS'!$O:$O,GASTOS_JUROS!B$5)","v":0},{"$f":"SUMIFS('BASE DE DADOS'!$N:$N,'BASE DE DADOS'!$B:$B,GASTOS_JUROS!$B$3,'BASE DE DADOS'!$G:$G,GASTOS_JUROS!$A21,'BASE DE DADOS'!$O:$O,GASTOS_JUROS!C$5)","v":0},{"$f":"SUMIFS('BASE DE DADOS'!$N:$N,'BASE DE DADOS'!$B:$B,GASTOS_JUROS!$B$3,'BASE DE DADOS'!$G:$G,GASTOS_JUROS!$A21,'BASE DE DADOS'!$O:$O,GASTOS_JUROS!D$5)","v":0},{"$f":"SUMIFS('BASE DE DADOS'!$N:$N,'BASE DE DADOS'!$B:$B,GASTOS_JUROS!$B$3,'BASE DE DADOS'!$G:$G,GASTOS_JUROS!$A21,'BASE DE DADOS'!$O:$O,GASTOS_JUROS!E$5)","v":0},{"$f":"SUMIFS('BASE DE DADOS'!$N:$N,'BASE DE DADOS'!$B:$B,GASTOS_JUROS!$B$3,'BASE DE DADOS'!$G:$G,GASTOS_JUROS!$A21,'BASE DE DADOS'!$O:$O,GASTOS_JUROS!F$5)","v":0},{"$f":"SUMIFS('BASE DE DADOS'!$N:$N,'BASE DE DADOS'!$B:$B,GASTOS_JUROS!$B$3,'BASE DE DADOS'!$G:$G,GASTOS_JUROS!$A21,'BASE DE DADOS'!$O:$O,GASTOS_JUROS!G$5)","v":0},{"$f":"SUMIFS('BASE DE DADOS'!$N:$N,'BASE DE DADOS'!$B:$B,GASTOS_JUROS!$B$3,'BASE DE DADOS'!$G:$G,GASTOS_JUROS!$A21,'BASE DE DADOS'!$O:$O,GASTOS_JUROS!H$5)","v":0},{"$f":"SUMIFS('BASE DE DADOS'!$N:$N,'BASE DE DADOS'!$B:$B,GASTOS_JUROS!$B$3,'BASE DE DADOS'!$G:$G,GASTOS_JUROS!$A21,'BASE DE DADOS'!$O:$O,GASTOS_JUROS!I$5)","v":0},{"$f":"SUMIFS('BASE DE DADOS'!$N:$N,'BASE DE DADOS'!$B:$B,GASTOS_JUROS!$B$3,'BASE DE DADOS'!$G:$G,GASTOS_JUROS!$A21,'BASE DE DADOS'!$O:$O,GASTOS_JUROS!J$5)","v":60.26008499999989},{"$f":"SUMIFS('BASE DE DADOS'!$N:$N,'BASE DE DADOS'!$B:$B,GASTOS_JUROS!$B$3,'BASE DE DADOS'!$G:$G,GASTOS_JUROS!$A21,'BASE DE DADOS'!$O:$O,GASTOS_JUROS!K$5)","v":0},{"$f":"SUMIFS('BASE DE DADOS'!$N:$N,'BASE DE DADOS'!$B:$B,GASTOS_JUROS!$B$3,'BASE DE DADOS'!$G:$G,GASTOS_JUROS!$A21,'BASE DE DADOS'!$O:$O,GASTOS_JUROS!L$5)","v":0},{"$f":"SUMIFS('BASE DE DADOS'!$N:$N,'BASE DE DADOS'!$B:$B,GASTOS_JUROS!$B$3,'BASE DE DADOS'!$G:$G,GASTOS_JUROS!$A21,'BASE DE DADOS'!$O:$O,GASTOS_JUROS!M$5)","v":0},60.26008499999989]
[{"$f":"CONFIG!A14","v":"BMG"},{"$f":"SUMIFS('BASE DE DADOS'!$N:$N,'BASE DE DADOS'!$B:$B,GASTOS_JUROS!$B$3,'BASE DE DADOS'!$G:$G,GASTOS_JUROS!$A22,'BASE DE DADOS'!$O:$O,GASTOS_JUROS!B$5)","v":0},{"$f":"SUMIFS('BASE DE DADOS'!$N:$N,'BASE DE DADOS'!$B:$B,GASTOS_JUROS!$B$3,'BASE DE DADOS'!$G:$G,GASTOS_JUROS!$A22,'BASE DE DADOS'!$O:$O,GASTOS_JUROS!C$5)","v":5.7333720000000028},{"$f":"SUMIFS('BASE DE DADOS'!$N:$N,'BASE DE DADOS'!$B:$B,GASTOS_JUROS!$B$3,'BASE DE DADOS'!$G:$G,GASTOS_JUROS!$A22,'BASE DE DADOS'!$O:$O,GASTOS_JUROS!D$5)","v":0},{"$f":"SUMIFS('BASE DE DADOS'!$N:$N,'BASE DE DADOS'!$B:$B,GASTOS_JUROS!$B$3,'BASE DE DADOS'!$G:$G,GASTOS_JUROS!$A22,'BASE DE DADOS'!$O:$O,GASTOS_JUROS!E$5)","v":0},{"$f":"SUMIFS('BASE DE DADOS'!$N:$N,'BASE DE DADOS'!$B:$B,GASTOS_JUROS!$B$3,'BASE DE DADOS'!$G:$G,GASTOS_JUROS!$A22,'BASE DE DADOS'!$O:$O,GASTOS_JUROS!F$5)","v":0},{"$f":"SUMIFS('BASE DE DADOS'!$N:$N,'BASE DE DADOS'!$B:$B,GASTOS_JUROS!$B$3,'BASE DE DADOS'!$G:$G,GASTOS_JUROS!$A22,'BASE DE DADOS'!$O:$O,GASTOS_JUROS!G$5)","v":0},{"$f":"SUMIFS('BASE DE DADOS'!$N:$N,'BASE DE DADOS'!$B:$B,GASTOS_JUROS!$B$3,'BASE DE DADOS'!$G:$G,GASTOS_JUROS!$A22,'BASE DE DADOS'!$O:$O,GASTOS_JUROS!H$5)","v":0},{"$f":"SUMIFS('BASE DE DADOS'!$N:$N,'BASE DE DADOS'!$B:$B,GASTOS_JUROS!$B$3,'BASE DE DADOS'!$G:$G,GASTOS_JUROS!$A22,'BASE DE DADOS'!$O:$O,GASTOS_JUROS!I$5)","v":0},{"$f":"SUMIFS('BASE DE DADOS'!$N:$N,'BASE DE DADOS'!$B:$B,GASTOS_JUROS!$B$3,'BASE DE DADOS'!$G:$G,GASTOS_JUROS!$A22,'BASE DE DADOS'!$O:$O,GASTOS_JUROS!J$5)","v":0},{"$f":"SUMIFS('BASE DE DADOS'!$N:$N,'BASE DE DADOS'!$B:$B,GASTOS_JUROS!$B$3,'BASE DE DADOS'!$G:$G,GASTOS_JUROS!$A22,'BASE DE DADOS'!$O:$O,GASTOS_JUROS!K$5)","v":0},{"$f":"SUMIFS('BASE DE DADOS'!$N:$N,'BASE DE DADOS'!$B:$B,GASTOS_JUROS!$B$3,'BASE DE DADOS'!$G:$G,GASTOS_JUROS!$A22,'BASE DE DADOS'!$O:$O,GASTOS_JUROS!L$5)","v":0},{"$f":"SUMIFS('BASE DE DADOS'!$N:$N,'BASE DE DADOS'!$B:$B,GASTOS_JUROS!$B$3,'BASE DE DADOS'!$G:$G,GASTOS_JUROS!$A22,'BASE DE DADOS'!$O:$O,GASTOS_JUROS!M$5)","v":0},5.7333720000000028]
["ORIGINAL",{"$f":"SUMIFS('BASE DE DADOS'!$N:$N,'BASE DE DADOS'!$B:$B,GASTOS_JUROS!$B$3,'BASE DE DADOS'!$G:$G,GASTOS_JUROS!$A23,'BASE DE DADOS'!$O:$O,GASTOS_JUROS!B$5)","v":8.4716260000000148},{"$f":"SUMIFS('BASE DE DADOS'!$N:$N,'BASE DE DADOS'!$B:$B,GASTOS_JUROS!$B$3,'BASE DE DADOS'!$G:$G,GASTOS_JUROS!$A23,'BASE DE DADOS'!$O:$O,GASTOS_JUROS!C$5)","v":16.26549399999999},{"$f":"SUMIFS('BASE DE DADOS'!$N:$N,'BASE DE DADOS'!$B:$B,GASTOS_JUROS!$B$3,'BASE DE DADOS'!$G:$G,GASTOS_JUROS!$A23,'BASE DE DADOS'!$O:$O,GASTOS_JUROS!D$5)","v":17.830410000000029},{"$f":"SUMIFS('BASE DE DADOS'!$N:$N,'BASE DE DADOS'!$B:$B,GASTOS_JUROS!$B$3,'BASE DE DADOS'!$G:$G,GASTOS_JUROS!$A23,'BASE DE DADOS'!$O:$O,GASTOS_JUROS!E$5)","v":16.423242000000016},{"$f":"SUMIFS('BASE DE DADOS'!$N:$N,'BASE DE DADOS'!$B:$B,GASTOS_JUROS!$B$3,'BASE DE DADOS'!$G:$G,GASTOS_JUROS!$A23,'BASE DE DADOS'!$O:$O,GASTOS_JUROS!F$5)","v":17.131363000000022},{"$f":"SUMIFS('BASE DE DADOS'!$N:$N,'BASE DE DADOS'!$B:$B,GASTOS_JUROS!$B$3,'BASE DE DADOS'!$G:$G,GASTOS_JUROS!$A23,'BASE DE DADOS'!$O:$O,GASTOS_JUROS!G$5)","v":21.346585000000005},{"$f":"SUMIFS('BASE DE DADOS'!$N:$N,'BASE DE DADOS'!$B:$B,GASTOS_JUROS!$B$3,'BASE DE DADOS'!$G:$G,GASTOS_JUROS!$A23,'BASE DE DADOS'!$O:$O,GASTOS_JUROS!H$5)","v":23.483861000000047},{"$f":"SUMIFS('BASE DE DADOS'!$N:$N,'BASE DE DADOS'!$B:$B,GASTOS_JUROS!$B$3,'BASE DE DADOS'!$G:$G,GASTOS_JUROS!$A23,'BASE DE DADOS'!$O:$O,GASTOS_JUROS!I$5)","v":0},{"$f":"SUMIFS('BASE DE DADOS'!$N:$N,'BASE DE DADOS'!$B:$B,GASTOS_JUROS!$B$3,'BASE DE DADOS'!$G:$G,GASTOS_JUROS!$A23,'BASE DE DADOS'!$O:$O,GASTOS_JUROS!J$5)","v":0},{"$f":"SUMIFS('BASE DE DADOS'!$N:$N,'BASE DE DADOS'!$B:$B,GASTOS_JUROS!$B$3,'BASE DE DADOS'!$G:$G,GASTOS_JUROS!$A23,'BASE DE DADOS'!$O:$O,GASTOS_JUROS!K$5)","v":0},{"$f":"SUMIFS('BASE DE DADOS'!$N:$N,'BASE DE DADOS'!$B:$B,GASTOS_JUROS!$B$3,'BASE DE DADOS'!$G:$G,GASTOS_JUROS!$A23,'BASE DE DADOS'!$O:$O,GASTOS_JUROS!L$5)","v":0},{"$f":"SUMIFS('BASE DE DADOS'!$N:$N,'BASE DE DADOS'!$B:$B,GASTOS_JUROS!$B$3,'BASE DE DADOS'!$G:$G,GASTOS_JUROS!$A23,'BASE DE DADOS'!$O:$O,GASTOS_JUROS!M$5)","v":0},120.95258100000012]
["TRIGG",{"$f":"SUMIFS('BASE DE DADOS'!$N:$N,'BASE DE DADOS'!$B:$B,GASTOS_JUROS!$B$3,'BASE DE DADOS'!$G:$G,GASTOS_JUROS!$A24,'BASE DE DADOS'!$O:$O,GASTOS_JUROS!B$5)","v":0},{"$f":"SUMIFS('BASE DE DADOS'!$N:$N,'BASE DE DADOS'!$B:$B,GASTOS_JUROS!$B$3,'BASE DE DADOS'!$G:$G,GASTOS_JUROS!$A24,'BASE DE DADOS'!$O:$O,GASTOS_JUROS!C$5)","v":0},{"$f":"SUMIFS('BASE DE DADOS'!$N:$N,'BASE DE DADOS'!$B:$B,GASTOS_JUROS!$B$3,'BASE DE DADOS'!$G:$G,GASTOS_JUROS!$A24,'BASE DE DADOS'!$O:$O,GASTOS_JUROS!D$5)","v":0},{"$f":"SUMIFS('BASE DE DADOS'!$N:$N,'BASE DE DADOS'!$B:$B,GASTOS_JUROS!$B$3,'BASE DE DADOS'!$G:$G,GASTOS_JUROS!$A24,'BASE DE DADOS'!$O:$O,GASTOS_JUROS!E$5)","v":0},{"$f":"SUMIFS('BASE DE DADOS'!$N:$N,'BASE DE DADOS'!$B:$B,GASTOS_JUROS!$B$3,'BASE DE DADOS'!$G:$G,GASTOS_JUROS!$A24,'BASE DE DADOS'!$O:$O,GASTOS_JUROS!F$5)","v":0},{"$f":"SUMIFS('BASE DE DADOS'!$N:$N,'BASE DE DADOS'!$B:$B,GASTOS_JUROS!$B$3,'BASE DE DADOS'!$G:$G,GASTOS_JUROS!$A24,'BASE DE DADOS'!$O:$O,GASTOS_JUROS!G$5)","v":0},{"$f":"SUMIFS('BASE DE DADOS'!$N:$N,'BASE DE DADOS'!$B:$B,GASTOS_JUROS!$B$3,'BASE DE DADOS'!$G:$G,GASTOS_JUROS!$A24,'BASE DE DADOS'!$O:$O,GASTOS_JUROS!H$5)","v":0},{"$f":"SUMIFS('BASE DE DADOS'!$N:$N,'BASE DE DADOS'!$B:$B,GASTOS_JUROS!$B$3,'BASE DE DADOS'!$G:$G,GASTOS_JUROS!$A24,'BASE DE DADOS'!$O:$O,GASTOS_JUROS!I$5)","v":0},{"$f":"SUMIFS('BASE DE DADOS'!$N:$N,'BASE DE DADOS'!$B:$B,GASTOS_JUROS!$B$3,'BASE DE DADOS'!$G:$G,GASTOS_JUROS!$A24,'BASE DE DADOS'!$O:$O,GASTOS_JUROS!J$5)","v":0},{"$f":"SUMIFS('BASE DE DADOS'!$N:$N,'BASE DE DADOS'!$B:$B,GASTOS_JUROS!$B$3,'BASE DE DADOS'!$G:$G,GASTOS_JUROS!$A24,'BASE DE DADOS'!$O:$O,GASTOS_JUROS!K$5)","v":0},{"$f":"SUMIFS('BASE DE DADOS'!$N:$N,'BASE DE DADOS'!$B:$B,GASTOS_JUROS!$B$3,'BASE DE DADOS'!$G:$G,GASTOS_JUROS!$A24,'BASE DE DADOS'!$O:$O,GASTOS_JUROS!L$5)","v":0},{"$f":"SUMIFS('BASE DE DADOS'!$N:$N,'BASE DE DADOS'!$B:$B,GASTOS_JUROS!$B$3,'BASE DE DADOS'!$G:$G,GASTOS_JUROS!$A24,'BASE DE DADOS'!$O:$O,GASTOS_JUROS!M$5)","v":0},0]
["PAGMAE",{"$f":"SUMIFS('BASE DE DADOS'!$N:$N,'BASE DE DADOS'!$B:$B,GASTOS_JUROS!$B$3,'BASE DE DADOS'!$G:$G,GASTOS_JUROS!$A25,'BASE DE DADOS'!$O:$O,GASTOS_JUROS!B$5)","v":193.55889000000002},{"$f":"SUMIFS('BASE DE DADOS'!$N:$N,'BASE DE DADOS'!$B:$B,GASTOS_JUROS!$B$3,'BASE DE DADOS'!$G:$G,GASTOS_JUROS!$A25,'BASE DE DADOS'!$O:$O,GASTOS_JUROS!C$5)","v":166.04338099999995},{"$f":"SUMIFS('BASE DE DADOS'!$N:$N,'BASE DE DADOS'!$B:$B,GASTOS_JUROS!$B$3,'BASE DE DADOS'!$G:$G,GASTOS_JUROS!$A25,'BASE DE DADOS'!$O:$O,GASTOS_JUROS!D$5)","v":201.36529900000002},{"$f":"SUMIFS('BASE DE DADOS'!$N:$N,'BASE DE DADOS'!$B:$B,GASTOS_JUROS!$B$3,'BASE DE DADOS'!$G:$G,GASTOS_JUROS!$A25,'BASE DE DADOS'!$O:$O,GASTOS_JUROS!E$5)","v":182.10366299999998},{"$f":"SUMIFS('BASE DE DADOS'!$N:$N,'BASE DE DADOS'!$B:$B,GASTOS_JUROS!$B$3,'BASE DE DADOS'!$G:$G,GASTOS_JUROS!$A25,'BASE DE DADOS'!$O:$O,GASTOS_JUROS!F$5)","v":200.71687999999995},{"$f":"SUMIFS('BASE DE DADOS'!$N:$N,'BASE DE DADOS'!$B:$B,GASTOS_JUROS!$B$3,'BASE DE DADOS'!$G:$G,GASTOS_JUROS!$A25,'BASE DE DADOS'!$O:$O,GASTOS_JUROS!G$5)","v":12.788057999999978},{"$f":"SUMIFS('BASE DE DADOS'!$N:$N,'BASE DE DADOS'!$B:$B,GASTOS_JUROS!$B$3,'BASE DE DADOS'!$G:$G,GASTOS_JUROS!$A25,'BASE DE DADOS'!$O:$O,GASTOS_JUROS!H$5)","v":223.55543999999992},{"$f":"SUMIFS('BASE DE DADOS'!$N:$N,'BASE DE DADOS'!$B:$B,GASTOS_JUROS!$B$3,'BASE DE DADOS'!$G:$G,GASTOS_JUROS!$A25,'BASE DE DADOS'!$O:$O,GASTOS_JUROS!I$5)","v":267.10016999999993},{"$f":"SUMIFS('BASE DE DADOS'!$N:$N,'BASE DE DADOS'!$B:$B,GASTOS_JUROS!$B$3,'BASE DE DADOS'!$G:$G,GASTOS_JUROS!$A25,'BASE DE DADOS'!$O:$O,GASTOS_JUROS!J$5)","v":227.84709299999986},{"$f":"SUMIFS('BASE DE DADOS'!$N:$N,'BASE DE DADOS'!$B:$B,GASTOS_JUROS!$B$3,'BASE DE DADOS'!$G:$G,GASTOS_JUROS!$A25,'BASE DE DADOS'!$O:$O,GASTOS_JUROS!K$5)","v":217.01518000000033},{"$f":"SUMIFS('BASE DE DADOS'!$N:$N,'BASE DE DADOS'!$B:$B,GASTOS_JUROS!$B$3,'BASE DE DADOS'!$G:$G,GASTOS_JUROS!$A25,'BASE DE DADOS'!$O:$O,GASTOS_JUROS!L$5)","v":0},{"$f":"SUMIFS('BASE DE DADOS'!$N:$N,'BASE DE DADOS'!$B:$B,GASTOS_JUROS!$B$3,'BASE DE DADOS'!$G:$G,GASTOS_JUROS!$A25,'BASE DE DADOS'!$O:$O,GASTOS_JUROS!M$5)","v":0},1892.0940539999999]
["PANMAE",{"$f":"SUMIFS('BASE DE DADOS'!$N:$N,'BASE DE DADOS'!$B:$B,GASTOS_JUROS!$B$3,'BASE DE DADOS'!$G:$G,GASTOS_JUROS!$A26,'BASE DE DADOS'!$O:$O,GASTOS_JUROS!B$5)","v":95.138795999999957},{"$f":"SUMIFS('BASE DE DADOS'!$N:$N,'BASE DE DADOS'!$B:$B,GASTOS_JUROS!$B$3,'BASE DE DADOS'!$G:$G,GASTOS_JUROS!$A26,'BASE DE DADOS'!$O:$O,GASTOS_JUROS!C$5)","v":84.627963000000136},{"$f":"SUMIFS('BASE DE DADOS'!$N:$N,'BASE DE DADOS'!$B:$B,GASTOS_JUROS!$B$3,'BASE DE DADOS'!$G:$G,GASTOS_JUROS!$A26,'BASE DE DADOS'!$O:$O,GASTOS_JUROS!D$5)","v":66.068079999999895},{"$f":"SUMIFS('BASE DE DADOS'!$N:$N,'BASE DE DADOS'!$B:$B,GASTOS_JUROS!$B$3,'BASE DE DADOS'!$G:$G,GASTOS_JUROS!$A26,'BASE DE DADOS'!$O:$O,GASTOS_JUROS!E$5)","v":78.129583000000025},{"$f":"SUMIFS('BASE DE DADOS'!$N:$N,'BASE DE DADOS'!$B:$B,GASTOS_JUROS!$B$3,'BASE DE DADOS'!$G:$G,GASTOS_JUROS!$A26,'BASE DE DADOS'!$O:$O,GASTOS_JUROS!F$5)","v":69.178430999999932},{"$f":"SUMIFS('BASE DE DADOS'!$N:$N,'BASE DE DADOS'!$B:$B,GASTOS_JUROS!$B$3,'BASE DE DADOS'!$G:$G,GASTOS_JUROS!$A26,'BASE DE DADOS'!$O:$O,GASTOS_JUROS!G$5)","v":107.99770099999995},{"$f":"SUMIFS('BASE DE DADOS'!$N:$N,'BASE DE DADOS'!$B:$B,GASTOS_JUROS!$B$3,'BASE DE DADOS'!$G:$G,GASTOS_JUROS!$A26,'BASE DE DADOS'!$O:$O,GASTOS_JUROS!H$5)","v":134.54962100000012},{"$f":"SUMIFS('BASE DE DADOS'!$N:$N,'BASE DE DADOS'!$B:$B,GASTOS_JUROS!$B$3,'BASE DE DADOS'!$G:$G,GASTOS_JUROS!$A26,'BASE DE DADOS'!$O:$O,GASTOS_JUROS!I$5)","v":118.58391800000004},{"$f":"SUMIFS('BASE DE DADOS'!$N:$N,'BASE DE DADOS'!$B:$B,GASTOS_JUROS!$B$3,'BASE DE DADOS'!$G:$G,GASTOS_JUROS!$A26,'BASE DE DADOS'!$O:$O,GASTOS_JUROS!J$5)","v":13.669631999999979},{"$f":"SUMIFS('BASE DE DADOS'!$N:$N,'BASE DE DADOS'!$B:$B,GASTOS_JUROS!$B$3,'BASE DE DADOS'!$G:$G,GASTOS_JUROS!$A26,'BASE DE DADOS'!$O:$O,GASTOS_JUROS!K$5)","v":88.791043999999971},{"$f":"SUMIFS('BASE DE DADOS'!$N:$N,'BASE DE DADOS'!$B:$B,GASTOS_JUROS!$B$3,'BASE DE DADOS'!$G:$G,GASTOS_JUROS!$A26,'BASE DE DADOS'!$O:$O,GASTOS_JUROS!L$5)","v":0},{"$f":"SUMIFS('BASE DE DADOS'!$N:$N,'BASE DE DADOS'!$B:$B,GASTOS_JUROS!$B$3,'BASE DE DADOS'!$G:$G,GASTOS_JUROS!$A26,'BASE DE DADOS'!$O:$O,GASTOS_JUROS!M$5)","v":0},856.73476899999991]
[{"$f":"CONFIG!A15","v":"PAN"},{"$f":"SUMIFS('BASE DE DADOS'!$N:$N,'BASE DE DADOS'!$B:$B,GASTOS_JUROS!$B$3,'BASE DE DADOS'!$G:$G,GASTOS_JUROS!$A27,'BASE DE DADOS'!$O:$O,GASTOS_JUROS!B$5)","v":0},{"$f":"SUMIFS('BASE DE DADOS'!$N:$N,'BASE DE DADOS'!$B:$B,GASTOS_JUROS!$B$3,'BASE DE DADOS'!$G:$G,GASTOS_JUROS!$A27,'BASE DE DADOS'!$O:$O,GASTOS_JUROS!C$5)","v":14.857627999999977},{"$f":"SUMIFS('BASE DE DADOS'!$N:$N,'BASE DE DADOS'!$B:$B,GASTOS_JUROS!$B$3,'BASE DE DADOS'!$G:$G,GASTOS_JUROS!$A27,'BASE DE DADOS'!$O:$O,GASTOS_JUROS!D$5)","v":0},{"$f":"SUMIFS('BASE DE DADOS'!$N:$N,'BASE DE DADOS'!$B:$B,GASTOS_JUROS!$B$3,'BASE DE DADOS'!$G:$G,GASTOS_JUROS!$A27,'BASE DE DADOS'!$O:$O,GASTOS_JUROS!E$5)","v":22.931393999999955},{"$f":"SUMIFS('BASE DE DADOS'!$N:$N,'BASE DE DADOS'!$B:$B,GASTOS_JUROS!$B$3,'BASE DE DADOS'!$G:$G,GASTOS_JUROS!$A27,'BASE DE DADOS'!$O:$O,GASTOS_JUROS!F$5)","v":56.226342999999929},{"$f":"SUMIFS('BASE DE DADOS'!$N:$N,'BASE DE DADOS'!$B:$B,GASTOS_JUROS!$B$3,'BASE DE DADOS'!$G:$G,GASTOS_JUROS!$A27,'BASE DE DADOS'!$O:$O,GASTOS_JUROS!G$5)","v":18.967801000000009},{"$f":"SUMIFS('BASE DE DADOS'!$N:$N,'BASE DE DADOS'!$B:$B,GASTOS_JUROS!$B$3,'BASE DE DADOS'!$G:$G,GASTOS_JUROS!$A27,'BASE DE DADOS'!$O:$O,GASTOS_JUROS!H$5)","v":22.821459000000004},{"$f":"SUMIFS('BASE DE DADOS'!$N:$N,'BASE DE DADOS'!$B:$B,GASTOS_JUROS!$B$3,'BASE DE DADOS'!$G:$G,GASTOS_JUROS!$A27,'BASE DE DADOS'!$O:$O,GASTOS_JUROS!I$5)","v":0},{"$f":"SUMIFS('BASE DE DADOS'!$N:$N,'BASE DE DADOS'!$B:$B,GASTOS_JUROS!$B$3,'BASE DE DADOS'!$G:$G,GASTOS_JUROS!$A27,'BASE DE DADOS'!$O:$O,GASTOS_JUROS!J$5)","v":41.480395000000044},{"$f":"SUMIFS('BASE DE DADOS'!$N:$N,'BASE DE DADOS'!$B:$B,GASTOS_JUROS!$B$3,'BASE DE DADOS'!$G:$G,GASTOS_JUROS!$A27,'BASE DE DADOS'!$O:$O,GASTOS_JUROS!K$5)","v":0},{"$f":"SUMIFS('BASE DE DADOS'!$N:$N,'BASE DE DADOS'!$B:$B,GASTOS_JUROS!$B$3,'BASE DE DADOS'!$G:$G,GASTOS_JUROS!$A27,'BASE DE DADOS'!$O:$O,GASTOS_JUROS!L$5)","v":0},{"$f":"SUMIFS('BASE DE DADOS'!$N:$N,'BASE DE DADOS'!$B:$B,GASTOS_JUROS!$B$3,'BASE DE DADOS'!$G:$G,GASTOS_JUROS!$A27,'BASE DE DADOS'!$O:$O,GASTOS_JUROS!M$5)","v":0},177.28501999999992]
[]
["TOTAIS",{"$f":"SUM(B7:B27)","v":1121.4779960000003},{"$f":"SUM(C7:C27)","v":1159.8739289999999},1142.5799590000001,1261.6726919999999,1310.3574939999994,1215.7548920000004,1540.6053580000003,1188.1677080000002,1426.4350319999994,1361.5234190000003,0,0,{"$f":"SUM(N7:N27)","v":12728.448479000001}]

{"sheet":"BASE DE DADOS","index":2,"n_rows":1239,"n_cols":16,"rows_kept":1239,"cut":false,"hidden":false,"merged":[]}
["ID","TIPO","PARCELA","DESCRIÇÃO","REFERENTE","APP","CARTÃO","FORMA","TAXA","DATA DA\nVENDA","DATA","VALOR PAGO","TOTAL BRUTO","JUROS","MÊS","ano"]
[1,"GASTOS","08 DE 10","NOTEBOOK","JUNIOR","GERAL","INTER","CRÉDITO PARCELADO",{"$f":"VLOOKUP(tbldados[[#This Row],[APP]],tblbandeira[],3,0)","v":0},44330,44576,349.9,{"$f":"tbldados[[#This Row],[VALOR PAGO]]+(tbldados[[#This Row],[VALOR PAGO]]*tbldados[[#This Row],[TAXA]])","v":349.9},{"$f":"tbldados[[#This Row],[TOTAL BRUTO]]-tbldados[[#This Row],[VALOR PAGO]]","v":0},{"$f":"CHOOSE(MONTH(tbldados[[#This Row],[DATA]]),\"JANEIRO\",\"FEVEREIRO\",\"MARÇO\",\"ABRIL\",\"MAIO\",\"JUNHO\",\"JULHO\",\"AGOSTO\",\"SETEMBRO\",\"OUTUBRO\",\"NOVEMBRO\",\"DEZEMBRO\")","v":"JANEIRO"},{"$f":"YEAR(tbldados[[#This Row],[DATA]])","v":2022}]
[2,"GASTOS","09 DE 10","NOTEBOOK","JUNIOR","GERAL","INTER","CRÉDITO PARCELADO",{"$f":"VLOOKUP(tbldados[[#This Row],[APP]],tblbandeira[],3,0)","v":0},44330,44607,349.9,{"$f":"tbldados[[#This Row],[VALOR PAGO]]+(tbldados[[#This Row],[VALOR PAGO]]*tbldados[[#This Row],[TAXA]])","v":349.9},{"$f":"tbldados[[#This Row],[TOTAL BRUTO]]-tbldados[[#This Row],[VALOR PAGO]]","v":0},{"$f":"CHOOSE(MONTH(tbldados[[#This Row],[DATA]]),\"JANEIRO\",\"FEVEREIRO\",\"MARÇO\",\"ABRIL\",\"MAIO\",\"JUNHO\",\"JULHO\",\"AGOSTO\",\"SETEMBRO\",\"OUTUBRO\",\"NOVEMBRO\",\"DEZEMBRO\")","v":"FEVEREIRO"},{"$f":"YEAR(tbldados[[#This Row],[DATA]])","v":2022}]
[3,"GASTOS","10 DE 10","NOTEBOOK","JUNIOR","GERAL","INTER","CRÉDITO PARCELADO",{"$f":"VLOOKUP(tbldados[[#This Row],[APP]],tblbandeira[],3,0)","v":0},44330,44635,349.9,{"$f":"tbldados[[#This Row],[VALOR PAGO]]+(tbldados[[#This Row],[VALOR PAGO]]*tbldados[[#This Row],[TAXA]])","v":349.9},{"$f":"tbldados[[#This Row],[TOTAL BRUTO]]-tbldados[[#This Row],[VALOR PAGO]]","v":0},{"$f":"CHOOSE(MONTH(tbldados[[#This Row],[DATA]]),\"JANEIRO\",\"FEVEREIRO\",\"MARÇO\",\"ABRIL\",\"MAIO\",\"JUNHO\",\"JULHO\",\"AGOSTO\",\"SETEMBRO\",\"OUTUBRO\",\"NOVEMBRO\",\"DEZEMBRO\")","v":"MARÇO"},{"$f":"YEAR(tbldados[[#This Row],[DATA]])","v":2022}]
[4,"GASTOS","06 DE 06","ROTEADOR","JUNIOR","GERAL","PAN","CREDITO PARCELADO",{"$f":"VLOOKUP(tbldados[[#This Row],[APP]],tblbandeira[],3,0)","v":0},44394,44574,50,{"$f":"tbldados[[#This Row],[VALOR PAGO]]+(tbldados[[#This Row],[VALOR PAGO]]*tbldados[[#This Row],[TAXA]])","v":50},{"$f":"tbldados[[#This Row],[TOTAL BRUTO]]-tbldados[[#This Row],[VALOR PAGO]]","v":0},{"$f":"CHOOSE(MONTH(tbldados[[#This Row],[DATA]]),\"JANEIRO\",\"FEVEREIRO\",\"MARÇO\",\"ABRIL\",\"MAIO\",\"JUNHO\",\"JULHO\",\"AGOSTO\",\"SETEMBRO\",\"OUTUBRO\",\"NOVEMBRO\",\"DEZEMBRO\")","v":"JANEIRO"},{"$f":"YEAR(tbldados[[#This Row],[DATA]])","v":2022}]
[5,"GASTOS","02 DE 03","SUPERMERCADO","JUNIOR","GERAL","C6","CREDITO PARCELADO",{"$f":"VLOOKUP(tbldados[[#This Row],[APP]],tblbandeira[],3,0)","v":0},44493,44562,140.33000000000001,{"$f":"tbldados[[#This Row],[VALOR PAGO]]+(tbldados[[#This Row],[VALOR PAGO]]*tbldados[[#This Row],[TAXA]])","v":140.33000000000001},{"$f":"tbldados[[#This Row],[TOTAL BRUTO]]-tbldados[[#This Row],[VALOR PAGO]]","v":0},{"$f":"CHOOSE(MONTH(tbldados[[#This Row],[DATA]]),\"JANEIRO\",\"FEVEREIRO\",\"MARÇO\",\"ABRIL\",\"MAIO\",\"JUNHO\",\"JULHO\",\"AGOSTO\",\"SETEMBRO\",\"OUTUBRO\",\"NOVEMBRO\",\"DEZEMBRO\")","v":"JANEIRO"},{"$f":"YEAR(tbldados[[#This Row],[DATA]])","v":2022}]
[6,"GASTOS","03 DE 03","SUPERMERCADO","JUNIOR","GERAL","C6","CREDITO PARCELADO",{"$f":"VLOOKUP(tbldados[[#This Row],[APP]],tblbandeira[],3,0)","v":0},44493,44593,140.33000000000001,{"$f":"tbldados[[#This Row],[VALOR PAGO]]+(tbldados[[#This Row],[VALOR PAGO]]*tbldados[[#This Row],[TAXA]])","v":140.33000000000001},{"$f":"tbldados[[#This Row],[TOTAL BRUTO]]-tbldados[[#This Row],[VALOR PAGO]]","v":0},{"$f":"CHOOSE(MONTH(tbldados[[#This Row],[DATA]]),\"JANEIRO\",\"FEVEREIRO\",\"MARÇO\",\"ABRIL\",\"MAIO\",\"JUNHO\",\"JULHO\",\"AGOSTO\",\"SETEMBRO\",\"OUTUBRO\",\"NOVEMBRO\",\"DEZEMBRO\")","v":"FEVEREIRO"},{"$f":"YEAR(tbldados[[#This Row],[DATA]])","v":2022}]
[7,"GASTOS","01 DE 01","JUROS","JUNIOR","GERAL","INTER","CREDITO A VISTA",{"$f":"VLOOKUP(tbldados[[#This Row],[APP]],tblbandeira[],3,0)","v":0},44534,44576,19.989999999999998,{"$f":"tbldados[[#This Row],[VALOR PAGO]]+(tbldados[[#This Row],[VALOR PAGO]]*tbldados[[#This Row],[TAXA]])","v":19.989999999999998},{"$f":"tbldados[[#This Row],[TOTAL BRUTO]]-tbldados[[#This Row],[VALOR PAGO]]","v":0},{"$f":"CHOOSE(MONTH(tbldados[[#This Row],[DATA]]),\"JANEIRO\",\"FEVEREIRO\",\"MARÇO\",\"ABRIL\",\"MAIO\",\"JUNHO\",\"JULHO\",\"AGOSTO\",\"SETEMBRO\",\"OUTUBRO\",\"NOVEMBRO\",\"DEZEMBRO\")","v":"JANEIRO"},{"$f":"YEAR(tbldados[[#This Row],[DATA]])","v":2022}]
[8,"GASTOS","01 DE 09","LIVROS ","JUNIOR","GERAL","C6","CREDITO PARCELADO",{"$f":"VLOOKUP(tbldados[[#This Row],[APP]],tblbandeira[],3,0)","v":0},44519,44562,30.69,{"$f":"tbldados[[#This Row],[VALOR PAGO]]+(tbldados[[#This Row],[VALOR PAGO]]*tbldados[[#This Row],[TAXA]])","v":30.69},{"$f":"tbldados[[#This Row],[TOTAL BRUTO]]-tbldados[[#This Row],[VALOR PAGO]]","v":0},{"$f":"CHOOSE(MONTH(tbldados[[#This Row],[DATA]]),\"JANEIRO\",\"FEVEREIRO\",\"MARÇO\",\"ABRIL\",\"MAIO\",\"JUNHO\",\"JULHO\",\"AGOSTO\",\"SETEMBRO\",\"OUTUBRO\",\"NOVEMBRO\",\"DEZEMBRO\")","v":"JANEIRO"},{"$f":"YEAR(tbldados[[#This Row],[DATA]])","v":2022}]
[9,"GASTOS","02 DE 09","LIVROS ","JUNIOR","GERAL","C6","CREDITO PARCELADO",{"$f":"VLOOKUP(tbldados[[#This Row],[APP]],tblbandeira[],3,0)","v":0},44519,44593,30.69,{"$f":"tbldados[[#This Row],[VALOR PAGO]]+(tbldados[[#This Row],[VALOR PAGO]]*tbldados[[#This Row],[TAXA]])","v":30.69},{"$f":"tbldados[[#This Row],[TOTAL BRUTO]]-tbldados[[#This Row],[VALOR PAGO]]","v":0},{"$f":"CHOOSE(MONTH(tbldados[[#This Row],[DATA]]),\"JANEIRO\",\"FEVEREIRO\",\"MARÇO\",\"ABRIL\",\"MAIO\",\"JUNHO\",\"JULHO\",\"AGOSTO\",\"SETEMBRO\",\"OUTUBRO\",\"NOVEMBRO\",\"DEZEMBRO\")","v":"FEVEREIRO"},{"$f":"YEAR(tbldados[[#This Row],[DATA]])","v":2022}]
[10,"GASTOS","03 DE 09","LIVROS ","JUNIOR","GERAL","C6","CREDITO PARCELADO",{"$f":"VLOOKUP(tbldados[[#This Row],[APP]],tblbandeira[],3,0)","v":0},44519,44621,30.69,{"$f":"tbldados[[#This Row],[VALOR PAGO]]+(tbldados[[#This Row],[VALOR PAGO]]*tbldados[[#This Row],[TAXA]])","v":30.69},{"$f":"tbldados[[#This Row],[TOTAL BRUTO]]-tbldados[[#This Row],[VALOR PAGO]]","v":0},{"$f":"CHOOSE(MONTH(tbldados[[#This Row],[DATA]]),\"JANEIRO\",\"FEVEREIRO\",\"MARÇO\",\"ABRIL\",\"MAIO\",\"JUNHO\",\"JULHO\",\"AGOSTO\",\"SETEMBRO\",\"OUTUBRO\",\"NOVEMBRO\",\"DEZEMBRO\")","v":"MARÇO"},{"$f":"YEAR(tbldados[[#This Row],[DATA]])","v":2022}]
[11,"GASTOS","04 DE 09","LIVROS ","JUNIOR","GERAL","C6","CREDITO PARCELADO",{"$f":"VLOOKUP(tbldados[[#This Row],[APP]],tblbandeira[],3,0)","v":0},44519,44652,30.69,{"$f":"tbldados[[#This Row],[VALOR PAGO]]+(tbldados[[#This Row],[VALOR PAGO]]*tbldados[[#This Row],[TAXA]])","v":30.69},{"$f":"tbldados[[#This Row],[TOTAL BRUTO]]-tbldados[[#This Row],[VALOR PAGO]]","v":0},{"$f":"CHOOSE(MONTH(tbldados[[#This Row],[DATA]]),\"JANEIRO\",\"FEVEREIRO\",\"MARÇO\",\"ABRIL\",\"MAIO\",\"JUNHO\",\"JULHO\",\"AGOSTO\",\"SETEMBRO\",\"OUTUBRO\",\"NOVEMBRO\",\"DEZEMBRO\")","v":"ABRIL"},{"$f":"YEAR(tbldados[[#This Row],[DATA]])","v":2022}]
[12,"GASTOS","05 DE 09","LIVROS ","JUNIOR","GERAL","C6","CREDITO PARCELADO",{"$f":"VLOOKUP(tbldados[[#This Row],[APP]],tblbandeira[],3,0)","v":0},44519,44682,30.69,{"$f":"tbldados[[#This Row],[VALOR PAGO]]+(tbldados[[#This Row],[VALOR PAGO]]*tbldados[[#This Row],[TAXA]])","v":30.69},{"$f":"tbldados[[#This Row],[TOTAL BRUTO]]-tbldados[[#This Row],[VALOR PAGO]]","v":0},{"$f":"CHOOSE(MONTH(tbldados[[#This Row],[DATA]]),\"JANEIRO\",\"FEVEREIRO\",\"MARÇO\",\"ABRIL\",\"MAIO\",\"JUNHO\",\"JULHO\",\"AGOSTO\",\"SETEMBRO\",\"OUTUBRO\",\"NOVEMBRO\",\"DEZEMBRO\")","v":"MAIO"},{"$f":"YEAR(tbldados[[#This Row],[DATA]])","v":2022}]
[13,"GASTOS","06 DE 09","LIVROS ","JUNIOR","GERAL","C6","CREDITO PARCELADO",{"$f":"VLOOKUP(tbldados[[#This Row],[APP]],tblbandeira[],3,0)","v":0},44519,44713,30.69,{"$f":"tbldados[[#This Row],[VALOR PAGO]]+(tbldados[[#This Row],[VALOR PAGO]]*tbldados[[#This Row],[TAXA]])","v":30.69},{"$f":"tbldados[[#This Row],[TOTAL BRUTO]]-tbldados[[#This Row],[VALOR PAGO]]","v":0},{"$f":"CHOOSE(MONTH(tbldados[[#This Row],[DATA]]),\"JANEIRO\",\"FEVEREIRO\",\"MARÇO\",\"ABRIL\",\"MAIO\",\"JUNHO\",\"JULHO\",\"AGOSTO\",\"SETEMBRO\",\"OUTUBRO\",\"NOVEMBRO\",\"DEZEMBRO\")","v":"JUNHO"},{"$f":"YEAR(tbldados[[#This Row],[DATA]])","v":2022}]
[14,"GASTOS","07 DE 09","LIVROS ","JUNIOR","GERAL","C6","CREDITO PARCELADO",{"$f":"VLOOKUP(tbldados[[#This Row],[APP]],tblbandeira[],3,0)","v":0},44519,44743,30.69,{"$f":"tbldados[[#This Row],[VALOR PAGO]]+(tbldados[[#This Row],[VALOR PAGO]]*tbldados[[#This Row],[TAXA]])","v":30.69},{"$f":"tbldados[[#This Row],[TOTAL BRUTO]]-tbldados[[#This Row],[VALOR PAGO]]","v":0},{"$f":"CHOOSE(MONTH(tbldados[[#This Row],[DATA]]),\"JANEIRO\",\"FEVEREIRO\",\"MARÇO\",\"ABRIL\",\"MAIO\",\"JUNHO\",\"JULHO\",\"AGOSTO\",\"SETEMBRO\",\"OUTUBRO\",\"NOVEMBRO\",\"DEZEMBRO\")","v":"JULHO"},{"$f":"YEAR(tbldados[[#This Row],[DATA]])","v":2022}]
[15,"GASTOS","08 DE 09","LIVROS ","JUNIOR","GERAL","C6","CREDITO PARCELADO",{"$f":"VLOOKUP(tbldados[[#This Row],[APP]],tblbandeira[],3,0)","v":0},44519,44774,30.69,{"$f":"tbldados[[#This Row],[VALOR PAGO]]+(tbldados[[#This Row],[VALOR PAGO]]*tbldados[[#This Row],[TAXA]])","v":30.69},{"$f":"tbldados[[#This Row],[TOTAL BRUTO]]-tbldados[[#This Row],[VALOR PAGO]]","v":0},{"$f":"CHOOSE(MONTH(tbldados[[#This Row],[DATA]]),\"JANEIRO\",\"FEVEREIRO\",\"MARÇO\",\"ABRIL\",\"MAIO\",\"JUNHO\",\"JULHO\",\"AGOSTO\",\"SETEMBRO\",\"OUTUBRO\",\"NOVEMBRO\",\"DEZEMBRO\")","v":"AGOSTO"},{"$f":"YEAR(tbldados[[#This Row],[DATA]])","v":2022}]
[16,"GASTOS","09 DE 09","LIVROS ","JUNIOR","GERAL","C6","CREDITO PARCELADO",{"$f":"VLOOKUP(tbldados[[#This Row],[APP]],tblbandeira[],3,0)","v":0},44519,44805,30.69,{"$f":"tbldados[[#This Row],[VALOR PAGO]]+(tbldados[[#This Row],[VALOR PAGO]]*tbldados[[#This Row],[TAXA]])","v":30.69},{"$f":"tbldados[[#This Row],[TOTAL BRUTO]]-tbldados[[#This Row],[VALOR PAGO]]","v":0},{"$f":"CHOOSE(MONTH(tbldados[[#This Row],[DATA]]),\"JANEIRO\",\"FEVEREIRO\",\"MARÇO\",\"ABRIL\",\"MAIO\",\"JUNHO\",\"JULHO\",\"AGOSTO\",\"SETEMBRO\",\"OUTUBRO\",\"NOVEMBRO\",\"DEZEMBRO\")","v":"SETEMBRO"},{"$f":"YEAR(tbldados[[#This Row],[DATA]])","v":2022}]
[17,"GASTOS","01 DE 01","ÁGUA","JUNIOR","GERAL","MELIUZ","CREDITO A VISTA",{"$f":"VLOOKUP(tbldados[[#This Row],[APP]],tblbandeira[],3,0)","v":0},44525,44562,10,{"$f":"tbldados[[#This Row],[VALOR PAGO]]+(tbldados[[#This Row],[VALOR PAGO]]*tbldados[[#This Row],[TAXA]])","v":10},{"$f":"tbldados[[#This Row],[TOTAL BRUTO]]-tbldados[[#This Row],[VALOR PAGO]]","v":0},{"$f":"CHOOSE(MONTH(tbldados[[#This Row],[DATA]]),\"JANEIRO\",\"FEVEREIRO\",\"MARÇO\",\"ABRIL\",\"MAIO\",\"JUNHO\",\"JULHO\",\"AGOSTO\",\"SETEMBRO\",\"OUTUBRO\",\"NOVEMBRO\",\"DEZEMBRO\")","v":"JANEIRO"},{"$f":"YEAR(tbldados[[#This Row],[DATA]])","v":2022}]
[18,"GASTOS","01 DE 02","SHORTS","JUNIOR","GERAL","C6","CREDITO PARCELADO",{"$f":"VLOOKUP(tbldados[[#This Row],[APP]],tblbandeira[],3,0)","v":0},44529,44562,49.99,{"$f":"tbldados[[#This Row],[VALOR PAGO]]+(tbldados[[#This Row],[VALOR PAGO]]*tbldados[[#This Row],[TAXA]])","v":49.99},{"$f":"tbldados[[#This Row],[TOTAL BRUTO]]-tbldados[[#This Row],[VALOR PAGO]]","v":0},{"$f":"CHOOSE(MONTH(tbldados[[#This Row],[DATA]]),\"JANEIRO\",\"FEVEREIRO\",\"MARÇO\",\"ABRIL\",\"MAIO\",\"JUNHO\",\"JULHO\",\"AGOSTO\",\"SETEMBRO\",\"OUTUBRO\",\"NOVEMBRO\",\"DEZEMBRO\")","v":"JANEIRO"},{"$f":"YEAR(tbldados[[#This Row],[DATA]])","v":2022}]
[19,"GASTOS","02 DE 02","SHORTS","JUNIOR","GERAL","C6","CREDITO PARCELADO",{"$f":"VLOOKUP(tbldados[[#This Row],[APP]],tblbandeira[],3,0)","v":0},44529,44593,49.99,{"$f":"tbldados[[#This Row],[VALOR PAGO]]+(tbldados[[#This Row],[VALOR PAGO]]*tbldados[[#This Row],[TAXA]])","v":49.99},{"$f":"tbldados[[#This Row],[TOTAL BRUTO]]-tbldados[[#This Row],[VALOR PAGO]]","v":0},{"$f":"CHOOSE(MONTH(tbldados[[#This Row],[DATA]]),\"JANEIRO\",\"FEVEREIRO\",\"MARÇO\",\"ABRIL\",\"MAIO\",\"JUNHO\",\"JULHO\",\"AGOSTO\",\"SETEMBRO\",\"OUTUBRO\",\"NOVEMBRO\",\"DEZEMBRO\")","v":"FEVEREIRO"},{"$f":"YEAR(tbldados[[#This Row],[DATA]])","v":2022}]
[20,"PGTO","01 DE 01","C6","DEZEMBRO","RECARGAPAY","MELIUZ","CREDITO A VISTA",{"$f":"VLOOKUP(tbldados[[#This Row],[APP]],tblbandeira[],3,0)","v":3.49E-2},44531,44562,413.51,{"$f":"tbldados[[#This Row],[VALOR PAGO]]+(tbldados[[#This Row],[VALOR PAGO]]*tbldados[[#This Row],[TAXA]])","v":427.94149899999996},{"$f":"tbldados[[#This Row],[TOTAL BRUTO]]-tbldados[[#This Row],[VALOR PAGO]]","v":14.431498999999974},{"$f":"CHOOSE(MONTH(tbldados[[#This Row],[DATA]]),\"JANEIRO\",\"FEVEREIRO\",\"MARÇO\",\"ABRIL\",\"MAIO\",\"JUNHO\",\"JULHO\",\"AGOSTO\",\"SETEMBRO\",\"OUTUBRO\",\"NOVEMBRO\",\"DEZEMBRO\")","v":"JANEIRO"},{"$f":"YEAR(tbldados[[#This Row],[DATA]])","v":2022}]
[21,"GASTOS","01 DE 01","PGTOC62","JUNIOR","RECARGAPAY","MELIUZ","CREDITO A VISTA",{"$f":"VLOOKUP(tbldados[[#This Row],[APP]],tblbandeira[],3,0)","v":3.49E-2},44531,44562,413.51,{"$f":"tbldados[[#This Row],[VALOR PAGO]]+(tbldados[[#This Row],[VALOR PAGO]]*tbldados[[#This Row],[TAXA]])","v":427.94149899999996},{"$f":"tbldados[[#This Row],[TOTAL BRUTO]]-tbldados[[#This Row],[VALOR PAGO]]","v":14.431498999999974},{"$f":"CHOOSE(MONTH(tbldados[[#This Row],[DATA]]),\"JANEIRO\",\"FEVEREIRO\",\"MARÇO\",\"ABRIL\",\"MAIO\",\"JUNHO\",\"JULHO\",\"AGOSTO\",\"SETEMBRO\",\"OUTUBRO\",\"NOVEMBRO\",\"DEZEMBRO\")","v":"JANEIRO"},{"$f":"YEAR(tbldados[[#This Row],[DATA]])","v":2022}]
[22,"GASTOS","01 DE 01","NETFLIX","JUNIOR","GERAL","C6","CREDITO A VISTA",{"$f":"VLOOKUP(tbldados[[#This Row],[APP]],tblbandeira[],3,0)","v":0},44525,44562,55.9,{"$f":"tbldados[[#This Row],[VALOR PAGO]]+(tbldados[[#This Row],[VALOR PAGO]]*tbldados[[#This Row],[TAXA]])","v":55.9},{"$f":"tbldados[[#This Row],[TOTAL BRUTO]]-tbldados[[#This Row],[VALOR PAGO]]","v":0},{"$f":"CHOOSE(MONTH(tbldados[[#This Row],[DATA]]),\"JANEIRO\",\"FEVEREIRO\",\"MARÇO\",\"ABRIL\",\"MAIO\",\"JUNHO\",\"JULHO\",\"AGOSTO\",\"SETEMBRO\",\"OUTUBRO\",\"NOVEMBRO\",\"DEZEMBRO\")","v":"JANEIRO"},{"$f":"YEAR(tbldados[[#This Row],[DATA]])","v":2022}]
[23,"GASTOS","01 DE 01","SUPERMERCADO","JUNIOR","GERAL","MELIUZ","CREDITO A VISTA",{"$f":"VLOOKUP(tbldados[[#This Row],[APP]],tblbandeira[],3,0)","v":0},44520,44562,95.76,{"$f":"tbldados[[#This Row],[VALOR PAGO]]+(tbldados[[#This Row],[VALOR PAGO]]*tbldados[[#This Row],[TAXA]])","v":95.76},{"$f":"tbldados[[#This Row],[TOTAL BRUTO]]-tbldados[[#This Row],[VALOR PAGO]]","v":0},{"$f":"CHOOSE(MONTH(tbldados[[#This Row],[DATA]]),\"JANEIRO\",\"FEVEREIRO\",\"MARÇO\",\"ABRIL\",\"MAIO\",\"JUNHO\",\"JULHO\",\"AGOSTO\",\"SETEMBRO\",\"OUTUBRO\",\"NOVEMBRO\",\"DEZEMBRO\")","v":"JANEIRO"},{"$f":"YEAR(tbldados[[#This Row],[DATA]])","v":2022}]
[24,"PGTO","01 DE 01","ZERO","DEZEMBRO","RECARGAPAY","C6","CREDITO A VISTA",{"$f":"VLOOKUP(tbldados[[#This Row],[APP]],tblbandeira[],3,0)","v":3.49E-2},44532,44562,702.01,{"$f":"tbldados[[#This Row],[VALOR PAGO]]+(tbldados[[#This Row],[VALOR PAGO]]*tbldados[[#This Row],[TAXA]])","v":726.51014899999996},{"$f":"tbldados[[#This Row],[TOTAL BRUTO]]-tbldados[[#This Row],[VALOR PAGO]]","v":24.500148999999965},{"$f":"CHOOSE(MONTH(tbldados[[#This Row],[DATA]]),\"JANEIRO\",\"FEVEREIRO\",\"MARÇO\",\"ABRIL\",\"MAIO\",\"JUNHO\",\"JULHO\",\"AGOSTO\",\"SETEMBRO\",\"OUTUBRO\",\"NOVEMBRO\",\"DEZEMBRO\")","v":"JANEIRO"},{"$f":"YEAR(tbldados[[#This Row],[DATA]])","v":2022}]
[25,"GASTOS","01 DE 01","PGTOZERO1","JUNIOR","RECARGAPAY","C6","CREDITO A VISTA",{"$f":"VLOOKUP(tbldados[[#This Row],[APP]],tblbandeira[],3,0)","v":3.49E-2},44532,44562,702.01,{"$f":"tbldados[[#This Row],[VALOR PAGO]]+(tbldados[[#This Row],[VALOR PAGO]]*tbldados[[#This Row],[TAXA]])","v":726.51014899999996},{"$f":"tbldados[[#This Row],[TOTAL BRUTO]]-tbldados[[#This Row],[VALOR PAGO]]","v":24.500148999999965},{"$f":"CHOOSE(MONTH(tbldados[[#This Row],[DATA]]),\"JANEIRO\",\"FEVEREIRO\",\"MARÇO\",\"ABRIL\",\"MAIO\",\"JUNHO\",\"JULHO\",\"AGOSTO\",\"SETEMBRO\",\"OUTUBRO\",\"NOVEMBRO\",\"DEZEMBRO\")","v":"JANEIRO"},{"$f":"YEAR(tbldados[[#This Row],[DATA]])","v":2022}]
[26,"PGTO","01 DE 01","ZERO","DEZEMBRO","RECARGAPAY","MELIUZ","CREDITO A VISTA",{"$f":"VLOOKUP(tbldados[[#This Row],[APP]],tblbandeira[],3,0)","v":3.49E-2},44532,44562,454.77,{"$f":"tbldados[[#This Row],[VALOR PAGO]]+(tbldados[[#This Row],[VALOR PAGO]]*tbldados[[#This Row],[TAXA]])","v":470.64147299999996},{"$f":"tbldados[[#This Row],[TOTAL BRUTO]]-tbldados[[#This Row],[VALOR PAGO]]","v":15.87147299999998},{"$f":"CHOOSE(MONTH(tbldados[[#This Row],[DATA]]),\"JANEIRO\",\"FEVEREIRO\",\"MARÇO\",\"ABRIL\",\"MAIO\",\"JUNHO\",\"JULHO\",\"AGOSTO\",\"SETEMBRO\",\"OUTUBRO\",\"NOVEMBRO\",\"DEZEMBRO\")","v":"JANEIRO"},{"$f":"YEAR(tbldados[[#This Row],[DATA]])","v":2022}]
[27,"GASTOS","01 DE 01","PGTOZERO2","JUNIOR","RECARGAPAY","MELIUZ","CREDITO A VISTA",{"$f":"VLOOKUP(tbldados[[#This Row],[APP]],tblbandeira[],3,0)","v":3.49E-2},44532,44562,454.77,{"$f":"tbldados[[#This Row],[VALOR PAGO]]+(tbldados[[#This Row],[VALOR PAGO]]*tbldados[[#This Row],[TAXA]])","v":470.64147299999996},{"$f":"tbldados[[#This Row],[TOTAL BRUTO]]-tbldados[[#This Row],[VALOR PAGO]]","v":15.87147299999998},{"$f":"CHOOSE(MONTH(tbldados[[#This Row],[DATA]]),\"JANEIRO\",\"FEVEREIRO\",\"MARÇO\",\"ABRIL\",\"MAIO\",\"JUNHO\",\"JULHO\",\"AGOSTO\",\"SETEMBRO\",\"OUTUBRO\",\"NOVEMBRO\",\"DEZEMBRO\")","v":"JANEIRO"},{"$f":"YEAR(tbldados[[#This Row],[DATA]])","v":2022}]
[28,"PGTO","01 DE 01","ZERO","DEZEMBRO","RECARGAPAY","ORIGINAL","CREDITO A VISTA",{"$f":"VLOOKUP(tbldados[[#This Row],[APP]],tblbandeira[],3,0)","v":3.49E-2},44532,44571,242.74,{"$f":"tbldados[[#This Row],[VALOR PAGO]]+(tbldados[[#This Row],[VALOR PAGO]]*tbldados[[#This Row],[TAXA]])","v":251.21162600000002},{"$f":"tbldados[[#This Row],[TOTAL BRUTO]]-tbldados[[#This Row],[VALOR PAGO]]","v":8.4716260000000148},{"$f":"CHOOSE(MONTH(tbldados[[#This Row],[DATA]]),\"JANEIRO\",\"FEVEREIRO\",\"MARÇO\",\"ABRIL\",\"MAIO\",\"JUNHO\",\"JULHO\",\"AGOSTO\",\"SETEMBRO\",\"OUTUBRO\",\"NOVEMBRO\",\"DEZEMBRO\")","v":"JANEIRO"},{"$f":"YEAR(tbldados[[#This Row],[DATA]])","v":2022}]
[29,"GASTOS","01 DE 01","PGTOZERO3","JUNIOR","RECARGAPAY","ORIGINAL","CREDITO A VISTA",{"$f":"VLOOKUP(tbldados[[#This Row],[APP]],tblbandeira[],3,0)","v":3.49E-2},44532,44571,242.74,{"$f":"tbldados[[#This Row],[VALOR PAGO]]+(tbldados[[#This Row],[VALOR PAGO]]*tbldados[[#This Row],[TAXA]])","v":251.21162600000002},{"$f":"tbldados[[#This Row],[TOTAL BRUTO]]-tbldados[[#This Row],[VALOR PAGO]]","v":8.4716260000000148},{"$f":"CHOOSE(MONTH(tbldados[[#This Row],[DATA]]),\"JANEIRO\",\"FEVEREIRO\",\"MARÇO\",\"ABRIL\",\"MAIO\",\"JUNHO\",\"JULHO\",\"AGOSTO\",\"SETEMBRO\",\"OUTUBRO\",\"NOVEMBRO\",\"DEZEMBRO\")","v":"JANEIRO"},{"$f":"YEAR(tbldados[[#This Row],[DATA]])","v":2022}]
[30,"PGTO","01 DE 01","ZERO","DEZEMBRO","RECARGAPAY","C6","CREDITO A VISTA",{"$f":"VLOOKUP(tbldados[[#This Row],[APP]],tblbandeira[],3,0)","v":3.49E-2},44532,44562,249.16,{"$f":"tbldados[[#This Row],[VALOR PAGO]]+(tbldados[[#This Row],[VALOR PAGO]]*tbldados[[#This Row],[TAXA]])","v":257.855684},{"$f":"tbldados[[#This Row],[TOTAL BRUTO]]-tbldados[[#This Row],[VALOR PAGO]]","v":8.695684},{"$f":"CHOOSE(MONTH(tbldados[[#This Row],[DATA]]),\"JANEIRO\",\"FEVEREIRO\",\"MARÇO\",\"ABRIL\",\"MAIO\",\"JUNHO\",\"JULHO\",\"AGOSTO\",\"SETEMBRO\",\"OUTUBRO\",\"NOVEMBRO\",\"DEZEMBRO\")","v":"JANEIRO"},{"$f":"YEAR(tbldados[[#This Row],[DATA]])","v":2022}]
[31,"GASTOS","01 DE 01","PGTOZERO4","JUNIOR","RECARGAPAY","ZERO","CREDITO A VISTA",{"$f":"VLOOKUP(tbldados[[#This Row],[APP]],tblbandeira[],3,0)","v":3.49E-2},44532,44564,249.16,{"$f":"tbldados[[#This Row],[VALOR PAGO]]+(tbldados[[#This Row],[VALOR PAGO]]*tbldados[[#This Row],[TAXA]])","v":257.855684},{"$f":"tbldados[[#This Row],[TOTAL BRUTO]]-tbldados[[#This Row],[VALOR PAGO]]","v":8.695684},{"$f":"CHOOSE(MONTH(tbldados[[#This Row],[DATA]]),\"JANEIRO\",\"FEVEREIRO\",\"MARÇO\",\"ABRIL\",\"MAIO\",\"JUNHO\",\"JULHO\",\"AGOSTO\",\"SETEMBRO\",\"OUTUBRO\",\"NOVEMBRO\",\"DEZEMBRO\")","v":"JANEIRO"},{"$f":"YEAR(tbldados[[#This Row],[DATA]])","v":2022}]
[32,"GASTOS","01 DE 12","JUROSAZUL","JUNIOR","GERAL","C6","CREDITO PARCELADO",{"$f":"VLOOKUP(tbldados[[#This Row],[APP]],tblbandeira[],3,0)","v":0},44533,44562,156.07,{"$f":"tbldados[[#This Row],[VALOR PAGO]]+(tbldados[[#This Row],[VALOR PAGO]]*tbldados[[#This Row],[TAXA]])","v":156.07},{"$f":"tbldados[[#This Row],[TOTAL BRUTO]]-tbldados[[#This Row],[VALOR PAGO]]","v":0},{"$f":"CHOOSE(MONTH(tbldados[[#This Row],[DATA]]),\"JANEIRO\",\"FEVEREIRO\",\"MARÇO\",\"ABRIL\",\"MAIO\",\"JUNHO\",\"JULHO\",\"AGOSTO\",\"SETEMBRO\",\"OUTUBRO\",\"NOVEMBRO\",\"DEZEMBRO\")","v":"JANEIRO"},{"$f":"YEAR(tbldados[[#This Row],[DATA]])","v":2022}]
[33,"GASTOS","02 DE 12","JUROSAZUL","JUNIOR","GERAL","C6","CREDITO PARCELADO",{"$f":"VLOOKUP(tbldados[[#This Row],[APP]],tblbandeira[],3,0)","v":0},44533,44593,156.07,{"$f":"tbldados[[#This Row],[VALOR PAGO]]+(tbldados[[#This Row],[VALOR PAGO]]*tbldados[[#This Row],[TAXA]])","v":156.07},{"$f":"tbldados[[#This Row],[TOTAL BRUTO]]-tbldados[[#This Row],[VALOR PAGO]]","v":0},{"$f":"CHOOSE(MONTH(tbldados[[#This Row],[DATA]]),\"JANEIRO\",\"FEVEREIRO\",\"MARÇO\",\"ABRIL\",\"MAIO\",\"JUNHO\",\"JULHO\",\"AGOSTO\",\"SETEMBRO\",\"OUTUBRO\",\"NOVEMBRO\",\"DEZEMBRO\")","v":"FEVEREIRO"},{"$f":"YEAR(tbldados[[#This Row],[DATA]])","v":2022}]
[34,"GASTOS","03 DE 12","JUROSAZUL","JUNIOR","GERAL","C6","CREDITO PARCELADO",{"$f":"VLOOKUP(tbldados[[#This Row],[APP]],tblbandeira[],3,0)","v":0},44533,44621,156.07,{"$f":"tbldados[[#This Row],[VALOR PAGO]]+(tbldados[[#This Row],[VALOR PAGO]]*tbldados[[#This Row],[TAXA]])","v":156.07},{"$f":"tbldados[[#This Row],[TOTAL BRUTO]]-tbldados[[#This Row],[VALOR PAGO]]","v":0},{"$f":"CHOOSE(MONTH(tbldados[[#This Row],[DATA]]),\"JANEIRO\",\"FEVEREIRO\",\"MARÇO\",\"ABRIL\",\"MAIO\",\"JUNHO\",\"JULHO\",\"AGOSTO\",\"SETEMBRO\",\"OUTUBRO\",\"NOVEMBRO\",\"DEZEMBRO\")","v":"MARÇO"},{"$f":"YEAR(tbldados[[#This Row],[DATA]])","v":2022}]
[35,"GASTOS","04 DE 12","JUROSAZUL","JUNIOR","GERAL","C6","CREDITO PARCELADO",{"$f":"VLOOKUP(tbldados[[#This Row],[APP]],tblbandeira[],3,0)","v":0},44533,44652,156.07,{"$f":"tbldados[[#This Row],[VALOR PAGO]]+(tbldados[[#This Row],[VALOR PAGO]]*tbldados[[#This Row],[TAXA]])","v":156.07},{"$f":"tbldados[[#This Row],[TOTAL BRUTO]]-tbldados[[#This Row],[VALOR PAGO]]","v":0},{"$f":"CHOOSE(MONTH(tbldados[[#This Row],[DATA]]),\"JANEIRO\",\"FEVEREIRO\",\"MARÇO\",\"ABRIL\",\"MAIO\",\"JUNHO\",\"JULHO\",\"AGOSTO\",\"SETEMBRO\",\"OUTUBRO\",\"NOVEMBRO\",\"DEZEMBRO\")","v":"ABRIL"},{"$f":"YEAR(tbldados[[#This Row],[DATA]])","v":2022}]
[36,"GASTOS","05 DE 12","JUROSAZUL","JUNIOR","GERAL","C6","CREDITO PARCELADO",{"$f":"VLOOKUP(tbldados[[#This Row],[APP]],tblbandeira[],3,0)","v":0},44533,44682,156.07,{"$f":"tbldados[[#This Row],[VALOR PAGO]]+(tbldados[[#This Row],[VALOR PAGO]]*tbldados[[#This Row],[TAXA]])","v":156.07},{"$f":"tbldados[[#This Row],[TOTAL BRUTO]]-tbldados[[#This Row],[VALOR PAGO]]","v":0},{"$f":"CHOOSE(MONTH(tbldados[[#This Row],[DATA]]),\"JANEIRO\",\"FEVEREIRO\",\"MARÇO\",\"ABRIL\",\"MAIO\",\"JUNHO\",\"JULHO\",\"AGOSTO\",\"SETEMBRO\",\"OUTUBRO\",\"NOVEMBRO\",\"DEZEMBRO\")","v":"MAIO"},{"$f":"YEAR(tbldados[[#This Row],[DATA]])","v":2022}]
[37,"GASTOS","06 DE 12","JUROSAZUL","JUNIOR","GERAL","C6","CREDITO PARCELADO",{"$f":"VLOOKUP(tbldados[[#This Row],[APP]],tblbandeira[],3,0)","v":0},44533,44713,156.07,{"$f":"tbldados[[#This Row],[VALOR PAGO]]+(tbldados[[#This Row],[VALOR PAGO]]*tbldados[[#This Row],[TAXA]])","v":156.07},{"$f":"tbldados[[#This Row],[TOTAL BRUTO]]-tbldados[[#This Row],[VALOR PAGO]]","v":0},{"$f":"CHOOSE(MONTH(tbldados[[#This Row],[DATA]]),\"JANEIRO\",\"FEVEREIRO\",\"MARÇO\",\"ABRIL\",\"MAIO\",\"JUNHO\",\"JULHO\",\"AGOSTO\",\"SETEMBRO\",\"OUTUBRO\",\"NOVEMBRO\",\"DEZEMBRO\")","v":"JUNHO"},{"$f":"YEAR(tbldados[[#This Row],[DATA]])","v":2022}]
[38,"GASTOS","07 DE 12","JUROSAZUL","JUNIOR","GERAL","C6","CREDITO PARCELADO",{"$f":"VLOOKUP(tbldados[[#This Row],[APP]],tblbandeira[],3,0)","v":0},44533,44743,156.07,{"$f":"tbldados[[#This Row],[VALOR PAGO]]+(tbldados[[#This Row],[VALOR PAGO]]*tbldados[[#This Row],[TAXA]])","v":156.07},{"$f":"tbldados[[#This Row],[TOTAL BRUTO]]-tbldados[[#This Row],[VALOR PAGO]]","v":0},{"$f":"CHOOSE(MONTH(tbldados[[#This Row],[DATA]]),\"JANEIRO\",\"FEVEREIRO\",\"MARÇO\",\"ABRIL\",\"MAIO\",\"JUNHO\",\"JULHO\",\"AGOSTO\",\"SETEMBRO\",\"OUTUBRO\",\"NOVEMBRO\",\"DEZEMBRO\")","v":"JULHO"},{"$f":"YEAR(tbldados[[#This Row],[DATA]])","v":2022}]
[39,"GASTOS","08 DE 12","JUROSAZUL","JUNIOR","GERAL","C6","CREDITO PARCELADO",{"$f":"VLOOKUP(tbldados[[#This Row],[APP]],tblbandeira[],3,0)","v":0},44533,44774,156.07,{"$f":"tbldados[[#This Row],[VALOR PAGO]]+(tbldados[[#This Row],[VALOR PAGO]]*tbldados[[#This Row],[TAXA]])","v":156.07},{"$f":"tbldados[[#This Row],[TOTAL BRUTO]]-tbldados[[#This Row],[VALOR PAGO]]","v":0},{"$f":"CHOOSE(MONTH(tbldados[[#This Row],[DATA]]),\"JANEIRO\",\"FEVEREIRO\",\"MARÇO\",\"ABRIL\",\"MAIO\",\"JUNHO\",\"JULHO\",\"AGOSTO\",\"SETEMBRO\",\"OUTUBRO\",\"NOVEMBRO\",\"DEZEMBRO\")","v":"AGOSTO"},{"$f":"YEAR(tbldados[[#This Row],[DATA]])","v":2022}]
[40,"GASTOS","09 DE 12","JUROSAZUL","JUNIOR","GERAL","C6","CREDITO PARCELADO",{"$f":"VLOOKUP(tbldados[[#This Row],[APP]],tblbandeira[],3,0)","v":0},44533,44805,156.07,{"$f":"tbldados[[#This Row],[VALOR PAGO]]+(tbldados[[#This Row],[VALOR PAGO]]*tbldados[[#This Row],[TAXA]])","v":156.07},{"$f":"tbldados[[#This Row],[TOTAL BRUTO]]-tbldados[[#This Row],[VALOR PAGO]]","v":0},{"$f":"CHOOSE(MONTH(tbldados[[#This Row],[DATA]]),\"JANEIRO\",\"FEVEREIRO\",\"MARÇO\",\"ABRIL\",\"MAIO\",\"JUNHO\",\"JULHO\",\"AGOSTO\",\"SETEMBRO\",\"OUTUBRO\",\"NOVEMBRO\",\"DEZEMBRO\")","v":"SETEMBRO"},{"$f":"YEAR(tbldados[[#This Row],[DATA]])","v":2022}]
[41,"GASTOS","10 DE 12","JUROSAZUL","JUNIOR","GERAL","C6","CREDITO PARCELADO",{"$f":"VLOOKUP(tbldados[[#This Row],[APP]],tblbandeira[],3,0)","v":0},44533,44835,156.07,{"$f":"tbldados[[#This Row],[VALOR PAGO]]+(tbldados[[#This Row],[VALOR PAGO]]*tbldados[[#This Row],[TAXA]])","v":156.07},{"$f":"tbldados[[#This Row],[TOTAL BRUTO]]-tbldados[[#This Row],[VALOR PAGO]]","v":0},{"$f":"CHOOSE(MONTH(tbldados[[#This Row],[DATA]]),\"JANEIRO\",\"FEVEREIRO\",\"MARÇO\",\"ABRIL\",\"MAIO\",\"JUNHO\",\"JULHO\",\"AGOSTO\",\"SETEMBRO\",\"OUTUBRO\",\"NOVEMBRO\",\"DEZEMBRO\")","v":"OUTUBRO"},{"$f":"YEAR(tbldados[[#This Row],[DATA]])","v":2022}]
[42,"GASTOS","11 DE 12","JUROSAZUL","JUNIOR","GERAL","C6","CREDITO PARCELADO",{"$f":"VLOOKUP(tbldados[[#This Row],[APP]],tblbandeira[],3,0)","v":0},44533,44866,156.07,{"$f":"tbldados[[#This Row],[VALOR PAGO]]+(tbldados[[#This Row],[VALOR PAGO]]*tbldados[[#This Row],[TAXA]])","v":156.07},{"$f":"tbldados[[#This Row],[TOTAL BRUTO]]-tbldados[[#This Row],[VALOR PAGO]]","v":0},{"$f":"CHOOSE(MONTH(tbldados[[#This Row],[DATA]]),\"JANEIRO\",\"FEVEREIRO\",\"MARÇO\",\"ABRIL\",\"MAIO\",\"JUNHO\",\"JULHO\",\"AGOSTO\",\"SETEMBRO\",\"OUTUBRO\",\"NOVEMBRO\",\"DEZEMBRO\")","v":"NOVEMBRO"},{"$f":"YEAR(tbldados[[#This Row],[DATA]])","v":2022}]
[43,"GASTOS","12 DE 12","JUROSAZUL","JUNIOR","GERAL","C6","CREDITO PARCELADO",{"$f":"VLOOKUP(tbldados[[#This Row],[APP]],tblbandeira[],3,0)","v":0},44533,44896,156.07,{"$f":"tbldados[[#This Row],[VALOR PAGO]]+(tbldados[[#This Row],[VALOR PAGO]]*tbldados[[#This Row],[TAXA]])","v":156.07},{"$f":"tbldados[[#This Row],[TOTAL BRUTO]]-tbldados[[#This Row],[VALOR PAGO]]","v":0},{"$f":"CHOOSE(MONTH(tbldados[[#This Row],[DATA]]),\"JANEIRO\",\"FEVEREIRO\",\"MARÇO\",\"ABRIL\",\"MAIO\",\"JUNHO\",\"JULHO\",\"AGOSTO\",\"SETEMBRO\",\"OUTUBRO\",\"NOVEMBRO\",\"DEZEMBRO\")","v":"DEZEMBRO"},{"$f":"YEAR(tbldados[[#This Row],[DATA]])","v":2022}]
[44,"GASTOS","01 DE 01","LANCHE","JUNIOR","GERAL","MELIUZ","CREDITO A VISTA",{"$f":"VLOOKUP(tbldados[[#This Row],[APP]],tblbandeira[],3,0)","v":0},44533,44562,22.28,{"$f":"tbldados[[#This Row],[VALOR PAGO]]+(tbldados[[#This Row],[VALOR PAGO]]*tbldados[[#This Row],[TAXA]])","v":22.28},{"$f":"tbldados[[#This Row],[TOTAL BRUTO]]-tbldados[[#This Row],[VALOR PAGO]]","v":0},{"$f":"CHOOSE(MONTH(tbldados[[#This Row],[DATA]]),\"JANEIRO\",\"FEVEREIRO\",\"MARÇO\",\"ABRIL\",\"MAIO\",\"JUNHO\",\"JULHO\",\"AGOSTO\",\"SETEMBRO\",\"OUTUBRO\",\"NOVEMBRO\",\"DEZEMBRO\")","v":"JANEIRO"},{"$f":"YEAR(tbldados[[#This Row],[DATA]])","v":2022}]
[45,"PGTO","01 DE 01","AZUL","DEZEMBRO","RECARGAPAY","ZERO","CREDITO A VISTA",{"$f":"VLOOKUP(tbldados[[#This Row],[APP]],tblbandeira[],3,0)","v":3.49E-2},44533,44564,1304.3900000000001,{"$f":"tbldados[[#This Row],[VALOR PAGO]]+(tbldados[[#This Row],[VALOR PAGO]]*tbldados[[#This Row],[TAXA]])","v":1349.913211},{"$f":"tbldados[[#This Row],[TOTAL BRUTO]]-tbldados[[#This Row],[VALOR PAGO]]","v":45.523210999999947},{"$f":"CHOOSE(MONTH(tbldados[[#This Row],[DATA]]),\"JANEIRO\",\"FEVEREIRO\",\"MARÇO\",\"ABRIL\",\"MAIO\",\"JUNHO\",\"JULHO\",\"AGOSTO\",\"SETEMBRO\",\"OUTUBRO\",\"NOVEMBRO\",\"DEZEMBRO\")","v":"JANEIRO"},{"$f":"YEAR(tbldados[[#This Row],[DATA]])","v":2022}]
[46,"GASTOS","01 DE 01","PGTOAZUL1","JUNIOR","RECARGAPAY","ZERO","CREDITO A VISTA",{"$f":"VLOOKUP(tbldados[[#This Row],[APP]],tblbandeira[],3,0)","v":3.49E-2},44533,44564,1304.3900000000001,{"$f":"tbldados[[#This Row],[VALOR PAGO]]+(tbldados[[#This Row],[VALOR PAGO]]*tbldados[[#This Row],[TAXA]])","v":1349.913211},{"$f":"tbldados[[#This Row],[TOTAL BRUTO]]-tbldados[[#This Row],[VALOR PAGO]]","v":45.523210999999947},{"$f":"CHOOSE(MONTH(tbldados[[#This Row],[DATA]]),\"JANEIRO\",\"FEVEREIRO\",\"MARÇO\",\"ABRIL\",\"MAIO\",\"JUNHO\",\"JULHO\",\"AGOSTO\",\"SETEMBRO\",\"OUTUBRO\",\"NOVEMBRO\",\"DEZEMBRO\")","v":"JANEIRO"},{"$f":"YEAR(tbldados[[#This Row],[DATA]])","v":2022}]
[47,"PGTO","01 DE 01","AZUL","DEZEMBRO","RECARGAPAY","AZUL","CREDITO A VISTA",{"$f":"VLOOKUP(tbldados[[#This Row],[APP]],tblbandeira[],3,0)","v":3.49E-2},44534,44567,845.61,{"$f":"tbldados[[#This Row],[VALOR PAGO]]+(tbldados[[#This Row],[VALOR PAGO]]*tbldados[[#This Row],[TAXA]])","v":875.12178900000004},{"$f":"tbldados[[#This Row],[TOTAL BRUTO]]-tbldados[[#This Row],[VALOR PAGO]]","v":29.511789000000022},{"$f":"CHOOSE(MONTH(tbldados[[#This Row],[DATA]]),\"JANEIRO\",\"FEVEREIRO\",\"MARÇO\",\"ABRIL\",\"MAIO\",\"JUNHO\",\"JULHO\",\"AGOSTO\",\"SETEMBRO\",\"OUTUBRO\",\"NOVEMBRO\",\"DEZEMBRO\")","v":"JANEIRO"},{"$f":"YEAR(tbldados[[#This Row],[DATA]])","v":2022}]
[48,"GASTOS","01 DE 01","PGTOAZUL2","JUNIOR","RECARGAPAY","AZUL","CREDITO A VISTA",{"$f":"VLOOKUP(tbldados[[#This Row],[APP]],tblbandeira[],3,0)","v":3.49E-2},44534,44567,845.61,{"$f":"tbldados[[#This Row],[VALOR PAGO]]+(tbldados[[#This Row],[VALOR PAGO]]*tbldados[[#This Row],[TAXA]])","v":875.12178900000004},{"$f":"tbldados[[#This Row],[TOTAL BRUTO]]-tbldados[[#This Row],[VALOR PAGO]]","v":29.511789000000022},{"$f":"CHOOSE(MONTH(tbldados[[#This Row],[DATA]]),\"JANEIRO\",\"FEVEREIRO\",\"MARÇO\",\"ABRIL\",\"MAIO\",\"JUNHO\",\"JULHO\",\"AGOSTO\",\"SETEMBRO\",\"OUTUBRO\",\"NOVEMBRO\",\"DEZEMBRO\")","v":"JANEIRO"},{"$f":"YEAR(tbldados[[#This Row],[DATA]])","v":2022}]
[49,"PGTO","01 DE 01","ORIGINAL","DEZEMBRO","GERAL","PAGMAE","CREDITO A VISTA",{"$f":"VLOOKUP(tbldados[[#This Row],[APP]],tblbandeira[],3,0)","v":0},44533,44571,278.07,{"$f":"tbldados[[#This Row],[VALOR PAGO]]+(tbldados[[#This Row],[VALOR PAGO]]*tbldados[[#This Row],[TAXA]])","v":278.07},{"$f":"tbldados[[#This Row],[TOTAL BRUTO]]-tbldados[[#This Row],[VALOR PAGO]]","v":0},{"$f":"CHOOSE(MONTH(tbldados[[#This Row],[DATA]]),\"JANEIRO\",\"FEVEREIRO\",\"MARÇO\",\"ABRIL\",\"MAIO\",\"JUNHO\",\"JULHO\",\"AGOSTO\",\"SETEMBRO\",\"OUTUBRO\",\"NOVEMBRO\",\"DEZEMBRO\")","v":"JANEIRO"},{"$f":"YEAR(tbldados[[#This Row],[DATA]])","v":2022}]
[50,"GASTOS","01 DE 01","PGTOORIGINAL2","JUNIOR","GERAL","PAGMAE","CREDITO A VISTA",{"$f":"VLOOKUP(tbldados[[#This Row],[APP]],tblbandeira[],3,0)","v":0},44533,44571,278.07,{"$f":"tbldados[[#This Row],[VALOR PAGO]]+(tbldados[[#This Row],[VALOR PAGO]]*tbldados[[#This Row],[TAXA]])","v":278.07},{"$f":"tbldados[[#This Row],[TOTAL BRUTO]]-tbldados[[#This Row],[VALOR PAGO]]","v":0},{"$f":"CHOOSE(MONTH(tbldados[[#This Row],[DATA]]),\"JANEIRO\",\"FEVEREIRO\",\"MARÇO\",\"ABRIL\",\"MAIO\",\"JUNHO\",\"JULHO\",\"AGOSTO\",\"SETEMBRO\",\"OUTUBRO\",\"NOVEMBRO\",\"DEZEMBRO\")","v":"JANEIRO"},{"$f":"YEAR(tbldados[[#This Row],[DATA]])","v":2022}]
[51,"PGTO","01 DE 01","NCARD","DEZEMBRO","RECARGAPAY","AZUL","CREDITO A VISTA",{"$f":"VLOOKUP(tbldados[[#This Row],[APP]],tblbandeira[],3,0)","v":3.49E-2},44535,44567,1241.97,{"$f":"tbldados[[#This Row],[VALOR PAGO]]+(tbldados[[#This Row],[VALOR PAGO]]*tbldados[[#This Row],[TAXA]])","v":1285.3147530000001},{"$f":"tbldados[[#This Row],[TOTAL BRUTO]]-tbldados[[#This Row],[VALOR PAGO]]","v":43.344753000000082},{"$f":"CHOOSE(MONTH(tbldados[[#This Row],[DATA]]),\"JANEIRO\",\"FEVEREIRO\",\"MARÇO\",\"ABRIL\",\"MAIO\",\"JUNHO\",\"JULHO\",\"AGOSTO\",\"SETEMBRO\",\"OUTUBRO\",\"NOVEMBRO\",\"DEZEMBRO\")","v":"JANEIRO"},{"$f":"YEAR(tbldados[[#This Row],[DATA]])","v":2022}]
[52,"GASTOS","01 DE 01","PGTONCARD2","JUNIOR","RECARGAPAY","AZUL","CREDITO A VISTA",{"$f":"VLOOKUP(tbldados[[#This Row],[APP]],tblbandeira[],3,0)","v":3.49E-2},44535,44567,1241.97,{"$f":"tbldados[[#This Row],[VALOR PAGO]]+(tbldados[[#This Row],[VALOR PAGO]]*tbldados[[#This Row],[TAXA]])","v":1285.3147530000001},{"$f":"tbldados[[#This Row],[TOTAL BRUTO]]-tbldados[[#This Row],[VALOR PAGO]]","v":43.344753000000082},{"$f":"CHOOSE(MONTH(tbldados[[#This Row],[DATA]]),\"JANEIRO\",\"FEVEREIRO\",\"MARÇO\",\"ABRIL\",\"MAIO\",\"JUNHO\",\"JULHO\",\"AGOSTO\",\"SETEMBRO\",\"OUTUBRO\",\"NOVEMBRO\",\"DEZEMBRO\")","v":"JANEIRO"},{"$f":"YEAR(tbldados[[#This Row],[DATA]])","v":2022}]
[53,"PGTO","01 DE 01","NCARD","DEZEMBRO","RECARGAPAY","NCARD","CREDITO A VISTA",{"$f":"VLOOKUP(tbldados[[#This Row],[APP]],tblbandeira[],3,0)","v":3.49E-2},44536,44570,315.37,{"$f":"tbldados[[#This Row],[VALOR PAGO]]+(tbldados[[#This Row],[VALOR PAGO]]*tbldados[[#This Row],[TAXA]])","v":326.37641300000001},{"$f":"tbldados[[#This Row],[TOTAL BRUTO]]-tbldados[[#This Row],[VALOR PAGO]]","v":11.006413000000009},{"$f":"CHOOSE(MONTH(tbldados[[#This Row],[DATA]]),\"JANEIRO\",\"FEVEREIRO\",\"MARÇO\",\"ABRIL\",\"MAIO\",\"JUNHO\",\"JULHO\",\"AGOSTO\",\"SETEMBRO\",\"OUTUBRO\",\"NOVEMBRO\",\"DEZEMBRO\")","v":"JANEIRO"},{"$f":"YEAR(tbldados[[#This Row],[DATA]])","v":2022}]
[54,"GASTOS","01 DE 01","PGTONCARD3","JUNIOR","RECARGAPAY","NCARD","CREDITO A VISTA",{"$f":"VLOOKUP(tbldados[[#This Row],[APP]],tblbandeira[],3,0)","v":3.49E-2},44536,44570,315.37,{"$f":"tbldados[[#This Row],[VALOR PAGO]]+(tbldados[[#This Row],[VALOR PAGO]]*tbldados[[#This Row],[TAXA]])","v":326.37641300000001},{"$f":"tbldados[[#This Row],[TOTAL BRUTO]]-tbldados[[#This Row],[VALOR PAGO]]","v":11.006413000000009},{"$f":"CHOOSE(MONTH(tbldados[[#This Row],[DATA]]),\"JANEIRO\",\"FEVEREIRO\",\"MARÇO\",\"ABRIL\",\"MAIO\",\"JUNHO\",\"JULHO\",\"AGOSTO\",\"SETEMBRO\",\"OUTUBRO\",\"NOVEMBRO\",\"DEZEMBRO\")","v":"JANEIRO"},{"$f":"YEAR(tbldados[[#This Row],[DATA]])","v":2022}]
[55,"PGTO","01 DE 01","PAGMAE","DEZEMBRO","GERAL","NCARD","CREDITO A VISTA",{"$f":"VLOOKUP(tbldados[[#This Row],[APP]],tblbandeira[],3,0)","v":0},44536,44570,1275.2,{"$f":"tbldados[[#This Row],[VALOR PAGO]]+(tbldados[[#This Row],[VALOR PAGO]]*tbldados[[#This Row],[TAXA]])","v":1275.2},{"$f":"tbldados[[#This Row],[TOTAL BRUTO]]-tbldados[[#This Row],[VALOR PAGO]]","v":0},{"$f":"CHOOSE(MONTH(tbldados[[#This Row],[DATA]]),\"JANEIRO\",\"FEVEREIRO\",\"MARÇO\",\"ABRIL\",\"MAIO\",\"JUNHO\",\"JULHO\",\"AGOSTO\",\"SETEMBRO\",\"OUTUBRO\",\"NOVEMBRO\",\"DEZEMBRO\")","v":"JANEIRO"},{"$f":"YEAR(tbldados[[#This Row],[DATA]])","v":2022}]
[56,"GASTOS","01 DE 01","PGTOPAGMAE1","JUNIOR","GERAL","NCARD","CREDITO A VISTA",{"$f":"VLOOKUP(tbldados[[#This Row],[APP]],tblbandeira[],3,0)","v":0},44536,44570,1275.2,{"$f":"tbldados[[#This Row],[VALOR PAGO]]+(tbldados[[#This Row],[VALOR PAGO]]*tbldados[[#This Row],[TAXA]])","v":1275.2},{"$f":"tbldados[[#This Row],[TOTAL BRUTO]]-tbldados[[#This Row],[VALOR PAGO]]","v":0},{"$f":"CHOOSE(MONTH(tbldados[[#This Row],[DATA]]),\"JANEIRO\",\"FEVEREIRO\",\"MARÇO\",\"ABRIL\",\"MAIO\",\"JUNHO\",\"JULHO\",\"AGOSTO\",\"SETEMBRO\",\"OUTUBRO\",\"NOVEMBRO\",\"DEZEMBRO\")","v":"JANEIRO"},{"$f":"YEAR(tbldados[[#This Row],[DATA]])","v":2022}]
[57,"PGTO","01 DE 01","PAGMAE","DEZEMBRO","GERAL","C6MAE","CREDITO A VISTA",{"$f":"VLOOKUP(tbldados[[#This Row],[APP]],tblbandeira[],3,0)","v":0},44536,44566,110,{"$f":"tbldados[[#This Row],[VALOR PAGO]]+(tbldados[[#This Row],[VALOR PAGO]]*tbldados[[#This Row],[TAXA]])","v":110},{"$f":"tbldados[[#This Row],[TOTAL BRUTO]]-tbldados[[#This Row],[VALOR PAGO]]","v":0},{"$f":"CHOOSE(MONTH(tbldados[[#This Row],[DATA]]),\"JANEIRO\",\"FEVEREIRO\",\"MARÇO\",\"ABRIL\",\"MAIO\",\"JUNHO\",\"JULHO\",\"AGOSTO\",\"SETEMBRO\",\"OUTUBRO\",\"NOVEMBRO\",\"DEZEMBRO\")","v":"JANEIRO"},{"$f":"YEAR(tbldados[[#This Row],[DATA]])","v":2022}]
[58,"PGTO","01 DE 01","PAGMAE","DEZEMBRO","RECARGAPAY","PAGMAE","CREDITO A VISTA",{"$f":"VLOOKUP(tbldados[[#This Row],[APP]],tblbandeira[],3,0)","v":3.49E-2},44537,44571,1275,{"$f":"tbldados[[#This Row],[VALOR PAGO]]+(tbldados[[#This Row],[VALOR PAGO]]*tbldados[[#This Row],[TAXA]])","v":1319.4974999999999},{"$f":"tbldados[[#This Row],[TOTAL BRUTO]]-tbldados[[#This Row],[VALOR PAGO]]","v":44.497499999999945},{"$f":"CHOOSE(MONTH(tbldados[[#This Row],[DATA]]),\"JANEIRO\",\"FEVEREIRO\",\"MARÇO\",\"ABRIL\",\"MAIO\",\"JUNHO\",\"JULHO\",\"AGOSTO\",\"SETEMBRO\",\"OUTUBRO\",\"NOVEMBRO\",\"DEZEMBRO\")","v":"JANEIRO"},{"$f":"YEAR(tbldados[[#This Row],[DATA]])","v":2022}]
[59,"GASTOS","01 DE 01","PGTOPAGMAE4","JUNIOR","RECARGAPAY","PAGMAE","CREDITO A VISTA",{"$f":"VLOOKUP(tbldados[[#This Row],[APP]],tblbandeira[],3,0)","v":3.49E-2},44537,44571,1275,{"$f":"tbldados[[#This Row],[VALOR PAGO]]+(tbldados[[#This Row],[VALOR PAGO]]*tbldados[[#This Row],[TAXA]])","v":1319.4974999999999},{"$f":"tbldados[[#This Row],[TOTAL BRUTO]]-tbldados[[#This Row],[VALOR PAGO]]","v":44.497499999999945},{"$f":"CHOOSE(MONTH(tbldados[[#This Row],[DATA]]),\"JANEIRO\",\"FEVEREIRO\",\"MARÇO\",\"ABRIL\",\"MAIO\",\"JUNHO\",\"JULHO\",\"AGOSTO\",\"SETEMBRO\",\"OUTUBRO\",\"NOVEMBRO\",\"DEZEMBRO\")","v":"JANEIRO"},{"$f":"YEAR(tbldados[[#This Row],[DATA]])","v":2022}]
[60,"GASTOS","01 DE 12","FONE","JUNIOR","GERAL","C6","CREDITO PARCELADO",{"$f":"VLOOKUP(tbldados[[#This Row],[APP]],tblbandeira[],3,0)","v":0},44537,44562,34.89,{"$f":"tbldados[[#This Row],[VALOR PAGO]]+(tbldados[[#This Row],[VALOR PAGO]]*tbldados[[#This Row],[TAXA]])","v":34.89},{"$f":"tbldados[[#This Row],[TOTAL BRUTO]]-tbldados[[#This Row],[VALOR PAGO]]","v":0},{"$f":"CHOOSE(MONTH(tbldados[[#This Row],[DATA]]),\"JANEIRO\",\"FEVEREIRO\",\"MARÇO\",\"ABRIL\",\"MAIO\",\"JUNHO\",\"JULHO\",\"AGOSTO\",\"SETEMBRO\",\"OUTUBRO\",\"NOVEMBRO\",\"DEZEMBRO\")","v":"JANEIRO"},{"$f":"YEAR(tbldados[[#This Row],[DATA]])","v":2022}]
[61,"GASTOS","02 DE 12","FONE","JUNIOR","GERAL","C6","CREDITO PARCELADO",{"$f":"VLOOKUP(tbldados[[#This Row],[APP]],tblbandeira[],3,0)","v":0},44537,44593,34.89,{"$f":"tbldados[[#This Row],[VALOR PAGO]]+(tbldados[[#This Row],[VALOR PAGO]]*tbldados[[#This Row],[TAXA]])","v":34.89},{"$f":"tbldados[[#This Row],[TOTAL BRUTO]]-tbldados[[#This Row],[VALOR PAGO]]","v":0},{"$f":"CHOOSE(MONTH(tbldados[[#This Row],[DATA]]),\"JANEIRO\",\"FEVEREIRO\",\"MARÇO\",\"ABRIL\",\"MAIO\",\"JUNHO\",\"JULHO\",\"AGOSTO\",\"SETEMBRO\",\"OUTUBRO\",\"NOVEMBRO\",\"DEZEMBRO\")","v":"FEVEREIRO"},{"$f":"YEAR(tbldados[[#This Row],[DATA]])","v":2022}]
[62,"GASTOS","03 DE 12","FONE","JUNIOR","GERAL","C6","CREDITO PARCELADO",{"$f":"VLOOKUP(tbldados[[#This Row],[APP]],tblbandeira[],3,0)","v":0},44537,44621,34.89,{"$f":"tbldados[[#This Row],[VALOR PAGO]]+(tbldados[[#This Row],[VALOR PAGO]]*tbldados[[#This Row],[TAXA]])","v":34.89},{"$f":"tbldados[[#This Row],[TOTAL BRUTO]]-tbldados[[#This Row],[VALOR PAGO]]","v":0},{"$f":"CHOOSE(MONTH(tbldados[[#This Row],[DATA]]),\"JANEIRO\",\"FEVEREIRO\",\"MARÇO\",\"ABRIL\",\"MAIO\",\"JUNHO\",\"JULHO\",\"AGOSTO\",\"SETEMBRO\",\"OUTUBRO\",\"NOVEMBRO\",\"DEZEMBRO\")","v":"MARÇO"},{"$f":"YEAR(tbldados[[#This Row],[DATA]])","v":2022}]
[63,"GASTOS","04 DE 12","FONE","JUNIOR","GERAL","C6","CREDITO PARCELADO",{"$f":"VLOOKUP(tbldados[[#This Row],[APP]],tblbandeira[],3,0)","v":0},44537,44652,34.89,{"$f":"tbldados[[#This Row],[VALOR PAGO]]+(tbldados[[#This Row],[VALOR PAGO]]*tbldados[[#This Row],[TAXA]])","v":34.89},{"$f":"tbldados[[#This Row],[TOTAL BRUTO]]-tbldados[[#This Row],[VALOR PAGO]]","v":0},{"$f":"CHOOSE(MONTH(tbldados[[#This Row],[DATA]]),\"JANEIRO\",\"FEVEREIRO\",\"MARÇO\",\"ABRIL\",\"MAIO\",\"JUNHO\",\"JULHO\",\"AGOSTO\",\"SETEMBRO\",\"OUTUBRO\",\"NOVEMBRO\",\"DEZEMBRO\")","v":"ABRIL"},{"$f":"YEAR(tbldados[[#This Row],[DATA]])","v":2022}]
[64,"GASTOS","05 DE 12","FONE","JUNIOR","GERAL","C6","CREDITO PARCELADO",{"$f":"VLOOKUP(tbldados[[#This Row],[APP]],tblbandeira[],3,0)","v":0},44537,44682,34.89,{"$f":"tbldados[[#This Row],[VALOR PAGO]]+(tbldados[[#This Row],[VALOR PAGO]]*tbldados[[#This Row],[TAXA]])","v":34.89},{"$f":"tbldados[[#This Row],[TOTAL BRUTO]]-tbldados[[#This Row],[VALOR PAGO]]","v":0},{"$f":"CHOOSE(MONTH(tbldados[[#This Row],[DATA]]),\"JANEIRO\",\"FEVEREIRO\",\"MARÇO\",\"ABRIL\",\"MAIO\",\"JUNHO\",\"JULHO\",\"AGOSTO\",\"SETEMBRO\",\"OUTUBRO\",\"NOVEMBRO\",\"DEZEMBRO\")","v":"MAIO"},{"$f":"YEAR(tbldados[[#This Row],[DATA]])","v":2022}]
[65,"GASTOS","06 DE 12","FONE","JUNIOR","GERAL","C6","CREDITO PARCELADO",{"$f":"VLOOKUP(tbldados[[#This Row],[APP]],tblbandeira[],3,0)","v":0},44537,44713,34.89,{"$f":"tbldados[[#This Row],[VALOR PAGO]]+(tbldados[[#This Row],[VALOR PAGO]]*tbldados[[#This Row],[TAXA]])","v":34.89},{"$f":"tbldados[[#This Row],[TOTAL BRUTO]]-tbldados[[#This Row],[VALOR PAGO]]","v":0},{"$f":"CHOOSE(MONTH(tbldados[[#This Row],[DATA]]),\"JANEIRO\",\"FEVEREIRO\",\"MARÇO\",\"ABRIL\",\"MAIO\",\"JUNHO\",\"JULHO\",\"AGOSTO\",\"SETEMBRO\",\"OUTUBRO\",\"NOVEMBRO\",\"DEZEMBRO\")","v":"JUNHO"},{"$f":"YEAR(tbldados[[#This Row],[DATA]])","v":2022}]
[66,"GASTOS","07 DE 12","FONE","JUNIOR","GERAL","C6","CREDITO PARCELADO",{"$f":"VLOOKUP(tbldados[[#This Row],[APP]],tblbandeira[],3,0)","v":0},44537,44743,34.89,{"$f":"tbldados[[#This Row],[VALOR PAGO]]+(tbldados[[#This Row],[VALOR PAGO]]*tbldados[[#This Row],[TAXA]])","v":34.89},{"$f":"tbldados[[#This Row],[TOTAL BRUTO]]-tbldados[[#This Row],[VALOR PAGO]]","v":0},{"$f":"CHOOSE(MONTH(tbldados[[#This Row],[DATA]]),\"JANEIRO\",\"FEVEREIRO\",\"MARÇO\",\"ABRIL\",\"MAIO\",\"JUNHO\",\"JULHO\",\"AGOSTO\",\"SETEMBRO\",\"OUTUBRO\",\"NOVEMBRO\",\"DEZEMBRO\")","v":"JULHO"},{"$f":"YEAR(tbldados[[#This Row],[DATA]])","v":2022}]
[67,"GASTOS","08 DE 12","FONE","JUNIOR","GERAL","C6","CREDITO PARCELADO",{"$f":"VLOOKUP(tbldados[[#This Row],[APP]],tblbandeira[],3,0)","v":0},44537,44774,34.89,{"$f":"tbldados[[#This Row],[VALOR PAGO]]+(tbldados[[#This Row],[VALOR PAGO]]*tbldados[[#This Row],[TAXA]])","v":34.89},{"$f":"tbldados[[#This Row],[TOTAL BRUTO]]-tbldados[[#This Row],[VALOR PAGO]]","v":0},{"$f":"CHOOSE(MONTH(tbldados[[#This Row],[DATA]]),\"JANEIRO\",\"FEVEREIRO\",\"MARÇO\",\"ABRIL\",\"MAIO\",\"JUNHO\",\"JULHO\",\"AGOSTO\",\"SETEMBRO\",\"OUTUBRO\",\"NOVEMBRO\",\"DEZEMBRO\")","v":"AGOSTO"},{"$f":"YEAR(tbldados[[#This Row],[DATA]])","v":2022}]
[68,"GASTOS","09 DE 12","FONE","JUNIOR","GERAL","C6","CREDITO PARCELADO",{"$f":"VLOOKUP(tbldados[[#This Row],[APP]],tblbandeira[],3,0)","v":0},44537,44805,34.89,{"$f":"tbldados[[#This Row],[VALOR PAGO]]+(tbldados[[#This Row],[VALOR PAGO]]*tbldados[[#This Row],[TAXA]])","v":34.89},{"$f":"tbldados[[#This Row],[TOTAL BRUTO]]-tbldados[[#This Row],[VALOR PAGO]]","v":0},{"$f":"CHOOSE(MONTH(tbldados[[#This Row],[DATA]]),\"JANEIRO\",\"FEVEREIRO\",\"MARÇO\",\"ABRIL\",\"MAIO\",\"JUNHO\",\"JULHO\",\"AGOSTO\",\"SETEMBRO\",\"OUTUBRO\",\"NOVEMBRO\",\"DEZEMBRO\")","v":"SETEMBRO"},{"$f":"YEAR(tbldados[[#This Row],[DATA]])","v":2022}]
[69,"GASTOS","10 DE 12","FONE","JUNIOR","GERAL","C6","CREDITO PARCELADO",{"$f":"VLOOKUP(tbldados[[#This Row],[APP]],tblbandeira[],3,0)","v":0},44537,44835,34.89,{"$f":"tbldados[[#This Row],[VALOR PAGO]]+(tbldados[[#This Row],[VALOR PAGO]]*tbldados[[#This Row],[TAXA]])","v":34.89},{"$f":"tbldados[[#This Row],[TOTAL BRUTO]]-tbldados[[#This Row],[VALOR PAGO]]","v":0},{"$f":"CHOOSE(MONTH(tbldados[[#This Row],[DATA]]),\"JANEIRO\",\"FEVEREIRO\",\"MARÇO\",\"ABRIL\",\"MAIO\",\"JUNHO\",\"JULHO\",\"AGOSTO\",\"SETEMBRO\",\"OUTUBRO\",\"NOVEMBRO\",\"DEZEMBRO\")","v":"OUTUBRO"},{"$f":"YEAR(tbldados[[#This Row],[DATA]])","v":2022}]
[70,"GASTOS","11 DE 12","FONE","JUNIOR","GERAL","C6","CREDITO PARCELADO",{"$f":"VLOOKUP(tbldados[[#This Row],[APP]],tblbandeira[],3,0)","v":0},44537,44866,34.89,{"$f":"tbldados[[#This Row],[VALOR PAGO]]+(tbldados[[#This Row],[VALOR PAGO]]*tbldados[[#This Row],[TAXA]])","v":34.89},{"$f":"tbldados[[#This Row],[TOTAL BRUTO]]-tbldados[[#This Row],[VALOR PAGO]]","v":0},{"$f":"CHOOSE(MONTH(tbldados[[#This Row],[DATA]]),\"JANEIRO\",\"FEVEREIRO\",\"MARÇO\",\"ABRIL\",\"MAIO\",\"JUNHO\",\"JULHO\",\"AGOSTO\",\"SETEMBRO\",\"OUTUBRO\",\"NOVEMBRO\",\"DEZEMBRO\")","v":"NOVEMBRO"},{"$f":"YEAR(tbldados[[#This Row],[DATA]])","v":2022}]
[71,"GASTOS","12 DE 12","FONE","JUNIOR","GERAL","C6","CREDITO PARCELADO",{"$f":"VLOOKUP(tbldados[[#This Row],[APP]],tblbandeira[],3,0)","v":0},44537,44896,34.89,{"$f":"tbldados[[#This Row],[VALOR PAGO]]+(tbldados[[#This Row],[VALOR PAGO]]*tbldados[[#This Row],[TAXA]])","v":34.89},{"$f":"tbldados[[#This Row],[TOTAL BRUTO]]-tbldados[[#This Row],[VALOR PAGO]]","v":0},{"$f":"CHOOSE(MONTH(tbldados[[#This Row],[DATA]]),\"JANEIRO\",\"FEVEREIRO\",\"MARÇO\",\"ABRIL\",\"MAIO\",\"JUNHO\",\"JULHO\",\"AGOSTO\",\"SETEMBRO\",\"OUTUBRO\",\"NOVEMBRO\",\"DEZEMBRO\")","v":"DEZEMBRO"},{"$f":"YEAR(tbldados[[#This Row],[DATA]])","v":2022}]
[72,"GASTOS","01 DE 01","TIM","JUNIOR","GERAL","PAGMAE","CREDITO A VISTA",{"$f":"VLOOKUP(tbldados[[#This Row],[APP]],tblbandeira[],3,0)","v":0},44538,44571,10,{"$f":"tbldados[[#This Row],[VALOR PAGO]]+(tbldados[[#This Row],[VALOR PAGO]]*tbldados[[#This Row],[TAXA]])","v":10},{"$f":"tbldados[[#This Row],[TOTAL BRUTO]]-tbldados[[#This Row],[VALOR PAGO]]","v":0},{"$f":"CHOOSE(MONTH(tbldados[[#This Row],[DATA]]),\"JANEIRO\",\"FEVEREIRO\",\"MARÇO\",\"ABRIL\",\"MAIO\",\"JUNHO\",\"JULHO\",\"AGOSTO\",\"SETEMBRO\",\"OUTUBRO\",\"NOVEMBRO\",\"DEZEMBRO\")","v":"JANEIRO"},{"$f":"YEAR(tbldados[[#This Row],[DATA]])","v":2022}]
[73,"PGTO","01 DE 01","PAGMAE","DEZEMBRO","RECARGAPAY","PAGMAE","CREDITO A VISTA",{"$f":"VLOOKUP(tbldados[[#This Row],[APP]],tblbandeira[],3,0)","v":3.49E-2},44539,44571,1344.84,{"$f":"tbldados[[#This Row],[VALOR PAGO]]+(tbldados[[#This Row],[VALOR PAGO]]*tbldados[[#This Row],[TAXA]])","v":1391.7749159999998},{"$f":"tbldados[[#This Row],[TOTAL BRUTO]]-tbldados[[#This Row],[VALOR PAGO]]","v":46.93491599999993},{"$f":"CHOOSE(MONTH(tbldados[[#This Row],[DATA]]),\"JANEIRO\",\"FEVEREIRO\",\"MARÇO\",\"ABRIL\",\"MAIO\",\"JUNHO\",\"JULHO\",\"AGOSTO\",\"SETEMBRO\",\"OUTUBRO\",\"NOVEMBRO\",\"DEZEMBRO\")","v":"JANEIRO"},{"$f":"YEAR(tbldados[[#This Row],[DATA]])","v":2022}]
[74,"GASTOS","01 DE 01","PGTOPAGMAE","JUNIOR","RECARGAPAY","PAGMAE","CREDITO A VISTA",{"$f":"VLOOKUP(tbldados[[#This Row],[APP]],tblbandeira[],3,0)","v":3.49E-2},44539,44571,1344.84,{"$f":"tbldados[[#This Row],[VALOR PAGO]]+(tbldados[[#This Row],[VALOR PAGO]]*tbldados[[#This Row],[TAXA]])","v":1391.7749159999998},{"$f":"tbldados[[#This Row],[TOTAL BRUTO]]-tbldados[[#This Row],[VALOR PAGO]]","v":46.93491599999993},{"$f":"CHOOSE(MONTH(tbldados[[#This Row],[DATA]]),\"JANEIRO\",\"FEVEREIRO\",\"MARÇO\",\"ABRIL\",\"MAIO\",\"JUNHO\",\"JULHO\",\"AGOSTO\",\"SETEMBRO\",\"OUTUBRO\",\"NOVEMBRO\",\"DEZEMBRO\")","v":"JANEIRO"},{"$f":"YEAR(tbldados[[#This Row],[DATA]])","v":2022}]
[75,"PGTO","01 DE 01","PAGMAE","DEZEMBRO","RECARGAPAY","PAGMAE","CREDITO A VISTA",{"$f":"VLOOKUP(tbldados[[#This Row],[APP]],tblbandeira[],3,0)","v":3.49E-2},44539,44571,1289.83,{"$f":"tbldados[[#This Row],[VALOR PAGO]]+(tbldados[[#This Row],[VALOR PAGO]]*tbldados[[#This Row],[TAXA]])","v":1334.845067},{"$f":"tbldados[[#This Row],[TOTAL BRUTO]]-tbldados[[#This Row],[VALOR PAGO]]","v":45.015067000000045},{"$f":"CHOOSE(MONTH(tbldados[[#This Row],[DATA]]),\"JANEIRO\",\"FEVEREIRO\",\"MARÇO\",\"ABRIL\",\"MAIO\",\"JUNHO\",\"JULHO\",\"AGOSTO\",\"SETEMBRO\",\"OUTUBRO\",\"NOVEMBRO\",\"DEZEMBRO\")","v":"JANEIRO"},{"$f":"YEAR(tbldados[[#This Row],[DATA]])","v":2022}]
[76,"GASTOS","01 DE 01","PGTOPAGMAE","JUNIOR","RECARGAPAY","PAGMAE","CREDITO A VISTA",{"$f":"VLOOKUP(tbldados[[#This Row],[APP]],tblbandeira[],3,0)","v":3.49E-2},44539,44571,1289.83,{"$f":"tbldados[[#This Row],[VALOR PAGO]]+(tbldados[[#This Row],[VALOR PAGO]]*tbldados[[#This Row],[TAXA]])","v":1334.845067},{"$f":"tbldados[[#This Row],[TOTAL BRUTO]]-tbldados[[#This Row],[VALOR PAGO]]","v":45.015067000000045},{"$f":"CHOOSE(MONTH(tbldados[[#This Row],[DATA]]),\"JANEIRO\",\"FEVEREIRO\",\"MARÇO\",\"ABRIL\",\"MAIO\",\"JUNHO\",\"JULHO\",\"AGOSTO\",\"SETEMBRO\",\"OUTUBRO\",\"NOVEMBRO\",\"DEZEMBRO\")","v":"JANEIRO"},{"$f":"YEAR(tbldados[[#This Row],[DATA]])","v":2022}]
[77,"PGTO","01 DE 01","TRIGMAE","DEZEMBRO","RECARGAPAY","PAGMAE","CREDITO A VISTA",{"$f":"VLOOKUP(tbldados[[#This Row],[APP]],tblbandeira[],3,0)","v":3.49E-2},44539,44571,410.9,{"$f":"tbldados[[#This Row],[VALOR PAGO]]+(tbldados[[#This Row],[VALOR PAGO]]*tbldados[[#This Row],[TAXA]])","v":425.24041},{"$f":"tbldados[[#This Row],[TOTAL BRUTO]]-tbldados[[#This Row],[VALOR PAGO]]","v":14.34041000000002},{"$f":"CHOOSE(MONTH(tbldados[[#This Row],[DATA]]),\"JANEIRO\",\"FEVEREIRO\",\"MARÇO\",\"ABRIL\",\"MAIO\",\"JUNHO\",\"JULHO\",\"AGOSTO\",\"SETEMBRO\",\"OUTUBRO\",\"NOVEMBRO\",\"DEZEMBRO\")","v":"JANEIRO"},{"$f":"YEAR(tbldados[[#This Row],[DATA]])","v":2022}]
[78,"GASTOS","01 DE 01","PGTOTRIGMAE","JUNIOR","RECARGAPAY","PAGMAE","CREDITO A VISTA",{"$f":"VLOOKUP(tbldados[[#This Row],[APP]],tblbandeira[],3,0)","v":3.49E-2},44539,44571,410.9,{"$f":"tbldados[[#This Row],[VALOR PAGO]]+(tbldados[[#This Row],[VALOR PAGO]]*tbldados[[#This Row],[TAXA]])","v":425.24041},{"$f":"tbldados[[#This Row],[TOTAL BRUTO]]-tbldados[[#This Row],[VALOR PAGO]]","v":14.34041000000002},{"$f":"CHOOSE(MONTH(tbldados[[#This Row],[DATA]]),\"JANEIRO\",\"FEVEREIRO\",\"MARÇO\",\"ABRIL\",\"MAIO\",\"JUNHO\",\"JULHO\",\"AGOSTO\",\"SETEMBRO\",\"OUTUBRO\",\"NOVEMBRO\",\"DEZEMBRO\")","v":"JANEIRO"},{"$f":"YEAR(tbldados[[#This Row],[DATA]])","v":2022}]
[79,"PGTO","01 DE 01","NUBANK","DEZEMBRO","RECARGAPAY","PAGMAE","CREDITO A VISTA",{"$f":"VLOOKUP(tbldados[[#This Row],[APP]],tblbandeira[],3,0)","v":3.49E-2},44539,44571,1225.53,{"$f":"tbldados[[#This Row],[VALOR PAGO]]+(tbldados[[#This Row],[VALOR PAGO]]*tbldados[[#This Row],[TAXA]])","v":1268.3009970000001},{"$f":"tbldados[[#This Row],[TOTAL BRUTO]]-tbldados[[#This Row],[VALOR PAGO]]","v":42.770997000000079},{"$f":"CHOOSE(MONTH(tbldados[[#This Row],[DATA]]),\"JANEIRO\",\"FEVEREIRO\",\"MARÇO\",\"ABRIL\",\"MAIO\",\"JUNHO\",\"JULHO\",\"AGOSTO\",\"SETEMBRO\",\"OUTUBRO\",\"NOVEMBRO\",\"DEZEMBRO\")","v":"JANEIRO"},{"$f":"YEAR(tbldados[[#This Row],[DATA]])","v":2022}]
[80,"GASTOS","01 DE 01","PGTONUBANK","JUNIOR","RECARGAPAY","PAGMAE","CREDITO A VISTA",{"$f":"VLOOKUP(tbldados[[#This Row],[APP]],tblbandeira[],3,0)","v":3.49E-2},44539,44571,1225.53,{"$f":"tbldados[[#This Row],[VALOR PAGO]]+(tbldados[[#This Row],[VALOR PAGO]]*tbldados[[#This Row],[TAXA]])","v":1268.3009970000001},{"$f":"tbldados[[#This Row],[TOTAL BRUTO]]-tbldados[[#This Row],[VALOR PAGO]]","v":42.770997000000079},{"$f":"CHOOSE(MONTH(tbldados[[#This Row],[DATA]]),\"JANEIRO\",\"FEVEREIRO\",\"MARÇO\",\"ABRIL\",\"MAIO\",\"JUNHO\",\"JULHO\",\"AGOSTO\",\"SETEMBRO\",\"OUTUBRO\",\"NOVEMBRO\",\"DEZEMBRO\")","v":"JANEIRO"},{"$f":"YEAR(tbldados[[#This Row],[DATA]])","v":2022}]
[81,"PGTO","01 DE 01","NUBANK","DEZEMBRO","RECARGAPAY","NUBANK","CREDITO A VISTA",{"$f":"VLOOKUP(tbldados[[#This Row],[APP]],tblbandeira[],3,0)","v":3.49E-2},44540,44574,1080,{"$f":"tbldados[[#This Row],[VALOR PAGO]]+(tbldados[[#This Row],[VALOR PAGO]]*tbldados[[#This Row],[TAXA]])","v":1117.692},{"$f":"tbldados[[#This Row],[TOTAL BRUTO]]-tbldados[[#This Row],[VALOR PAGO]]","v":37.692000000000007},{"$f":"CHOOSE(MONTH(tbldados[[#This Row],[DATA]]),\"JANEIRO\",\"FEVEREIRO\",\"MARÇO\",\"ABRIL\",\"MAIO\",\"JUNHO\",\"JULHO\",\"AGOSTO\",\"SETEMBRO\",\"OUTUBRO\",\"NOVEMBRO\",\"DEZEMBRO\")","v":"JANEIRO"},{"$f":"YEAR(tbldados[[#This Row],[DATA]])","v":2022}]
[82,"GASTOS","01 DE 01","PGTONUBANK","JUNIOR","RECARGAPAY","NUBANK","CREDITO A VISTA",{"$f":"VLOOKUP(tbldados[[#This Row],[APP]],tblbandeira[],3,0)","v":3.49E-2},44540,44574,1080,{"$f":"tbldados[[#This Row],[VALOR PAGO]]+(tbldados[[#This Row],[VALOR PAGO]]*tbldados[[#This Row],[TAXA]])","v":1117.692},{"$f":"tbldados[[#This Row],[TOTAL BRUTO]]-tbldados[[#This Row],[VALOR PAGO]]","v":37.692000000000007},{"$f":"CHOOSE(MONTH(tbldados[[#This Row],[DATA]]),\"JANEIRO\",\"FEVEREIRO\",\"MARÇO\",\"ABRIL\",\"MAIO\",\"JUNHO\",\"JULHO\",\"AGOSTO\",\"SETEMBRO\",\"OUTUBRO\",\"NOVEMBRO\",\"DEZEMBRO\")","v":"JANEIRO"},{"$f":"YEAR(tbldados[[#This Row],[DATA]])","v":2022}]
[83,"PGTO","01 DE 01","NUBANK","DEZEMBRO","RECARGAPAY","NUBANK","CREDITO A VISTA",{"$f":"VLOOKUP(tbldados[[#This Row],[APP]],tblbandeira[],3,0)","v":3.49E-2},44540,44574,1080,{"$f":"tbldados[[#This Row],[VALOR PAGO]]+(tbldados[[#This Row],[VALOR PAGO]]*tbldados[[#This Row],[TAXA]])","v":1117.692},{"$f":"tbldados[[#This Row],[TOTAL BRUTO]]-tbldados[[#This Row],[VALOR PAGO]]","v":37.692000000000007},{"$f":"CHOOSE(MONTH(tbldados[[#This Row],[DATA]]),\"JANEIRO\",\"FEVEREIRO\",\"MARÇO\",\"ABRIL\",\"MAIO\",\"JUNHO\",\"JULHO\",\"AGOSTO\",\"SETEMBRO\",\"OUTUBRO\",\"NOVEMBRO\",\"DEZEMBRO\")","v":"JANEIRO"},{"$f":"YEAR(tbldados[[#This Row],[DATA]])","v":2022}]
[84,"GASTOS","01 DE 01","PGTONUBANK","JUNIOR","RECARGAPAY","NUBANK","CREDITO A VISTA",{"$f":"VLOOKUP(tbldados[[#This Row],[APP]],tblbandeira[],3,0)","v":3.49E-2},44540,44574,1080,{"$f":"tbldados[[#This Row],[VALOR PAGO]]+(tbldados[[#This Row],[VALOR PAGO]]*tbldados[[#This Row],[TAXA]])","v":1117.692},{"$f":"tbldados[[#This Row],[TOTAL BRUTO]]-tbldados[[#This Row],[VALOR PAGO]]","v":37.692000000000007},{"$f":"CHOOSE(MONTH(tbldados[[#This Row],[DATA]]),\"JANEIRO\",\"FEVEREIRO\",\"MARÇO\",\"ABRIL\",\"MAIO\",\"JUNHO\",\"JULHO\",\"AGOSTO\",\"SETEMBRO\",\"OUTUBRO\",\"NOVEMBRO\",\"DEZEMBRO\")","v":"JANEIRO"},{"$f":"YEAR(tbldados[[#This Row],[DATA]])","v":2022}]
[85,"GASTOS","01 DE 01","JANTA","JUNIOR","GERAL","NUBANK","CREDITO A VISTA",{"$f":"VLOOKUP(tbldados[[#This Row],[APP]],tblbandeira[],3,0)","v":0},44538,44574,27,{"$f":"tbldados[[#This Row],[VALOR PAGO]]+(tbldados[[#This Row],[VALOR PAGO]]*tbldados[[#This Row],[TAXA]])","v":27},{"$f":"tbldados[[#This Row],[TOTAL BRUTO]]-tbldados[[#This Row],[VALOR PAGO]]","v":0},{"$f":"CHOOSE(MONTH(tbldados[[#This Row],[DATA]]),\"JANEIRO\",\"FEVEREIRO\",\"MARÇO\",\"ABRIL\",\"MAIO\",\"JUNHO\",\"JULHO\",\"AGOSTO\",\"SETEMBRO\",\"OUTUBRO\",\"NOVEMBRO\",\"DEZEMBRO\")","v":"JANEIRO"},{"$f":"YEAR(tbldados[[#This Row],[DATA]])","v":2022}]
[86,"GASTOS","01 DE 01","ALMOÇO","JUNIOR","GERAL","NUBANK","CREDITO A VISTA",{"$f":"VLOOKUP(tbldados[[#This Row],[APP]],tblbandeira[],3,0)","v":0},44544,44574,21,{"$f":"tbldados[[#This Row],[VALOR PAGO]]+(tbldados[[#This Row],[VALOR PAGO]]*tbldados[[#This Row],[TAXA]])","v":21},{"$f":"tbldados[[#This Row],[TOTAL BRUTO]]-tbldados[[#This Row],[VALOR PAGO]]","v":0},{"$f":"CHOOSE(MONTH(tbldados[[#This Row],[DATA]]),\"JANEIRO\",\"FEVEREIRO\",\"MARÇO\",\"ABRIL\",\"MAIO\",\"JUNHO\",\"JULHO\",\"AGOSTO\",\"SETEMBRO\",\"OUTUBRO\",\"NOVEMBRO\",\"DEZEMBRO\")","v":"JANEIRO"},{"$f":"YEAR(tbldados[[#This Row],[DATA]])","v":2022}]
[87,"GASTOS","01 DE 01","ALMOÇO","JUNIOR","GERAL","PAN","CREDITO A VISTA",{"$f":"VLOOKUP(tbldados[[#This Row],[APP]],tblbandeira[],3,0)","v":0},44543,44574,25.98,{"$f":"tbldados[[#This Row],[VALOR PAGO]]+(tbldados[[#This Row],[VALOR PAGO]]*tbldados[[#This Row],[TAXA]])","v":25.98},{"$f":"tbldados[[#This Row],[TOTAL BRUTO]]-tbldados[[#This Row],[VALOR PAGO]]","v":0},{"$f":"CHOOSE(MONTH(tbldados[[#This Row],[DATA]]),\"JANEIRO\",\"FEVEREIRO\",\"MARÇO\",\"ABRIL\",\"MAIO\",\"JUNHO\",\"JULHO\",\"AGOSTO\",\"SETEMBRO\",\"OUTUBRO\",\"NOVEMBRO\",\"DEZEMBRO\")","v":"JANEIRO"},{"$f":"YEAR(tbldados[[#This Row],[DATA]])","v":2022}]
[88,"PGTO","01 DE 01","PAN","DEZEMBRO","RECARGAPAY","TRIGMAE","CREDITO A VISTA",{"$f":"VLOOKUP(tbldados[[#This Row],[APP]],tblbandeira[],3,0)","v":3.49E-2},44543,44581,447.92,{"$f":"tbldados[[#This Row],[VALOR PAGO]]+(tbldados[[#This Row],[VALOR PAGO]]*tbldados[[#This Row],[TAXA]])","v":463.55240800000001},{"$f":"tbldados[[#This Row],[TOTAL BRUTO]]-tbldados[[#This Row],[VALOR PAGO]]","v":15.632407999999998},{"$f":"CHOOSE(MONTH(tbldados[[#This Row],[DATA]]),\"JANEIRO\",\"FEVEREIRO\",\"MARÇO\",\"ABRIL\",\"MAIO\",\"JUNHO\",\"JULHO\",\"AGOSTO\",\"SETEMBRO\",\"OUTUBRO\",\"NOVEMBRO\",\"DEZEMBRO\")","v":"JANEIRO"},{"$f":"YEAR(tbldados[[#This Row],[DATA]])","v":2022}]
[89,"GASTOS","01 DE 01","PGTOPAN","DEZEMBRO","RECARGAPAY","TRIGMAE","CREDITO A VISTA",{"$f":"VLOOKUP(tbldados[[#This Row],[APP]],tblbandeira[],3,0)","v":3.49E-2},44543,44581,447.92,{"$f":"tbldados[[#This Row],[VALOR PAGO]]+(tbldados[[#This Row],[VALOR PAGO]]*tbldados[[#This Row],[TAXA]])","v":463.55240800000001},{"$f":"tbldados[[#This Row],[TOTAL BRUTO]]-tbldados[[#This Row],[VALOR PAGO]]","v":15.632407999999998},{"$f":"CHOOSE(MONTH(tbldados[[#This Row],[DATA]]),\"JANEIRO\",\"FEVEREIRO\",\"MARÇO\",\"ABRIL\",\"MAIO\",\"JUNHO\",\"JULHO\",\"AGOSTO\",\"SETEMBRO\",\"OUTUBRO\",\"NOVEMBRO\",\"DEZEMBRO\")","v":"JANEIRO"},{"$f":"YEAR(tbldados[[#This Row],[DATA]])","v":2022}]
[90,"PGTO","01 DE 01","INTER","DEZEMBRO","RECARGAPAY","NUBANK","CREDITO A VISTA",{"$f":"VLOOKUP(tbldados[[#This Row],[APP]],tblbandeira[],3,0)","v":3.49E-2},44540,44574,1260.72,{"$f":"tbldados[[#This Row],[VALOR PAGO]]+(tbldados[[#This Row],[VALOR PAGO]]*tbldados[[#This Row],[TAXA]])","v":1304.719128},{"$f":"tbldados[[#This Row],[TOTAL BRUTO]]-tbldados[[#This Row],[VALOR PAGO]]","v":43.999127999999928},{"$f":"CHOOSE(MONTH(tbldados[[#This Row],[DATA]]),\"JANEIRO\",\"FEVEREIRO\",\"MARÇO\",\"ABRIL\",\"MAIO\",\"JUNHO\",\"JULHO\",\"AGOSTO\",\"SETEMBRO\",\"OUTUBRO\",\"NOVEMBRO\",\"DEZEMBRO\")","v":"JANEIRO"},{"$f":"YEAR(tbldados[[#This Row],[DATA]])","v":2022}]
[91,"GASTOS","01 DE 01","PGTOINTER1","JUNIOR","RECARGAPAY","NUBANK","CREDITO A VISTA",{"$f":"VLOOKUP(tbldados[[#This Row],[APP]],tblbandeira[],3,0)","v":3.49E-2},44540,44574,1260.72,{"$f":"tbldados[[#This Row],[VALOR PAGO]]+(tbldados[[#This Row],[VALOR PAGO]]*tbldados[[#This Row],[TAXA]])","v":1304.719128},{"$f":"tbldados[[#This Row],[TOTAL BRUTO]]-tbldados[[#This Row],[VALOR PAGO]]","v":43.999127999999928},{"$f":"CHOOSE(MONTH(tbldados[[#This Row],[DATA]]),\"JANEIRO\",\"FEVEREIRO\",\"MARÇO\",\"ABRIL\",\"MAIO\",\"JUNHO\",\"JULHO\",\"AGOSTO\",\"SETEMBRO\",\"OUTUBRO\",\"NOVEMBRO\",\"DEZEMBRO\")","v":"JANEIRO"},{"$f":"YEAR(tbldados[[#This Row],[DATA]])","v":2022}]
[92,"PGTO","01 DE 01","INTER","DEZEMBRO","RECARGAPAY","INTER","CREDITO A VISTA",{"$f":"VLOOKUP(tbldados[[#This Row],[APP]],tblbandeira[],3,0)","v":3.49E-2},44543,44576,1394.21,{"$f":"tbldados[[#This Row],[VALOR PAGO]]+(tbldados[[#This Row],[VALOR PAGO]]*tbldados[[#This Row],[TAXA]])","v":1442.867929},{"$f":"tbldados[[#This Row],[TOTAL BRUTO]]-tbldados[[#This Row],[VALOR PAGO]]","v":48.657928999999967},{"$f":"CHOOSE(MONTH(tbldados[[#This Row],[DATA]]),\"JANEIRO\",\"FEVEREIRO\",\"MARÇO\",\"ABRIL\",\"MAIO\",\"JUNHO\",\"JULHO\",\"AGOSTO\",\"SETEMBRO\",\"OUTUBRO\",\"NOVEMBRO\",\"DEZEMBRO\")","v":"JANEIRO"},{"$f":"YEAR(tbldados[[#This Row],[DATA]])","v":2022}]
[93,"GASTOS","01 DE 01","PGTOINTER2","JUNIOR","RECARGAPAY","INTER","CREDITO A VISTA",{"$f":"VLOOKUP(tbldados[[#This Row],[APP]],tblbandeira[],3,0)","v":3.49E-2},44543,44576,1394.21,{"$f":"tbldados[[#This Row],[VALOR PAGO]]+(tbldados[[#This Row],[VALOR PAGO]]*tbldados[[#This Row],[TAXA]])","v":1442.867929},{"$f":"tbldados[[#This Row],[TOTAL BRUTO]]-tbldados[[#This Row],[VALOR PAGO]]","v":48.657928999999967},{"$f":"CHOOSE(MONTH(tbldados[[#This Row],[DATA]]),\"JANEIRO\",\"FEVEREIRO\",\"MARÇO\",\"ABRIL\",\"MAIO\",\"JUNHO\",\"JULHO\",\"AGOSTO\",\"SETEMBRO\",\"OUTUBRO\",\"NOVEMBRO\",\"DEZEMBRO\")","v":"JANEIRO"},{"$f":"YEAR(tbldados[[#This Row],[DATA]])","v":2022}]
[94,"PGTO","01 DE 01","INTER","DEZEMBRO","RECARGAPAY","INTER","CREDITO A VISTA",{"$f":"VLOOKUP(tbldados[[#This Row],[APP]],tblbandeira[],3,0)","v":3.49E-2},44544,44576,1393.7,{"$f":"tbldados[[#This Row],[VALOR PAGO]]+(tbldados[[#This Row],[VALOR PAGO]]*tbldados[[#This Row],[TAXA]])","v":1442.34013},{"$f":"tbldados[[#This Row],[TOTAL BRUTO]]-tbldados[[#This Row],[VALOR PAGO]]","v":48.640129999999999},{"$f":"CHOOSE(MONTH(tbldados[[#This Row],[DATA]]),\"JANEIRO\",\"FEVEREIRO\",\"MARÇO\",\"ABRIL\",\"MAIO\",\"JUNHO\",\"JULHO\",\"AGOSTO\",\"SETEMBRO\",\"OUTUBRO\",\"NOVEMBRO\",\"DEZEMBRO\")","v":"JANEIRO"},{"$f":"YEAR(tbldados[[#This Row],[DATA]])","v":2022}]
[95,"GASTOS","01 DE 01","PGTOINTER3","JUNIOR","RECARGAPAY","INTER","CREDITO A VISTA",{"$f":"VLOOKUP(tbldados[[#This Row],[APP]],tblbandeira[],3,0)","v":3.49E-2},44544,44576,1393.7,{"$f":"tbldados[[#This Row],[VALOR PAGO]]+(tbldados[[#This Row],[VALOR PAGO]]*tbldados[[#This Row],[TAXA]])","v":1442.34013},{"$f":"tbldados[[#This Row],[TOTAL BRUTO]]-tbldados[[#This Row],[VALOR PAGO]]","v":48.640129999999999},{"$f":"CHOOSE(MONTH(tbldados[[#This Row],[DATA]]),\"JANEIRO\",\"FEVEREIRO\",\"MARÇO\",\"ABRIL\",\"MAIO\",\"JUNHO\",\"JULHO\",\"AGOSTO\",\"SETEMBRO\",\"OUTUBRO\",\"NOVEMBRO\",\"DEZEMBRO\")","v":"JANEIRO"},{"$f":"YEAR(tbldados[[#This Row],[DATA]])","v":2022}]
[96,"GASTOS","01 DE 12","ASS-AMAZON","JUNIOR","GERAL","INTER","CREDITO PARCELADO",{"$f":"VLOOKUP(tbldados[[#This Row],[APP]],tblbandeira[],3,0)","v":0},44545,44576,9.9,{"$f":"tbldados[[#This Row],[VALOR PAGO]]+(tbldados[[#This Row],[VALOR PAGO]]*tbldados[[#This Row],[TAXA]])","v":9.9},{"$f":"tbldados[[#This Row],[TOTAL BRUTO]]-tbldados[[#This Row],[VALOR PAGO]]","v":0},{"$f":"CHOOSE(MONTH(tbldados[[#This Row],[DATA]]),\"JANEIRO\",\"FEVEREIRO\",\"MARÇO\",\"ABRIL\",\"MAIO\",\"JUNHO\",\"JULHO\",\"AGOSTO\",\"SETEMBRO\",\"OUTUBRO\",\"NOVEMBRO\",\"DEZEMBRO\")","v":"JANEIRO"},{"$f":"YEAR(tbldados[[#This Row],[DATA]])","v":2022}]
[97,"GASTOS","02 DE 12","ASS-AMAZON","JUNIOR","GERAL","INTER","CREDITO PARCELADO",{"$f":"VLOOKUP(tbldados[[#This Row],[APP]],tblbandeira[],3,0)","v":0},44545,44607,9.9,{"$f":"tbldados[[#This Row],[VALOR PAGO]]+(tbldados[[#This Row],[VALOR PAGO]]*tbldados[[#This Row],[TAXA]])","v":9.9},{"$f":"tbldados[[#This Row],[TOTAL BRUTO]]-tbldados[[#This Row],[VALOR PAGO]]","v":0},{"$f":"CHOOSE(MONTH(tbldados[[#This Row],[DATA]]),\"JANEIRO\",\"FEVEREIRO\",\"MARÇO\",\"ABRIL\",\"MAIO\",\"JUNHO\",\"JULHO\",\"AGOSTO\",\"SETEMBRO\",\"OUTUBRO\",\"NOVEMBRO\",\"DEZEMBRO\")","v":"FEVEREIRO"},{"$f":"YEAR(tbldados[[#This Row],[DATA]])","v":2022}]
[98,"GASTOS","03 DE 12","ASS-AMAZON","JUNIOR","GERAL","INTER","CREDITO PARCELADO",{"$f":"VLOOKUP(tbldados[[#This Row],[APP]],tblbandeira[],3,0)","v":0},44545,44635,9.9,{"$f":"tbldados[[#This Row],[VALOR PAGO]]+(tbldados[[#This Row],[VALOR PAGO]]*tbldados[[#This Row],[TAXA]])","v":9.9},{"$f":"tbldados[[#This Row],[TOTAL BRUTO]]-tbldados[[#This Row],[VALOR PAGO]]","v":0},{"$f":"CHOOSE(MONTH(tbldados[[#This Row],[DATA]]),\"JANEIRO\",\"FEVEREIRO\",\"MARÇO\",\"ABRIL\",\"MAIO\",\"JUNHO\",\"JULHO\",\"AGOSTO\",\"SETEMBRO\",\"OUTUBRO\",\"NOVEMBRO\",\"DEZEMBRO\")","v":"MARÇO"},{"$f":"YEAR(tbldados[[#This Row],[DATA]])","v":2022}]
[99,"GASTOS","04 DE 12","ASS-AMAZON","JUNIOR","GERAL","INTER","CREDITO PARCELADO",{"$f":"VLOOKUP(tbldados[[#This Row],[APP]],tblbandeira[],3,0)","v":0},44545,44666,9.9,{"$f":"tbldados[[#This Row],[VALOR PAGO]]+(tbldados[[#This Row],[VALOR PAGO]]*tbldados[[#This Row],[TAXA]])","v":9.9},{"$f":"tbldados[[#This Row],[TOTAL BRUTO]]-tbldados[[#This Row],[VALOR PAGO]]","v":0},{"$f":"CHOOSE(MONTH(tbldados[[#This Row],[DATA]]),\"JANEIRO\",\"FEVEREIRO\",\"MARÇO\",\"ABRIL\",\"MAIO\",\"JUNHO\",\"JULHO\",\"AGOSTO\",\"SETEMBRO\",\"OUTUBRO\",\"NOVEMBRO\",\"DEZEMBRO\")","v":"ABRIL"},{"$f":"YEAR(tbldados[[#This Row],[DATA]])","v":2022}]
[100,"GASTOS","05 DE 12","ASS-AMAZON","JUNIOR","GERAL","INTER","CREDITO PARCELADO",{"$f":"VLOOKUP(tbldados[[#This Row],[APP]],tblbandeira[],3,0)","v":0},44545,44696,9.9,{"$f":"tbldados[[#This Row],[VALOR PAGO]]+(tbldados[[#This Row],[VALOR PAGO]]*tbldados[[#This Row],[TAXA]])","v":9.9},{"$f":"tbldados[[#This Row],[TOTAL BRUTO]]-tbldados[[#This Row],[VALOR PAGO]]","v":0},{"$f":"CHOOSE(MONTH(tbldados[[#This Row],[DATA]]),\"JANEIRO\",\"FEVEREIRO\",\"MARÇO\",\"ABRIL\",\"MAIO\",\"JUNHO\",\"JULHO\",\"AGOSTO\",\"SETEMBRO\",\"OUTUBRO\",\"NOVEMBRO\",\"DEZEMBRO\")","v":"MAIO"},{"$f":"YEAR(tbldados[[#This Row],[DATA]])","v":2022}]
[101,"GASTOS","06 DE 12","ASS-AMAZON","JUNIOR","GERAL","INTER","CREDITO PARCELADO",{"$f":"VLOOKUP(tbldados[[#This Row],[APP]],tblbandeira[],3,0)","v":0},44545,44727,9.9,{"$f":"tbldados[[#This Row],[VALOR PAGO]]+(tbldados[[#This Row],[VALOR PAGO]]*tbldados[[#This Row],[TAXA]])","v":9.9},{"$f":"tbldados[[#This Row],[TOTAL BRUTO]]-tbldados[[#This Row],[VALOR PAGO]]","v":0},{"$f":"CHOOSE(MONTH(tbldados[[#This Row],[DATA]]),\"JANEIRO\",\"FEVEREIRO\",\"MARÇO\",\"ABRIL\",\"MAIO\",\"JUNHO\",\"JULHO\",\"AGOSTO\",\"SETEMBRO\",\"OUTUBRO\",\"NOVEMBRO\",\"DEZEMBRO\")","v":"JUNHO"},{"$f":"YEAR(tbldados[[#This Row],[DATA]])","v":2022}]
[102,"GASTOS","07 DE 12","ASS-AMAZON","JUNIOR","GERAL","INTER","CREDITO PARCELADO",{"$f":"VLOOKUP(tbldados[[#This Row],[APP]],tblbandeira[],3,0)","v":0},44545,44757,14.9,{"$f":"tbldados[[#This Row],[VALOR PAGO]]+(tbldados[[#This Row],[VALOR PAGO]]*tbldados[[#This Row],[TAXA]])","v":14.9},{"$f":"tbldados[[#This Row],[TOTAL BRUTO]]-tbldados[[#This Row],[VALOR PAGO]]","v":0},{"$f":"CHOOSE(MONTH(tbldados[[#This Row],[DATA]]),\"JANEIRO\",\"FEVEREIRO\",\"MARÇO\",\"ABRIL\",\"MAIO\",\"JUNHO\",\"JULHO\",\"AGOSTO\",\"SETEMBRO\",\"OUTUBRO\",\"NOVEMBRO\",\"DEZEMBRO\")","v":"JULHO"},{"$f":"YEAR(tbldados[[#This Row],[DATA]])","v":2022}]
[103,"GASTOS","08 DE 12","ASS-AMAZON","JUNIOR","GERAL","INTER","CREDITO PARCELADO",{"$f":"VLOOKUP(tbldados[[#This Row],[APP]],tblbandeira[],3,0)","v":0},44545,44788,14.9,{"$f":"tbldados[[#This Row],[VALOR PAGO]]+(tbldados[[#This Row],[VALOR PAGO]]*tbldados[[#This Row],[TAXA]])","v":14.9},{"$f":"tbldados[[#This Row],[TOTAL BRUTO]]-tbldados[[#This Row],[VALOR PAGO]]","v":0},{"$f":"CHOOSE(MONTH(tbldados[[#This Row],[DATA]]),\"JANEIRO\",\"FEVEREIRO\",\"MARÇO\",\"ABRIL\",\"MAIO\",\"JUNHO\",\"JULHO\",\"AGOSTO\",\"SETEMBRO\",\"OUTUBRO\",\"NOVEMBRO\",\"DEZEMBRO\")","v":"AGOSTO"},{"$f":"YEAR(tbldados[[#This Row],[DATA]])","v":2022}]
[104,"GASTOS","09 DE 12","ASS-AMAZON","JUNIOR","GERAL","INTER","CREDITO PARCELADO",{"$f":"VLOOKUP(tbldados[[#This Row],[APP]],tblbandeira[],3,0)","v":0},44545,44819,14.9,{"$f":"tbldados[[#This Row],[VALOR PAGO]]+(tbldados[[#This Row],[VALOR PAGO]]*tbldados[[#This Row],[TAXA]])","v":14.9},{"$f":"tbldados[[#This Row],[TOTAL BRUTO]]-tbldados[[#This Row],[VALOR PAGO]]","v":0},{"$f":"CHOOSE(MONTH(tbldados[[#This Row],[DATA]]),\"JANEIRO\",\"FEVEREIRO\",\"MARÇO\",\"ABRIL\",\"MAIO\",\"JUNHO\",\"JULHO\",\"AGOSTO\",\"SETEMBRO\",\"OUTUBRO\",\"NOVEMBRO\",\"DEZEMBRO\")","v":"SETEMBRO"},{"$f":"YEAR(tbldados[[#This Row],[DATA]])","v":2022}]
[105,"GASTOS","10 DE 12","ASS-AMAZON","JUNIOR","GERAL","INTER","CREDITO PARCELADO",{"$f":"VLOOKUP(tbldados[[#This Row],[APP]],tblbandeira[],3,0)","v":0},44545,44849,14.9,{"$f":"tbldados[[#This Row],[VALOR PAGO]]+(tbldados[[#This Row],[VALOR PAGO]]*tbldados[[#This Row],[TAXA]])","v":14.9},{"$f":"tbldados[[#This Row],[TOTAL BRUTO]]-tbldados[[#This Row],[VALOR PAGO]]","v":0},{"$f":"CHOOSE(MONTH(tbldados[[#This Row],[DATA]]),\"JANEIRO\",\"FEVEREIRO\",\"MARÇO\",\"ABRIL\",\"MAIO\",\"JUNHO\",\"JULHO\",\"AGOSTO\",\"SETEMBRO\",\"OUTUBRO\",\"NOVEMBRO\",\"DEZEMBRO\")","v":"OUTUBRO"},{"$f":"YEAR(tbldados[[#This Row],[DATA]])","v":2022}]
[106,"GASTOS","11 DE 12","ASS-AMAZON","JUNIOR","GERAL","INTER","CREDITO PARCELADO",{"$f":"VLOOKUP(tbldados[[#This Row],[APP]],tblbandeira[],3,0)","v":0},44545,44880,14.9,{"$f":"tbldados[[#This Row],[VALOR PAGO]]+(tbldados[[#This Row],[VALOR PAGO]]*tbldados[[#This Row],[TAXA]])","v":14.9},{"$f":"tbldados[[#This Row],[TOTAL BRUTO]]-tbldados[[#This Row],[VALOR PAGO]]","v":0},{"$f":"CHOOSE(MONTH(tbldados[[#This Row],[DATA]]),\"JANEIRO\",\"FEVEREIRO\",\"MARÇO\",\"ABRIL\",\"MAIO\",\"JUNHO\",\"JULHO\",\"AGOSTO\",\"SETEMBRO\",\"OUTUBRO\",\"NOVEMBRO\",\"DEZEMBRO\")","v":"NOVEMBRO"},{"$f":"YEAR(tbldados[[#This Row],[DATA]])","v":2022}]
[107,"GASTOS","12 DE 12","ASS-AMAZON","JUNIOR","GERAL","INTER","CREDITO PARCELADO",{"$f":"VLOOKUP(tbldados[[#This Row],[APP]],tblbandeira[],3,0)","v":0},44545,44910,14.9,{"$f":"tbldados[[#This Row],[VALOR PAGO]]+(tbldados[[#This Row],[VALOR PAGO]]*tbldados[[#This Row],[TAXA]])","v":14.9},{"$f":"tbldados[[#This Row],[TOTAL BRUTO]]-tbldados[[#This Row],[VALOR PAGO]]","v":0},{"$f":"CHOOSE(MONTH(tbldados[[#This Row],[DATA]]),\"JANEIRO\",\"FEVEREIRO\",\"MARÇO\",\"ABRIL\",\"MAIO\",\"JUNHO\",\"JULHO\",\"AGOSTO\",\"SETEMBRO\",\"OUTUBRO\",\"NOVEMBRO\",\"DEZEMBRO\")","v":"DEZEMBRO"},{"$f":"YEAR(tbldados[[#This Row],[DATA]])","v":2022}]
[108,"PGTO","01 DE 01","CLICK","DEZEMBRO","RECARGAPAY","INTER","CREDITO A VISTA",{"$f":"VLOOKUP(tbldados[[#This Row],[APP]],tblbandeira[],3,0)","v":3.49E-2},44545,44576,1150,{"$f":"tbldados[[#This Row],[VALOR PAGO]]+(tbldados[[#This Row],[VALOR PAGO]]*tbldados[[#This Row],[TAXA]])","v":1190.135},{"$f":"tbldados[[#This Row],[TOTAL BRUTO]]-tbldados[[#This Row],[VALOR PAGO]]","v":40.134999999999991},{"$f":"CHOOSE(MONTH(tbldados[[#This Row],[DATA]]),\"JANEIRO\",\"FEVEREIRO\",\"MARÇO\",\"ABRIL\",\"MAIO\",\"JUNHO\",\"JULHO\",\"AGOSTO\",\"SETEMBRO\",\"OUTUBRO\",\"NOVEMBRO\",\"DEZEMBRO\")","v":"JANEIRO"},{"$f":"YEAR(tbldados[[#This Row],[DATA]])","v":2022}]
[109,"GASTOS","01 DE 01","PGTOCLICK1","JUNIOR","RECARGAPAY","INTER","CREDITO A VISTA",{"$f":"VLOOKUP(tbldados[[#This Row],[APP]],tblbandeira[],3,0)","v":3.49E-2},44545,44576,1150,{"$f":"tbldados[[#This Row],[VALOR PAGO]]+(tbldados[[#This Row],[VALOR PAGO]]*tbldados[[#This Row],[TAXA]])","v":1190.135},{"$f":"tbldados[[#This Row],[TOTAL BRUTO]]-tbldados[[#This Row],[VALOR PAGO]]","v":40.134999999999991},{"$f":"CHOOSE(MONTH(tbldados[[#This Row],[DATA]]),\"JANEIRO\",\"FEVEREIRO\",\"MARÇO\",\"ABRIL\",\"MAIO\",\"JUNHO\",\"JULHO\",\"AGOSTO\",\"SETEMBRO\",\"OUTUBRO\",\"NOVEMBRO\",\"DEZEMBRO\")","v":"JANEIRO"},{"$f":"YEAR(tbldados[[#This Row],[DATA]])","v":2022}]
[110,"GASTOS","01 DE 01","ALMOÇO","JUNIOR","GERAL","ORIGINAL","CREDITO A VISTA",{"$f":"VLOOKUP(tbldados[[#This Row],[APP]],tblbandeira[],3,0)","v":0},44545,44571,20,{"$f":"tbldados[[#This Row],[VALOR PAGO]]+(tbldados[[#This Row],[VALOR PAGO]]*tbldados[[#This Row],[TAXA]])","v":20},{"$f":"tbldados[[#This Row],[TOTAL BRUTO]]-tbldados[[#This Row],[VALOR PAGO]]","v":0},{"$f":"CHOOSE(MONTH(tbldados[[#This Row],[DATA]]),\"JANEIRO\",\"FEVEREIRO\",\"MARÇO\",\"ABRIL\",\"MAIO\",\"JUNHO\",\"JULHO\",\"AGOSTO\",\"SETEMBRO\",\"OUTUBRO\",\"NOVEMBRO\",\"DEZEMBRO\")","v":"JANEIRO"},{"$f":"YEAR(tbldados[[#This Row],[DATA]])","v":2022}]
[111,"PGTO","01 DE 01","CLICK","DEZEMBRO","RECARGAPAY","CLICK","CREDITO A VISTA",{"$f":"VLOOKUP(tbldados[[#This Row],[APP]],tblbandeira[],3,0)","v":3.49E-2},44542,44578,1116.6099999999999,{"$f":"tbldados[[#This Row],[VALOR PAGO]]+(tbldados[[#This Row],[VALOR PAGO]]*tbldados[[#This Row],[TAXA]])","v":1155.5796889999999},{"$f":"tbldados[[#This Row],[TOTAL BRUTO]]-tbldados[[#This Row],[VALOR PAGO]]","v":38.969689000000017},{"$f":"CHOOSE(MONTH(tbldados[[#This Row],[DATA]]),\"JANEIRO\",\"FEVEREIRO\",\"MARÇO\",\"ABRIL\",\"MAIO\",\"JUNHO\",\"JULHO\",\"AGOSTO\",\"SETEMBRO\",\"OUTUBRO\",\"NOVEMBRO\",\"DEZEMBRO\")","v":"JANEIRO"},{"$f":"YEAR(tbldados[[#This Row],[DATA]])","v":2022}]
[112,"GASTOS","01 DE 01","PGTOCLICK2","JUNIOR","RECARGAPAY","CLICK","CREDITO A VISTA",{"$f":"VLOOKUP(tbldados[[#This Row],[APP]],tblbandeira[],3,0)","v":3.49E-2},44545,44578,1116.6099999999999,{"$f":"tbldados[[#This Row],[VALOR PAGO]]+(tbldados[[#This Row],[VALOR PAGO]]*tbldados[[#This Row],[TAXA]])","v":1155.5796889999999},{"$f":"tbldados[[#This Row],[TOTAL BRUTO]]-tbldados[[#This Row],[VALOR PAGO]]","v":38.969689000000017},{"$f":"CHOOSE(MONTH(tbldados[[#This Row],[DATA]]),\"JANEIRO\",\"FEVEREIRO\",\"MARÇO\",\"ABRIL\",\"MAIO\",\"JUNHO\",\"JULHO\",\"AGOSTO\",\"SETEMBRO\",\"OUTUBRO\",\"NOVEMBRO\",\"DEZEMBRO\")","v":"JANEIRO"},{"$f":"YEAR(tbldados[[#This Row],[DATA]])","v":2022}]
[113,"PGTO","01 DE 01","WILL","DEZEMBRO","RECARGAPAY","CLICK","CREDITO A VISTA",{"$f":"VLOOKUP(tbldados[[#This Row],[APP]],tblbandeira[],3,0)","v":3.49E-2},44546,44578,1116.6099999999999,{"$f":"tbldados[[#This Row],[VALOR PAGO]]+(tbldados[[#This Row],[VALOR PAGO]]*tbldados[[#This Row],[TAXA]])","v":1155.5796889999999},{"$f":"tbldados[[#This Row],[TOTAL BRUTO]]-tbldados[[#This Row],[VALOR PAGO]]","v":38.969689000000017},{"$f":"CHOOSE(MONTH(tbldados[[#This Row],[DATA]]),\"JANEIRO\",\"FEVEREIRO\",\"MARÇO\",\"ABRIL\",\"MAIO\",\"JUNHO\",\"JULHO\",\"AGOSTO\",\"SETEMBRO\",\"OUTUBRO\",\"NOVEMBRO\",\"DEZEMBRO\")","v":"JANEIRO"},{"$f":"YEAR(tbldados[[#This Row],[DATA]])","v":2022}]
[114,"GASTOS","01 DE 01","PGTOCLICK","JUNIOR","RECARGAPAY","CLICK","CREDITO A VISTA",{"$f":"VLOOKUP(tbldados[[#This Row],[APP]],tblbandeira[],3,0)","v":3.49E-2},44546,44578,1116.6099999999999,{"$f":"tbldados[[#This Row],[VALOR PAGO]]+(tbldados[[#This Row],[VALOR PAGO]]*tbldados[[#This Row],[TAXA]])","v":1155.5796889999999},{"$f":"tbldados[[#This Row],[TOTAL BRUTO]]-tbldados[[#This Row],[VALOR PAGO]]","v":38.969689000000017},{"$f":"CHOOSE(MONTH(tbldados[[#This Row],[DATA]]),\"JANEIRO\",\"FEVEREIRO\",\"MARÇO\",\"ABRIL\",\"MAIO\",\"JUNHO\",\"JULHO\",\"AGOSTO\",\"SETEMBRO\",\"OUTUBRO\",\"NOVEMBRO\",\"DEZEMBRO\")","v":"JANEIRO"},{"$f":"YEAR(tbldados[[#This Row],[DATA]])","v":2022}]
[115,"PGTO","01 DE 01","WILL","DEZEMBRO","RECARGAPAY","WILL","CREDITO A VISTA",{"$f":"VLOOKUP(tbldados[[#This Row],[APP]],tblbandeira[],3,0)","v":3.49E-2},44546,44581,1183.4000000000001,{"$f":"tbldados[[#This Row],[VALOR PAGO]]+(tbldados[[#This Row],[VALOR PAGO]]*tbldados[[#This Row],[TAXA]])","v":1224.7006600000002},{"$f":"tbldados[[#This Row],[TOTAL BRUTO]]-tbldados[[#This Row],[VALOR PAGO]]","v":41.300660000000107},{"$f":"CHOOSE(MONTH(tbldados[[#This Row],[DATA]]),\"JANEIRO\",\"FEVEREIRO\",\"MARÇO\",\"ABRIL\",\"MAIO\",\"JUNHO\",\"JULHO\",\"AGOSTO\",\"SETEMBRO\",\"OUTUBRO\",\"NOVEMBRO\",\"DEZEMBRO\")","v":"JANEIRO"},{"$f":"YEAR(tbldados[[#This Row],[DATA]])","v":2022}]
[116,"GASTOS","01 DE 01","PGTOWILL2","JUNIOR","RECARGAPAY","WILL","CREDITO A VISTA",{"$f":"VLOOKUP(tbldados[[#This Row],[APP]],tblbandeira[],3,0)","v":3.49E-2},44546,44581,1183.4000000000001,{"$f":"tbldados[[#This Row],[VALOR PAGO]]+(tbldados[[#This Row],[VALOR PAGO]]*tbldados[[#This Row],[TAXA]])","v":1224.7006600000002},{"$f":"tbldados[[#This Row],[TOTAL BRUTO]]-tbldados[[#This Row],[VALOR PAGO]]","v":41.300660000000107},{"$f":"CHOOSE(MONTH(tbldados[[#This Row],[DATA]]),\"JANEIRO\",\"FEVEREIRO\",\"MARÇO\",\"ABRIL\",\"MAIO\",\"JUNHO\",\"JULHO\",\"AGOSTO\",\"SETEMBRO\",\"OUTUBRO\",\"NOVEMBRO\",\"DEZEMBRO\")","v":"JANEIRO"},{"$f":"YEAR(tbldados[[#This Row],[DATA]])","v":2022}]
[117,"PGTO","01 DE 01","GOLD","DEZEMBRO","RECARGAPAY","WILL","CREDITO A VISTA",{"$f":"VLOOKUP(tbldados[[#This Row],[APP]],tblbandeira[],3,0)","v":3.49E-2},44548,44581,1250,{"$f":"tbldados[[#This Row],[VALOR PAGO]]+(tbldados[[#This Row],[VALOR PAGO]]*tbldados[[#This Row],[TAXA]])","v":1293.625},{"$f":"tbldados[[#This Row],[TOTAL BRUTO]]-tbldados[[#This Row],[VALOR PAGO]]","v":43.625},{"$f":"CHOOSE(MONTH(tbldados[[#This Row],[DATA]]),\"JANEIRO\",\"FEVEREIRO\",\"MARÇO\",\"ABRIL\",\"MAIO\",\"JUNHO\",\"JULHO\",\"AGOSTO\",\"SETEMBRO\",\"OUTUBRO\",\"NOVEMBRO\",\"DEZEMBRO\")","v":"JANEIRO"},{"$f":"YEAR(tbldados[[#This Row],[DATA]])","v":2022}]
[118,"GASTOS","01 DE 01","PGTOGOLD","JUNIOR","RECARGAPAY","WILL","CREDITO A VISTA",{"$f":"VLOOKUP(tbldados[[#This Row],[APP]],tblbandeira[],3,0)","v":3.49E-2},44548,44581,1250,{"$f":"tbldados[[#This Row],[VALOR PAGO]]+(tbldados[[#This Row],[VALOR PAGO]]*tbldados[[#This Row],[TAXA]])","v":1293.625},{"$f":"tbldados[[#This Row],[TOTAL BRUTO]]-tbldados[[#This Row],[VALOR PAGO]]","v":43.625},{"$f":"CHOOSE(MONTH(tbldados[[#This Row],[DATA]]),\"JANEIRO\",\"FEVEREIRO\",\"MARÇO\",\"ABRIL\",\"MAIO\",\"JUNHO\",\"JULHO\",\"AGOSTO\",\"SETEMBRO\",\"OUTUBRO\",\"NOVEMBRO\",\"DEZEMBRO\")","v":"JANEIRO"},{"$f":"YEAR(tbldados[[#This Row],[DATA]])","v":2022}]
[119,"PGTO","01 DE 01","GOLD","DEZEMBRO","RECARGAPAY","GOLD","CREDITO A VISTA",{"$f":"VLOOKUP(tbldados[[#This Row],[APP]],tblbandeira[],3,0)","v":3.49E-2},44550,44584,1200,{"$f":"tbldados[[#This Row],[VALOR PAGO]]+(tbldados[[#This Row],[VALOR PAGO]]*tbldados[[#This Row],[TAXA]])","v":1241.8800000000001},{"$f":"tbldados[[#This Row],[TOTAL BRUTO]]-tbldados[[#This Row],[VALOR PAGO]]","v":41.880000000000109},{"$f":"CHOOSE(MONTH(tbldados[[#This Row],[DATA]]),\"JANEIRO\",\"FEVEREIRO\",\"MARÇO\",\"ABRIL\",\"MAIO\",\"JUNHO\",\"JULHO\",\"AGOSTO\",\"SETEMBRO\",\"OUTUBRO\",\"NOVEMBRO\",\"DEZEMBRO\")","v":"JANEIRO"},{"$f":"YEAR(tbldados[[#This Row],[DATA]])","v":2022}]
[120,"GASTOS","01 DE 01","PGTOGOLD2","JUNIOR","RECARGAPAY","GOLD","CREDITO A VISTA",{"$f":"VLOOKUP(tbldados[[#This Row],[APP]],tblbandeira[],3,0)","v":3.49E-2},44550,44584,1200,{"$f":"tbldados[[#This Row],[VALOR PAGO]]+(tbldados[[#This Row],[VALOR PAGO]]*tbldados[[#This Row],[TAXA]])","v":1241.8800000000001},{"$f":"tbldados[[#This Row],[TOTAL BRUTO]]-tbldados[[#This Row],[VALOR PAGO]]","v":41.880000000000109},{"$f":"CHOOSE(MONTH(tbldados[[#This Row],[DATA]]),\"JANEIRO\",\"FEVEREIRO\",\"MARÇO\",\"ABRIL\",\"MAIO\",\"JUNHO\",\"JULHO\",\"AGOSTO\",\"SETEMBRO\",\"OUTUBRO\",\"NOVEMBRO\",\"DEZEMBRO\")","v":"JANEIRO"},{"$f":"YEAR(tbldados[[#This Row],[DATA]])","v":2022}]
[121,"PGTO","01 DE 01","LATAM","DEZEMBRO","RECARGAPAY","GOLD","CREDITO A VISTA",{"$f":"VLOOKUP(tbldados[[#This Row],[APP]],tblbandeira[],3,0)","v":3.49E-2},44551,44584,1177.43,{"$f":"tbldados[[#This Row],[VALOR PAGO]]+(tbldados[[#This Row],[VALOR PAGO]]*tbldados[[#This Row],[TAXA]])","v":1218.5223070000002},{"$f":"tbldados[[#This Row],[TOTAL BRUTO]]-tbldados[[#This Row],[VALOR PAGO]]","v":41.092307000000119},{"$f":"CHOOSE(MONTH(tbldados[[#This Row],[DATA]]),\"JANEIRO\",\"FEVEREIRO\",\"MARÇO\",\"ABRIL\",\"MAIO\",\"JUNHO\",\"JULHO\",\"AGOSTO\",\"SETEMBRO\",\"OUTUBRO\",\"NOVEMBRO\",\"DEZEMBRO\")","v":"JANEIRO"},{"$f":"YEAR(tbldados[[#This Row],[DATA]])","v":2022}]
[122,"GASTOS","01 DE 01","PGTOLATAM","JUNIOR","RECARGAPAY","GOLD","CREDITO A VISTA",{"$f":"VLOOKUP(tbldados[[#This Row],[APP]],tblbandeira[],3,0)","v":3.49E-2},44551,44584,1177.43,{"$f":"tbldados[[#This Row],[VALOR PAGO]]+(tbldados[[#This Row],[VALOR PAGO]]*tbldados[[#This Row],[TAXA]])","v":1218.5223070000002},{"$f":"tbldados[[#This Row],[TOTAL BRUTO]]-tbldados[[#This Row],[VALOR PAGO]]","v":41.092307000000119},{"$f":"CHOOSE(MONTH(tbldados[[#This Row],[DATA]]),\"JANEIRO\",\"FEVEREIRO\",\"MARÇO\",\"ABRIL\",\"MAIO\",\"JUNHO\",\"JULHO\",\"AGOSTO\",\"SETEMBRO\",\"OUTUBRO\",\"NOVEMBRO\",\"DEZEMBRO\")","v":"JANEIRO"},{"$f":"YEAR(tbldados[[#This Row],[DATA]])","v":2022}]
[123,"PGTO","01 DE 01","LATAM","DEZEMBRO","RECARGAPAY","LATAM","CREDITO A VISTA",{"$f":"VLOOKUP(tbldados[[#This Row],[APP]],tblbandeira[],3,0)","v":3.49E-2},44551,44586,1143.24,{"$f":"tbldados[[#This Row],[VALOR PAGO]]+(tbldados[[#This Row],[VALOR PAGO]]*tbldados[[#This Row],[TAXA]])","v":1183.1390759999999},{"$f":"tbldados[[#This Row],[TOTAL BRUTO]]-tbldados[[#This Row],[VALOR PAGO]]","v":39.899075999999923},{"$f":"CHOOSE(MONTH(tbldados[[#This Row],[DATA]]),\"JANEIRO\",\"FEVEREIRO\",\"MARÇO\",\"ABRIL\",\"MAIO\",\"JUNHO\",\"JULHO\",\"AGOSTO\",\"SETEMBRO\",\"OUTUBRO\",\"NOVEMBRO\",\"DEZEMBRO\")","v":"JANEIRO"},{"$f":"YEAR(tbldados[[#This Row],[DATA]])","v":2022}]
[124,"GASTOS","01 DE 01","PGTOLATAM2","JUNIOR","RECARGAPAY","LATAM","CREDITO A VISTA",{"$f":"VLOOKUP(tbldados[[#This Row],[APP]],tblbandeira[],3,0)","v":3.49E-2},44551,44586,1143.24,{"$f":"tbldados[[#This Row],[VALOR PAGO]]+(tbldados[[#This Row],[VALOR PAGO]]*tbldados[[#This Row],[TAXA]])","v":1183.1390759999999},{"$f":"tbldados[[#This Row],[TOTAL BRUTO]]-tbldados[[#This Row],[VALOR PAGO]]","v":39.899075999999923},{"$f":"CHOOSE(MONTH(tbldados[[#This Row],[DATA]]),\"JANEIRO\",\"FEVEREIRO\",\"MARÇO\",\"ABRIL\",\"MAIO\",\"JUNHO\",\"JULHO\",\"AGOSTO\",\"SETEMBRO\",\"OUTUBRO\",\"NOVEMBRO\",\"DEZEMBRO\")","v":"JANEIRO"},{"$f":"YEAR(tbldados[[#This Row],[DATA]])","v":2022}]
[125,"PGTO","01 DE 01","LATAM","DEZEMBRO","RECARGAPAY","LATAM","CREDITO A VISTA",{"$f":"VLOOKUP(tbldados[[#This Row],[APP]],tblbandeira[],3,0)","v":3.49E-2},44552,44586,1110.07,{"$f":"tbldados[[#This Row],[VALOR PAGO]]+(tbldados[[#This Row],[VALOR PAGO]]*tbldados[[#This Row],[TAXA]])","v":1148.8114429999998},{"$f":"tbldados[[#This Row],[TOTAL BRUTO]]-tbldados[[#This Row],[VALOR PAGO]]","v":38.74144299999989},{"$f":"CHOOSE(MONTH(tbldados[[#This Row],[DATA]]),\"JANEIRO\",\"FEVEREIRO\",\"MARÇO\",\"ABRIL\",\"MAIO\",\"JUNHO\",\"JULHO\",\"AGOSTO\",\"SETEMBRO\",\"OUTUBRO\",\"NOVEMBRO\",\"DEZEMBRO\")","v":"JANEIRO"},{"$f":"YEAR(tbldados[[#This Row],[DATA]])","v":2022}]
[126,"GASTOS","01 DE 01","PGTOLATAM3","JUNIOR","RECARGAPAY","LATAM","CREDITO A VISTA",{"$f":"VLOOKUP(tbldados[[#This Row],[APP]],tblbandeira[],3,0)","v":3.49E-2},44552,44586,1110.07,{"$f":"tbldados[[#This Row],[VALOR PAGO]]+(tbldados[[#This Row],[VALOR PAGO]]*tbldados[[#This Row],[TAXA]])","v":1148.8114429999998},{"$f":"tbldados[[#This Row],[TOTAL BRUTO]]-tbldados[[#This Row],[VALOR PAGO]]","v":38.74144299999989},{"$f":"CHOOSE(MONTH(tbldados[[#This Row],[DATA]]),\"JANEIRO\",\"FEVEREIRO\",\"MARÇO\",\"ABRIL\",\"MAIO\",\"JUNHO\",\"JULHO\",\"AGOSTO\",\"SETEMBRO\",\"OUTUBRO\",\"NOVEMBRO\",\"DEZEMBRO\")","v":"JANEIRO"},{"$f":"YEAR(tbldados[[#This Row],[DATA]])","v":2022}]
[127,"PGTO","01 DE 01","LATAM","DEZEMBRO","RECARGAPAY","LATAM","CREDITO A VISTA",{"$f":"VLOOKUP(tbldados[[#This Row],[APP]],tblbandeira[],3,0)","v":3.49E-2},44552,44586,369.26,{"$f":"tbldados[[#This Row],[VALOR PAGO]]+(tbldados[[#This Row],[VALOR PAGO]]*tbldados[[#This Row],[TAXA]])","v":382.14717400000001},{"$f":"tbldados[[#This Row],[TOTAL BRUTO]]-tbldados[[#This Row],[VALOR PAGO]]","v":12.887174000000016},{"$f":"CHOOSE(MONTH(tbldados[[#This Row],[DATA]]),\"JANEIRO\",\"FEVEREIRO\",\"MARÇO\",\"ABRIL\",\"MAIO\",\"JUNHO\",\"JULHO\",\"AGOSTO\",\"SETEMBRO\",\"OUTUBRO\",\"NOVEMBRO\",\"DEZEMBRO\")","v":"JANEIRO"},{"$f":"YEAR(tbldados[[#This Row],[DATA]])","v":2022}]
[128,"GASTOS","01 DE 01","PGTOLATAM4","JUNIOR","RECARGAPAY","LATAM","CREDITO A VISTA",{"$f":"VLOOKUP(tbldados[[#This Row],[APP]],tblbandeira[],3,0)","v":3.49E-2},44552,44586,369.26,{"$f":"tbldados[[#This Row],[VALOR PAGO]]+(tbldados[[#This Row],[VALOR PAGO]]*tbldados[[#This Row],[TAXA]])","v":382.14717400000001},{"$f":"tbldados[[#This Row],[TOTAL BRUTO]]-tbldados[[#This Row],[VALOR PAGO]]","v":12.887174000000016},{"$f":"CHOOSE(MONTH(tbldados[[#This Row],[DATA]]),\"JANEIRO\",\"FEVEREIRO\",\"MARÇO\",\"ABRIL\",\"MAIO\",\"JUNHO\",\"JULHO\",\"AGOSTO\",\"SETEMBRO\",\"OUTUBRO\",\"NOVEMBRO\",\"DEZEMBRO\")","v":"JANEIRO"},{"$f":"YEAR(tbldados[[#This Row],[DATA]])","v":2022}]
[129,"GASTOS","01 DE 03","SUPERMERCADO","JUNIOR","GERAL","C6","CREDITO PARCELADO",{"$f":"VLOOKUP(tbldados[[#This Row],[APP]],tblbandeira[],3,0)","v":0},44553,44593,112.83,{"$f":"tbldados[[#This Row],[VALOR PAGO]]+(tbldados[[#This Row],[VALOR PAGO]]*tbldados[[#This Row],[TAXA]])","v":112.83},{"$f":"tbldados[[#This Row],[TOTAL BRUTO]]-tbldados[[#This Row],[VALOR PAGO]]","v":0},{"$f":"CHOOSE(MONTH(tbldados[[#This Row],[DATA]]),\"JANEIRO\",\"FEVEREIRO\",\"MARÇO\",\"ABRIL\",\"MAIO\",\"JUNHO\",\"JULHO\",\"AGOSTO\",\"SETEMBRO\",\"OUTUBRO\",\"NOVEMBRO\",\"DEZEMBRO\")","v":"FEVEREIRO"},{"$f":"YEAR(tbldados[[#This Row],[DATA]])","v":2022}]
[130,"GASTOS","02 DE 03","SUPERMERCADO","JUNIOR","GERAL","C6","CREDITO PARCELADO",{"$f":"VLOOKUP(tbldados[[#This Row],[APP]],tblbandeira[],3,0)","v":0},44553,44621,112.83,{"$f":"tbldados[[#This Row],[VALOR PAGO]]+(tbldados[[#This Row],[VALOR PAGO]]*tbldados[[#This Row],[TAXA]])","v":112.83},{"$f":"tbldados[[#This Row],[TOTAL BRUTO]]-tbldados[[#This Row],[VALOR PAGO]]","v":0},{"$f":"CHOOSE(MONTH(tbldados[[#This Row],[DATA]]),\"JANEIRO\",\"FEVEREIRO\",\"MARÇO\",\"ABRIL\",\"MAIO\",\"JUNHO\",\"JULHO\",\"AGOSTO\",\"SETEMBRO\",\"OUTUBRO\",\"NOVEMBRO\",\"DEZEMBRO\")","v":"MARÇO"},{"$f":"YEAR(tbldados[[#This Row],[DATA]])","v":2022}]
[131,"GASTOS","03 DE 03","SUPERMERCADO","JUNIOR","GERAL","C6","CREDITO PARCELADO",{"$f":"VLOOKUP(tbldados[[#This Row],[APP]],tblbandeira[],3,0)","v":0},44553,44652,112.83,{"$f":"tbldados[[#This Row],[VALOR PAGO]]+(tbldados[[#This Row],[VALOR PAGO]]*tbldados[[#This Row],[TAXA]])","v":112.83},{"$f":"tbldados[[#This Row],[TOTAL BRUTO]]-tbldados[[#This Row],[VALOR PAGO]]","v":0},{"$f":"CHOOSE(MONTH(tbldados[[#This Row],[DATA]]),\"JANEIRO\",\"FEVEREIRO\",\"MARÇO\",\"ABRIL\",\"MAIO\",\"JUNHO\",\"JULHO\",\"AGOSTO\",\"SETEMBRO\",\"OUTUBRO\",\"NOVEMBRO\",\"DEZEMBRO\")","v":"ABRIL"},{"$f":"YEAR(tbldados[[#This Row],[DATA]])","v":2022}]
[132,"PGTO","01 DE 01","FREE","DEZEMBRO","RECARGAPAY","PANMAE","CREDITO A VISTA",{"$f":"VLOOKUP(tbldados[[#This Row],[APP]],tblbandeira[],3,0)","v":3.49E-2},44558,44578,1490,{"$f":"tbldados[[#This Row],[VALOR PAGO]]+(tbldados[[#This Row],[VALOR PAGO]]*tbldados[[#This Row],[TAXA]])","v":1542.001},{"$f":"tbldados[[#This Row],[TOTAL BRUTO]]-tbldados[[#This Row],[VALOR PAGO]]","v":52.000999999999976},{"$f":"CHOOSE(MONTH(tbldados[[#This Row],[DATA]]),\"JANEIRO\",\"FEVEREIRO\",\"MARÇO\",\"ABRIL\",\"MAIO\",\"JUNHO\",\"JULHO\",\"AGOSTO\",\"SETEMBRO\",\"OUTUBRO\",\"NOVEMBRO\",\"DEZEMBRO\")","v":"JANEIRO"},{"$f":"YEAR(tbldados[[#This Row],[DATA]])","v":2022}]
[133,"GASTOS","01 DE 01","PGTOFREE","JUNIOR","RECARGAPAY","PANMAE","CREDITO A VISTA",{"$f":"VLOOKUP(tbldados[[#This Row],[APP]],tblbandeira[],3,0)","v":3.49E-2},44558,44578,1490,{"$f":"tbldados[[#This Row],[VALOR PAGO]]+(tbldados[[#This Row],[VALOR PAGO]]*tbldados[[#This Row],[TAXA]])","v":1542.001},{"$f":"tbldados[[#This Row],[TOTAL BRUTO]]-tbldados[[#This Row],[VALOR PAGO]]","v":52.000999999999976},{"$f":"CHOOSE(MONTH(tbldados[[#This Row],[DATA]]),\"JANEIRO\",\"FEVEREIRO\",\"MARÇO\",\"ABRIL\",\"MAIO\",\"JUNHO\",\"JULHO\",\"AGOSTO\",\"SETEMBRO\",\"OUTUBRO\",\"NOVEMBRO\",\"DEZEMBRO\")","v":"JANEIRO"},{"$f":"YEAR(tbldados[[#This Row],[DATA]])","v":2022}]
[134,"GASTOS","01 DE 01","NETFLIX","JUNIOR","GERAL","C6","CREDITO A VISTA",{"$f":"VLOOKUP(tbldados[[#This Row],[APP]],tblbandeira[],3,0)","v":0},44555,44593,55.9,{"$f":"tbldados[[#This Row],[VALOR PAGO]]+(tbldados[[#This Row],[VALOR PAGO]]*tbldados[[#This Row],[TAXA]])","v":55.9},{"$f":"tbldados[[#This Row],[TOTAL BRUTO]]-tbldados[[#This Row],[VALOR PAGO]]","v":0},{"$f":"CHOOSE(MONTH(tbldados[[#This Row],[DATA]]),\"JANEIRO\",\"FEVEREIRO\",\"MARÇO\",\"ABRIL\",\"MAIO\",\"JUNHO\",\"JULHO\",\"AGOSTO\",\"SETEMBRO\",\"OUTUBRO\",\"NOVEMBRO\",\"DEZEMBRO\")","v":"FEVEREIRO"},{"$f":"YEAR(tbldados[[#This Row],[DATA]])","v":2022}]
[135,"GASTOS","01 DE 01","CLARO","JUNIOR","GERAL","PAGMAE","CREDITO A VISTA",{"$f":"VLOOKUP(tbldados[[#This Row],[APP]],tblbandeira[],3,0)","v":0},44552,44571,45.24,{"$f":"tbldados[[#This Row],[VALOR PAGO]]+(tbldados[[#This Row],[VALOR PAGO]]*tbldados[[#This Row],[TAXA]])","v":45.24},{"$f":"tbldados[[#This Row],[TOTAL BRUTO]]-tbldados[[#This Row],[VALOR PAGO]]","v":0},{"$f":"CHOOSE(MONTH(tbldados[[#This Row],[DATA]]),\"JANEIRO\",\"FEVEREIRO\",\"MARÇO\",\"ABRIL\",\"MAIO\",\"JUNHO\",\"JULHO\",\"AGOSTO\",\"SETEMBRO\",\"OUTUBRO\",\"NOVEMBRO\",\"DEZEMBRO\")","v":"JANEIRO"},{"$f":"YEAR(tbldados[[#This Row],[DATA]])","v":2022}]
[136,"PGTO","01 DE 01","C6","JANEIRO","RECARGAPAY","LATAM","CREDITO A VISTA",{"$f":"VLOOKUP(tbldados[[#This Row],[APP]],tblbandeira[],3,0)","v":3.49E-2},44558,44586,1067.1199999999999,{"$f":"tbldados[[#This Row],[VALOR PAGO]]+(tbldados[[#This Row],[VALOR PAGO]]*tbldados[[#This Row],[TAXA]])","v":1104.362488},{"$f":"tbldados[[#This Row],[TOTAL BRUTO]]-tbldados[[#This Row],[VALOR PAGO]]","v":37.242488000000094},{"$f":"CHOOSE(MONTH(tbldados[[#This Row],[DATA]]),\"JANEIRO\",\"FEVEREIRO\",\"MARÇO\",\"ABRIL\",\"MAIO\",\"JUNHO\",\"JULHO\",\"AGOSTO\",\"SETEMBRO\",\"OUTUBRO\",\"NOVEMBRO\",\"DEZEMBRO\")","v":"JANEIRO"},{"$f":"YEAR(tbldados[[#This Row],[DATA]])","v":2022}]
[137,"GASTOS","01 DE 01","PGTOC61","JUNIOR","RECARGAPAY","LATAM","CREDITO A VISTA",{"$f":"VLOOKUP(tbldados[[#This Row],[APP]],tblbandeira[],3,0)","v":3.49E-2},44558,44586,1067.1199999999999,{"$f":"tbldados[[#This Row],[VALOR PAGO]]+(tbldados[[#This Row],[VALOR PAGO]]*tbldados[[#This Row],[TAXA]])","v":1104.362488},{"$f":"tbldados[[#This Row],[TOTAL BRUTO]]-tbldados[[#This Row],[VALOR PAGO]]","v":37.242488000000094},{"$f":"CHOOSE(MONTH(tbldados[[#This Row],[DATA]]),\"JANEIRO\",\"FEVEREIRO\",\"MARÇO\",\"ABRIL\",\"MAIO\",\"JUNHO\",\"JULHO\",\"AGOSTO\",\"SETEMBRO\",\"OUTUBRO\",\"NOVEMBRO\",\"DEZEMBRO\")","v":"JANEIRO"},{"$f":"YEAR(tbldados[[#This Row],[DATA]])","v":2022}]
[138,"GASTOS","01 DE 05","STANLEY","JUNIOR","GERAL","FREE","CREDITO PARCELADO",{"$f":"VLOOKUP(tbldados[[#This Row],[APP]],tblbandeira[],3,0)","v":0},44200,44591,44,{"$f":"tbldados[[#This Row],[VALOR PAGO]]+(tbldados[[#This Row],[VALOR PAGO]]*tbldados[[#This Row],[TAXA]])","v":44},{"$f":"tbldados[[#This Row],[TOTAL BRUTO]]-tbldados[[#This Row],[VALOR PAGO]]","v":0},{"$f":"CHOOSE(MONTH(tbldados[[#This Row],[DATA]]),\"JANEIRO\",\"FEVEREIRO\",\"MARÇO\",\"ABRIL\",\"MAIO\",\"JUNHO\",\"JULHO\",\"AGOSTO\",\"SETEMBRO\",\"OUTUBRO\",\"NOVEMBRO\",\"DEZEMBRO\")","v":"JANEIRO"},{"$f":"YEAR(tbldados[[#This Row],[DATA]])","v":2022}]
[139,"GASTOS","02 DE 05","STANLEY","JUNIOR","GERAL","FREE","CREDITO PARCELADO",{"$f":"VLOOKUP(tbldados[[#This Row],[APP]],tblbandeira[],3,0)","v":0},44200,44620,44,{"$f":"tbldados[[#This Row],[VALOR PAGO]]+(tbldados[[#This Row],[VALOR PAGO]]*tbldados[[#This Row],[TAXA]])","v":44},{"$f":"tbldados[[#This Row],[TOTAL BRUTO]]-tbldados[[#This Row],[VALOR PAGO]]","v":0},{"$f":"CHOOSE(MONTH(tbldados[[#This Row],[DATA]]),\"JANEIRO\",\"FEVEREIRO\",\"MARÇO\",\"ABRIL\",\"MAIO\",\"JUNHO\",\"JULHO\",\"AGOSTO\",\"SETEMBRO\",\"OUTUBRO\",\"NOVEMBRO\",\"DEZEMBRO\")","v":"FEVEREIRO"},{"$f":"YEAR(tbldados[[#This Row],[DATA]])","v":2022}]
[140,"GASTOS","03 DE 05","STANLEY","JUNIOR","GERAL","FREE","CREDITO PARCELADO",{"$f":"VLOOKUP(tbldados[[#This Row],[APP]],tblbandeira[],3,0)","v":0},44200,44648,44,{"$f":"tbldados[[#This Row],[VALOR PAGO]]+(tbldados[[#This Row],[VALOR PAGO]]*tbldados[[#This Row],[TAXA]])","v":44},{"$f":"tbldados[[#This Row],[TOTAL BRUTO]]-tbldados[[#This Row],[VALOR PAGO]]","v":0},{"$f":"CHOOSE(MONTH(tbldados[[#This Row],[DATA]]),\"JANEIRO\",\"FEVEREIRO\",\"MARÇO\",\"ABRIL\",\"MAIO\",\"JUNHO\",\"JULHO\",\"AGOSTO\",\"SETEMBRO\",\"OUTUBRO\",\"NOVEMBRO\",\"DEZEMBRO\")","v":"MARÇO"},{"$f":"YEAR(tbldados[[#This Row],[DATA]])","v":2022}]
[141,"GASTOS","04 DE 05","STANLEY","JUNIOR","GERAL","FREE","CREDITO PARCELADO",{"$f":"VLOOKUP(tbldados[[#This Row],[APP]],tblbandeira[],3,0)","v":0},44200,44679,44,{"$f":"tbldados[[#This Row],[VALOR PAGO]]+(tbldados[[#This Row],[VALOR PAGO]]*tbldados[[#This Row],[TAXA]])","v":44},{"$f":"tbldados[[#This Row],[TOTAL BRUTO]]-tbldados[[#This Row],[VALOR PAGO]]","v":0},{"$f":"CHOOSE(MONTH(tbldados[[#This Row],[DATA]]),\"JANEIRO\",\"FEVEREIRO\",\"MARÇO\",\"ABRIL\",\"MAIO\",\"JUNHO\",\"JULHO\",\"AGOSTO\",\"SETEMBRO\",\"OUTUBRO\",\"NOVEMBRO\",\"DEZEMBRO\")","v":"ABRIL"},{"$f":"YEAR(tbldados[[#This Row],[DATA]])","v":2022}]
[142,"GASTOS","05 DE 05","STANLEY","JUNIOR","GERAL","FREE","CREDITO PARCELADO",{"$f":"VLOOKUP(tbldados[[#This Row],[APP]],tblbandeira[],3,0)","v":0},44200,44709,44,{"$f":"tbldados[[#This Row],[VALOR PAGO]]+(tbldados[[#This Row],[VALOR PAGO]]*tbldados[[#This Row],[TAXA]])","v":44},{"$f":"tbldados[[#This Row],[TOTAL BRUTO]]-tbldados[[#This Row],[VALOR PAGO]]","v":0},{"$f":"CHOOSE(MONTH(tbldados[[#This Row],[DATA]]),\"JANEIRO\",\"FEVEREIRO\",\"MARÇO\",\"ABRIL\",\"MAIO\",\"JUNHO\",\"JULHO\",\"AGOSTO\",\"SETEMBRO\",\"OUTUBRO\",\"NOVEMBRO\",\"DEZEMBRO\")","v":"MAIO"},{"$f":"YEAR(tbldados[[#This Row],[DATA]])","v":2022}]
[143,"GASTOS","01 DE 12","CELULAR","JUNIOR","GERAL","C6","CREDITO PARCELADO",{"$f":"VLOOKUP(tbldados[[#This Row],[APP]],tblbandeira[],3,0)","v":0},44562,44593,141.25,{"$f":"tbldados[[#This Row],[VALOR PAGO]]+(tbldados[[#This Row],[VALOR PAGO]]*tbldados[[#This Row],[TAXA]])","v":141.25},{"$f":"tbldados[[#This Row],[TOTAL BRUTO]]-tbldados[[#This Row],[VALOR PAGO]]","v":0},{"$f":"CHOOSE(MONTH(tbldados[[#This Row],[DATA]]),\"JANEIRO\",\"FEVEREIRO\",\"MARÇO\",\"ABRIL\",\"MAIO\",\"JUNHO\",\"JULHO\",\"AGOSTO\",\"SETEMBRO\",\"OUTUBRO\",\"NOVEMBRO\",\"DEZEMBRO\")","v":"FEVEREIRO"},{"$f":"YEAR(tbldados[[#This Row],[DATA]])","v":2022}]
[144,"GASTOS","02 DE 12","CELULAR","JUNIOR","GERAL","C6","CREDITO PARCELADO",{"$f":"VLOOKUP(tbldados[[#This Row],[APP]],tblbandeira[],3,0)","v":0},44562,44621,141.25,{"$f":"tbldados[[#This Row],[VALOR PAGO]]+(tbldados[[#This Row],[VALOR PAGO]]*tbldados[[#This Row],[TAXA]])","v":141.25},{"$f":"tbldados[[#This Row],[TOTAL BRUTO]]-tbldados[[#This Row],[VALOR PAGO]]","v":0},{"$f":"CHOOSE(MONTH(tbldados[[#This Row],[DATA]]),\"JANEIRO\",\"FEVEREIRO\",\"MARÇO\",\"ABRIL\",\"MAIO\",\"JUNHO\",\"JULHO\",\"AGOSTO\",\"SETEMBRO\",\"OUTUBRO\",\"NOVEMBRO\",\"DEZEMBRO\")","v":"MARÇO"},{"$f":"YEAR(tbldados[[#This Row],[DATA]])","v":2022}]
[145,"GASTOS","03 DE 12","CELULAR","JUNIOR","GERAL","C6","CREDITO PARCELADO",{"$f":"VLOOKUP(tbldados[[#This Row],[APP]],tblbandeira[],3,0)","v":0},44562,44652,141.25,{"$f":"tbldados[[#This Row],[VALOR PAGO]]+(tbldados[[#This Row],[VALOR PAGO]]*tbldados[[#This Row],[TAXA]])","v":141.25},{"$f":"tbldados[[#This Row],[TOTAL BRUTO]]-tbldados[[#This Row],[VALOR PAGO]]","v":0},{"$f":"CHOOSE(MONTH(tbldados[[#This Row],[DATA]]),\"JANEIRO\",\"FEVEREIRO\",\"MARÇO\",\"ABRIL\",\"MAIO\",\"JUNHO\",\"JULHO\",\"AGOSTO\",\"SETEMBRO\",\"OUTUBRO\",\"NOVEMBRO\",\"DEZEMBRO\")","v":"ABRIL"},{"$f":"YEAR(tbldados[[#This Row],[DATA]])","v":2022}]
[146,"GASTOS","04 DE 12","CELULAR","JUNIOR","GERAL","C6","CREDITO PARCELADO",{"$f":"VLOOKUP(tbldados[[#This Row],[APP]],tblbandeira[],3,0)","v":0},44562,44682,141.25,{"$f":"tbldados[[#This Row],[VALOR PAGO]]+(tbldados[[#This Row],[VALOR PAGO]]*tbldados[[#This Row],[TAXA]])","v":141.25},{"$f":"tbldados[[#This Row],[TOTAL BRUTO]]-tbldados[[#This Row],[VALOR PAGO]]","v":0},{"$f":"CHOOSE(MONTH(tbldados[[#This Row],[DATA]]),\"JANEIRO\",\"FEVEREIRO\",\"MARÇO\",\"ABRIL\",\"MAIO\",\"JUNHO\",\"JULHO\",\"AGOSTO\",\"SETEMBRO\",\"OUTUBRO\",\"NOVEMBRO\",\"DEZEMBRO\")","v":"MAIO"},{"$f":"YEAR(tbldados[[#This Row],[DATA]])","v":2022}]
[147,"GASTOS","05 DE 12","CELULAR","JUNIOR","GERAL","C6","CREDITO PARCELADO",{"$f":"VLOOKUP(tbldados[[#This Row],[APP]],tblbandeira[],3,0)","v":0},44562,44713,141.25,{"$f":"tbldados[[#This Row],[VALOR PAGO]]+(tbldados[[#This Row],[VALOR PAGO]]*tbldados[[#This Row],[TAXA]])","v":141.25},{"$f":"tbldados[[#This Row],[TOTAL BRUTO]]-tbldados[[#This Row],[VALOR PAGO]]","v":0},{"$f":"CHOOSE(MONTH(tbldados[[#This Row],[DATA]]),\"JANEIRO\",\"FEVEREIRO\",\"MARÇO\",\"ABRIL\",\"MAIO\",\"JUNHO\",\"JULHO\",\"AGOSTO\",\"SETEMBRO\",\"OUTUBRO\",\"NOVEMBRO\",\"DEZEMBRO\")","v":"JUNHO"},{"$f":"YEAR(tbldados[[#This Row],[DATA]])","v":2022}]
[148,"GASTOS","06 DE 12","CELULAR","JUNIOR","GERAL","C6","CREDITO PARCELADO",{"$f":"VLOOKUP(tbldados[[#This Row],[APP]],tblbandeira[],3,0)","v":0},44562,44743,141.25,{"$f":"tbldados[[#This Row],[VALOR PAGO]]+(tbldados[[#This Row],[VALOR PAGO]]*tbldados[[#This Row],[TAXA]])","v":141.25},{"$f":"tbldados[[#This Row],[TOTAL BRUTO]]-tbldados[[#This Row],[VALOR PAGO]]","v":0},{"$f":"CHOOSE(MONTH(tbldados[[#This Row],[DATA]]),\"JANEIRO\",\"FEVEREIRO\",\"MARÇO\",\"ABRIL\",\"MAIO\",\"JUNHO\",\"JULHO\",\"AGOSTO\",\"SETEMBRO\",\"OUTUBRO\",\"NOVEMBRO\",\"DEZEMBRO\")","v":"JULHO"},{"$f":"YEAR(tbldados[[#This Row],[DATA]])","v":2022}]
[149,"GASTOS","07 DE 12","CELULAR","JUNIOR","GERAL","C6","CREDITO PARCELADO",{"$f":"VLOOKUP(tbldados[[#This Row],[APP]],tblbandeira[],3,0)","v":0},44562,44774,141.25,{"$f":"tbldados[[#This Row],[VALOR PAGO]]+(tbldados[[#This Row],[VALOR PAGO]]*tbldados[[#This Row],[TAXA]])","v":141.25},{"$f":"tbldados[[#This Row],[TOTAL BRUTO]]-tbldados[[#This Row],[VALOR PAGO]]","v":0},{"$f":"CHOOSE(MONTH(tbldados[[#This Row],[DATA]]),\"JANEIRO\",\"FEVEREIRO\",\"MARÇO\",\"ABRIL\",\"MAIO\",\"JUNHO\",\"JULHO\",\"AGOSTO\",\"SETEMBRO\",\"OUTUBRO\",\"NOVEMBRO\",\"DEZEMBRO\")","v":"AGOSTO"},{"$f":"YEAR(tbldados[[#This Row],[DATA]])","v":2022}]
[150,"GASTOS","08 DE 12","CELULAR","JUNIOR","GERAL","C6","CREDITO PARCELADO",{"$f":"VLOOKUP(tbldados[[#This Row],[APP]],tblbandeira[],3,0)","v":0},44562,44805,141.25,{"$f":"tbldados[[#This Row],[VALOR PAGO]]+(tbldados[[#This Row],[VALOR PAGO]]*tbldados[[#This Row],[TAXA]])","v":141.25},{"$f":"tbldados[[#This Row],[TOTAL BRUTO]]-tbldados[[#This Row],[VALOR PAGO]]","v":0},{"$f":"CHOOSE(MONTH(tbldados[[#This Row],[DATA]]),\"JANEIRO\",\"FEVEREIRO\",\"MARÇO\",\"ABRIL\",\"MAIO\",\"JUNHO\",\"JULHO\",\"AGOSTO\",\"SETEMBRO\",\"OUTUBRO\",\"NOVEMBRO\",\"DEZEMBRO\")","v":"SETEMBRO"},{"$f":"YEAR(tbldados[[#This Row],[DATA]])","v":2022}]
[151,"GASTOS","09 DE 12","CELULAR","JUNIOR","GERAL","C6","CREDITO PARCELADO",{"$f":"VLOOKUP(tbldados[[#This Row],[APP]],tblbandeira[],3,0)","v":0},44562,44835,141.25,{"$f":"tbldados[[#This Row],[VALOR PAGO]]+(tbldados[[#This Row],[VALOR PAGO]]*tbldados[[#This Row],[TAXA]])","v":141.25},{"$f":"tbldados[[#This Row],[TOTAL BRUTO]]-tbldados[[#This Row],[VALOR PAGO]]","v":0},{"$f":"CHOOSE(MONTH(tbldados[[#This Row],[DATA]]),\"JANEIRO\",\"FEVEREIRO\",\"MARÇO\",\"ABRIL\",\"MAIO\",\"JUNHO\",\"JULHO\",\"AGOSTO\",\"SETEMBRO\",\"OUTUBRO\",\"NOVEMBRO\",\"DEZEMBRO\")","v":"OUTUBRO"},{"$f":"YEAR(tbldados[[#This Row],[DATA]])","v":2022}]
[152,"GASTOS","10 DE 12","CELULAR","JUNIOR","GERAL","C6","CREDITO PARCELADO",{"$f":"VLOOKUP(tbldados[[#This Row],[APP]],tblbandeira[],3,0)","v":0},44562,44866,141.25,{"$f":"tbldados[[#This Row],[VALOR PAGO]]+(tbldados[[#This Row],[VALOR PAGO]]*tbldados[[#This Row],[TAXA]])","v":141.25},{"$f":"tbldados[[#This Row],[TOTAL BRUTO]]-tbldados[[#This Row],[VALOR PAGO]]","v":0},{"$f":"CHOOSE(MONTH(tbldados[[#This Row],[DATA]]),\"JANEIRO\",\"FEVEREIRO\",\"MARÇO\",\"ABRIL\",\"MAIO\",\"JUNHO\",\"JULHO\",\"AGOSTO\",\"SETEMBRO\",\"OUTUBRO\",\"NOVEMBRO\",\"DEZEMBRO\")","v":"NOVEMBRO"},{"$f":"YEAR(tbldados[[#This Row],[DATA]])","v":2022}]
[153,"GASTOS","11 DE 12","CELULAR","JUNIOR","GERAL","C6","CREDITO PARCELADO",{"$f":"VLOOKUP(tbldados[[#This Row],[APP]],tblbandeira[],3,0)","v":0},44562,44896,141.25,{"$f":"tbldados[[#This Row],[VALOR PAGO]]+(tbldados[[#This Row],[VALOR PAGO]]*tbldados[[#This Row],[TAXA]])","v":141.25},{"$f":"tbldados[[#This Row],[TOTAL BRUTO]]-tbldados[[#This Row],[VALOR PAGO]]","v":0},{"$f":"CHOOSE(MONTH(tbldados[[#This Row],[DATA]]),\"JANEIRO\",\"FEVEREIRO\",\"MARÇO\",\"ABRIL\",\"MAIO\",\"JUNHO\",\"JULHO\",\"AGOSTO\",\"SETEMBRO\",\"OUTUBRO\",\"NOVEMBRO\",\"DEZEMBRO\")","v":"DEZEMBRO"},{"$f":"YEAR(tbldados[[#This Row],[DATA]])","v":2022}]
[154,"GASTOS","12 DE 12","CELULAR","JUNIOR","GERAL","C6","CREDITO PARCELADO",{"$f":"VLOOKUP(tbldados[[#This Row],[APP]],tblbandeira[],3,0)","v":0},44562,44927,141.25,{"$f":"tbldados[[#This Row],[VALOR PAGO]]+(tbldados[[#This Row],[VALOR PAGO]]*tbldados[[#This Row],[TAXA]])","v":141.25},{"$f":"tbldados[[#This Row],[TOTAL BRUTO]]-tbldados[[#This Row],[VALOR PAGO]]","v":0},{"$f":"CHOOSE(MONTH(tbldados[[#This Row],[DATA]]),\"JANEIRO\",\"FEVEREIRO\",\"MARÇO\",\"ABRIL\",\"MAIO\",\"JUNHO\",\"JULHO\",\"AGOSTO\",\"SETEMBRO\",\"OUTUBRO\",\"NOVEMBRO\",\"DEZEMBRO\")","v":"JANEIRO"},{"$f":"YEAR(tbldados[[#This Row],[DATA]])","v":2023}]
[155,"PGTO","01 DE 01","MELIUZ","JANEIRO","RECARGAPAY","C6","CREDITO A VISTA",{"$f":"VLOOKUP(tbldados[[#This Row],[APP]],tblbandeira[],3,0)","v":3.49E-2},44559,44593,983.9,{"$f":"tbldados[[#This Row],[VALOR PAGO]]+(tbldados[[#This Row],[VALOR PAGO]]*tbldados[[#This Row],[TAXA]])","v":1018.23811},{"$f":"tbldados[[#This Row],[TOTAL BRUTO]]-tbldados[[#This Row],[VALOR PAGO]]","v":34.338110000000029},{"$f":"CHOOSE(MONTH(tbldados[[#This Row],[DATA]]),\"JANEIRO\",\"FEVEREIRO\",\"MARÇO\",\"ABRIL\",\"MAIO\",\"JUNHO\",\"JULHO\",\"AGOSTO\",\"SETEMBRO\",\"OUTUBRO\",\"NOVEMBRO\",\"DEZEMBRO\")","v":"FEVEREIRO"},{"$f":"YEAR(tbldados[[#This Row],[DATA]])","v":2022}]
[156,"GASTOS","01 DE 01","PGTOMELIUZ","JUNIOR","RECARGAPAY","C6","CREDITO A VISTA",{"$f":"VLOOKUP(tbldados[[#This Row],[APP]],tblbandeira[],3,0)","v":3.49E-2},44559,44593,983.9,{"$f":"tbldados[[#This Row],[VALOR PAGO]]+(tbldados[[#This Row],[VALOR PAGO]]*tbldados[[#This Row],[TAXA]])","v":1018.23811},{"$f":"tbldados[[#This Row],[TOTAL BRUTO]]-tbldados[[#This Row],[VALOR PAGO]]","v":34.338110000000029},{"$f":"CHOOSE(MONTH(tbldados[[#This Row],[DATA]]),\"JANEIRO\",\"FEVEREIRO\",\"MARÇO\",\"ABRIL\",\"MAIO\",\"JUNHO\",\"JULHO\",\"AGOSTO\",\"SETEMBRO\",\"OUTUBRO\",\"NOVEMBRO\",\"DEZEMBRO\")","v":"FEVEREIRO"},{"$f":"YEAR(tbldados[[#This Row],[DATA]])","v":2022}]
[157,"PGTO","01 DE 01","ORIGINAL","JANEIRO","RECARGAPAY","PAN","CREDITO A VISTA",{"$f":"VLOOKUP(tbldados[[#This Row],[APP]],tblbandeira[],3,0)","v":3.49E-2},44564,44605,349.74,{"$f":"tbldados[[#This Row],[VALOR PAGO]]+(tbldados[[#This Row],[VALOR PAGO]]*tbldados[[#This Row],[TAXA]])","v":361.94592599999999},{"$f":"tbldados[[#This Row],[TOTAL BRUTO]]-tbldados[[#This Row],[VALOR PAGO]]","v":12.205925999999977},{"$f":"CHOOSE(MONTH(tbldados[[#This Row],[DATA]]),\"JANEIRO\",\"FEVEREIRO\",\"MARÇO\",\"ABRIL\",\"MAIO\",\"JUNHO\",\"JULHO\",\"AGOSTO\",\"SETEMBRO\",\"OUTUBRO\",\"NOVEMBRO\",\"DEZEMBRO\")","v":"FEVEREIRO"},{"$f":"YEAR(tbldados[[#This Row],[DATA]])","v":2022}]
[158,"GASTOS","01 DE 01","PGTORIGINAL","JUNIOR","RECARGAPAY","PAN","CREDITO A VISTA",{"$f":"VLOOKUP(tbldados[[#This Row],[APP]],tblbandeira[],3,0)","v":3.49E-2},44564,44605,349.74,{"$f":"tbldados[[#This Row],[VALOR PAGO]]+(tbldados[[#This Row],[VALOR PAGO]]*tbldados[[#This Row],[TAXA]])","v":361.94592599999999},{"$f":"tbldados[[#This Row],[TOTAL BRUTO]]-tbldados[[#This Row],[VALOR PAGO]]","v":12.205925999999977},{"$f":"CHOOSE(MONTH(tbldados[[#This Row],[DATA]]),\"JANEIRO\",\"FEVEREIRO\",\"MARÇO\",\"ABRIL\",\"MAIO\",\"JUNHO\",\"JULHO\",\"AGOSTO\",\"SETEMBRO\",\"OUTUBRO\",\"NOVEMBRO\",\"DEZEMBRO\")","v":"FEVEREIRO"},{"$f":"YEAR(tbldados[[#This Row],[DATA]])","v":2022}]
[159,"PGTO","01 DE 01","ORIGINAL","JANEIRO","CONTA","DÉBITO","DINHEIRO",{"$f":"VLOOKUP(tbldados[[#This Row],[APP]],tblbandeira[],3,0)","v":0},44564,44564,12.9,{"$f":"tbldados[[#This Row],[VALOR PAGO]]+(tbldados[[#This Row],[VALOR PAGO]]*tbldados[[#This Row],[TAXA]])","v":12.9},{"$f":"tbldados[[#This Row],[TOTAL BRUTO]]-tbldados[[#This Row],[VALOR PAGO]]","v":0},{"$f":"CHOOSE(MONTH(tbldados[[#This Row],[DATA]]),\"JANEIRO\",\"FEVEREIRO\",\"MARÇO\",\"ABRIL\",\"MAIO\",\"JUNHO\",\"JULHO\",\"AGOSTO\",\"SETEMBRO\",\"OUTUBRO\",\"NOVEMBRO\",\"DEZEMBRO\")","v":"JANEIRO"},{"$f":"YEAR(tbldados[[#This Row],[DATA]])","v":2022}]
[160,"GASTOS","01 DE 01","PGTOZERO","JUNIOR","RECARGAPAY","ZERO","CREDITO A VISTA",{"$f":"VLOOKUP(tbldados[[#This Row],[APP]],tblbandeira[],3,0)","v":3.49E-2},44564,44595,363.96,{"$f":"tbldados[[#This Row],[VALOR PAGO]]+(tbldados[[#This Row],[VALOR PAGO]]*tbldados[[#This Row],[TAXA]])","v":376.66220399999997},{"$f":"tbldados[[#This Row],[TOTAL BRUTO]]-tbldados[[#This Row],[VALOR PAGO]]","v":12.702203999999995},{"$f":"CHOOSE(MONTH(tbldados[[#This Row],[DATA]]),\"JANEIRO\",\"FEVEREIRO\",\"MARÇO\",\"ABRIL\",\"MAIO\",\"JUNHO\",\"JULHO\",\"AGOSTO\",\"SETEMBRO\",\"OUTUBRO\",\"NOVEMBRO\",\"DEZEMBRO\")","v":"FEVEREIRO"},{"$f":"YEAR(tbldados[[#This Row],[DATA]])","v":2022}]
[161,"PGTO","01 DE 01","AZUL","JANEIRO","GERAL","ZERO","CREDITO A VISTA",{"$f":"VLOOKUP(tbldados[[#This Row],[APP]],tblbandeira[],3,0)","v":0},44565,44595,1225.1600000000001,{"$f":"tbldados[[#This Row],[VALOR PAGO]]+(tbldados[[#This Row],[VALOR PAGO]]*tbldados[[#This Row],[TAXA]])","v":1225.1600000000001},{"$f":"tbldados[[#This Row],[TOTAL BRUTO]]-tbldados[[#This Row],[VALOR PAGO]]","v":0},{"$f":"CHOOSE(MONTH(tbldados[[#This Row],[DATA]]),\"JANEIRO\",\"FEVEREIRO\",\"MARÇO\",\"ABRIL\",\"MAIO\",\"JUNHO\",\"JULHO\",\"AGOSTO\",\"SETEMBRO\",\"OUTUBRO\",\"NOVEMBRO\",\"DEZEMBRO\")","v":"FEVEREIRO"},{"$f":"YEAR(tbldados[[#This Row],[DATA]])","v":2022}]
[162,"GASTOS","01 DE 01","JUROSPAY","JUNIOR","GERAL","INTER","CREDITO A VISTA",{"$f":"VLOOKUP(tbldados[[#This Row],[APP]],tblbandeira[],3,0)","v":0},44565,44576,19.989999999999998,{"$f":"tbldados[[#This Row],[VALOR PAGO]]+(tbldados[[#This Row],[VALOR PAGO]]*tbldados[[#This Row],[TAXA]])","v":19.989999999999998},{"$f":"tbldados[[#This Row],[TOTAL BRUTO]]-tbldados[[#This Row],[VALOR PAGO]]","v":0},{"$f":"CHOOSE(MONTH(tbldados[[#This Row],[DATA]]),\"JANEIRO\",\"FEVEREIRO\",\"MARÇO\",\"ABRIL\",\"MAIO\",\"JUNHO\",\"JULHO\",\"AGOSTO\",\"SETEMBRO\",\"OUTUBRO\",\"NOVEMBRO\",\"DEZEMBRO\")","v":"JANEIRO"},{"$f":"YEAR(tbldados[[#This Row],[DATA]])","v":2022}]
[163,"PGTO","01 DE 01","ZERO","JANEIRO","RECARGAPAY","PANMAE","CREDITO A VISTA",{"$f":"VLOOKUP(tbldados[[#This Row],[APP]],tblbandeira[],3,0)","v":3.49E-2},44564,44578,1236.04,{"$f":"tbldados[[#This Row],[VALOR PAGO]]+(tbldados[[#This Row],[VALOR PAGO]]*tbldados[[#This Row],[TAXA]])","v":1279.1777959999999},{"$f":"tbldados[[#This Row],[TOTAL BRUTO]]-tbldados[[#This Row],[VALOR PAGO]]","v":43.13779599999998},{"$f":"CHOOSE(MONTH(tbldados[[#This Row],[DATA]]),\"JANEIRO\",\"FEVEREIRO\",\"MARÇO\",\"ABRIL\",\"MAIO\",\"JUNHO\",\"JULHO\",\"AGOSTO\",\"SETEMBRO\",\"OUTUBRO\",\"NOVEMBRO\",\"DEZEMBRO\")","v":"JANEIRO"},{"$f":"YEAR(tbldados[[#This Row],[DATA]])","v":2022}]
[164,"GASTOS","01 DE 01","PGTOZERO","JUNIOR","RECARGAPAY","PANMAE","CREDITO A VISTA",{"$f":"VLOOKUP(tbldados[[#This Row],[APP]],tblbandeira[],3,0)","v":3.49E-2},44564,44578,1236.04,{"$f":"tbldados[[#This Row],[VALOR PAGO]]+(tbldados[[#This Row],[VALOR PAGO]]*tbldados[[#This Row],[TAXA]])","v":1279.1777959999999},{"$f":"tbldados[[#This Row],[TOTAL BRUTO]]-tbldados[[#This Row],[VALOR PAGO]]","v":43.13779599999998},{"$f":"CHOOSE(MONTH(tbldados[[#This Row],[DATA]]),\"JANEIRO\",\"FEVEREIRO\",\"MARÇO\",\"ABRIL\",\"MAIO\",\"JUNHO\",\"JULHO\",\"AGOSTO\",\"SETEMBRO\",\"OUTUBRO\",\"NOVEMBRO\",\"DEZEMBRO\")","v":"JANEIRO"},{"$f":"YEAR(tbldados[[#This Row],[DATA]])","v":2022}]
[165,"GASTOS","01 DE 01","PGTOAZUL","JUNIOR","GERAL","ZERO","CREDITO A VISTA",{"$f":"VLOOKUP(tbldados[[#This Row],[APP]],tblbandeira[],3,0)","v":0},44565,44595,1225.1600000000001,{"$f":"tbldados[[#This Row],[VALOR PAGO]]+(tbldados[[#This Row],[VALOR PAGO]]*tbldados[[#This Row],[TAXA]])","v":1225.1600000000001},{"$f":"tbldados[[#This Row],[TOTAL BRUTO]]-tbldados[[#This Row],[VALOR PAGO]]","v":0},{"$f":"CHOOSE(MONTH(tbldados[[#This Row],[DATA]]),\"JANEIRO\",\"FEVEREIRO\",\"MARÇO\",\"ABRIL\",\"MAIO\",\"JUNHO\",\"JULHO\",\"AGOSTO\",\"SETEMBRO\",\"OUTUBRO\",\"NOVEMBRO\",\"DEZEMBRO\")","v":"FEVEREIRO"},{"$f":"YEAR(tbldados[[#This Row],[DATA]])","v":2022}]
[166,"GASTOS","01 DE 01","ANUIDADE","JUNIOR","GERAL","NCARD","CREDITO A VISTA",{"$f":"VLOOKUP(tbldados[[#This Row],[APP]],tblbandeira[],3,0)","v":0},44539,44570,17.899999999999999,{"$f":"tbldados[[#This Row],[VALOR PAGO]]+(tbldados[[#This Row],[VALOR PAGO]]*tbldados[[#This Row],[TAXA]])","v":17.899999999999999},{"$f":"tbldados[[#This Row],[TOTAL BRUTO]]-tbldados[[#This Row],[VALOR PAGO]]","v":0},{"$f":"CHOOSE(MONTH(tbldados[[#This Row],[DATA]]),\"JANEIRO\",\"FEVEREIRO\",\"MARÇO\",\"ABRIL\",\"MAIO\",\"JUNHO\",\"JULHO\",\"AGOSTO\",\"SETEMBRO\",\"OUTUBRO\",\"NOVEMBRO\",\"DEZEMBRO\")","v":"JANEIRO"},{"$f":"YEAR(tbldados[[#This Row],[DATA]])","v":2022}]
[167,"PGTO","01 DE 01","AZUL","JANEIRO","RECARGAPAY","AZUL","CREDITO A VISTA",{"$f":"VLOOKUP(tbldados[[#This Row],[APP]],tblbandeira[],3,0)","v":3.49E-2},44566,44598,924.84,{"$f":"tbldados[[#This Row],[VALOR PAGO]]+(tbldados[[#This Row],[VALOR PAGO]]*tbldados[[#This Row],[TAXA]])","v":957.11691600000006},{"$f":"tbldados[[#This Row],[TOTAL BRUTO]]-tbldados[[#This Row],[VALOR PAGO]]","v":32.276916000000028},{"$f":"CHOOSE(MONTH(tbldados[[#This Row],[DATA]]),\"JANEIRO\",\"FEVEREIRO\",\"MARÇO\",\"ABRIL\",\"MAIO\",\"JUNHO\",\"JULHO\",\"AGOSTO\",\"SETEMBRO\",\"OUTUBRO\",\"NOVEMBRO\",\"DEZEMBRO\")","v":"FEVEREIRO"},{"$f":"YEAR(tbldados[[#This Row],[DATA]])","v":2022}]
[168,"PGTO","01 DE 01","NCARD","JANEIRO","RECARGAPAY","AZUL","CREDITO A VISTA",{"$f":"VLOOKUP(tbldados[[#This Row],[APP]],tblbandeira[],3,0)","v":3.49E-2},44566,44598,264.77,{"$f":"tbldados[[#This Row],[VALOR PAGO]]+(tbldados[[#This Row],[VALOR PAGO]]*tbldados[[#This Row],[TAXA]])","v":274.01047299999999},{"$f":"tbldados[[#This Row],[TOTAL BRUTO]]-tbldados[[#This Row],[VALOR PAGO]]","v":9.2404730000000086},{"$f":"CHOOSE(MONTH(tbldados[[#This Row],[DATA]]),\"JANEIRO\",\"FEVEREIRO\",\"MARÇO\",\"ABRIL\",\"MAIO\",\"JUNHO\",\"JULHO\",\"AGOSTO\",\"SETEMBRO\",\"OUTUBRO\",\"NOVEMBRO\",\"DEZEMBRO\")","v":"FEVEREIRO"},{"$f":"YEAR(tbldados[[#This Row],[DATA]])","v":2022}]
[169,"GASTOS","01 DE 01","PGTOAZULNCARD","JUNIOR","RECARGAPAY","AZUL","CREDITO A VISTA",{"$f":"VLOOKUP(tbldados[[#This Row],[APP]],tblbandeira[],3,0)","v":3.49E-2},44566,44598,1189.5999999999999,{"$f":"tbldados[[#This Row],[VALOR PAGO]]+(tbldados[[#This Row],[VALOR PAGO]]*tbldados[[#This Row],[TAXA]])","v":1231.1170399999999},{"$f":"tbldados[[#This Row],[TOTAL BRUTO]]-tbldados[[#This Row],[VALOR PAGO]]","v":41.517039999999952},{"$f":"CHOOSE(MONTH(tbldados[[#This Row],[DATA]]),\"JANEIRO\",\"FEVEREIRO\",\"MARÇO\",\"ABRIL\",\"MAIO\",\"JUNHO\",\"JULHO\",\"AGOSTO\",\"SETEMBRO\",\"OUTUBRO\",\"NOVEMBRO\",\"DEZEMBRO\")","v":"FEVEREIRO"},{"$f":"YEAR(tbldados[[#This Row],[DATA]])","v":2022}]
[170,"PGTO","01 DE 01","NCARD","JANEIRO","RECARGAPAY","AZUL","CREDITO A VISTA",{"$f":"VLOOKUP(tbldados[[#This Row],[APP]],tblbandeira[],3,0)","v":3.49E-2},44566,44598,897.98,{"$f":"tbldados[[#This Row],[VALOR PAGO]]+(tbldados[[#This Row],[VALOR PAGO]]*tbldados[[#This Row],[TAXA]])","v":929.31950200000006},{"$f":"tbldados[[#This Row],[TOTAL BRUTO]]-tbldados[[#This Row],[VALOR PAGO]]","v":31.339502000000039},{"$f":"CHOOSE(MONTH(tbldados[[#This Row],[DATA]]),\"JANEIRO\",\"FEVEREIRO\",\"MARÇO\",\"ABRIL\",\"MAIO\",\"JUNHO\",\"JULHO\",\"AGOSTO\",\"SETEMBRO\",\"OUTUBRO\",\"NOVEMBRO\",\"DEZEMBRO\")","v":"FEVEREIRO"},{"$f":"YEAR(tbldados[[#This Row],[DATA]])","v":2022}]
[171,"PGTO","01 DE 01","NCARD","JANEIRO","CONTA","DÉBITO","DINHEIRO",{"$f":"VLOOKUP(tbldados[[#This Row],[APP]],tblbandeira[],3,0)","v":0},44566,44566,16.61,{"$f":"tbldados[[#This Row],[VALOR PAGO]]+(tbldados[[#This Row],[VALOR PAGO]]*tbldados[[#This Row],[TAXA]])","v":16.61},{"$f":"tbldados[[#This Row],[TOTAL BRUTO]]-tbldados[[#This Row],[VALOR PAGO]]","v":0},{"$f":"CHOOSE(MONTH(tbldados[[#This Row],[DATA]]),\"JANEIRO\",\"FEVEREIRO\",\"MARÇO\",\"ABRIL\",\"MAIO\",\"JUNHO\",\"JULHO\",\"AGOSTO\",\"SETEMBRO\",\"OUTUBRO\",\"NOVEMBRO\",\"DEZEMBRO\")","v":"JANEIRO"},{"$f":"YEAR(tbldados[[#This Row],[DATA]])","v":2022}]
[172,"PGTO","01 DE 01","NCARD","JANEIRO","RECARGAPAY","NCARD","CREDITO A VISTA",{"$f":"VLOOKUP(tbldados[[#This Row],[APP]],tblbandeira[],3,0)","v":3.49E-2},44566,44601,438.54,{"$f":"tbldados[[#This Row],[VALOR PAGO]]+(tbldados[[#This Row],[VALOR PAGO]]*tbldados[[#This Row],[TAXA]])","v":453.84504600000002},{"$f":"tbldados[[#This Row],[TOTAL BRUTO]]-tbldados[[#This Row],[VALOR PAGO]]","v":15.305046000000004},{"$f":"CHOOSE(MONTH(tbldados[[#This Row],[DATA]]),\"JANEIRO\",\"FEVEREIRO\",\"MARÇO\",\"ABRIL\",\"MAIO\",\"JUNHO\",\"JULHO\",\"AGOSTO\",\"SETEMBRO\",\"OUTUBRO\",\"NOVEMBRO\",\"DEZEMBRO\")","v":"FEVEREIRO"},{"$f":"YEAR(tbldados[[#This Row],[DATA]])","v":2022}]
[173,"GASTOS","01 DE 01","PGTONCARD","JUNIOR","RECARGAPAY","NCARD","CREDITO A VISTA",{"$f":"VLOOKUP(tbldados[[#This Row],[APP]],tblbandeira[],3,0)","v":3.49E-2},44566,44601,438.54,{"$f":"tbldados[[#This Row],[VALOR PAGO]]+(tbldados[[#This Row],[VALOR PAGO]]*tbldados[[#This Row],[TAXA]])","v":453.84504600000002},{"$f":"tbldados[[#This Row],[TOTAL BRUTO]]-tbldados[[#This Row],[VALOR PAGO]]","v":15.305046000000004},{"$f":"CHOOSE(MONTH(tbldados[[#This Row],[DATA]]),\"JANEIRO\",\"FEVEREIRO\",\"MARÇO\",\"ABRIL\",\"MAIO\",\"JUNHO\",\"JULHO\",\"AGOSTO\",\"SETEMBRO\",\"OUTUBRO\",\"NOVEMBRO\",\"DEZEMBRO\")","v":"FEVEREIRO"},{"$f":"YEAR(tbldados[[#This Row],[DATA]])","v":2022}]
[174,"GASTOS","01 DE 01","PGTONCARD","JUNIOR","RECARGAPAY","AZUL","CREDITO A VISTA",{"$f":"VLOOKUP(tbldados[[#This Row],[APP]],tblbandeira[],3,0)","v":3.49E-2},44566,44598,897.98,{"$f":"tbldados[[#This Row],[VALOR PAGO]]+(tbldados[[#This Row],[VALOR PAGO]]*tbldados[[#This Row],[TAXA]])","v":929.31950200000006},{"$f":"tbldados[[#This Row],[TOTAL BRUTO]]-tbldados[[#This Row],[VALOR PAGO]]","v":31.339502000000039},{"$f":"CHOOSE(MONTH(tbldados[[#This Row],[DATA]]),\"JANEIRO\",\"FEVEREIRO\",\"MARÇO\",\"ABRIL\",\"MAIO\",\"JUNHO\",\"JULHO\",\"AGOSTO\",\"SETEMBRO\",\"OUTUBRO\",\"NOVEMBRO\",\"DEZEMBRO\")","v":"FEVEREIRO"},{"$f":"YEAR(tbldados[[#This Row],[DATA]])","v":2022}]
[175,"PGTO","01 DE 01","PAGMAE","JANEIRO","CONTA","DÉBITO","DINHEIRO",{"$f":"VLOOKUP(tbldados[[#This Row],[APP]],tblbandeira[],3,0)","v":0},44567,44567,50,{"$f":"tbldados[[#This Row],[VALOR PAGO]]+(tbldados[[#This Row],[VALOR PAGO]]*tbldados[[#This Row],[TAXA]])","v":50},{"$f":"tbldados[[#This Row],[TOTAL BRUTO]]-tbldados[[#This Row],[VALOR PAGO]]","v":0},{"$f":"CHOOSE(MONTH(tbldados[[#This Row],[DATA]]),\"JANEIRO\",\"FEVEREIRO\",\"MARÇO\",\"ABRIL\",\"MAIO\",\"JUNHO\",\"JULHO\",\"AGOSTO\",\"SETEMBRO\",\"OUTUBRO\",\"NOVEMBRO\",\"DEZEMBRO\")","v":"JANEIRO"},{"$f":"YEAR(tbldados[[#This Row],[DATA]])","v":2022}]
[176,"PGTO","01 DE 01","PAGMAE","JANEIRO","GERAL","C6MAE","CREDITO A VISTA",{"$f":"VLOOKUP(tbldados[[#This Row],[APP]],tblbandeira[],3,0)","v":0},44566,44597,110,{"$f":"tbldados[[#This Row],[VALOR PAGO]]+(tbldados[[#This Row],[VALOR PAGO]]*tbldados[[#This Row],[TAXA]])","v":110},{"$f":"tbldados[[#This Row],[TOTAL BRUTO]]-tbldados[[#This Row],[VALOR PAGO]]","v":0},{"$f":"CHOOSE(MONTH(tbldados[[#This Row],[DATA]]),\"JANEIRO\",\"FEVEREIRO\",\"MARÇO\",\"ABRIL\",\"MAIO\",\"JUNHO\",\"JULHO\",\"AGOSTO\",\"SETEMBRO\",\"OUTUBRO\",\"NOVEMBRO\",\"DEZEMBRO\")","v":"FEVEREIRO"},{"$f":"YEAR(tbldados[[#This Row],[DATA]])","v":2022}]
[177,"GASTOS","01 DE 01","PGTOPAGMAE","JUNIOR","GERAL","C6MAE","CREDITO A VISTA",{"$f":"VLOOKUP(tbldados[[#This Row],[APP]],tblbandeira[],3,0)","v":0},44566,44597,110,{"$f":"tbldados[[#This Row],[VALOR PAGO]]+(tbldados[[#This Row],[VALOR PAGO]]*tbldados[[#This Row],[TAXA]])","v":110},{"$f":"tbldados[[#This Row],[TOTAL BRUTO]]-tbldados[[#This Row],[VALOR PAGO]]","v":0},{"$f":"CHOOSE(MONTH(tbldados[[#This Row],[DATA]]),\"JANEIRO\",\"FEVEREIRO\",\"MARÇO\",\"ABRIL\",\"MAIO\",\"JUNHO\",\"JULHO\",\"AGOSTO\",\"SETEMBRO\",\"OUTUBRO\",\"NOVEMBRO\",\"DEZEMBRO\")","v":"FEVEREIRO"},{"$f":"YEAR(tbldados[[#This Row],[DATA]])","v":2022}]
[178,"PGTO","01 DE 01","PAGMAE","JANEIRO","RECARGAPAY","NCARD","CREDITO A VISTA",{"$f":"VLOOKUP(tbldados[[#This Row],[APP]],tblbandeira[],3,0)","v":3.49E-2},44567,44601,1097.55,{"$f":"tbldados[[#This Row],[VALOR PAGO]]+(tbldados[[#This Row],[VALOR PAGO]]*tbldados[[#This Row],[TAXA]])","v":1135.854495},{"$f":"tbldados[[#This Row],[TOTAL BRUTO]]-tbldados[[#This Row],[VALOR PAGO]]","v":38.304495000000088},{"$f":"CHOOSE(MONTH(tbldados[[#This Row],[DATA]]),\"JANEIRO\",\"FEVEREIRO\",\"MARÇO\",\"ABRIL\",\"MAIO\",\"JUNHO\",\"JULHO\",\"AGOSTO\",\"SETEMBRO\",\"OUTUBRO\",\"NOVEMBRO\",\"DEZEMBRO\")","v":"FEVEREIRO"},{"$f":"YEAR(tbldados[[#This Row],[DATA]])","v":2022}]
[179,"GASTOS","01 DE 01","PGTOC6MAE","JUNIOR","GERAL","PAGMAE","CREDITO A VISTA",{"$f":"VLOOKUP(tbldados[[#This Row],[APP]],tblbandeira[],3,0)","v":0},44566,44602,110,{"$f":"tbldados[[#This Row],[VALOR PAGO]]+(tbldados[[#This Row],[VALOR PAGO]]*tbldados[[#This Row],[TAXA]])","v":110},{"$f":"tbldados[[#This Row],[TOTAL BRUTO]]-tbldados[[#This Row],[VALOR PAGO]]","v":0},{"$f":"CHOOSE(MONTH(tbldados[[#This Row],[DATA]]),\"JANEIRO\",\"FEVEREIRO\",\"MARÇO\",\"ABRIL\",\"MAIO\",\"JUNHO\",\"JULHO\",\"AGOSTO\",\"SETEMBRO\",\"OUTUBRO\",\"NOVEMBRO\",\"DEZEMBRO\")","v":"FEVEREIRO"},{"$f":"YEAR(tbldados[[#This Row],[DATA]])","v":2022}]
[180,"PGTO","01 DE 01","PAGMAE","JANEIRO","GERAL","PAGMAE","CREDITO A VISTA",{"$f":"VLOOKUP(tbldados[[#This Row],[APP]],tblbandeira[],3,0)","v":0},44567,44602,1280,{"$f":"tbldados[[#This Row],[VALOR PAGO]]+(tbldados[[#This Row],[VALOR PAGO]]*tbldados[[#This Row],[TAXA]])","v":1280},{"$f":"tbldados[[#This Row],[TOTAL BRUTO]]-tbldados[[#This Row],[VALOR PAGO]]","v":0},{"$f":"CHOOSE(MONTH(tbldados[[#This Row],[DATA]]),\"JANEIRO\",\"FEVEREIRO\",\"MARÇO\",\"ABRIL\",\"MAIO\",\"JUNHO\",\"JULHO\",\"AGOSTO\",\"SETEMBRO\",\"OUTUBRO\",\"NOVEMBRO\",\"DEZEMBRO\")","v":"FEVEREIRO"},{"$f":"YEAR(tbldados[[#This Row],[DATA]])","v":2022}]
[181,"GASTOS","01 DE 01","PGTOMAE4","JUNIOR","GERAL","PAGMAE","CREDITO A VISTA",{"$f":"VLOOKUP(tbldados[[#This Row],[APP]],tblbandeira[],3,0)","v":0},44567,44602,1280,{"$f":"tbldados[[#This Row],[VALOR PAGO]]+(tbldados[[#This Row],[VALOR PAGO]]*tbldados[[#This Row],[TAXA]])","v":1280},{"$f":"tbldados[[#This Row],[TOTAL BRUTO]]-tbldados[[#This Row],[VALOR PAGO]]","v":0},{"$f":"CHOOSE(MONTH(tbldados[[#This Row],[DATA]]),\"JANEIRO\",\"FEVEREIRO\",\"MARÇO\",\"ABRIL\",\"MAIO\",\"JUNHO\",\"JULHO\",\"AGOSTO\",\"SETEMBRO\",\"OUTUBRO\",\"NOVEMBRO\",\"DEZEMBRO\")","v":"FEVEREIRO"},{"$f":"YEAR(tbldados[[#This Row],[DATA]])","v":2022}]
[182,"PGTO","01 DE 01","PAGMAE","JANEIRO","RECARGAPAY","PAGMAE","CREDITO A VISTA",{"$f":"VLOOKUP(tbldados[[#This Row],[APP]],tblbandeira[],3,0)","v":3.49E-2},44569,44602,1753.85,{"$f":"tbldados[[#This Row],[VALOR PAGO]]+(tbldados[[#This Row],[VALOR PAGO]]*tbldados[[#This Row],[TAXA]])","v":1815.0593649999998},{"$f":"tbldados[[#This Row],[TOTAL BRUTO]]-tbldados[[#This Row],[VALOR PAGO]]","v":61.209364999999934},{"$f":"CHOOSE(MONTH(tbldados[[#This Row],[DATA]]),\"JANEIRO\",\"FEVEREIRO\",\"MARÇO\",\"ABRIL\",\"MAIO\",\"JUNHO\",\"JULHO\",\"AGOSTO\",\"SETEMBRO\",\"OUTUBRO\",\"NOVEMBRO\",\"DEZEMBRO\")","v":"FEVEREIRO"},{"$f":"YEAR(tbldados[[#This Row],[DATA]])","v":2022}]
[183,"GASTOS","01 DE 01","PGTOPAGMAE","JUNIOR","RECARGAPAY","PAGMAE","CREDITO A VISTA",{"$f":"VLOOKUP(tbldados[[#This Row],[APP]],tblbandeira[],3,0)","v":3.49E-2},44569,44602,1753.85,{"$f":"tbldados[[#This Row],[VALOR PAGO]]+(tbldados[[#This Row],[VALOR PAGO]]*tbldados[[#This Row],[TAXA]])","v":1815.0593649999998},{"$f":"tbldados[[#This Row],[TOTAL BRUTO]]-tbldados[[#This Row],[VALOR PAGO]]","v":61.209364999999934},{"$f":"CHOOSE(MONTH(tbldados[[#This Row],[DATA]]),\"JANEIRO\",\"FEVEREIRO\",\"MARÇO\",\"ABRIL\",\"MAIO\",\"JUNHO\",\"JULHO\",\"AGOSTO\",\"SETEMBRO\",\"OUTUBRO\",\"NOVEMBRO\",\"DEZEMBRO\")","v":"FEVEREIRO"},{"$f":"YEAR(tbldados[[#This Row],[DATA]])","v":2022}]
[184,"PGTO","01 DE 01","PAGMAE","JANEIRO","RECARGAPAY","PAGMAE","CREDITO A VISTA",{"$f":"VLOOKUP(tbldados[[#This Row],[APP]],tblbandeira[],3,0)","v":3.49E-2},44570,44602,1753.84,{"$f":"tbldados[[#This Row],[VALOR PAGO]]+(tbldados[[#This Row],[VALOR PAGO]]*tbldados[[#This Row],[TAXA]])","v":1815.0490159999999},{"$f":"tbldados[[#This Row],[TOTAL BRUTO]]-tbldados[[#This Row],[VALOR PAGO]]","v":61.20901600000002},{"$f":"CHOOSE(MONTH(tbldados[[#This Row],[DATA]]),\"JANEIRO\",\"FEVEREIRO\",\"MARÇO\",\"ABRIL\",\"MAIO\",\"JUNHO\",\"JULHO\",\"AGOSTO\",\"SETEMBRO\",\"OUTUBRO\",\"NOVEMBRO\",\"DEZEMBRO\")","v":"FEVEREIRO"},{"$f":"YEAR(tbldados[[#This Row],[DATA]])","v":2022}]
[185,"GASTOS","01 DE 01","PGTOPAGMAE","JUNIOR","RECARGAPAY","PAGMAE","CREDITO A VISTA",{"$f":"VLOOKUP(tbldados[[#This Row],[APP]],tblbandeira[],3,0)","v":3.49E-2},44570,44602,1753.84,{"$f":"tbldados[[#This Row],[VALOR PAGO]]+(tbldados[[#This Row],[VALOR PAGO]]*tbldados[[#This Row],[TAXA]])","v":1815.0490159999999},{"$f":"tbldados[[#This Row],[TOTAL BRUTO]]-tbldados[[#This Row],[VALOR PAGO]]","v":61.20901600000002},{"$f":"CHOOSE(MONTH(tbldados[[#This Row],[DATA]]),\"JANEIRO\",\"FEVEREIRO\",\"MARÇO\",\"ABRIL\",\"MAIO\",\"JUNHO\",\"JULHO\",\"AGOSTO\",\"SETEMBRO\",\"OUTUBRO\",\"NOVEMBRO\",\"DEZEMBRO\")","v":"FEVEREIRO"},{"$f":"YEAR(tbldados[[#This Row],[DATA]])","v":2022}]
[186,"GASTOS","01 DE 01","COMIDA","JUNIOR","GERAL","BMG","CREDITO A VISTA",{"$f":"VLOOKUP(tbldados[[#This Row],[APP]],tblbandeira[],3,0)","v":0},44569,44586,337.97,{"$f":"tbldados[[#This Row],[VALOR PAGO]]+(tbldados[[#This Row],[VALOR PAGO]]*tbldados[[#This Row],[TAXA]])","v":337.97},{"$f":"tbldados[[#This Row],[TOTAL BRUTO]]-tbldados[[#This Row],[VALOR PAGO]]","v":0},{"$f":"CHOOSE(MONTH(tbldados[[#This Row],[DATA]]),\"JANEIRO\",\"FEVEREIRO\",\"MARÇO\",\"ABRIL\",\"MAIO\",\"JUNHO\",\"JULHO\",\"AGOSTO\",\"SETEMBRO\",\"OUTUBRO\",\"NOVEMBRO\",\"DEZEMBRO\")","v":"JANEIRO"},{"$f":"YEAR(tbldados[[#This Row],[DATA]])","v":2022}]
[187,"PGTO","01 DE 01","NUBANK","JANEIRO","RECARGAPAY","PAGMAE","CREDITO A VISTA",{"$f":"VLOOKUP(tbldados[[#This Row],[APP]],tblbandeira[],3,0)","v":3.49E-2},44571,44602,1250,{"$f":"tbldados[[#This Row],[VALOR PAGO]]+(tbldados[[#This Row],[VALOR PAGO]]*tbldados[[#This Row],[TAXA]])","v":1293.625},{"$f":"tbldados[[#This Row],[TOTAL BRUTO]]-tbldados[[#This Row],[VALOR PAGO]]","v":43.625},{"$f":"CHOOSE(MONTH(tbldados[[#This Row],[DATA]]),\"JANEIRO\",\"FEVEREIRO\",\"MARÇO\",\"ABRIL\",\"MAIO\",\"JUNHO\",\"JULHO\",\"AGOSTO\",\"SETEMBRO\",\"OUTUBRO\",\"NOVEMBRO\",\"DEZEMBRO\")","v":"FEVEREIRO"},{"$f":"YEAR(tbldados[[#This Row],[DATA]])","v":2022}]
[188,"GASTOS","01 DE 01","PGTONUBANK","JUNIOR","RECARGAPAY","PAGMAE","CREDITO A VISTA",{"$f":"VLOOKUP(tbldados[[#This Row],[APP]],tblbandeira[],3,0)","v":3.49E-2},44571,44602,1250,{"$f":"tbldados[[#This Row],[VALOR PAGO]]+(tbldados[[#This Row],[VALOR PAGO]]*tbldados[[#This Row],[TAXA]])","v":1293.625},{"$f":"tbldados[[#This Row],[TOTAL BRUTO]]-tbldados[[#This Row],[VALOR PAGO]]","v":43.625},{"$f":"CHOOSE(MONTH(tbldados[[#This Row],[DATA]]),\"JANEIRO\",\"FEVEREIRO\",\"MARÇO\",\"ABRIL\",\"MAIO\",\"JUNHO\",\"JULHO\",\"AGOSTO\",\"SETEMBRO\",\"OUTUBRO\",\"NOVEMBRO\",\"DEZEMBRO\")","v":"FEVEREIRO"},{"$f":"YEAR(tbldados[[#This Row],[DATA]])","v":2022}]
[189,"GASTOS","01 DE 01","ALMOÇOEJANTA","JUNIOR","GERAL","FREE","CREDITO A VISTA",{"$f":"VLOOKUP(tbldados[[#This Row],[APP]],tblbandeira[],3,0)","v":0},44571,44591,28.49,{"$f":"tbldados[[#This Row],[VALOR PAGO]]+(tbldados[[#This Row],[VALOR PAGO]]*tbldados[[#This Row],[TAXA]])","v":28.49},{"$f":"tbldados[[#This Row],[TOTAL BRUTO]]-tbldados[[#This Row],[VALOR PAGO]]","v":0},{"$f":"CHOOSE(MONTH(tbldados[[#This Row],[DATA]]),\"JANEIRO\",\"FEVEREIRO\",\"MARÇO\",\"ABRIL\",\"MAIO\",\"JUNHO\",\"JULHO\",\"AGOSTO\",\"SETEMBRO\",\"OUTUBRO\",\"NOVEMBRO\",\"DEZEMBRO\")","v":"JANEIRO"},{"$f":"YEAR(tbldados[[#This Row],[DATA]])","v":2022}]
[190,"PGTO","01 DE 01","PAN","JANEIRO","RECARGAPAY","PAN","CREDITO A VISTA",{"$f":"VLOOKUP(tbldados[[#This Row],[APP]],tblbandeira[],3,0)","v":3.49E-2},44571,44605,75.98,{"$f":"tbldados[[#This Row],[VALOR PAGO]]+(tbldados[[#This Row],[VALOR PAGO]]*tbldados[[#This Row],[TAXA]])","v":78.631702000000004},{"$f":"tbldados[[#This Row],[TOTAL BRUTO]]-tbldados[[#This Row],[VALOR PAGO]]","v":2.6517020000000002},{"$f":"CHOOSE(MONTH(tbldados[[#This Row],[DATA]]),\"JANEIRO\",\"FEVEREIRO\",\"MARÇO\",\"ABRIL\",\"MAIO\",\"JUNHO\",\"JULHO\",\"AGOSTO\",\"SETEMBRO\",\"OUTUBRO\",\"NOVEMBRO\",\"DEZEMBRO\")","v":"FEVEREIRO"},{"$f":"YEAR(tbldados[[#This Row],[DATA]])","v":2022}]
[191,"GASTOS","01 DE 01","PGTOPAN","JUNIOR","RECARGAPAY","PAN","CREDITO A VISTA",{"$f":"VLOOKUP(tbldados[[#This Row],[APP]],tblbandeira[],3,0)","v":3.49E-2},44571,44605,75.98,{"$f":"tbldados[[#This Row],[VALOR PAGO]]+(tbldados[[#This Row],[VALOR PAGO]]*tbldados[[#This Row],[TAXA]])","v":78.631702000000004},{"$f":"tbldados[[#This Row],[TOTAL BRUTO]]-tbldados[[#This Row],[VALOR PAGO]]","v":2.6517020000000002},{"$f":"CHOOSE(MONTH(tbldados[[#This Row],[DATA]]),\"JANEIRO\",\"FEVEREIRO\",\"MARÇO\",\"ABRIL\",\"MAIO\",\"JUNHO\",\"JULHO\",\"AGOSTO\",\"SETEMBRO\",\"OUTUBRO\",\"NOVEMBRO\",\"DEZEMBRO\")","v":"FEVEREIRO"},{"$f":"YEAR(tbldados[[#This Row],[DATA]])","v":2022}]
[192,"GASTOS","01 DE 01","JANTA","JUNIOR","GERAL","PAN","CREDITO A VISTA",{"$f":"VLOOKUP(tbldados[[#This Row],[APP]],tblbandeira[],3,0)","v":0},44571,44605,33,{"$f":"tbldados[[#This Row],[VALOR PAGO]]+(tbldados[[#This Row],[VALOR PAGO]]*tbldados[[#This Row],[TAXA]])","v":33},{"$f":"tbldados[[#This Row],[TOTAL BRUTO]]-tbldados[[#This Row],[VALOR PAGO]]","v":0},{"$f":"CHOOSE(MONTH(tbldados[[#This Row],[DATA]]),\"JANEIRO\",\"FEVEREIRO\",\"MARÇO\",\"ABRIL\",\"MAIO\",\"JUNHO\",\"JULHO\",\"AGOSTO\",\"SETEMBRO\",\"OUTUBRO\",\"NOVEMBRO\",\"DEZEMBRO\")","v":"FEVEREIRO"},{"$f":"YEAR(tbldados[[#This Row],[DATA]])","v":2022}]
[193,"PGTO","01 DE 01","NUBANK","JANEIRO","RECARGAPAY","NUBANK","CREDITO A VISTA",{"$f":"VLOOKUP(tbldados[[#This Row],[APP]],tblbandeira[],3,0)","v":3.49E-2},44572,44605,1160.5,{"$f":"tbldados[[#This Row],[VALOR PAGO]]+(tbldados[[#This Row],[VALOR PAGO]]*tbldados[[#This Row],[TAXA]])","v":1201.00145},{"$f":"tbldados[[#This Row],[TOTAL BRUTO]]-tbldados[[#This Row],[VALOR PAGO]]","v":40.501449999999977},{"$f":"CHOOSE(MONTH(tbldados[[#This Row],[DATA]]),\"JANEIRO\",\"FEVEREIRO\",\"MARÇO\",\"ABRIL\",\"MAIO\",\"JUNHO\",\"JULHO\",\"AGOSTO\",\"SETEMBRO\",\"OUTUBRO\",\"NOVEMBRO\",\"DEZEMBRO\")","v":"FEVEREIRO"},{"$f":"YEAR(tbldados[[#This Row],[DATA]])","v":2022}]
[194,"GASTOS","01 DE 01","PGTONUBANK","JUNIOR","RECARGAPAY","NUBANK","CREDITO A VISTA",{"$f":"VLOOKUP(tbldados[[#This Row],[APP]],tblbandeira[],3,0)","v":3.49E-2},44572,44605,1160.5,{"$f":"tbldados[[#This Row],[VALOR PAGO]]+(tbldados[[#This Row],[VALOR PAGO]]*tbldados[[#This Row],[TAXA]])","v":1201.00145},{"$f":"tbldados[[#This Row],[TOTAL BRUTO]]-tbldados[[#This Row],[VALOR PAGO]]","v":40.501449999999977},{"$f":"CHOOSE(MONTH(tbldados[[#This Row],[DATA]]),\"JANEIRO\",\"FEVEREIRO\",\"MARÇO\",\"ABRIL\",\"MAIO\",\"JUNHO\",\"JULHO\",\"AGOSTO\",\"SETEMBRO\",\"OUTUBRO\",\"NOVEMBRO\",\"DEZEMBRO\")","v":"FEVEREIRO"},{"$f":"YEAR(tbldados[[#This Row],[DATA]])","v":2022}]
[195,"PGTO","01 DE 01","NUBANK","JANEIRO","RECARGAPAY","NUBANK","CREDITO A VISTA",{"$f":"VLOOKUP(tbldados[[#This Row],[APP]],tblbandeira[],3,0)","v":3.49E-2},44572,44605,1160.5,{"$f":"tbldados[[#This Row],[VALOR PAGO]]+(tbldados[[#This Row],[VALOR PAGO]]*tbldados[[#This Row],[TAXA]])","v":1201.00145},{"$f":"tbldados[[#This Row],[TOTAL BRUTO]]-tbldados[[#This Row],[VALOR PAGO]]","v":40.501449999999977},{"$f":"CHOOSE(MONTH(tbldados[[#This Row],[DATA]]),\"JANEIRO\",\"FEVEREIRO\",\"MARÇO\",\"ABRIL\",\"MAIO\",\"JUNHO\",\"JULHO\",\"AGOSTO\",\"SETEMBRO\",\"OUTUBRO\",\"NOVEMBRO\",\"DEZEMBRO\")","v":"FEVEREIRO"},{"$f":"YEAR(tbldados[[#This Row],[DATA]])","v":2022}]
[196,"GASTOS","01 DE 01","PGTONUBANK","JUNIOR","RECARGAPAY","NUBANK","CREDITO A VISTA",{"$f":"VLOOKUP(tbldados[[#This Row],[APP]],tblbandeira[],3,0)","v":3.49E-2},44572,44605,1133.1199999999999,{"$f":"tbldados[[#This Row],[VALOR PAGO]]+(tbldados[[#This Row],[VALOR PAGO]]*tbldados[[#This Row],[TAXA]])","v":1172.665888},{"$f":"tbldados[[#This Row],[TOTAL BRUTO]]-tbldados[[#This Row],[VALOR PAGO]]","v":39.545888000000105},{"$f":"CHOOSE(MONTH(tbldados[[#This Row],[DATA]]),\"JANEIRO\",\"FEVEREIRO\",\"MARÇO\",\"ABRIL\",\"MAIO\",\"JUNHO\",\"JULHO\",\"AGOSTO\",\"SETEMBRO\",\"OUTUBRO\",\"NOVEMBRO\",\"DEZEMBRO\")","v":"FEVEREIRO"},{"$f":"YEAR(tbldados[[#This Row],[DATA]])","v":2022}]
[197,"PGTO","01 DE 01","INTER","JANEIRO","RECARGAPAY","NUBANK","CREDITO A VISTA",{"$f":"VLOOKUP(tbldados[[#This Row],[APP]],tblbandeira[],3,0)","v":3.49E-2},44573,44605,1201.8699999999999,{"$f":"tbldados[[#This Row],[VALOR PAGO]]+(tbldados[[#This Row],[VALOR PAGO]]*tbldados[[#This Row],[TAXA]])","v":1243.815263},{"$f":"tbldados[[#This Row],[TOTAL BRUTO]]-tbldados[[#This Row],[VALOR PAGO]]","v":41.945263000000068},{"$f":"CHOOSE(MONTH(tbldados[[#This Row],[DATA]]),\"JANEIRO\",\"FEVEREIRO\",\"MARÇO\",\"ABRIL\",\"MAIO\",\"JUNHO\",\"JULHO\",\"AGOSTO\",\"SETEMBRO\",\"OUTUBRO\",\"NOVEMBRO\",\"DEZEMBRO\")","v":"FEVEREIRO"},{"$f":"YEAR(tbldados[[#This Row],[DATA]])","v":2022}]
[198,"GASTOS","01 DE 01","PGTOINTER","JUNIOR","RECARGAPAY","NUBANK","CREDITO A VISTA",{"$f":"VLOOKUP(tbldados[[#This Row],[APP]],tblbandeira[],3,0)","v":3.49E-2},44573,44605,1201.8699999999999,{"$f":"tbldados[[#This Row],[VALOR PAGO]]+(tbldados[[#This Row],[VALOR PAGO]]*tbldados[[#This Row],[TAXA]])","v":1243.815263},{"$f":"tbldados[[#This Row],[TOTAL BRUTO]]-tbldados[[#This Row],[VALOR PAGO]]","v":41.945263000000068},{"$f":"CHOOSE(MONTH(tbldados[[#This Row],[DATA]]),\"JANEIRO\",\"FEVEREIRO\",\"MARÇO\",\"ABRIL\",\"MAIO\",\"JUNHO\",\"JULHO\",\"AGOSTO\",\"SETEMBRO\",\"OUTUBRO\",\"NOVEMBRO\",\"DEZEMBRO\")","v":"FEVEREIRO"},{"$f":"YEAR(tbldados[[#This Row],[DATA]])","v":2022}]
[199,"PGTO","01 DE 01","INTER","JANEIRO","RECARGAPAY","INTER","CREDITO A VISTA",{"$f":"VLOOKUP(tbldados[[#This Row],[APP]],tblbandeira[],3,0)","v":3.49E-2},44573,44607,1626.78,{"$f":"tbldados[[#This Row],[VALOR PAGO]]+(tbldados[[#This Row],[VALOR PAGO]]*tbldados[[#This Row],[TAXA]])","v":1683.5546219999999},{"$f":"tbldados[[#This Row],[TOTAL BRUTO]]-tbldados[[#This Row],[VALOR PAGO]]","v":56.774621999999908},{"$f":"CHOOSE(MONTH(tbldados[[#This Row],[DATA]]),\"JANEIRO\",\"FEVEREIRO\",\"MARÇO\",\"ABRIL\",\"MAIO\",\"JUNHO\",\"JULHO\",\"AGOSTO\",\"SETEMBRO\",\"OUTUBRO\",\"NOVEMBRO\",\"DEZEMBRO\")","v":"FEVEREIRO"},{"$f":"YEAR(tbldados[[#This Row],[DATA]])","v":2022}]
[200,"GASTOS","01 DE 01","PGTOINTER2","JUNIOR","RECARGAPAY","INTER","CREDITO A VISTA",{"$f":"VLOOKUP(tbldados[[#This Row],[APP]],tblbandeira[],3,0)","v":3.49E-2},44573,44607,1626.78,{"$f":"tbldados[[#This Row],[VALOR PAGO]]+(tbldados[[#This Row],[VALOR PAGO]]*tbldados[[#This Row],[TAXA]])","v":1683.5546219999999},{"$f":"tbldados[[#This Row],[TOTAL BRUTO]]-tbldados[[#This Row],[VALOR PAGO]]","v":56.774621999999908},{"$f":"CHOOSE(MONTH(tbldados[[#This Row],[DATA]]),\"JANEIRO\",\"FEVEREIRO\",\"MARÇO\",\"ABRIL\",\"MAIO\",\"JUNHO\",\"JULHO\",\"AGOSTO\",\"SETEMBRO\",\"OUTUBRO\",\"NOVEMBRO\",\"DEZEMBRO\")","v":"FEVEREIRO"},{"$f":"YEAR(tbldados[[#This Row],[DATA]])","v":2022}]
[201,"PGTO","01 DE 01","INTER","JANEIRO","RECARGAPAY","INTER","CREDITO A VISTA",{"$f":"VLOOKUP(tbldados[[#This Row],[APP]],tblbandeira[],3,0)","v":3.49E-2},44574,44607,1626.78,{"$f":"tbldados[[#This Row],[VALOR PAGO]]+(tbldados[[#This Row],[VALOR PAGO]]*tbldados[[#This Row],[TAXA]])","v":1683.5546219999999},{"$f":"tbldados[[#This Row],[TOTAL BRUTO]]-tbldados[[#This Row],[VALOR PAGO]]","v":56.774621999999908},{"$f":"CHOOSE(MONTH(tbldados[[#This Row],[DATA]]),\"JANEIRO\",\"FEVEREIRO\",\"MARÇO\",\"ABRIL\",\"MAIO\",\"JUNHO\",\"JULHO\",\"AGOSTO\",\"SETEMBRO\",\"OUTUBRO\",\"NOVEMBRO\",\"DEZEMBRO\")","v":"FEVEREIRO"},{"$f":"YEAR(tbldados[[#This Row],[DATA]])","v":2022}]
[202,"GASTOS","01 DE 01","PGTOINTER3","JUNIOR","RECARGAPAY","INTER","CREDITO A VISTA",{"$f":"VLOOKUP(tbldados[[#This Row],[APP]],tblbandeira[],3,0)","v":3.49E-2},44574,44607,1626.78,{"$f":"tbldados[[#This Row],[VALOR PAGO]]+(tbldados[[#This Row],[VALOR PAGO]]*tbldados[[#This Row],[TAXA]])","v":1683.5546219999999},{"$f":"tbldados[[#This Row],[TOTAL BRUTO]]-tbldados[[#This Row],[VALOR PAGO]]","v":56.774621999999908},{"$f":"CHOOSE(MONTH(tbldados[[#This Row],[DATA]]),\"JANEIRO\",\"FEVEREIRO\",\"MARÇO\",\"ABRIL\",\"MAIO\",\"JUNHO\",\"JULHO\",\"AGOSTO\",\"SETEMBRO\",\"OUTUBRO\",\"NOVEMBRO\",\"DEZEMBRO\")","v":"FEVEREIRO"},{"$f":"YEAR(tbldados[[#This Row],[DATA]])","v":2022}]
[203,"GASTOS","01 DE 01","CAPA","JUNIOR","GERAL","NUBANK","CREDITO A VISTA",{"$f":"VLOOKUP(tbldados[[#This Row],[APP]],tblbandeira[],3,0)","v":0},44574,44605,15,{"$f":"tbldados[[#This Row],[VALOR PAGO]]+(tbldados[[#This Row],[VALOR PAGO]]*tbldados[[#This Row],[TAXA]])","v":15},{"$f":"tbldados[[#This Row],[TOTAL BRUTO]]-tbldados[[#This Row],[VALOR PAGO]]","v":0},{"$f":"CHOOSE(MONTH(tbldados[[#This Row],[DATA]]),\"JANEIRO\",\"FEVEREIRO\",\"MARÇO\",\"ABRIL\",\"MAIO\",\"JUNHO\",\"JULHO\",\"AGOSTO\",\"SETEMBRO\",\"OUTUBRO\",\"NOVEMBRO\",\"DEZEMBRO\")","v":"FEVEREIRO"},{"$f":"YEAR(tbldados[[#This Row],[DATA]])","v":2022}]
[204,"GASTOS","01 DE 01","REMEDIO","JUNIOR","GERAL","NUBANK","CREDITO A VISTA",{"$f":"VLOOKUP(tbldados[[#This Row],[APP]],tblbandeira[],3,0)","v":0},44572,44605,13,{"$f":"tbldados[[#This Row],[VALOR PAGO]]+(tbldados[[#This Row],[VALOR PAGO]]*tbldados[[#This Row],[TAXA]])","v":13},{"$f":"tbldados[[#This Row],[TOTAL BRUTO]]-tbldados[[#This Row],[VALOR PAGO]]","v":0},{"$f":"CHOOSE(MONTH(tbldados[[#This Row],[DATA]]),\"JANEIRO\",\"FEVEREIRO\",\"MARÇO\",\"ABRIL\",\"MAIO\",\"JUNHO\",\"JULHO\",\"AGOSTO\",\"SETEMBRO\",\"OUTUBRO\",\"NOVEMBRO\",\"DEZEMBRO\")","v":"FEVEREIRO"},{"$f":"YEAR(tbldados[[#This Row],[DATA]])","v":2022}]
[205,"GASTOS","01 DE 01","REMEDIO","JUNIOR","GERAL","NUBANK","CREDITO A VISTA",{"$f":"VLOOKUP(tbldados[[#This Row],[APP]],tblbandeira[],3,0)","v":0},44573,44605,76.66,{"$f":"tbldados[[#This Row],[VALOR PAGO]]+(tbldados[[#This Row],[VALOR PAGO]]*tbldados[[#This Row],[TAXA]])","v":76.66},{"$f":"tbldados[[#This Row],[TOTAL BRUTO]]-tbldados[[#This Row],[VALOR PAGO]]","v":0},{"$f":"CHOOSE(MONTH(tbldados[[#This Row],[DATA]]),\"JANEIRO\",\"FEVEREIRO\",\"MARÇO\",\"ABRIL\",\"MAIO\",\"JUNHO\",\"JULHO\",\"AGOSTO\",\"SETEMBRO\",\"OUTUBRO\",\"NOVEMBRO\",\"DEZEMBRO\")","v":"FEVEREIRO"},{"$f":"YEAR(tbldados[[#This Row],[DATA]])","v":2022}]
[206,"GASTOS","01 DE 08","SAPATOS","JUNIOR","GERAL","C6","CREDITO PARCELADO",{"$f":"VLOOKUP(tbldados[[#This Row],[APP]],tblbandeira[],3,0)","v":0},44573,44593,32.200000000000003,{"$f":"tbldados[[#This Row],[VALOR PAGO]]+(tbldados[[#This Row],[VALOR PAGO]]*tbldados[[#This Row],[TAXA]])","v":32.200000000000003},{"$f":"tbldados[[#This Row],[TOTAL BRUTO]]-tbldados[[#This Row],[VALOR PAGO]]","v":0},{"$f":"CHOOSE(MONTH(tbldados[[#This Row],[DATA]]),\"JANEIRO\",\"FEVEREIRO\",\"MARÇO\",\"ABRIL\",\"MAIO\",\"JUNHO\",\"JULHO\",\"AGOSTO\",\"SETEMBRO\",\"OUTUBRO\",\"NOVEMBRO\",\"DEZEMBRO\")","v":"FEVEREIRO"},{"$f":"YEAR(tbldados[[#This Row],[DATA]])","v":2022}]
[207,"GASTOS","02 DE 08","SAPATOS","JUNIOR","GERAL","C6","CREDITO PARCELADO",{"$f":"VLOOKUP(tbldados[[#This Row],[APP]],tblbandeira[],3,0)","v":0},44573,44621,32.200000000000003,{"$f":"tbldados[[#This Row],[VALOR PAGO]]+(tbldados[[#This Row],[VALOR PAGO]]*tbldados[[#This Row],[TAXA]])","v":32.200000000000003},{"$f":"tbldados[[#This Row],[TOTAL BRUTO]]-tbldados[[#This Row],[VALOR PAGO]]","v":0},{"$f":"CHOOSE(MONTH(tbldados[[#This Row],[DATA]]),\"JANEIRO\",\"FEVEREIRO\",\"MARÇO\",\"ABRIL\",\"MAIO\",\"JUNHO\",\"JULHO\",\"AGOSTO\",\"SETEMBRO\",\"OUTUBRO\",\"NOVEMBRO\",\"DEZEMBRO\")","v":"MARÇO"},{"$f":"YEAR(tbldados[[#This Row],[DATA]])","v":2022}]
[208,"GASTOS","03 DE 08","SAPATOS","JUNIOR","GERAL","C6","CREDITO PARCELADO",{"$f":"VLOOKUP(tbldados[[#This Row],[APP]],tblbandeira[],3,0)","v":0},44573,44652,32.200000000000003,{"$f":"tbldados[[#This Row],[VALOR PAGO]]+(tbldados[[#This Row],[VALOR PAGO]]*tbldados[[#This Row],[TAXA]])","v":32.200000000000003},{"$f":"tbldados[[#This Row],[TOTAL BRUTO]]-tbldados[[#This Row],[VALOR PAGO]]","v":0},{"$f":"CHOOSE(MONTH(tbldados[[#This Row],[DATA]]),\"JANEIRO\",\"FEVEREIRO\",\"MARÇO\",\"ABRIL\",\"MAIO\",\"JUNHO\",\"JULHO\",\"AGOSTO\",\"SETEMBRO\",\"OUTUBRO\",\"NOVEMBRO\",\"DEZEMBRO\")","v":"ABRIL"},{"$f":"YEAR(tbldados[[#This Row],[DATA]])","v":2022}]
[209,"GASTOS","04 DE 08","SAPATOS","JUNIOR","GERAL","C6","CREDITO PARCELADO",{"$f":"VLOOKUP(tbldados[[#This Row],[APP]],tblbandeira[],3,0)","v":0},44573,44682,32.159999999999997,{"$f":"tbldados[[#This Row],[VALOR PAGO]]+(tbldados[[#This Row],[VALOR PAGO]]*tbldados[[#This Row],[TAXA]])","v":32.159999999999997},{"$f":"tbldados[[#This Row],[TOTAL BRUTO]]-tbldados[[#This Row],[VALOR PAGO]]","v":0},{"$f":"CHOOSE(MONTH(tbldados[[#This Row],[DATA]]),\"JANEIRO\",\"FEVEREIRO\",\"MARÇO\",\"ABRIL\",\"MAIO\",\"JUNHO\",\"JULHO\",\"AGOSTO\",\"SETEMBRO\",\"OUTUBRO\",\"NOVEMBRO\",\"DEZEMBRO\")","v":"MAIO"},{"$f":"YEAR(tbldados[[#This Row],[DATA]])","v":2022}]
[210,"GASTOS","05 DE 08","SAPATOS","JUNIOR","GERAL","C6","CREDITO PARCELADO",{"$f":"VLOOKUP(tbldados[[#This Row],[APP]],tblbandeira[],3,0)","v":0},44573,44713,32.200000000000003,{"$f":"tbldados[[#This Row],[VALOR PAGO]]+(tbldados[[#This Row],[VALOR PAGO]]*tbldados[[#This Row],[TAXA]])","v":32.200000000000003},{"$f":"tbldados[[#This Row],[TOTAL BRUTO]]-tbldados[[#This Row],[VALOR PAGO]]","v":0},{"$f":"CHOOSE(MONTH(tbldados[[#This Row],[DATA]]),\"JANEIRO\",\"FEVEREIRO\",\"MARÇO\",\"ABRIL\",\"MAIO\",\"JUNHO\",\"JULHO\",\"AGOSTO\",\"SETEMBRO\",\"OUTUBRO\",\"NOVEMBRO\",\"DEZEMBRO\")","v":"JUNHO"},{"$f":"YEAR(tbldados[[#This Row],[DATA]])","v":2022}]
[211,"GASTOS","06 DE 08","SAPATOS","JUNIOR","GERAL","C6","CREDITO PARCELADO",{"$f":"VLOOKUP(tbldados[[#This Row],[APP]],tblbandeira[],3,0)","v":0},44573,44743,32.200000000000003,{"$f":"tbldados[[#This Row],[VALOR PAGO]]+(tbldados[[#This Row],[VALOR PAGO]]*tbldados[[#This Row],[TAXA]])","v":32.200000000000003},{"$f":"tbldados[[#This Row],[TOTAL BRUTO]]-tbldados[[#This Row],[VALOR PAGO]]","v":0},{"$f":"CHOOSE(MONTH(tbldados[[#This Row],[DATA]]),\"JANEIRO\",\"FEVEREIRO\",\"MARÇO\",\"ABRIL\",\"MAIO\",\"JUNHO\",\"JULHO\",\"AGOSTO\",\"SETEMBRO\",\"OUTUBRO\",\"NOVEMBRO\",\"DEZEMBRO\")","v":"JULHO"},{"$f":"YEAR(tbldados[[#This Row],[DATA]])","v":2022}]
[212,"GASTOS","07 DE 08","SAPATOS","JUNIOR","GERAL","C6","CREDITO PARCELADO",{"$f":"VLOOKUP(tbldados[[#This Row],[APP]],tblbandeira[],3,0)","v":0},44573,44774,32.200000000000003,{"$f":"tbldados[[#This Row],[VALOR PAGO]]+(tbldados[[#This Row],[VALOR PAGO]]*tbldados[[#This Row],[TAXA]])","v":32.200000000000003},{"$f":"tbldados[[#This Row],[TOTAL BRUTO]]-tbldados[[#This Row],[VALOR PAGO]]","v":0},{"$f":"CHOOSE(MONTH(tbldados[[#This Row],[DATA]]),\"JANEIRO\",\"FEVEREIRO\",\"MARÇO\",\"ABRIL\",\"MAIO\",\"JUNHO\",\"JULHO\",\"AGOSTO\",\"SETEMBRO\",\"OUTUBRO\",\"NOVEMBRO\",\"DEZEMBRO\")","v":"AGOSTO"},{"$f":"YEAR(tbldados[[#This Row],[DATA]])","v":2022}]
[213,"GASTOS","08 DE 08","SAPATOS","JUNIOR","GERAL","C6","CREDITO PARCELADO",{"$f":"VLOOKUP(tbldados[[#This Row],[APP]],tblbandeira[],3,0)","v":0},44573,44805,32.200000000000003,{"$f":"tbldados[[#This Row],[VALOR PAGO]]+(tbldados[[#This Row],[VALOR PAGO]]*tbldados[[#This Row],[TAXA]])","v":32.200000000000003},{"$f":"tbldados[[#This Row],[TOTAL BRUTO]]-tbldados[[#This Row],[VALOR PAGO]]","v":0},{"$f":"CHOOSE(MONTH(tbldados[[#This Row],[DATA]]),\"JANEIRO\",\"FEVEREIRO\",\"MARÇO\",\"ABRIL\",\"MAIO\",\"JUNHO\",\"JULHO\",\"AGOSTO\",\"SETEMBRO\",\"OUTUBRO\",\"NOVEMBRO\",\"DEZEMBRO\")","v":"SETEMBRO"},{"$f":"YEAR(tbldados[[#This Row],[DATA]])","v":2022}]
[214,"GASTOS","01 DE 06","ROUPAS","JUNIOR","GERAL","C6","CREDITO PARCELADO",{"$f":"VLOOKUP(tbldados[[#This Row],[APP]],tblbandeira[],3,0)","v":0},44572,44593,42.93,{"$f":"tbldados[[#This Row],[VALOR PAGO]]+(tbldados[[#This Row],[VALOR PAGO]]*tbldados[[#This Row],[TAXA]])","v":42.93},{"$f":"tbldados[[#This Row],[TOTAL BRUTO]]-tbldados[[#This Row],[VALOR PAGO]]","v":0},{"$f":"CHOOSE(MONTH(tbldados[[#This Row],[DATA]]),\"JANEIRO\",\"FEVEREIRO\",\"MARÇO\",\"ABRIL\",\"MAIO\",\"JUNHO\",\"JULHO\",\"AGOSTO\",\"SETEMBRO\",\"OUTUBRO\",\"NOVEMBRO\",\"DEZEMBRO\")","v":"FEVEREIRO"},{"$f":"YEAR(tbldados[[#This Row],[DATA]])","v":2022}]
[215,"GASTOS","02 DE 06","ROUPAS","JUNIOR","GERAL","C6","CREDITO PARCELADO",{"$f":"VLOOKUP(tbldados[[#This Row],[APP]],tblbandeira[],3,0)","v":0},44572,44621,42.93,{"$f":"tbldados[[#This Row],[VALOR PAGO]]+(tbldados[[#This Row],[VALOR PAGO]]*tbldados[[#This Row],[TAXA]])","v":42.93},{"$f":"tbldados[[#This Row],[TOTAL BRUTO]]-tbldados[[#This Row],[VALOR PAGO]]","v":0},{"$f":"CHOOSE(MONTH(tbldados[[#This Row],[DATA]]),\"JANEIRO\",\"FEVEREIRO\",\"MARÇO\",\"ABRIL\",\"MAIO\",\"JUNHO\",\"JULHO\",\"AGOSTO\",\"SETEMBRO\",\"OUTUBRO\",\"NOVEMBRO\",\"DEZEMBRO\")","v":"MARÇO"},{"$f":"YEAR(tbldados[[#This Row],[DATA]])","v":2022}]
[216,"GASTOS","03 DE 06","ROUPAS","JUNIOR","GERAL","C6","CREDITO PARCELADO",{"$f":"VLOOKUP(tbldados[[#This Row],[APP]],tblbandeira[],3,0)","v":0},44572,44652,42.93,{"$f":"tbldados[[#This Row],[VALOR PAGO]]+(tbldados[[#This Row],[VALOR PAGO]]*tbldados[[#This Row],[TAXA]])","v":42.93},{"$f":"tbldados[[#This Row],[TOTAL BRUTO]]-tbldados[[#This Row],[VALOR PAGO]]","v":0},{"$f":"CHOOSE(MONTH(tbldados[[#This Row],[DATA]]),\"JANEIRO\",\"FEVEREIRO\",\"MARÇO\",\"ABRIL\",\"MAIO\",\"JUNHO\",\"JULHO\",\"AGOSTO\",\"SETEMBRO\",\"OUTUBRO\",\"NOVEMBRO\",\"DEZEMBRO\")","v":"ABRIL"},{"$f":"YEAR(tbldados[[#This Row],[DATA]])","v":2022}]
[217,"GASTOS","04 DE 06","ROUPAS","JUNIOR","GERAL","C6","CREDITO PARCELADO",{"$f":"VLOOKUP(tbldados[[#This Row],[APP]],tblbandeira[],3,0)","v":0},44572,44682,42.93,{"$f":"tbldados[[#This Row],[VALOR PAGO]]+(tbldados[[#This Row],[VALOR PAGO]]*tbldados[[#This Row],[TAXA]])","v":42.93},{"$f":"tbldados[[#This Row],[TOTAL BRUTO]]-tbldados[[#This Row],[VALOR PAGO]]","v":0},{"$f":"CHOOSE(MONTH(tbldados[[#This Row],[DATA]]),\"JANEIRO\",\"FEVEREIRO\",\"MARÇO\",\"ABRIL\",\"MAIO\",\"JUNHO\",\"JULHO\",\"AGOSTO\",\"SETEMBRO\",\"OUTUBRO\",\"NOVEMBRO\",\"DEZEMBRO\")","v":"MAIO"},{"$f":"YEAR(tbldados[[#This Row],[DATA]])","v":2022}]
[218,"GASTOS","05 DE 06","ROUPAS","JUNIOR","GERAL","C6","CREDITO PARCELADO",{"$f":"VLOOKUP(tbldados[[#This Row],[APP]],tblbandeira[],3,0)","v":0},44572,44713,42.93,{"$f":"tbldados[[#This Row],[VALOR PAGO]]+(tbldados[[#This Row],[VALOR PAGO]]*tbldados[[#This Row],[TAXA]])","v":42.93},{"$f":"tbldados[[#This Row],[TOTAL BRUTO]]-tbldados[[#This Row],[VALOR PAGO]]","v":0},{"$f":"CHOOSE(MONTH(tbldados[[#This Row],[DATA]]),\"JANEIRO\",\"FEVEREIRO\",\"MARÇO\",\"ABRIL\",\"MAIO\",\"JUNHO\",\"JULHO\",\"AGOSTO\",\"SETEMBRO\",\"OUTUBRO\",\"NOVEMBRO\",\"DEZEMBRO\")","v":"JUNHO"},{"$f":"YEAR(tbldados[[#This Row],[DATA]])","v":2022}]
[219,"GASTOS","06 DE 06","ROUPAS","JUNIOR","GERAL","C6","CREDITO PARCELADO",{"$f":"VLOOKUP(tbldados[[#This Row],[APP]],tblbandeira[],3,0)","v":0},44572,44743,42.93,{"$f":"tbldados[[#This Row],[VALOR PAGO]]+(tbldados[[#This Row],[VALOR PAGO]]*tbldados[[#This Row],[TAXA]])","v":42.93},{"$f":"tbldados[[#This Row],[TOTAL BRUTO]]-tbldados[[#This Row],[VALOR PAGO]]","v":0},{"$f":"CHOOSE(MONTH(tbldados[[#This Row],[DATA]]),\"JANEIRO\",\"FEVEREIRO\",\"MARÇO\",\"ABRIL\",\"MAIO\",\"JUNHO\",\"JULHO\",\"AGOSTO\",\"SETEMBRO\",\"OUTUBRO\",\"NOVEMBRO\",\"DEZEMBRO\")","v":"JULHO"},{"$f":"YEAR(tbldados[[#This Row],[DATA]])","v":2022}]
[220,"GASTOS","01 DE 06","ROUPAS","JUNIOR","GERAL","INTER","CREDITO PARCELADO",{"$f":"VLOOKUP(tbldados[[#This Row],[APP]],tblbandeira[],3,0)","v":0},44572,44607,42.93,{"$f":"tbldados[[#This Row],[VALOR PAGO]]+(tbldados[[#This Row],[VALOR PAGO]]*tbldados[[#This Row],[TAXA]])","v":42.93},{"$f":"tbldados[[#This Row],[TOTAL BRUTO]]-tbldados[[#This Row],[VALOR PAGO]]","v":0},{"$f":"CHOOSE(MONTH(tbldados[[#This Row],[DATA]]),\"JANEIRO\",\"FEVEREIRO\",\"MARÇO\",\"ABRIL\",\"MAIO\",\"JUNHO\",\"JULHO\",\"AGOSTO\",\"SETEMBRO\",\"OUTUBRO\",\"NOVEMBRO\",\"DEZEMBRO\")","v":"FEVEREIRO"},{"$f":"YEAR(tbldados[[#This Row],[DATA]])","v":2022}]
[221,"GASTOS","02 DE 06","ROUPAS","JUNIOR","GERAL","INTER","CREDITO PARCELADO",{"$f":"VLOOKUP(tbldados[[#This Row],[APP]],tblbandeira[],3,0)","v":0},44572,44635,42.93,{"$f":"tbldados[[#This Row],[VALOR PAGO]]+(tbldados[[#This Row],[VALOR PAGO]]*tbldados[[#This Row],[TAXA]])","v":42.93},{"$f":"tbldados[[#This Row],[TOTAL BRUTO]]-tbldados[[#This Row],[VALOR PAGO]]","v":0},{"$f":"CHOOSE(MONTH(tbldados[[#This Row],[DATA]]),\"JANEIRO\",\"FEVEREIRO\",\"MARÇO\",\"ABRIL\",\"MAIO\",\"JUNHO\",\"JULHO\",\"AGOSTO\",\"SETEMBRO\",\"OUTUBRO\",\"NOVEMBRO\",\"DEZEMBRO\")","v":"MARÇO"},{"$f":"YEAR(tbldados[[#This Row],[DATA]])","v":2022}]
[222,"GASTOS","03 DE 06","ROUPAS","JUNIOR","GERAL","INTER","CREDITO PARCELADO",{"$f":"VLOOKUP(tbldados[[#This Row],[APP]],tblbandeira[],3,0)","v":0},44572,44666,42.93,{"$f":"tbldados[[#This Row],[VALOR PAGO]]+(tbldados[[#This Row],[VALOR PAGO]]*tbldados[[#This Row],[TAXA]])","v":42.93},{"$f":"tbldados[[#This Row],[TOTAL BRUTO]]-tbldados[[#This Row],[VALOR PAGO]]","v":0},{"$f":"CHOOSE(MONTH(tbldados[[#This Row],[DATA]]),\"JANEIRO\",\"FEVEREIRO\",\"MARÇO\",\"ABRIL\",\"MAIO\",\"JUNHO\",\"JULHO\",\"AGOSTO\",\"SETEMBRO\",\"OUTUBRO\",\"NOVEMBRO\",\"DEZEMBRO\")","v":"ABRIL"},{"$f":"YEAR(tbldados[[#This Row],[DATA]])","v":2022}]
[223,"GASTOS","04 DE 06","ROUPAS","JUNIOR","GERAL","INTER","CREDITO PARCELADO",{"$f":"VLOOKUP(tbldados[[#This Row],[APP]],tblbandeira[],3,0)","v":0},44572,44696,42.93,{"$f":"tbldados[[#This Row],[VALOR PAGO]]+(tbldados[[#This Row],[VALOR PAGO]]*tbldados[[#This Row],[TAXA]])","v":42.93},{"$f":"tbldados[[#This Row],[TOTAL BRUTO]]-tbldados[[#This Row],[VALOR PAGO]]","v":0},{"$f":"CHOOSE(MONTH(tbldados[[#This Row],[DATA]]),\"JANEIRO\",\"FEVEREIRO\",\"MARÇO\",\"ABRIL\",\"MAIO\",\"JUNHO\",\"JULHO\",\"AGOSTO\",\"SETEMBRO\",\"OUTUBRO\",\"NOVEMBRO\",\"DEZEMBRO\")","v":"MAIO"},{"$f":"YEAR(tbldados[[#This Row],[DATA]])","v":2022}]
[224,"GASTOS","05 DE 06","ROUPAS","JUNIOR","GERAL","INTER","CREDITO PARCELADO",{"$f":"VLOOKUP(tbldados[[#This Row],[APP]],tblbandeira[],3,0)","v":0},44572,44727,42.93,{"$f":"tbldados[[#This Row],[VALOR PAGO]]+(tbldados[[#This Row],[VALOR PAGO]]*tbldados[[#This Row],[TAXA]])","v":42.93},{"$f":"tbldados[[#This Row],[TOTAL BRUTO]]-tbldados[[#This Row],[VALOR PAGO]]","v":0},{"$f":"CHOOSE(MONTH(tbldados[[#This Row],[DATA]]),\"JANEIRO\",\"FEVEREIRO\",\"MARÇO\",\"ABRIL\",\"MAIO\",\"JUNHO\",\"JULHO\",\"AGOSTO\",\"SETEMBRO\",\"OUTUBRO\",\"NOVEMBRO\",\"DEZEMBRO\")","v":"JUNHO"},{"$f":"YEAR(tbldados[[#This Row],[DATA]])","v":2022}]
[225,"GASTOS","06 DE 06","ROUPAS","JUNIOR","GERAL","INTER","CREDITO PARCELADO",{"$f":"VLOOKUP(tbldados[[#This Row],[APP]],tblbandeira[],3,0)","v":0},44572,44757,42.93,{"$f":"tbldados[[#This Row],[VALOR PAGO]]+(tbldados[[#This Row],[VALOR PAGO]]*tbldados[[#This Row],[TAXA]])","v":42.93},{"$f":"tbldados[[#This Row],[TOTAL BRUTO]]-tbldados[[#This Row],[VALOR PAGO]]","v":0},{"$f":"CHOOSE(MONTH(tbldados[[#This Row],[DATA]]),\"JANEIRO\",\"FEVEREIRO\",\"MARÇO\",\"ABRIL\",\"MAIO\",\"JUNHO\",\"JULHO\",\"AGOSTO\",\"SETEMBRO\",\"OUTUBRO\",\"NOVEMBRO\",\"DEZEMBRO\")","v":"JULHO"},{"$f":"YEAR(tbldados[[#This Row],[DATA]])","v":2022}]
[226,"GASTOS","01 DE 10","CELULAR-NEM","JUNIOR","GERAL","C6","CREDITO PARCELADO",{"$f":"VLOOKUP(tbldados[[#This Row],[APP]],tblbandeira[],3,0)","v":0},44569,44593,89.9,{"$f":"tbldados[[#This Row],[VALOR PAGO]]+(tbldados[[#This Row],[VALOR PAGO]]*tbldados[[#This Row],[TAXA]])","v":89.9},{"$f":"tbldados[[#This Row],[TOTAL BRUTO]]-tbldados[[#This Row],[VALOR PAGO]]","v":0},{"$f":"CHOOSE(MONTH(tbldados[[#This Row],[DATA]]),\"JANEIRO\",\"FEVEREIRO\",\"MARÇO\",\"ABRIL\",\"MAIO\",\"JUNHO\",\"JULHO\",\"AGOSTO\",\"SETEMBRO\",\"OUTUBRO\",\"NOVEMBRO\",\"DEZEMBRO\")","v":"FEVEREIRO"},{"$f":"YEAR(tbldados[[#This Row],[DATA]])","v":2022}]
[227,"GASTOS","02 DE 10","CELULAR-NEM","JUNIOR","GERAL","C6","CREDITO PARCELADO",{"$f":"VLOOKUP(tbldados[[#This Row],[APP]],tblbandeira[],3,0)","v":0},44569,44621,89.9,{"$f":"tbldados[[#This Row],[VALOR PAGO]]+(tbldados[[#This Row],[VALOR PAGO]]*tbldados[[#This Row],[TAXA]])","v":89.9},{"$f":"tbldados[[#This Row],[TOTAL BRUTO]]-tbldados[[#This Row],[VALOR PAGO]]","v":0},{"$f":"CHOOSE(MONTH(tbldados[[#This Row],[DATA]]),\"JANEIRO\",\"FEVEREIRO\",\"MARÇO\",\"ABRIL\",\"MAIO\",\"JUNHO\",\"JULHO\",\"AGOSTO\",\"SETEMBRO\",\"OUTUBRO\",\"NOVEMBRO\",\"DEZEMBRO\")","v":"MARÇO"},{"$f":"YEAR(tbldados[[#This Row],[DATA]])","v":2022}]
[228,"GASTOS","03 DE 10","CELULAR-NEM","JUNIOR","GERAL","C6","CREDITO PARCELADO",{"$f":"VLOOKUP(tbldados[[#This Row],[APP]],tblbandeira[],3,0)","v":0},44569,44652,89.9,{"$f":"tbldados[[#This Row],[VALOR PAGO]]+(tbldados[[#This Row],[VALOR PAGO]]*tbldados[[#This Row],[TAXA]])","v":89.9},{"$f":"tbldados[[#This Row],[TOTAL BRUTO]]-tbldados[[#This Row],[VALOR PAGO]]","v":0},{"$f":"CHOOSE(MONTH(tbldados[[#This Row],[DATA]]),\"JANEIRO\",\"FEVEREIRO\",\"MARÇO\",\"ABRIL\",\"MAIO\",\"JUNHO\",\"JULHO\",\"AGOSTO\",\"SETEMBRO\",\"OUTUBRO\",\"NOVEMBRO\",\"DEZEMBRO\")","v":"ABRIL"},{"$f":"YEAR(tbldados[[#This Row],[DATA]])","v":2022}]
[229,"GASTOS","04 DE 10","CELULAR-NEM","JUNIOR","GERAL","C6","CREDITO PARCELADO",{"$f":"VLOOKUP(tbldados[[#This Row],[APP]],tblbandeira[],3,0)","v":0},44569,44682,89.9,{"$f":"tbldados[[#This Row],[VALOR PAGO]]+(tbldados[[#This Row],[VALOR PAGO]]*tbldados[[#This Row],[TAXA]])","v":89.9},{"$f":"tbldados[[#This Row],[TOTAL BRUTO]]-tbldados[[#This Row],[VALOR PAGO]]","v":0},{"$f":"CHOOSE(MONTH(tbldados[[#This Row],[DATA]]),\"JANEIRO\",\"FEVEREIRO\",\"MARÇO\",\"ABRIL\",\"MAIO\",\"JUNHO\",\"JULHO\",\"AGOSTO\",\"SETEMBRO\",\"OUTUBRO\",\"NOVEMBRO\",\"DEZEMBRO\")","v":"MAIO"},{"$f":"YEAR(tbldados[[#This Row],[DATA]])","v":2022}]
[230,"GASTOS","05 DE 10","CELULAR-NEM","JUNIOR","GERAL","C6","CREDITO PARCELADO",{"$f":"VLOOKUP(tbldados[[#This Row],[APP]],tblbandeira[],3,0)","v":0},44569,44713,89.9,{"$f":"tbldados[[#This Row],[VALOR PAGO]]+(tbldados[[#This Row],[VALOR PAGO]]*tbldados[[#This Row],[TAXA]])","v":89.9},{"$f":"tbldados[[#This Row],[TOTAL BRUTO]]-tbldados[[#This Row],[VALOR PAGO]]","v":0},{"$f":"CHOOSE(MONTH(tbldados[[#This Row],[DATA]]),\"JANEIRO\",\"FEVEREIRO\",\"MARÇO\",\"ABRIL\",\"MAIO\",\"JUNHO\",\"JULHO\",\"AGOSTO\",\"SETEMBRO\",\"OUTUBRO\",\"NOVEMBRO\",\"DEZEMBRO\")","v":"JUNHO"},{"$f":"YEAR(tbldados[[#This Row],[DATA]])","v":2022}]
[231,"GASTOS","06 DE 10","CELULAR-NEM","JUNIOR","GERAL","C6","CREDITO PARCELADO",{"$f":"VLOOKUP(tbldados[[#This Row],[APP]],tblbandeira[],3,0)","v":0},44569,44743,89.9,{"$f":"tbldados[[#This Row],[VALOR PAGO]]+(tbldados[[#This Row],[VALOR PAGO]]*tbldados[[#This Row],[TAXA]])","v":89.9},{"$f":"tbldados[[#This Row],[TOTAL BRUTO]]-tbldados[[#This Row],[VALOR PAGO]]","v":0},{"$f":"CHOOSE(MONTH(tbldados[[#This Row],[DATA]]),\"JANEIRO\",\"FEVEREIRO\",\"MARÇO\",\"ABRIL\",\"MAIO\",\"JUNHO\",\"JULHO\",\"AGOSTO\",\"SETEMBRO\",\"OUTUBRO\",\"NOVEMBRO\",\"DEZEMBRO\")","v":"JULHO"},{"$f":"YEAR(tbldados[[#This Row],[DATA]])","v":2022}]
[232,"GASTOS","07 DE 10","CELULAR-NEM","JUNIOR","GERAL","C6","CREDITO PARCELADO",{"$f":"VLOOKUP(tbldados[[#This Row],[APP]],tblbandeira[],3,0)","v":0},44569,44774,89.9,{"$f":"tbldados[[#This Row],[VALOR PAGO]]+(tbldados[[#This Row],[VALOR PAGO]]*tbldados[[#This Row],[TAXA]])","v":89.9},{"$f":"tbldados[[#This Row],[TOTAL BRUTO]]-tbldados[[#This Row],[VALOR PAGO]]","v":0},{"$f":"CHOOSE(MONTH(tbldados[[#This Row],[DATA]]),\"JANEIRO\",\"FEVEREIRO\",\"MARÇO\",\"ABRIL\",\"MAIO\",\"JUNHO\",\"JULHO\",\"AGOSTO\",\"SETEMBRO\",\"OUTUBRO\",\"NOVEMBRO\",\"DEZEMBRO\")","v":"AGOSTO"},{"$f":"YEAR(tbldados[[#This Row],[DATA]])","v":2022}]
[233,"GASTOS","08 DE 10","CELULAR-NEM","JUNIOR","GERAL","C6","CREDITO PARCELADO",{"$f":"VLOOKUP(tbldados[[#This Row],[APP]],tblbandeira[],3,0)","v":0},44569,44805,89.9,{"$f":"tbldados[[#This Row],[VALOR PAGO]]+(tbldados[[#This Row],[VALOR PAGO]]*tbldados[[#This Row],[TAXA]])","v":89.9},{"$f":"tbldados[[#This Row],[TOTAL BRUTO]]-tbldados[[#This Row],[VALOR PAGO]]","v":0},{"$f":"CHOOSE(MONTH(tbldados[[#This Row],[DATA]]),\"JANEIRO\",\"FEVEREIRO\",\"MARÇO\",\"ABRIL\",\"MAIO\",\"JUNHO\",\"JULHO\",\"AGOSTO\",\"SETEMBRO\",\"OUTUBRO\",\"NOVEMBRO\",\"DEZEMBRO\")","v":"SETEMBRO"},{"$f":"YEAR(tbldados[[#This Row],[DATA]])","v":2022}]
[234,"GASTOS","09 DE 10","CELULAR-NEM","JUNIOR","GERAL","C6","CREDITO PARCELADO",{"$f":"VLOOKUP(tbldados[[#This Row],[APP]],tblbandeira[],3,0)","v":0},44569,44835,89.9,{"$f":"tbldados[[#This Row],[VALOR PAGO]]+(tbldados[[#This Row],[VALOR PAGO]]*tbldados[[#This Row],[TAXA]])","v":89.9},{"$f":"tbldados[[#This Row],[TOTAL BRUTO]]-tbldados[[#This Row],[VALOR PAGO]]","v":0},{"$f":"CHOOSE(MONTH(tbldados[[#This Row],[DATA]]),\"JANEIRO\",\"FEVEREIRO\",\"MARÇO\",\"ABRIL\",\"MAIO\",\"JUNHO\",\"JULHO\",\"AGOSTO\",\"SETEMBRO\",\"OUTUBRO\",\"NOVEMBRO\",\"DEZEMBRO\")","v":"OUTUBRO"},{"$f":"YEAR(tbldados[[#This Row],[DATA]])","v":2022}]
[235,"GASTOS","10 DE 10","CELULAR-NEM","JUNIOR","GERAL","C6","CREDITO PARCELADO",{"$f":"VLOOKUP(tbldados[[#This Row],[APP]],tblbandeira[],3,0)","v":0},44569,44866,89.9,{"$f":"tbldados[[#This Row],[VALOR PAGO]]+(tbldados[[#This Row],[VALOR PAGO]]*tbldados[[#This Row],[TAXA]])","v":89.9},{"$f":"tbldados[[#This Row],[TOTAL BRUTO]]-tbldados[[#This Row],[VALOR PAGO]]","v":0},{"$f":"CHOOSE(MONTH(tbldados[[#This Row],[DATA]]),\"JANEIRO\",\"FEVEREIRO\",\"MARÇO\",\"ABRIL\",\"MAIO\",\"JUNHO\",\"JULHO\",\"AGOSTO\",\"SETEMBRO\",\"OUTUBRO\",\"NOVEMBRO\",\"DEZEMBRO\")","v":"NOVEMBRO"},{"$f":"YEAR(tbldados[[#This Row],[DATA]])","v":2022}]
[236,"PGTO","01 DE 01","CLICK","JANEIRO","RECARGAPAY","INTER","CREDITO A VISTA",{"$f":"VLOOKUP(tbldados[[#This Row],[APP]],tblbandeira[],3,0)","v":3.49E-2},44575,44607,1111.3399999999999,{"$f":"tbldados[[#This Row],[VALOR PAGO]]+(tbldados[[#This Row],[VALOR PAGO]]*tbldados[[#This Row],[TAXA]])","v":1150.1257659999999},{"$f":"tbldados[[#This Row],[TOTAL BRUTO]]-tbldados[[#This Row],[VALOR PAGO]]","v":38.785765999999967},{"$f":"CHOOSE(MONTH(tbldados[[#This Row],[DATA]]),\"JANEIRO\",\"FEVEREIRO\",\"MARÇO\",\"ABRIL\",\"MAIO\",\"JUNHO\",\"JULHO\",\"AGOSTO\",\"SETEMBRO\",\"OUTUBRO\",\"NOVEMBRO\",\"DEZEMBRO\")","v":"FEVEREIRO"},{"$f":"YEAR(tbldados[[#This Row],[DATA]])","v":2022}]
[237,"GASTOS","01 DE 01","pgtoclick","junior","RECARGAPAY","INTER","CREDITO A VISTA",{"$f":"VLOOKUP(tbldados[[#This Row],[APP]],tblbandeira[],3,0)","v":3.49E-2},44575,44607,1111.3399999999999,{"$f":"tbldados[[#This Row],[VALOR PAGO]]+(tbldados[[#This Row],[VALOR PAGO]]*tbldados[[#This Row],[TAXA]])","v":1150.1257659999999},{"$f":"tbldados[[#This Row],[TOTAL BRUTO]]-tbldados[[#This Row],[VALOR PAGO]]","v":38.785765999999967},{"$f":"CHOOSE(MONTH(tbldados[[#This Row],[DATA]]),\"JANEIRO\",\"FEVEREIRO\",\"MARÇO\",\"ABRIL\",\"MAIO\",\"JUNHO\",\"JULHO\",\"AGOSTO\",\"SETEMBRO\",\"OUTUBRO\",\"NOVEMBRO\",\"DEZEMBRO\")","v":"FEVEREIRO"},{"$f":"YEAR(tbldados[[#This Row],[DATA]])","v":2022}]
[238,"PGTO","01 DE 01","CLICK","JANEIRO","RECARGAPAY","CLICK","CREDITO A VISTA",{"$f":"VLOOKUP(tbldados[[#This Row],[APP]],tblbandeira[],3,0)","v":3.49E-2},44576,44609,1079,{"$f":"tbldados[[#This Row],[VALOR PAGO]]+(tbldados[[#This Row],[VALOR PAGO]]*tbldados[[#This Row],[TAXA]])","v":1116.6570999999999},{"$f":"tbldados[[#This Row],[TOTAL BRUTO]]-tbldados[[#This Row],[VALOR PAGO]]","v":37.6570999999999},{"$f":"CHOOSE(MONTH(tbldados[[#This Row],[DATA]]),\"JANEIRO\",\"FEVEREIRO\",\"MARÇO\",\"ABRIL\",\"MAIO\",\"JUNHO\",\"JULHO\",\"AGOSTO\",\"SETEMBRO\",\"OUTUBRO\",\"NOVEMBRO\",\"DEZEMBRO\")","v":"FEVEREIRO"},{"$f":"YEAR(tbldados[[#This Row],[DATA]])","v":2022}]
[239,"GASTOS","01 DE 01","PGTOCLICK2","JUNIOR","RECARGAPAY","CLICK","CREDITO A VISTA",{"$f":"VLOOKUP(tbldados[[#This Row],[APP]],tblbandeira[],3,0)","v":3.49E-2},44576,44609,1079,{"$f":"tbldados[[#This Row],[VALOR PAGO]]+(tbldados[[#This Row],[VALOR PAGO]]*tbldados[[#This Row],[TAXA]])","v":1116.6570999999999},{"$f":"tbldados[[#This Row],[TOTAL BRUTO]]-tbldados[[#This Row],[VALOR PAGO]]","v":37.6570999999999},{"$f":"CHOOSE(MONTH(tbldados[[#This Row],[DATA]]),\"JANEIRO\",\"FEVEREIRO\",\"MARÇO\",\"ABRIL\",\"MAIO\",\"JUNHO\",\"JULHO\",\"AGOSTO\",\"SETEMBRO\",\"OUTUBRO\",\"NOVEMBRO\",\"DEZEMBRO\")","v":"FEVEREIRO"},{"$f":"YEAR(tbldados[[#This Row],[DATA]])","v":2022}]
[240,"PGTO","01 DE 01","CLICK","JANEIRO","RECARGAPAY","CLICK","CREDITO A VISTA",{"$f":"VLOOKUP(tbldados[[#This Row],[APP]],tblbandeira[],3,0)","v":3.49E-2},44576,44609,109.66,{"$f":"tbldados[[#This Row],[VALOR PAGO]]+(tbldados[[#This Row],[VALOR PAGO]]*tbldados[[#This Row],[TAXA]])","v":113.487134},{"$f":"tbldados[[#This Row],[TOTAL BRUTO]]-tbldados[[#This Row],[VALOR PAGO]]","v":3.8271340000000009},{"$f":"CHOOSE(MONTH(tbldados[[#This Row],[DATA]]),\"JANEIRO\",\"FEVEREIRO\",\"MARÇO\",\"ABRIL\",\"MAIO\",\"JUNHO\",\"JULHO\",\"AGOSTO\",\"SETEMBRO\",\"OUTUBRO\",\"NOVEMBRO\",\"DEZEMBRO\")","v":"FEVEREIRO"},{"$f":"YEAR(tbldados[[#This Row],[DATA]])","v":2022}]
[241,"GASTOS","01 DE 01","PGTOCLICK3","JUNIOR","RECARGAPAY","CLICK","CREDITO A VISTA",{"$f":"VLOOKUP(tbldados[[#This Row],[APP]],tblbandeira[],3,0)","v":3.49E-2},44576,44609,109.66,{"$f":"tbldados[[#This Row],[VALOR PAGO]]+(tbldados[[#This Row],[VALOR PAGO]]*tbldados[[#This Row],[TAXA]])","v":113.487134},{"$f":"tbldados[[#This Row],[TOTAL BRUTO]]-tbldados[[#This Row],[VALOR PAGO]]","v":3.8271340000000009},{"$f":"CHOOSE(MONTH(tbldados[[#This Row],[DATA]]),\"JANEIRO\",\"FEVEREIRO\",\"MARÇO\",\"ABRIL\",\"MAIO\",\"JUNHO\",\"JULHO\",\"AGOSTO\",\"SETEMBRO\",\"OUTUBRO\",\"NOVEMBRO\",\"DEZEMBRO\")","v":"FEVEREIRO"},{"$f":"YEAR(tbldados[[#This Row],[DATA]])","v":2022}]
[242,"PGTO","01 DE 01","PANMAE","JANEIRO","RECARGAPAY","DIGIO","CREDITO A VISTA",{"$f":"VLOOKUP(tbldados[[#This Row],[APP]],tblbandeira[],3,0)","v":3.49E-2},44576,44607,854.45,{"$f":"tbldados[[#This Row],[VALOR PAGO]]+(tbldados[[#This Row],[VALOR PAGO]]*tbldados[[#This Row],[TAXA]])","v":884.27030500000001},{"$f":"tbldados[[#This Row],[TOTAL BRUTO]]-tbldados[[#This Row],[VALOR PAGO]]","v":29.820304999999962},{"$f":"CHOOSE(MONTH(tbldados[[#This Row],[DATA]]),\"JANEIRO\",\"FEVEREIRO\",\"MARÇO\",\"ABRIL\",\"MAIO\",\"JUNHO\",\"JULHO\",\"AGOSTO\",\"SETEMBRO\",\"OUTUBRO\",\"NOVEMBRO\",\"DEZEMBRO\")","v":"FEVEREIRO"},{"$f":"YEAR(tbldados[[#This Row],[DATA]])","v":2022}]
[243,"GASTOS","01 DE 01","PGTOPANMAE","JUNIOR","RECARGAPAY","DIGIO","CREDITO A VISTA",{"$f":"VLOOKUP(tbldados[[#This Row],[APP]],tblbandeira[],3,0)","v":3.49E-2},44576,44607,854.45,{"$f":"tbldados[[#This Row],[VALOR PAGO]]+(tbldados[[#This Row],[VALOR PAGO]]*tbldados[[#This Row],[TAXA]])","v":884.27030500000001},{"$f":"tbldados[[#This Row],[TOTAL BRUTO]]-tbldados[[#This Row],[VALOR PAGO]]","v":29.820304999999962},{"$f":"CHOOSE(MONTH(tbldados[[#This Row],[DATA]]),\"JANEIRO\",\"FEVEREIRO\",\"MARÇO\",\"ABRIL\",\"MAIO\",\"JUNHO\",\"JULHO\",\"AGOSTO\",\"SETEMBRO\",\"OUTUBRO\",\"NOVEMBRO\",\"DEZEMBRO\")","v":"FEVEREIRO"},{"$f":"YEAR(tbldados[[#This Row],[DATA]])","v":2022}]
[244,"PGTO","01 DE 01","PANMAE","JANEIRO","RECARGAPAY","NEON","CREDITO A VISTA",{"$f":"VLOOKUP(tbldados[[#This Row],[APP]],tblbandeira[],3,0)","v":3.49E-2},44576,44607,728.23,{"$f":"tbldados[[#This Row],[VALOR PAGO]]+(tbldados[[#This Row],[VALOR PAGO]]*tbldados[[#This Row],[TAXA]])","v":753.64522699999998},{"$f":"tbldados[[#This Row],[TOTAL BRUTO]]-tbldados[[#This Row],[VALOR PAGO]]","v":25.415226999999959},{"$f":"CHOOSE(MONTH(tbldados[[#This Row],[DATA]]),\"JANEIRO\",\"FEVEREIRO\",\"MARÇO\",\"ABRIL\",\"MAIO\",\"JUNHO\",\"JULHO\",\"AGOSTO\",\"SETEMBRO\",\"OUTUBRO\",\"NOVEMBRO\",\"DEZEMBRO\")","v":"FEVEREIRO"},{"$f":"YEAR(tbldados[[#This Row],[DATA]])","v":2022}]
[245,"GASTOS","01 DE 01","PGTOPANMAE2","JUNIOR","RECARGAPAY","NEON","CREDITO A VISTA",{"$f":"VLOOKUP(tbldados[[#This Row],[APP]],tblbandeira[],3,0)","v":3.49E-2},44576,44607,728.23,{"$f":"tbldados[[#This Row],[VALOR PAGO]]+(tbldados[[#This Row],[VALOR PAGO]]*tbldados[[#This Row],[TAXA]])","v":753.64522699999998},{"$f":"tbldados[[#This Row],[TOTAL BRUTO]]-tbldados[[#This Row],[VALOR PAGO]]","v":25.415226999999959},{"$f":"CHOOSE(MONTH(tbldados[[#This Row],[DATA]]),\"JANEIRO\",\"FEVEREIRO\",\"MARÇO\",\"ABRIL\",\"MAIO\",\"JUNHO\",\"JULHO\",\"AGOSTO\",\"SETEMBRO\",\"OUTUBRO\",\"NOVEMBRO\",\"DEZEMBRO\")","v":"FEVEREIRO"},{"$f":"YEAR(tbldados[[#This Row],[DATA]])","v":2022}]
[246,"PGTO","01 DE 01","PANMAE","JANEIRO","RECARGAPAY","PANMAE","CREDITO A VISTA",{"$f":"VLOOKUP(tbldados[[#This Row],[APP]],tblbandeira[],3,0)","v":3.49E-2},44577,44609,1224.8699999999999,{"$f":"tbldados[[#This Row],[VALOR PAGO]]+(tbldados[[#This Row],[VALOR PAGO]]*tbldados[[#This Row],[TAXA]])","v":1267.6179629999999},{"$f":"tbldados[[#This Row],[TOTAL BRUTO]]-tbldados[[#This Row],[VALOR PAGO]]","v":42.747963000000027},{"$f":"CHOOSE(MONTH(tbldados[[#This Row],[DATA]]),\"JANEIRO\",\"FEVEREIRO\",\"MARÇO\",\"ABRIL\",\"MAIO\",\"JUNHO\",\"JULHO\",\"AGOSTO\",\"SETEMBRO\",\"OUTUBRO\",\"NOVEMBRO\",\"DEZEMBRO\")","v":"FEVEREIRO"},{"$f":"YEAR(tbldados[[#This Row],[DATA]])","v":2022}]
[247,"GASTOS","01 DE 01","PGTOPANMAE3","JUNIOR","RECARGAPAY","PANMAE","CREDITO A VISTA",{"$f":"VLOOKUP(tbldados[[#This Row],[APP]],tblbandeira[],3,0)","v":3.49E-2},44577,44609,1224.8699999999999,{"$f":"tbldados[[#This Row],[VALOR PAGO]]+(tbldados[[#This Row],[VALOR PAGO]]*tbldados[[#This Row],[TAXA]])","v":1267.6179629999999},{"$f":"tbldados[[#This Row],[TOTAL BRUTO]]-tbldados[[#This Row],[VALOR PAGO]]","v":42.747963000000027},{"$f":"CHOOSE(MONTH(tbldados[[#This Row],[DATA]]),\"JANEIRO\",\"FEVEREIRO\",\"MARÇO\",\"ABRIL\",\"MAIO\",\"JUNHO\",\"JULHO\",\"AGOSTO\",\"SETEMBRO\",\"OUTUBRO\",\"NOVEMBRO\",\"DEZEMBRO\")","v":"FEVEREIRO"},{"$f":"YEAR(tbldados[[#This Row],[DATA]])","v":2022}]
[248,"PGTO","01 DE 01","WILL","JANEIRO","RECARGAPAY","CLICK","CREDITO A VISTA",{"$f":"VLOOKUP(tbldados[[#This Row],[APP]],tblbandeira[],3,0)","v":3.49E-2},44577,44609,1044.57,{"$f":"tbldados[[#This Row],[VALOR PAGO]]+(tbldados[[#This Row],[VALOR PAGO]]*tbldados[[#This Row],[TAXA]])","v":1081.0254929999999},{"$f":"tbldados[[#This Row],[TOTAL BRUTO]]-tbldados[[#This Row],[VALOR PAGO]]","v":36.455492999999933},{"$f":"CHOOSE(MONTH(tbldados[[#This Row],[DATA]]),\"JANEIRO\",\"FEVEREIRO\",\"MARÇO\",\"ABRIL\",\"MAIO\",\"JUNHO\",\"JULHO\",\"AGOSTO\",\"SETEMBRO\",\"OUTUBRO\",\"NOVEMBRO\",\"DEZEMBRO\")","v":"FEVEREIRO"},{"$f":"YEAR(tbldados[[#This Row],[DATA]])","v":2022}]
[249,"GASTOS","01 DE 01","PGTOWILL","JUNIOR","RECARGAPAY","CLICK","CREDITO A VISTA",{"$f":"VLOOKUP(tbldados[[#This Row],[APP]],tblbandeira[],3,0)","v":3.49E-2},44577,44609,1044.57,{"$f":"tbldados[[#This Row],[VALOR PAGO]]+(tbldados[[#This Row],[VALOR PAGO]]*tbldados[[#This Row],[TAXA]])","v":1081.0254929999999},{"$f":"tbldados[[#This Row],[TOTAL BRUTO]]-tbldados[[#This Row],[VALOR PAGO]]","v":36.455492999999933},{"$f":"CHOOSE(MONTH(tbldados[[#This Row],[DATA]]),\"JANEIRO\",\"FEVEREIRO\",\"MARÇO\",\"ABRIL\",\"MAIO\",\"JUNHO\",\"JULHO\",\"AGOSTO\",\"SETEMBRO\",\"OUTUBRO\",\"NOVEMBRO\",\"DEZEMBRO\")","v":"FEVEREIRO"},{"$f":"YEAR(tbldados[[#This Row],[DATA]])","v":2022}]
[250,"GASTOS","01 DE 01","CLARO","JUNIOR","GERAL","WILL","CREDITO A VISTA",{"$f":"VLOOKUP(tbldados[[#This Row],[APP]],tblbandeira[],3,0)","v":0},44552,44581,30,{"$f":"tbldados[[#This Row],[VALOR PAGO]]+(tbldados[[#This Row],[VALOR PAGO]]*tbldados[[#This Row],[TAXA]])","v":30},{"$f":"tbldados[[#This Row],[TOTAL BRUTO]]-tbldados[[#This Row],[VALOR PAGO]]","v":0},{"$f":"CHOOSE(MONTH(tbldados[[#This Row],[DATA]]),\"JANEIRO\",\"FEVEREIRO\",\"MARÇO\",\"ABRIL\",\"MAIO\",\"JUNHO\",\"JULHO\",\"AGOSTO\",\"SETEMBRO\",\"OUTUBRO\",\"NOVEMBRO\",\"DEZEMBRO\")","v":"JANEIRO"},{"$f":"YEAR(tbldados[[#This Row],[DATA]])","v":2022}]
[251,"GASTOS","01 DE 01","ALMOÇO","JUNIOR","GERAL","WILL","CREDITO A VISTA",{"$f":"VLOOKUP(tbldados[[#This Row],[APP]],tblbandeira[],3,0)","v":0},44577,44612,25.99,{"$f":"tbldados[[#This Row],[VALOR PAGO]]+(tbldados[[#This Row],[VALOR PAGO]]*tbldados[[#This Row],[TAXA]])","v":25.99},{"$f":"tbldados[[#This Row],[TOTAL BRUTO]]-tbldados[[#This Row],[VALOR PAGO]]","v":0},{"$f":"CHOOSE(MONTH(tbldados[[#This Row],[DATA]]),\"JANEIRO\",\"FEVEREIRO\",\"MARÇO\",\"ABRIL\",\"MAIO\",\"JUNHO\",\"JULHO\",\"AGOSTO\",\"SETEMBRO\",\"OUTUBRO\",\"NOVEMBRO\",\"DEZEMBRO\")","v":"FEVEREIRO"},{"$f":"YEAR(tbldados[[#This Row],[DATA]])","v":2022}]
[252,"GASTOS","01 DE 01","CLARO-JANEIRO","JUNIOR","GERAL","WILL","CREDITO A VISTA",{"$f":"VLOOKUP(tbldados[[#This Row],[APP]],tblbandeira[],3,0)","v":0},44583,44612,30,{"$f":"tbldados[[#This Row],[VALOR PAGO]]+(tbldados[[#This Row],[VALOR PAGO]]*tbldados[[#This Row],[TAXA]])","v":30},{"$f":"tbldados[[#This Row],[TOTAL BRUTO]]-tbldados[[#This Row],[VALOR PAGO]]","v":0},{"$f":"CHOOSE(MONTH(tbldados[[#This Row],[DATA]]),\"JANEIRO\",\"FEVEREIRO\",\"MARÇO\",\"ABRIL\",\"MAIO\",\"JUNHO\",\"JULHO\",\"AGOSTO\",\"SETEMBRO\",\"OUTUBRO\",\"NOVEMBRO\",\"DEZEMBRO\")","v":"FEVEREIRO"},{"$f":"YEAR(tbldados[[#This Row],[DATA]])","v":2022}]
[253,"PGTO","01 DE 01","WILL","JANEIRO","RECARGAPAY","WILL","CREDITO A VISTA",{"$f":"VLOOKUP(tbldados[[#This Row],[APP]],tblbandeira[],3,0)","v":3.49E-2},44578,44612,1491.59,{"$f":"tbldados[[#This Row],[VALOR PAGO]]+(tbldados[[#This Row],[VALOR PAGO]]*tbldados[[#This Row],[TAXA]])","v":1543.646491},{"$f":"tbldados[[#This Row],[TOTAL BRUTO]]-tbldados[[#This Row],[VALOR PAGO]]","v":52.056491000000051},{"$f":"CHOOSE(MONTH(tbldados[[#This Row],[DATA]]),\"JANEIRO\",\"FEVEREIRO\",\"MARÇO\",\"ABRIL\",\"MAIO\",\"JUNHO\",\"JULHO\",\"AGOSTO\",\"SETEMBRO\",\"OUTUBRO\",\"NOVEMBRO\",\"DEZEMBRO\")","v":"FEVEREIRO"},{"$f":"YEAR(tbldados[[#This Row],[DATA]])","v":2022}]
[254,"GASTOS","01 DE 01","PGTOWILL2","JUNIOR","RECARGAPAY","WILL","CREDITO A VISTA",{"$f":"VLOOKUP(tbldados[[#This Row],[APP]],tblbandeira[],3,0)","v":3.49E-2},44578,44612,1491.59,{"$f":"tbldados[[#This Row],[VALOR PAGO]]+(tbldados[[#This Row],[VALOR PAGO]]*tbldados[[#This Row],[TAXA]])","v":1543.646491},{"$f":"tbldados[[#This Row],[TOTAL BRUTO]]-tbldados[[#This Row],[VALOR PAGO]]","v":52.056491000000051},{"$f":"CHOOSE(MONTH(tbldados[[#This Row],[DATA]]),\"JANEIRO\",\"FEVEREIRO\",\"MARÇO\",\"ABRIL\",\"MAIO\",\"JUNHO\",\"JULHO\",\"AGOSTO\",\"SETEMBRO\",\"OUTUBRO\",\"NOVEMBRO\",\"DEZEMBRO\")","v":"FEVEREIRO"},{"$f":"YEAR(tbldados[[#This Row],[DATA]])","v":2022}]
[255,"GASTOS","01 DE 01","PGTOCARD","JUNIOR","GERAL","TRIGMAE","CREDITO A VISTA",{"$f":"VLOOKUP(tbldados[[#This Row],[APP]],tblbandeira[],3,0)","v":0},44908,44581,461.31,{"$f":"tbldados[[#This Row],[VALOR PAGO]]+(tbldados[[#This Row],[VALOR PAGO]]*tbldados[[#This Row],[TAXA]])","v":461.31},{"$f":"tbldados[[#This Row],[TOTAL BRUTO]]-tbldados[[#This Row],[VALOR PAGO]]","v":0},{"$f":"CHOOSE(MONTH(tbldados[[#This Row],[DATA]]),\"JANEIRO\",\"FEVEREIRO\",\"MARÇO\",\"ABRIL\",\"MAIO\",\"JUNHO\",\"JULHO\",\"AGOSTO\",\"SETEMBRO\",\"OUTUBRO\",\"NOVEMBRO\",\"DEZEMBRO\")","v":"JANEIRO"},{"$f":"YEAR(tbldados[[#This Row],[DATA]])","v":2022}]
[256,"GASTOS","01 DE 01","ANUIDADE","JUNIOR","GERAL","TRIGMAE","CREDITO A VISTA",{"$f":"VLOOKUP(tbldados[[#This Row],[APP]],tblbandeira[],3,0)","v":0},44908,44581,10.9,{"$f":"tbldados[[#This Row],[VALOR PAGO]]+(tbldados[[#This Row],[VALOR PAGO]]*tbldados[[#This Row],[TAXA]])","v":10.9},{"$f":"tbldados[[#This Row],[TOTAL BRUTO]]-tbldados[[#This Row],[VALOR PAGO]]","v":0},{"$f":"CHOOSE(MONTH(tbldados[[#This Row],[DATA]]),\"JANEIRO\",\"FEVEREIRO\",\"MARÇO\",\"ABRIL\",\"MAIO\",\"JUNHO\",\"JULHO\",\"AGOSTO\",\"SETEMBRO\",\"OUTUBRO\",\"NOVEMBRO\",\"DEZEMBRO\")","v":"JANEIRO"},{"$f":"YEAR(tbldados[[#This Row],[DATA]])","v":2022}]
[257,"PGTO","01 DE 01","TRIGMAE","JANEIRO","RECARGAPAY","ORIGINAL","CREDITO A VISTA",{"$f":"VLOOKUP(tbldados[[#This Row],[APP]],tblbandeira[],3,0)","v":3.49E-2},44578,44602,466.06,{"$f":"tbldados[[#This Row],[VALOR PAGO]]+(tbldados[[#This Row],[VALOR PAGO]]*tbldados[[#This Row],[TAXA]])","v":482.32549399999999},{"$f":"tbldados[[#This Row],[TOTAL BRUTO]]-tbldados[[#This Row],[VALOR PAGO]]","v":16.26549399999999},{"$f":"CHOOSE(MONTH(tbldados[[#This Row],[DATA]]),\"JANEIRO\",\"FEVEREIRO\",\"MARÇO\",\"ABRIL\",\"MAIO\",\"JUNHO\",\"JULHO\",\"AGOSTO\",\"SETEMBRO\",\"OUTUBRO\",\"NOVEMBRO\",\"DEZEMBRO\")","v":"FEVEREIRO"},{"$f":"YEAR(tbldados[[#This Row],[DATA]])","v":2022}]
[258,"GASTOS","01 DE 01","PGTOTRIGMAE","JUNIOR","RECARGAPAY","ORIGINAL","CREDITO A VISTA",{"$f":"VLOOKUP(tbldados[[#This Row],[APP]],tblbandeira[],3,0)","v":3.49E-2},44578,44602,466.06,{"$f":"tbldados[[#This Row],[VALOR PAGO]]+(tbldados[[#This Row],[VALOR PAGO]]*tbldados[[#This Row],[TAXA]])","v":482.32549399999999},{"$f":"tbldados[[#This Row],[TOTAL BRUTO]]-tbldados[[#This Row],[VALOR PAGO]]","v":16.26549399999999},{"$f":"CHOOSE(MONTH(tbldados[[#This Row],[DATA]]),\"JANEIRO\",\"FEVEREIRO\",\"MARÇO\",\"ABRIL\",\"MAIO\",\"JUNHO\",\"JULHO\",\"AGOSTO\",\"SETEMBRO\",\"OUTUBRO\",\"NOVEMBRO\",\"DEZEMBRO\")","v":"FEVEREIRO"},{"$f":"YEAR(tbldados[[#This Row],[DATA]])","v":2022}]
[259,"PGTO","01 DE 01","TRIGMAE","JANEIRO","RECARGAPAY","TRIGMAE","CREDITO A VISTA",{"$f":"VLOOKUP(tbldados[[#This Row],[APP]],tblbandeira[],3,0)","v":3.49E-2},44578,44612,6.15,{"$f":"tbldados[[#This Row],[VALOR PAGO]]+(tbldados[[#This Row],[VALOR PAGO]]*tbldados[[#This Row],[TAXA]])","v":6.3646350000000007},{"$f":"tbldados[[#This Row],[TOTAL BRUTO]]-tbldados[[#This Row],[VALOR PAGO]]","v":0.21463500000000035},{"$f":"CHOOSE(MONTH(tbldados[[#This Row],[DATA]]),\"JANEIRO\",\"FEVEREIRO\",\"MARÇO\",\"ABRIL\",\"MAIO\",\"JUNHO\",\"JULHO\",\"AGOSTO\",\"SETEMBRO\",\"OUTUBRO\",\"NOVEMBRO\",\"DEZEMBRO\")","v":"FEVEREIRO"},{"$f":"YEAR(tbldados[[#This Row],[DATA]])","v":2022}]
[260,"GASTOS","01 DE 01","PGTOTRIGMAE2","JUNIOR","RECARGAPAY","TRIGMAE","CREDITO A VISTA",{"$f":"VLOOKUP(tbldados[[#This Row],[APP]],tblbandeira[],3,0)","v":3.49E-2},44578,44612,6.15,{"$f":"tbldados[[#This Row],[VALOR PAGO]]+(tbldados[[#This Row],[VALOR PAGO]]*tbldados[[#This Row],[TAXA]])","v":6.3646350000000007},{"$f":"tbldados[[#This Row],[TOTAL BRUTO]]-tbldados[[#This Row],[VALOR PAGO]]","v":0.21463500000000035},{"$f":"CHOOSE(MONTH(tbldados[[#This Row],[DATA]]),\"JANEIRO\",\"FEVEREIRO\",\"MARÇO\",\"ABRIL\",\"MAIO\",\"JUNHO\",\"JULHO\",\"AGOSTO\",\"SETEMBRO\",\"OUTUBRO\",\"NOVEMBRO\",\"DEZEMBRO\")","v":"FEVEREIRO"},{"$f":"YEAR(tbldados[[#This Row],[DATA]])","v":2022}]
[261,"GASTOS","01 DE 01","JANTA","JUNIOR","GERAL","NUBANK","CREDITO A VISTA",{"$f":"VLOOKUP(tbldados[[#This Row],[APP]],tblbandeira[],3,0)","v":0},44578,44605,23,{"$f":"tbldados[[#This Row],[VALOR PAGO]]+(tbldados[[#This Row],[VALOR PAGO]]*tbldados[[#This Row],[TAXA]])","v":23},{"$f":"tbldados[[#This Row],[TOTAL BRUTO]]-tbldados[[#This Row],[VALOR PAGO]]","v":0},{"$f":"CHOOSE(MONTH(tbldados[[#This Row],[DATA]]),\"JANEIRO\",\"FEVEREIRO\",\"MARÇO\",\"ABRIL\",\"MAIO\",\"JUNHO\",\"JULHO\",\"AGOSTO\",\"SETEMBRO\",\"OUTUBRO\",\"NOVEMBRO\",\"DEZEMBRO\")","v":"FEVEREIRO"},{"$f":"YEAR(tbldados[[#This Row],[DATA]])","v":2022}]
[262,"GASTOS","01 DE 01","ALUGUEL","JUNIOR","GERAL","GOLD","CREDITO A VISTA",{"$f":"VLOOKUP(tbldados[[#This Row],[APP]],tblbandeira[],3,0)","v":0},44550,44584,51.48,{"$f":"tbldados[[#This Row],[VALOR PAGO]]+(tbldados[[#This Row],[VALOR PAGO]]*tbldados[[#This Row],[TAXA]])","v":51.48},{"$f":"tbldados[[#This Row],[TOTAL BRUTO]]-tbldados[[#This Row],[VALOR PAGO]]","v":0},{"$f":"CHOOSE(MONTH(tbldados[[#This Row],[DATA]]),\"JANEIRO\",\"FEVEREIRO\",\"MARÇO\",\"ABRIL\",\"MAIO\",\"JUNHO\",\"JULHO\",\"AGOSTO\",\"SETEMBRO\",\"OUTUBRO\",\"NOVEMBRO\",\"DEZEMBRO\")","v":"JANEIRO"},{"$f":"YEAR(tbldados[[#This Row],[DATA]])","v":2022}]
[263,"GASTOS","01 DE 01","ALMOÇO","JUNIOR","GERAL","C6MAE","CREDITO A VISTA",{"$f":"VLOOKUP(tbldados[[#This Row],[APP]],tblbandeira[],3,0)","v":0},44579,44597,29,{"$f":"tbldados[[#This Row],[VALOR PAGO]]+(tbldados[[#This Row],[VALOR PAGO]]*tbldados[[#This Row],[TAXA]])","v":29},{"$f":"tbldados[[#This Row],[TOTAL BRUTO]]-tbldados[[#This Row],[VALOR PAGO]]","v":0},{"$f":"CHOOSE(MONTH(tbldados[[#This Row],[DATA]]),\"JANEIRO\",\"FEVEREIRO\",\"MARÇO\",\"ABRIL\",\"MAIO\",\"JUNHO\",\"JULHO\",\"AGOSTO\",\"SETEMBRO\",\"OUTUBRO\",\"NOVEMBRO\",\"DEZEMBRO\")","v":"FEVEREIRO"},{"$f":"YEAR(tbldados[[#This Row],[DATA]])","v":2022}]
[264,"PGTO","01 DE 01","GOLD","JANEIRO","RECARGAPAY","WILL","CREDITO A VISTA",{"$f":"VLOOKUP(tbldados[[#This Row],[APP]],tblbandeira[],3,0)","v":3.49E-2},44579,44612,1075.6600000000001,{"$f":"tbldados[[#This Row],[VALOR PAGO]]+(tbldados[[#This Row],[VALOR PAGO]]*tbldados[[#This Row],[TAXA]])","v":1113.2005340000001},{"$f":"tbldados[[#This Row],[TOTAL BRUTO]]-tbldados[[#This Row],[VALOR PAGO]]","v":37.54053399999998},{"$f":"CHOOSE(MONTH(tbldados[[#This Row],[DATA]]),\"JANEIRO\",\"FEVEREIRO\",\"MARÇO\",\"ABRIL\",\"MAIO\",\"JUNHO\",\"JULHO\",\"AGOSTO\",\"SETEMBRO\",\"OUTUBRO\",\"NOVEMBRO\",\"DEZEMBRO\")","v":"FEVEREIRO"},{"$f":"YEAR(tbldados[[#This Row],[DATA]])","v":2022}]
[265,"PGTO","01 DE 01","GOLD","JANEIRO","RECARGAPAY","GOLD","CREDITO A VISTA",{"$f":"VLOOKUP(tbldados[[#This Row],[APP]],tblbandeira[],3,0)","v":3.49E-2},44579,44615,1044,{"$f":"tbldados[[#This Row],[VALOR PAGO]]+(tbldados[[#This Row],[VALOR PAGO]]*tbldados[[#This Row],[TAXA]])","v":1080.4356},{"$f":"tbldados[[#This Row],[TOTAL BRUTO]]-tbldados[[#This Row],[VALOR PAGO]]","v":36.435600000000022},{"$f":"CHOOSE(MONTH(tbldados[[#This Row],[DATA]]),\"JANEIRO\",\"FEVEREIRO\",\"MARÇO\",\"ABRIL\",\"MAIO\",\"JUNHO\",\"JULHO\",\"AGOSTO\",\"SETEMBRO\",\"OUTUBRO\",\"NOVEMBRO\",\"DEZEMBRO\")","v":"FEVEREIRO"},{"$f":"YEAR(tbldados[[#This Row],[DATA]])","v":2022}]
[266,"GASTOS","01 DE 01","PGTOGOLD2","JUNIOR","RECARGAPAY","GOLD","CREDITO A VISTA",{"$f":"VLOOKUP(tbldados[[#This Row],[APP]],tblbandeira[],3,0)","v":3.49E-2},44579,44615,1044,{"$f":"tbldados[[#This Row],[VALOR PAGO]]+(tbldados[[#This Row],[VALOR PAGO]]*tbldados[[#This Row],[TAXA]])","v":1080.4356},{"$f":"tbldados[[#This Row],[TOTAL BRUTO]]-tbldados[[#This Row],[VALOR PAGO]]","v":36.435600000000022},{"$f":"CHOOSE(MONTH(tbldados[[#This Row],[DATA]]),\"JANEIRO\",\"FEVEREIRO\",\"MARÇO\",\"ABRIL\",\"MAIO\",\"JUNHO\",\"JULHO\",\"AGOSTO\",\"SETEMBRO\",\"OUTUBRO\",\"NOVEMBRO\",\"DEZEMBRO\")","v":"FEVEREIRO"},{"$f":"YEAR(tbldados[[#This Row],[DATA]])","v":2022}]
[267,"PGTO","01 DE 01","GOLD","JANEIRO","RECARGAPAY","GOLD","CREDITO A VISTA",{"$f":"VLOOKUP(tbldados[[#This Row],[APP]],tblbandeira[],3,0)","v":3.49E-2},44580,44615,380.34,{"$f":"tbldados[[#This Row],[VALOR PAGO]]+(tbldados[[#This Row],[VALOR PAGO]]*tbldados[[#This Row],[TAXA]])","v":393.61386599999997},{"$f":"tbldados[[#This Row],[TOTAL BRUTO]]-tbldados[[#This Row],[VALOR PAGO]]","v":13.273865999999998},{"$f":"CHOOSE(MONTH(tbldados[[#This Row],[DATA]]),\"JANEIRO\",\"FEVEREIRO\",\"MARÇO\",\"ABRIL\",\"MAIO\",\"JUNHO\",\"JULHO\",\"AGOSTO\",\"SETEMBRO\",\"OUTUBRO\",\"NOVEMBRO\",\"DEZEMBRO\")","v":"FEVEREIRO"},{"$f":"YEAR(tbldados[[#This Row],[DATA]])","v":2022}]
[268,"GASTOS","01 DE 01","PGTOGOLD3","JUNIOR","RECARGAPAY","GOLD","CREDITO A VISTA",{"$f":"VLOOKUP(tbldados[[#This Row],[APP]],tblbandeira[],3,0)","v":3.49E-2},44580,44615,380.34,{"$f":"tbldados[[#This Row],[VALOR PAGO]]+(tbldados[[#This Row],[VALOR PAGO]]*tbldados[[#This Row],[TAXA]])","v":393.61386599999997},{"$f":"tbldados[[#This Row],[TOTAL BRUTO]]-tbldados[[#This Row],[VALOR PAGO]]","v":13.273865999999998},{"$f":"CHOOSE(MONTH(tbldados[[#This Row],[DATA]]),\"JANEIRO\",\"FEVEREIRO\",\"MARÇO\",\"ABRIL\",\"MAIO\",\"JUNHO\",\"JULHO\",\"AGOSTO\",\"SETEMBRO\",\"OUTUBRO\",\"NOVEMBRO\",\"DEZEMBRO\")","v":"FEVEREIRO"},{"$f":"YEAR(tbldados[[#This Row],[DATA]])","v":2022}]
[269,"PGTO","01 DE 01","LATAM","JANEIRO","RECARGAPAY","GOLD","CREDITO A VISTA",{"$f":"VLOOKUP(tbldados[[#This Row],[APP]],tblbandeira[],3,0)","v":3.49E-2},44582,44615,1003.08,{"$f":"tbldados[[#This Row],[VALOR PAGO]]+(tbldados[[#This Row],[VALOR PAGO]]*tbldados[[#This Row],[TAXA]])","v":1038.0874920000001},{"$f":"tbldados[[#This Row],[TOTAL BRUTO]]-tbldados[[#This Row],[VALOR PAGO]]","v":35.00749200000007},{"$f":"CHOOSE(MONTH(tbldados[[#This Row],[DATA]]),\"JANEIRO\",\"FEVEREIRO\",\"MARÇO\",\"ABRIL\",\"MAIO\",\"JUNHO\",\"JULHO\",\"AGOSTO\",\"SETEMBRO\",\"OUTUBRO\",\"NOVEMBRO\",\"DEZEMBRO\")","v":"FEVEREIRO"},{"$f":"YEAR(tbldados[[#This Row],[DATA]])","v":2022}]
[270,"GASTOS","01 DE 01","PGTOLATAM","JUNIOR","RECARGAPAY","GOLD","CREDITO A VISTA",{"$f":"VLOOKUP(tbldados[[#This Row],[APP]],tblbandeira[],3,0)","v":3.49E-2},44582,44615,1003.08,{"$f":"tbldados[[#This Row],[VALOR PAGO]]+(tbldados[[#This Row],[VALOR PAGO]]*tbldados[[#This Row],[TAXA]])","v":1038.0874920000001},{"$f":"tbldados[[#This Row],[TOTAL BRUTO]]-tbldados[[#This Row],[VALOR PAGO]]","v":35.00749200000007},{"$f":"CHOOSE(MONTH(tbldados[[#This Row],[DATA]]),\"JANEIRO\",\"FEVEREIRO\",\"MARÇO\",\"ABRIL\",\"MAIO\",\"JUNHO\",\"JULHO\",\"AGOSTO\",\"SETEMBRO\",\"OUTUBRO\",\"NOVEMBRO\",\"DEZEMBRO\")","v":"FEVEREIRO"},{"$f":"YEAR(tbldados[[#This Row],[DATA]])","v":2022}]
[271,"PGTO","01 DE 01","LATAM","JANEIRO","RECARGAPAY","TRIGMAE","CREDITO A VISTA",{"$f":"VLOOKUP(tbldados[[#This Row],[APP]],tblbandeira[],3,0)","v":3.49E-2},44582,44612,479.34,{"$f":"tbldados[[#This Row],[VALOR PAGO]]+(tbldados[[#This Row],[VALOR PAGO]]*tbldados[[#This Row],[TAXA]])","v":496.06896599999999},{"$f":"tbldados[[#This Row],[TOTAL BRUTO]]-tbldados[[#This Row],[VALOR PAGO]]","v":16.728966000000014},{"$f":"CHOOSE(MONTH(tbldados[[#This Row],[DATA]]),\"JANEIRO\",\"FEVEREIRO\",\"MARÇO\",\"ABRIL\",\"MAIO\",\"JUNHO\",\"JULHO\",\"AGOSTO\",\"SETEMBRO\",\"OUTUBRO\",\"NOVEMBRO\",\"DEZEMBRO\")","v":"FEVEREIRO"},{"$f":"YEAR(tbldados[[#This Row],[DATA]])","v":2022}]
[272,"GASTOS","01 DE 01","PGTOLATAM2","JUNIOR","RECARGAPAY","TRIGMAE","CREDITO A VISTA",{"$f":"VLOOKUP(tbldados[[#This Row],[APP]],tblbandeira[],3,0)","v":3.49E-2},44582,44612,479.34,{"$f":"tbldados[[#This Row],[VALOR PAGO]]+(tbldados[[#This Row],[VALOR PAGO]]*tbldados[[#This Row],[TAXA]])","v":496.06896599999999},{"$f":"tbldados[[#This Row],[TOTAL BRUTO]]-tbldados[[#This Row],[VALOR PAGO]]","v":16.728966000000014},{"$f":"CHOOSE(MONTH(tbldados[[#This Row],[DATA]]),\"JANEIRO\",\"FEVEREIRO\",\"MARÇO\",\"ABRIL\",\"MAIO\",\"JUNHO\",\"JULHO\",\"AGOSTO\",\"SETEMBRO\",\"OUTUBRO\",\"NOVEMBRO\",\"DEZEMBRO\")","v":"FEVEREIRO"},{"$f":"YEAR(tbldados[[#This Row],[DATA]])","v":2022}]
[273,"PGTO","01 DE 01","LATAM","JANEIRO","RECARGAPAY","LATAM","CREDITO A VISTA",{"$f":"VLOOKUP(tbldados[[#This Row],[APP]],tblbandeira[],3,0)","v":3.49E-2},44584,44617,1439.38,{"$f":"tbldados[[#This Row],[VALOR PAGO]]+(tbldados[[#This Row],[VALOR PAGO]]*tbldados[[#This Row],[TAXA]])","v":1489.614362},{"$f":"tbldados[[#This Row],[TOTAL BRUTO]]-tbldados[[#This Row],[VALOR PAGO]]","v":50.234361999999919},{"$f":"CHOOSE(MONTH(tbldados[[#This Row],[DATA]]),\"JANEIRO\",\"FEVEREIRO\",\"MARÇO\",\"ABRIL\",\"MAIO\",\"JUNHO\",\"JULHO\",\"AGOSTO\",\"SETEMBRO\",\"OUTUBRO\",\"NOVEMBRO\",\"DEZEMBRO\")","v":"FEVEREIRO"},{"$f":"YEAR(tbldados[[#This Row],[DATA]])","v":2022}]
[274,"GASTOS","01 DE 01","PGTOLATAM3","JUNIOR","RECARGAPAY","LATAM","CREDITO A VISTA",{"$f":"VLOOKUP(tbldados[[#This Row],[APP]],tblbandeira[],3,0)","v":3.49E-2},44584,44617,1439.38,{"$f":"tbldados[[#This Row],[VALOR PAGO]]+(tbldados[[#This Row],[VALOR PAGO]]*tbldados[[#This Row],[TAXA]])","v":1489.614362},{"$f":"tbldados[[#This Row],[TOTAL BRUTO]]-tbldados[[#This Row],[VALOR PAGO]]","v":50.234361999999919},{"$f":"CHOOSE(MONTH(tbldados[[#This Row],[DATA]]),\"JANEIRO\",\"FEVEREIRO\",\"MARÇO\",\"ABRIL\",\"MAIO\",\"JUNHO\",\"JULHO\",\"AGOSTO\",\"SETEMBRO\",\"OUTUBRO\",\"NOVEMBRO\",\"DEZEMBRO\")","v":"FEVEREIRO"},{"$f":"YEAR(tbldados[[#This Row],[DATA]])","v":2022}]
[275,"PGTO","01 DE 01","LATAM","JANEIRO","RECARGAPAY","LATAM","CREDITO A VISTA",{"$f":"VLOOKUP(tbldados[[#This Row],[APP]],tblbandeira[],3,0)","v":3.49E-2},44585,44617,878.21,{"$f":"tbldados[[#This Row],[VALOR PAGO]]+(tbldados[[#This Row],[VALOR PAGO]]*tbldados[[#This Row],[TAXA]])","v":908.85952900000007},{"$f":"tbldados[[#This Row],[TOTAL BRUTO]]-tbldados[[#This Row],[VALOR PAGO]]","v":30.64952900000003},{"$f":"CHOOSE(MONTH(tbldados[[#This Row],[DATA]]),\"JANEIRO\",\"FEVEREIRO\",\"MARÇO\",\"ABRIL\",\"MAIO\",\"JUNHO\",\"JULHO\",\"AGOSTO\",\"SETEMBRO\",\"OUTUBRO\",\"NOVEMBRO\",\"DEZEMBRO\")","v":"FEVEREIRO"},{"$f":"YEAR(tbldados[[#This Row],[DATA]])","v":2022}]
[276,"GASTOS","01 DE 01","PGTOLATAM4","JUNIOR","RECARGAPAY","LATAM","CREDITO A VISTA",{"$f":"VLOOKUP(tbldados[[#This Row],[APP]],tblbandeira[],3,0)","v":3.49E-2},44585,44617,878.21,{"$f":"tbldados[[#This Row],[VALOR PAGO]]+(tbldados[[#This Row],[VALOR PAGO]]*tbldados[[#This Row],[TAXA]])","v":908.85952900000007},{"$f":"tbldados[[#This Row],[TOTAL BRUTO]]-tbldados[[#This Row],[VALOR PAGO]]","v":30.64952900000003},{"$f":"CHOOSE(MONTH(tbldados[[#This Row],[DATA]]),\"JANEIRO\",\"FEVEREIRO\",\"MARÇO\",\"ABRIL\",\"MAIO\",\"JUNHO\",\"JULHO\",\"AGOSTO\",\"SETEMBRO\",\"OUTUBRO\",\"NOVEMBRO\",\"DEZEMBRO\")","v":"FEVEREIRO"},{"$f":"YEAR(tbldados[[#This Row],[DATA]])","v":2022}]
[277,"PGTO","01 DE 01","BMG","JANEIRO","RECARGAPAY","LATAM","CREDITO A VISTA",{"$f":"VLOOKUP(tbldados[[#This Row],[APP]],tblbandeira[],3,0)","v":3.49E-2},44585,44617,337.97,{"$f":"tbldados[[#This Row],[VALOR PAGO]]+(tbldados[[#This Row],[VALOR PAGO]]*tbldados[[#This Row],[TAXA]])","v":349.76515300000005},{"$f":"tbldados[[#This Row],[TOTAL BRUTO]]-tbldados[[#This Row],[VALOR PAGO]]","v":11.795153000000028},{"$f":"CHOOSE(MONTH(tbldados[[#This Row],[DATA]]),\"JANEIRO\",\"FEVEREIRO\",\"MARÇO\",\"ABRIL\",\"MAIO\",\"JUNHO\",\"JULHO\",\"AGOSTO\",\"SETEMBRO\",\"OUTUBRO\",\"NOVEMBRO\",\"DEZEMBRO\")","v":"FEVEREIRO"},{"$f":"YEAR(tbldados[[#This Row],[DATA]])","v":2022}]
[278,"GASTOS","01 DE 01","PGTOBMG","JUNIOR","RECARGAPAY","LATAM","CREDITO A VISTA",{"$f":"VLOOKUP(tbldados[[#This Row],[APP]],tblbandeira[],3,0)","v":3.49E-2},44585,44617,337.97,{"$f":"tbldados[[#This Row],[VALOR PAGO]]+(tbldados[[#This Row],[VALOR PAGO]]*tbldados[[#This Row],[TAXA]])","v":349.76515300000005},{"$f":"tbldados[[#This Row],[TOTAL BRUTO]]-tbldados[[#This Row],[VALOR PAGO]]","v":11.795153000000028},{"$f":"CHOOSE(MONTH(tbldados[[#This Row],[DATA]]),\"JANEIRO\",\"FEVEREIRO\",\"MARÇO\",\"ABRIL\",\"MAIO\",\"JUNHO\",\"JULHO\",\"AGOSTO\",\"SETEMBRO\",\"OUTUBRO\",\"NOVEMBRO\",\"DEZEMBRO\")","v":"FEVEREIRO"},{"$f":"YEAR(tbldados[[#This Row],[DATA]])","v":2022}]
[279,"GASTOS","01 DE 01","ALMOÇO","JUNIOR","GERAL","C6MAE","CREDITO A VISTA",{"$f":"VLOOKUP(tbldados[[#This Row],[APP]],tblbandeira[],3,0)","v":0},44585,44597,25.99,{"$f":"tbldados[[#This Row],[VALOR PAGO]]+(tbldados[[#This Row],[VALOR PAGO]]*tbldados[[#This Row],[TAXA]])","v":25.99},{"$f":"tbldados[[#This Row],[TOTAL BRUTO]]-tbldados[[#This Row],[VALOR PAGO]]","v":0},{"$f":"CHOOSE(MONTH(tbldados[[#This Row],[DATA]]),\"JANEIRO\",\"FEVEREIRO\",\"MARÇO\",\"ABRIL\",\"MAIO\",\"JUNHO\",\"JULHO\",\"AGOSTO\",\"SETEMBRO\",\"OUTUBRO\",\"NOVEMBRO\",\"DEZEMBRO\")","v":"FEVEREIRO"},{"$f":"YEAR(tbldados[[#This Row],[DATA]])","v":2022}]
[280,"GASTOS","01 DE 01","ALMOÇO E JANTA","JANEIRO","GERAL","NEON","CREDITO A VISTA",{"$f":"VLOOKUP(tbldados[[#This Row],[APP]],tblbandeira[],3,0)","v":0},44585,44607,86.97,{"$f":"tbldados[[#This Row],[VALOR PAGO]]+(tbldados[[#This Row],[VALOR PAGO]]*tbldados[[#This Row],[TAXA]])","v":86.97},{"$f":"tbldados[[#This Row],[TOTAL BRUTO]]-tbldados[[#This Row],[VALOR PAGO]]","v":0},{"$f":"CHOOSE(MONTH(tbldados[[#This Row],[DATA]]),\"JANEIRO\",\"FEVEREIRO\",\"MARÇO\",\"ABRIL\",\"MAIO\",\"JUNHO\",\"JULHO\",\"AGOSTO\",\"SETEMBRO\",\"OUTUBRO\",\"NOVEMBRO\",\"DEZEMBRO\")","v":"FEVEREIRO"},{"$f":"YEAR(tbldados[[#This Row],[DATA]])","v":2022}]
[281,"GASTOS","01 DE 01","CERVEJA","JUNIOR","GERAL","FREE","CREDITO A VISTA",{"$f":"VLOOKUP(tbldados[[#This Row],[APP]],tblbandeira[],3,0)","v":0},44567,44591,60,{"$f":"tbldados[[#This Row],[VALOR PAGO]]+(tbldados[[#This Row],[VALOR PAGO]]*tbldados[[#This Row],[TAXA]])","v":60},{"$f":"tbldados[[#This Row],[TOTAL BRUTO]]-tbldados[[#This Row],[VALOR PAGO]]","v":0},{"$f":"CHOOSE(MONTH(tbldados[[#This Row],[DATA]]),\"JANEIRO\",\"FEVEREIRO\",\"MARÇO\",\"ABRIL\",\"MAIO\",\"JUNHO\",\"JULHO\",\"AGOSTO\",\"SETEMBRO\",\"OUTUBRO\",\"NOVEMBRO\",\"DEZEMBRO\")","v":"JANEIRO"},{"$f":"YEAR(tbldados[[#This Row],[DATA]])","v":2022}]
[282,"GASTOS","01 DE 01","JANTA","JUNIOR","GERAL","FREE","CREDITO A VISTA",{"$f":"VLOOKUP(tbldados[[#This Row],[APP]],tblbandeira[],3,0)","v":0},44567,44591,31.79,{"$f":"tbldados[[#This Row],[VALOR PAGO]]+(tbldados[[#This Row],[VALOR PAGO]]*tbldados[[#This Row],[TAXA]])","v":31.79},{"$f":"tbldados[[#This Row],[TOTAL BRUTO]]-tbldados[[#This Row],[VALOR PAGO]]","v":0},{"$f":"CHOOSE(MONTH(tbldados[[#This Row],[DATA]]),\"JANEIRO\",\"FEVEREIRO\",\"MARÇO\",\"ABRIL\",\"MAIO\",\"JUNHO\",\"JULHO\",\"AGOSTO\",\"SETEMBRO\",\"OUTUBRO\",\"NOVEMBRO\",\"DEZEMBRO\")","v":"JANEIRO"},{"$f":"YEAR(tbldados[[#This Row],[DATA]])","v":2022}]
[283,"PGTO","01 DE 01","FREE","JANEIRO","RECARGAPAY","BMG","CREDITO A VISTA",{"$f":"VLOOKUP(tbldados[[#This Row],[APP]],tblbandeira[],3,0)","v":3.49E-2},44586,44617,164.28,{"$f":"tbldados[[#This Row],[VALOR PAGO]]+(tbldados[[#This Row],[VALOR PAGO]]*tbldados[[#This Row],[TAXA]])","v":170.013372},{"$f":"tbldados[[#This Row],[TOTAL BRUTO]]-tbldados[[#This Row],[VALOR PAGO]]","v":5.7333720000000028},{"$f":"CHOOSE(MONTH(tbldados[[#This Row],[DATA]]),\"JANEIRO\",\"FEVEREIRO\",\"MARÇO\",\"ABRIL\",\"MAIO\",\"JUNHO\",\"JULHO\",\"AGOSTO\",\"SETEMBRO\",\"OUTUBRO\",\"NOVEMBRO\",\"DEZEMBRO\")","v":"FEVEREIRO"},{"$f":"YEAR(tbldados[[#This Row],[DATA]])","v":2022}]
[284,"GASTOS","01 DE 01","PGTOFREE","JUNIOR","RECARGAPAY","BMG","CREDITO A VISTA",{"$f":"VLOOKUP(tbldados[[#This Row],[APP]],tblbandeira[],3,0)","v":3.49E-2},44586,44617,164.28,{"$f":"tbldados[[#This Row],[VALOR PAGO]]+(tbldados[[#This Row],[VALOR PAGO]]*tbldados[[#This Row],[TAXA]])","v":170.013372},{"$f":"tbldados[[#This Row],[TOTAL BRUTO]]-tbldados[[#This Row],[VALOR PAGO]]","v":5.7333720000000028},{"$f":"CHOOSE(MONTH(tbldados[[#This Row],[DATA]]),\"JANEIRO\",\"FEVEREIRO\",\"MARÇO\",\"ABRIL\",\"MAIO\",\"JUNHO\",\"JULHO\",\"AGOSTO\",\"SETEMBRO\",\"OUTUBRO\",\"NOVEMBRO\",\"DEZEMBRO\")","v":"FEVEREIRO"},{"$f":"YEAR(tbldados[[#This Row],[DATA]])","v":2022}]
[285,"PGTO","01 DE 01","ZERO","FEVEREIRO","RECARGAPAY","LATAM","CREDITO A VISTA",{"$f":"VLOOKUP(tbldados[[#This Row],[APP]],tblbandeira[],3,0)","v":3.49E-2},44587,44617,1034.0999999999999,{"$f":"tbldados[[#This Row],[VALOR PAGO]]+(tbldados[[#This Row],[VALOR PAGO]]*tbldados[[#This Row],[TAXA]])","v":1070.1900899999998},{"$f":"tbldados[[#This Row],[TOTAL BRUTO]]-tbldados[[#This Row],[VALOR PAGO]]","v":36.090089999999918},{"$f":"CHOOSE(MONTH(tbldados[[#This Row],[DATA]]),\"JANEIRO\",\"FEVEREIRO\",\"MARÇO\",\"ABRIL\",\"MAIO\",\"JUNHO\",\"JULHO\",\"AGOSTO\",\"SETEMBRO\",\"OUTUBRO\",\"NOVEMBRO\",\"DEZEMBRO\")","v":"FEVEREIRO"},{"$f":"YEAR(tbldados[[#This Row],[DATA]])","v":2022}]
[286,"PGTO","01 DE 01","MELIUZ","FEVEREIRO","RECARGAPAY","FREE","CREDITO A VISTA",{"$f":"VLOOKUP(tbldados[[#This Row],[APP]],tblbandeira[],3,0)","v":3.49E-2},44588,44622,57.38,{"$f":"tbldados[[#This Row],[VALOR PAGO]]+(tbldados[[#This Row],[VALOR PAGO]]*tbldados[[#This Row],[TAXA]])","v":59.382562},{"$f":"tbldados[[#This Row],[TOTAL BRUTO]]-tbldados[[#This Row],[VALOR PAGO]]","v":2.0025619999999975},{"$f":"CHOOSE(MONTH(tbldados[[#This Row],[DATA]]),\"JANEIRO\",\"FEVEREIRO\",\"MARÇO\",\"ABRIL\",\"MAIO\",\"JUNHO\",\"JULHO\",\"AGOSTO\",\"SETEMBRO\",\"OUTUBRO\",\"NOVEMBRO\",\"DEZEMBRO\")","v":"MARÇO"},{"$f":"YEAR(tbldados[[#This Row],[DATA]])","v":2022}]
[287,"GASTOS","01 DE 01","PGTOMELIUZ","JUNIOR","RECARGAPAY","FREE","CREDITO A VISTA",{"$f":"VLOOKUP(tbldados[[#This Row],[APP]],tblbandeira[],3,0)","v":3.49E-2},44588,44622,57.38,{"$f":"tbldados[[#This Row],[VALOR PAGO]]+(tbldados[[#This Row],[VALOR PAGO]]*tbldados[[#This Row],[TAXA]])","v":59.382562},{"$f":"tbldados[[#This Row],[TOTAL BRUTO]]-tbldados[[#This Row],[VALOR PAGO]]","v":2.0025619999999975},{"$f":"CHOOSE(MONTH(tbldados[[#This Row],[DATA]]),\"JANEIRO\",\"FEVEREIRO\",\"MARÇO\",\"ABRIL\",\"MAIO\",\"JUNHO\",\"JULHO\",\"AGOSTO\",\"SETEMBRO\",\"OUTUBRO\",\"NOVEMBRO\",\"DEZEMBRO\")","v":"MARÇO"},{"$f":"YEAR(tbldados[[#This Row],[DATA]])","v":2022}]
[288,"PGTO","01 DE 01","ZERO","FEVEREIRO","RECARGAPAY","ZERO","CREDITO A VISTA",{"$f":"VLOOKUP(tbldados[[#This Row],[APP]],tblbandeira[],3,0)","v":3.49E-2},44588,44623,565.9,{"$f":"tbldados[[#This Row],[VALOR PAGO]]+(tbldados[[#This Row],[VALOR PAGO]]*tbldados[[#This Row],[TAXA]])","v":585.64990999999998},{"$f":"tbldados[[#This Row],[TOTAL BRUTO]]-tbldados[[#This Row],[VALOR PAGO]]","v":19.74991},{"$f":"CHOOSE(MONTH(tbldados[[#This Row],[DATA]]),\"JANEIRO\",\"FEVEREIRO\",\"MARÇO\",\"ABRIL\",\"MAIO\",\"JUNHO\",\"JULHO\",\"AGOSTO\",\"SETEMBRO\",\"OUTUBRO\",\"NOVEMBRO\",\"DEZEMBRO\")","v":"MARÇO"},{"$f":"YEAR(tbldados[[#This Row],[DATA]])","v":2022}]
[289,"GASTOS","01 DE 01","PGTOZER2","JUNIOR","RECARGAPAY","ZERO","CREDITO A VISTA",{"$f":"VLOOKUP(tbldados[[#This Row],[APP]],tblbandeira[],3,0)","v":3.49E-2},44588,44623,565.9,{"$f":"tbldados[[#This Row],[VALOR PAGO]]+(tbldados[[#This Row],[VALOR PAGO]]*tbldados[[#This Row],[TAXA]])","v":585.64990999999998},{"$f":"tbldados[[#This Row],[TOTAL BRUTO]]-tbldados[[#This Row],[VALOR PAGO]]","v":19.74991},{"$f":"CHOOSE(MONTH(tbldados[[#This Row],[DATA]]),\"JANEIRO\",\"FEVEREIRO\",\"MARÇO\",\"ABRIL\",\"MAIO\",\"JUNHO\",\"JULHO\",\"AGOSTO\",\"SETEMBRO\",\"OUTUBRO\",\"NOVEMBRO\",\"DEZEMBRO\")","v":"MARÇO"},{"$f":"YEAR(tbldados[[#This Row],[DATA]])","v":2022}]
[290,"PGTO","01 DE 01","C6","FEVEREIRO","CONTA","DÉBITO","DINHEIRO",{"$f":"VLOOKUP(tbldados[[#This Row],[APP]],tblbandeira[],3,0)","v":0},44589,44589,100,{"$f":"tbldados[[#This Row],[VALOR PAGO]]+(tbldados[[#This Row],[VALOR PAGO]]*tbldados[[#This Row],[TAXA]])","v":100},{"$f":"tbldados[[#This Row],[TOTAL BRUTO]]-tbldados[[#This Row],[VALOR PAGO]]","v":0},{"$f":"CHOOSE(MONTH(tbldados[[#This Row],[DATA]]),\"JANEIRO\",\"FEVEREIRO\",\"MARÇO\",\"ABRIL\",\"MAIO\",\"JUNHO\",\"JULHO\",\"AGOSTO\",\"SETEMBRO\",\"OUTUBRO\",\"NOVEMBRO\",\"DEZEMBRO\")","v":"JANEIRO"},{"$f":"YEAR(tbldados[[#This Row],[DATA]])","v":2022}]
[291,"PGTO","01 DE 01","C6","FEVEREIRO","RECARGAPAY","ZERO","CREDITO A VISTA",{"$f":"VLOOKUP(tbldados[[#This Row],[APP]],tblbandeira[],3,0)","v":3.49E-2},44589,44623,987.64,{"$f":"tbldados[[#This Row],[VALOR PAGO]]+(tbldados[[#This Row],[VALOR PAGO]]*tbldados[[#This Row],[TAXA]])","v":1022.1086359999999},{"$f":"tbldados[[#This Row],[TOTAL BRUTO]]-tbldados[[#This Row],[VALOR PAGO]]","v":34.468635999999947},{"$f":"CHOOSE(MONTH(tbldados[[#This Row],[DATA]]),\"JANEIRO\",\"FEVEREIRO\",\"MARÇO\",\"ABRIL\",\"MAIO\",\"JUNHO\",\"JULHO\",\"AGOSTO\",\"SETEMBRO\",\"OUTUBRO\",\"NOVEMBRO\",\"DEZEMBRO\")","v":"MARÇO"},{"$f":"YEAR(tbldados[[#This Row],[DATA]])","v":2022}]
[292,"GASTOS","01 DE 01","PGTOC62","JUNIOR","RECARGAPAY","ZERO","CREDITO A VISTA",{"$f":"VLOOKUP(tbldados[[#This Row],[APP]],tblbandeira[],3,0)","v":3.49E-2},44589,44623,987.64,{"$f":"tbldados[[#This Row],[VALOR PAGO]]+(tbldados[[#This Row],[VALOR PAGO]]*tbldados[[#This Row],[TAXA]])","v":1022.1086359999999},{"$f":"tbldados[[#This Row],[TOTAL BRUTO]]-tbldados[[#This Row],[VALOR PAGO]]","v":34.468635999999947},{"$f":"CHOOSE(MONTH(tbldados[[#This Row],[DATA]]),\"JANEIRO\",\"FEVEREIRO\",\"MARÇO\",\"ABRIL\",\"MAIO\",\"JUNHO\",\"JULHO\",\"AGOSTO\",\"SETEMBRO\",\"OUTUBRO\",\"NOVEMBRO\",\"DEZEMBRO\")","v":"MARÇO"},{"$f":"YEAR(tbldados[[#This Row],[DATA]])","v":2022}]
[293,"GASTOS","01 DE 01","CLARO","JUNIOR","GERAL","PAGMAE","CREDITO A VISTA",{"$f":"VLOOKUP(tbldados[[#This Row],[APP]],tblbandeira[],3,0)","v":0},44589,44602,45.99,{"$f":"tbldados[[#This Row],[VALOR PAGO]]+(tbldados[[#This Row],[VALOR PAGO]]*tbldados[[#This Row],[TAXA]])","v":45.99},{"$f":"tbldados[[#This Row],[TOTAL BRUTO]]-tbldados[[#This Row],[VALOR PAGO]]","v":0},{"$f":"CHOOSE(MONTH(tbldados[[#This Row],[DATA]]),\"JANEIRO\",\"FEVEREIRO\",\"MARÇO\",\"ABRIL\",\"MAIO\",\"JUNHO\",\"JULHO\",\"AGOSTO\",\"SETEMBRO\",\"OUTUBRO\",\"NOVEMBRO\",\"DEZEMBRO\")","v":"FEVEREIRO"},{"$f":"YEAR(tbldados[[#This Row],[DATA]])","v":2022}]
[294,"PGTO","01 DE 01","C6","FEVEREIRO","RECARGAPAY","C6","CREDITO A VISTA",{"$f":"VLOOKUP(tbldados[[#This Row],[APP]],tblbandeira[],3,0)","v":3.49E-2},44590,44621,812.75,{"$f":"tbldados[[#This Row],[VALOR PAGO]]+(tbldados[[#This Row],[VALOR PAGO]]*tbldados[[#This Row],[TAXA]])","v":841.11497499999996},{"$f":"tbldados[[#This Row],[TOTAL BRUTO]]-tbldados[[#This Row],[VALOR PAGO]]","v":28.364974999999959},{"$f":"CHOOSE(MONTH(tbldados[[#This Row],[DATA]]),\"JANEIRO\",\"FEVEREIRO\",\"MARÇO\",\"ABRIL\",\"MAIO\",\"JUNHO\",\"JULHO\",\"AGOSTO\",\"SETEMBRO\",\"OUTUBRO\",\"NOVEMBRO\",\"DEZEMBRO\")","v":"MARÇO"},{"$f":"YEAR(tbldados[[#This Row],[DATA]])","v":2022}]
[295,"GASTOS","01 DE 01","PGTOC63","JUNIOR","RECARGAPAY","C6","CREDITO A VISTA",{"$f":"VLOOKUP(tbldados[[#This Row],[APP]],tblbandeira[],3,0)","v":3.49E-2},44590,44621,812.75,{"$f":"tbldados[[#This Row],[VALOR PAGO]]+(tbldados[[#This Row],[VALOR PAGO]]*tbldados[[#This Row],[TAXA]])","v":841.11497499999996},{"$f":"tbldados[[#This Row],[TOTAL BRUTO]]-tbldados[[#This Row],[VALOR PAGO]]","v":28.364974999999959},{"$f":"CHOOSE(MONTH(tbldados[[#This Row],[DATA]]),\"JANEIRO\",\"FEVEREIRO\",\"MARÇO\",\"ABRIL\",\"MAIO\",\"JUNHO\",\"JULHO\",\"AGOSTO\",\"SETEMBRO\",\"OUTUBRO\",\"NOVEMBRO\",\"DEZEMBRO\")","v":"MARÇO"},{"$f":"YEAR(tbldados[[#This Row],[DATA]])","v":2022}]
[296,"GASTOS","01 DE 01","ALMOÇO","JUNIOR","GERAL","PANMAE","CREDITO A VISTA",{"$f":"VLOOKUP(tbldados[[#This Row],[APP]],tblbandeira[],3,0)","v":0},44590,44609,21,{"$f":"tbldados[[#This Row],[VALOR PAGO]]+(tbldados[[#This Row],[VALOR PAGO]]*tbldados[[#This Row],[TAXA]])","v":21},{"$f":"tbldados[[#This Row],[TOTAL BRUTO]]-tbldados[[#This Row],[VALOR PAGO]]","v":0},{"$f":"CHOOSE(MONTH(tbldados[[#This Row],[DATA]]),\"JANEIRO\",\"FEVEREIRO\",\"MARÇO\",\"ABRIL\",\"MAIO\",\"JUNHO\",\"JULHO\",\"AGOSTO\",\"SETEMBRO\",\"OUTUBRO\",\"NOVEMBRO\",\"DEZEMBRO\")","v":"FEVEREIRO"},{"$f":"YEAR(tbldados[[#This Row],[DATA]])","v":2022}]
[297,"GASTOS","01 DE 01","ANUIDADE","JUNIOR","GERAL","NCARD","CREDITO A VISTA",{"$f":"VLOOKUP(tbldados[[#This Row],[APP]],tblbandeira[],3,0)","v":0},44567,44601,8.98,{"$f":"tbldados[[#This Row],[VALOR PAGO]]+(tbldados[[#This Row],[VALOR PAGO]]*tbldados[[#This Row],[TAXA]])","v":8.98},{"$f":"tbldados[[#This Row],[TOTAL BRUTO]]-tbldados[[#This Row],[VALOR PAGO]]","v":0},{"$f":"CHOOSE(MONTH(tbldados[[#This Row],[DATA]]),\"JANEIRO\",\"FEVEREIRO\",\"MARÇO\",\"ABRIL\",\"MAIO\",\"JUNHO\",\"JULHO\",\"AGOSTO\",\"SETEMBRO\",\"OUTUBRO\",\"NOVEMBRO\",\"DEZEMBRO\")","v":"FEVEREIRO"},{"$f":"YEAR(tbldados[[#This Row],[DATA]])","v":2022}]
[298,"GASTOS","01 DE 01","PGTOPAGMAE","JUNIOR","RECARGAPAY","NCARD","CREDITO A VISTA",{"$f":"VLOOKUP(tbldados[[#This Row],[APP]],tblbandeira[],3,0)","v":3.49E-2},44567,44601,1097.55,{"$f":"tbldados[[#This Row],[VALOR PAGO]]+(tbldados[[#This Row],[VALOR PAGO]]*tbldados[[#This Row],[TAXA]])","v":1135.854495},{"$f":"tbldados[[#This Row],[TOTAL BRUTO]]-tbldados[[#This Row],[VALOR PAGO]]","v":38.304495000000088},{"$f":"CHOOSE(MONTH(tbldados[[#This Row],[DATA]]),\"JANEIRO\",\"FEVEREIRO\",\"MARÇO\",\"ABRIL\",\"MAIO\",\"JUNHO\",\"JULHO\",\"AGOSTO\",\"SETEMBRO\",\"OUTUBRO\",\"NOVEMBRO\",\"DEZEMBRO\")","v":"FEVEREIRO"},{"$f":"YEAR(tbldados[[#This Row],[DATA]])","v":2022}]
[299,"PGTO","01 DE 01","NCARD","FEVEREIRO","CONTA","DÉBITO","DINHEIRO",{"$f":"VLOOKUP(tbldados[[#This Row],[APP]],tblbandeira[],3,0)","v":0},44590,44590,17.86,{"$f":"tbldados[[#This Row],[VALOR PAGO]]+(tbldados[[#This Row],[VALOR PAGO]]*tbldados[[#This Row],[TAXA]])","v":17.86},{"$f":"tbldados[[#This Row],[TOTAL BRUTO]]-tbldados[[#This Row],[VALOR PAGO]]","v":0},{"$f":"CHOOSE(MONTH(tbldados[[#This Row],[DATA]]),\"JANEIRO\",\"FEVEREIRO\",\"MARÇO\",\"ABRIL\",\"MAIO\",\"JUNHO\",\"JULHO\",\"AGOSTO\",\"SETEMBRO\",\"OUTUBRO\",\"NOVEMBRO\",\"DEZEMBRO\")","v":"JANEIRO"},{"$f":"YEAR(tbldados[[#This Row],[DATA]])","v":2022}]
[300,"GASTOS","01 DE 01","PGTOZERO","JUNIOR","RECARGAPAY","LATAM","CREDITO A VISTA",{"$f":"VLOOKUP(tbldados[[#This Row],[APP]],tblbandeira[],3,0)","v":3.49E-2},44587,44617,1034.0999999999999,{"$f":"tbldados[[#This Row],[VALOR PAGO]]+(tbldados[[#This Row],[VALOR PAGO]]*tbldados[[#This Row],[TAXA]])","v":1070.1900899999998},{"$f":"tbldados[[#This Row],[TOTAL BRUTO]]-tbldados[[#This Row],[VALOR PAGO]]","v":36.090089999999918},{"$f":"CHOOSE(MONTH(tbldados[[#This Row],[DATA]]),\"JANEIRO\",\"FEVEREIRO\",\"MARÇO\",\"ABRIL\",\"MAIO\",\"JUNHO\",\"JULHO\",\"AGOSTO\",\"SETEMBRO\",\"OUTUBRO\",\"NOVEMBRO\",\"DEZEMBRO\")","v":"FEVEREIRO"},{"$f":"YEAR(tbldados[[#This Row],[DATA]])","v":2022}]
[301,"GASTOS","01 DE 01","ALMOÇO JANTA","JUNIOR","GERAL","NUBANK","CREDITO A VISTA",{"$f":"VLOOKUP(tbldados[[#This Row],[APP]],tblbandeira[],3,0)","v":0},44590,44605,49.59,{"$f":"tbldados[[#This Row],[VALOR PAGO]]+(tbldados[[#This Row],[VALOR PAGO]]*tbldados[[#This Row],[TAXA]])","v":49.59},{"$f":"tbldados[[#This Row],[TOTAL BRUTO]]-tbldados[[#This Row],[VALOR PAGO]]","v":0},{"$f":"CHOOSE(MONTH(tbldados[[#This Row],[DATA]]),\"JANEIRO\",\"FEVEREIRO\",\"MARÇO\",\"ABRIL\",\"MAIO\",\"JUNHO\",\"JULHO\",\"AGOSTO\",\"SETEMBRO\",\"OUTUBRO\",\"NOVEMBRO\",\"DEZEMBRO\")","v":"FEVEREIRO"},{"$f":"YEAR(tbldados[[#This Row],[DATA]])","v":2022}]
[302,"GASTOS","01 DE 01","JANTA","JUNIOR","GERAL","INTER","CREDITO A VISTA",{"$f":"VLOOKUP(tbldados[[#This Row],[APP]],tblbandeira[],3,0)","v":0},44590,44607,21.81,{"$f":"tbldados[[#This Row],[VALOR PAGO]]+(tbldados[[#This Row],[VALOR PAGO]]*tbldados[[#This Row],[TAXA]])","v":21.81},{"$f":"tbldados[[#This Row],[TOTAL BRUTO]]-tbldados[[#This Row],[VALOR PAGO]]","v":0},{"$f":"CHOOSE(MONTH(tbldados[[#This Row],[DATA]]),\"JANEIRO\",\"FEVEREIRO\",\"MARÇO\",\"ABRIL\",\"MAIO\",\"JUNHO\",\"JULHO\",\"AGOSTO\",\"SETEMBRO\",\"OUTUBRO\",\"NOVEMBRO\",\"DEZEMBRO\")","v":"FEVEREIRO"},{"$f":"YEAR(tbldados[[#This Row],[DATA]])","v":2022}]
[303,"GASTOS","01 DE 01","PGTOGOLD","JUNIOR","RECARGAPAY","WILL","CREDITO A VISTA",{"$f":"VLOOKUP(tbldados[[#This Row],[APP]],tblbandeira[],3,0)","v":3.49E-2},44579,44612,1075.6600000000001,{"$f":"tbldados[[#This Row],[VALOR PAGO]]+(tbldados[[#This Row],[VALOR PAGO]]*tbldados[[#This Row],[TAXA]])","v":1113.2005340000001},{"$f":"tbldados[[#This Row],[TOTAL BRUTO]]-tbldados[[#This Row],[VALOR PAGO]]","v":37.54053399999998},{"$f":"CHOOSE(MONTH(tbldados[[#This Row],[DATA]]),\"JANEIRO\",\"FEVEREIRO\",\"MARÇO\",\"ABRIL\",\"MAIO\",\"JUNHO\",\"JULHO\",\"AGOSTO\",\"SETEMBRO\",\"OUTUBRO\",\"NOVEMBRO\",\"DEZEMBRO\")","v":"FEVEREIRO"},{"$f":"YEAR(tbldados[[#This Row],[DATA]])","v":2022}]
[304,"GASTOS","01 DE 02","ROUPAS","JUNIOR","GERAL","WILL","CREDITO PARCELADO",{"$f":"VLOOKUP(tbldados[[#This Row],[APP]],tblbandeira[],3,0)","v":0},44579,44612,39.950000000000003,{"$f":"tbldados[[#This Row],[VALOR PAGO]]+(tbldados[[#This Row],[VALOR PAGO]]*tbldados[[#This Row],[TAXA]])","v":39.950000000000003},{"$f":"tbldados[[#This Row],[TOTAL BRUTO]]-tbldados[[#This Row],[VALOR PAGO]]","v":0},{"$f":"CHOOSE(MONTH(tbldados[[#This Row],[DATA]]),\"JANEIRO\",\"FEVEREIRO\",\"MARÇO\",\"ABRIL\",\"MAIO\",\"JUNHO\",\"JULHO\",\"AGOSTO\",\"SETEMBRO\",\"OUTUBRO\",\"NOVEMBRO\",\"DEZEMBRO\")","v":"FEVEREIRO"},{"$f":"YEAR(tbldados[[#This Row],[DATA]])","v":2022}]
[305,"GASTOS","02 DE 02","ROUPAS","JUNIOR","GERAL","WILL","CREDITO PARCELADO",{"$f":"VLOOKUP(tbldados[[#This Row],[APP]],tblbandeira[],3,0)","v":0},44579,44640,39.950000000000003,{"$f":"tbldados[[#This Row],[VALOR PAGO]]+(tbldados[[#This Row],[VALOR PAGO]]*tbldados[[#This Row],[TAXA]])","v":39.950000000000003},{"$f":"tbldados[[#This Row],[TOTAL BRUTO]]-tbldados[[#This Row],[VALOR PAGO]]","v":0},{"$f":"CHOOSE(MONTH(tbldados[[#This Row],[DATA]]),\"JANEIRO\",\"FEVEREIRO\",\"MARÇO\",\"ABRIL\",\"MAIO\",\"JUNHO\",\"JULHO\",\"AGOSTO\",\"SETEMBRO\",\"OUTUBRO\",\"NOVEMBRO\",\"DEZEMBRO\")","v":"MARÇO"},{"$f":"YEAR(tbldados[[#This Row],[DATA]])","v":2022}]
[306,"GASTOS","01 DE 01","ALMOÇO","JUNIOR","GERAL","C6MAE","CREDITO A VISTA",{"$f":"VLOOKUP(tbldados[[#This Row],[APP]],tblbandeira[],3,0)","v":0},44585,44597,20,{"$f":"tbldados[[#This Row],[VALOR PAGO]]+(tbldados[[#This Row],[VALOR PAGO]]*tbldados[[#This Row],[TAXA]])","v":20},{"$f":"tbldados[[#This Row],[TOTAL BRUTO]]-tbldados[[#This Row],[VALOR PAGO]]","v":0},{"$f":"CHOOSE(MONTH(tbldados[[#This Row],[DATA]]),\"JANEIRO\",\"FEVEREIRO\",\"MARÇO\",\"ABRIL\",\"MAIO\",\"JUNHO\",\"JULHO\",\"AGOSTO\",\"SETEMBRO\",\"OUTUBRO\",\"NOVEMBRO\",\"DEZEMBRO\")","v":"FEVEREIRO"},{"$f":"YEAR(tbldados[[#This Row],[DATA]])","v":2022}]
[307,"GASTOS","01 DE 01","ALMOÇO JANTA","JUNIOR","GERAL","NEON","CREDITO A VISTA",{"$f":"VLOOKUP(tbldados[[#This Row],[APP]],tblbandeira[],3,0)","v":0},44590,44607,86.97,{"$f":"tbldados[[#This Row],[VALOR PAGO]]+(tbldados[[#This Row],[VALOR PAGO]]*tbldados[[#This Row],[TAXA]])","v":86.97},{"$f":"tbldados[[#This Row],[TOTAL BRUTO]]-tbldados[[#This Row],[VALOR PAGO]]","v":0},{"$f":"CHOOSE(MONTH(tbldados[[#This Row],[DATA]]),\"JANEIRO\",\"FEVEREIRO\",\"MARÇO\",\"ABRIL\",\"MAIO\",\"JUNHO\",\"JULHO\",\"AGOSTO\",\"SETEMBRO\",\"OUTUBRO\",\"NOVEMBRO\",\"DEZEMBRO\")","v":"FEVEREIRO"},{"$f":"YEAR(tbldados[[#This Row],[DATA]])","v":2022}]
[308,"GASTOS","01 DE 05","ROUPAS","JUNIOR","GERAL","PAGMAE","CREDITO PARCELADO",{"$f":"VLOOKUP(tbldados[[#This Row],[APP]],tblbandeira[],3,0)","v":0},44589,44602,43.96,{"$f":"tbldados[[#This Row],[VALOR PAGO]]+(tbldados[[#This Row],[VALOR PAGO]]*tbldados[[#This Row],[TAXA]])","v":43.96},{"$f":"tbldados[[#This Row],[TOTAL BRUTO]]-tbldados[[#This Row],[VALOR PAGO]]","v":0},{"$f":"CHOOSE(MONTH(tbldados[[#This Row],[DATA]]),\"JANEIRO\",\"FEVEREIRO\",\"MARÇO\",\"ABRIL\",\"MAIO\",\"JUNHO\",\"JULHO\",\"AGOSTO\",\"SETEMBRO\",\"OUTUBRO\",\"NOVEMBRO\",\"DEZEMBRO\")","v":"FEVEREIRO"},{"$f":"YEAR(tbldados[[#This Row],[DATA]])","v":2022}]
[309,"GASTOS","02 DE 05","ROUPAS","JUNIOR","GERAL","PAGMAE","CREDITO PARCELADO",{"$f":"VLOOKUP(tbldados[[#This Row],[APP]],tblbandeira[],3,0)","v":0},44589,44630,43.96,{"$f":"tbldados[[#This Row],[VALOR PAGO]]+(tbldados[[#This Row],[VALOR PAGO]]*tbldados[[#This Row],[TAXA]])","v":43.96},{"$f":"tbldados[[#This Row],[TOTAL BRUTO]]-tbldados[[#This Row],[VALOR PAGO]]","v":0},{"$f":"CHOOSE(MONTH(tbldados[[#This Row],[DATA]]),\"JANEIRO\",\"FEVEREIRO\",\"MARÇO\",\"ABRIL\",\"MAIO\",\"JUNHO\",\"JULHO\",\"AGOSTO\",\"SETEMBRO\",\"OUTUBRO\",\"NOVEMBRO\",\"DEZEMBRO\")","v":"MARÇO"},{"$f":"YEAR(tbldados[[#This Row],[DATA]])","v":2022}]
[310,"GASTOS","03 DE 05","ROUPAS","JUNIOR","GERAL","PAGMAE","CREDITO PARCELADO",{"$f":"VLOOKUP(tbldados[[#This Row],[APP]],tblbandeira[],3,0)","v":0},44589,44661,43.96,{"$f":"tbldados[[#This Row],[VALOR PAGO]]+(tbldados[[#This Row],[VALOR PAGO]]*tbldados[[#This Row],[TAXA]])","v":43.96},{"$f":"tbldados[[#This Row],[TOTAL BRUTO]]-tbldados[[#This Row],[VALOR PAGO]]","v":0},{"$f":"CHOOSE(MONTH(tbldados[[#This Row],[DATA]]),\"JANEIRO\",\"FEVEREIRO\",\"MARÇO\",\"ABRIL\",\"MAIO\",\"JUNHO\",\"JULHO\",\"AGOSTO\",\"SETEMBRO\",\"OUTUBRO\",\"NOVEMBRO\",\"DEZEMBRO\")","v":"ABRIL"},{"$f":"YEAR(tbldados[[#This Row],[DATA]])","v":2022}]
[311,"GASTOS","04 DE 05","ROUPAS","JUNIOR","GERAL","PAGMAE","CREDITO PARCELADO",{"$f":"VLOOKUP(tbldados[[#This Row],[APP]],tblbandeira[],3,0)","v":0},44589,44691,43.96,{"$f":"tbldados[[#This Row],[VALOR PAGO]]+(tbldados[[#This Row],[VALOR PAGO]]*tbldados[[#This Row],[TAXA]])","v":43.96},{"$f":"tbldados[[#This Row],[TOTAL BRUTO]]-tbldados[[#This Row],[VALOR PAGO]]","v":0},{"$f":"CHOOSE(MONTH(tbldados[[#This Row],[DATA]]),\"JANEIRO\",\"FEVEREIRO\",\"MARÇO\",\"ABRIL\",\"MAIO\",\"JUNHO\",\"JULHO\",\"AGOSTO\",\"SETEMBRO\",\"OUTUBRO\",\"NOVEMBRO\",\"DEZEMBRO\")","v":"MAIO"},{"$f":"YEAR(tbldados[[#This Row],[DATA]])","v":2022}]
[312,"GASTOS","05 DE 05","ROUPAS","JUNIOR","GERAL","PAGMAE","CREDITO PARCELADO",{"$f":"VLOOKUP(tbldados[[#This Row],[APP]],tblbandeira[],3,0)","v":0},44589,44722,43.96,{"$f":"tbldados[[#This Row],[VALOR PAGO]]+(tbldados[[#This Row],[VALOR PAGO]]*tbldados[[#This Row],[TAXA]])","v":43.96},{"$f":"tbldados[[#This Row],[TOTAL BRUTO]]-tbldados[[#This Row],[VALOR PAGO]]","v":0},{"$f":"CHOOSE(MONTH(tbldados[[#This Row],[DATA]]),\"JANEIRO\",\"FEVEREIRO\",\"MARÇO\",\"ABRIL\",\"MAIO\",\"JUNHO\",\"JULHO\",\"AGOSTO\",\"SETEMBRO\",\"OUTUBRO\",\"NOVEMBRO\",\"DEZEMBRO\")","v":"JUNHO"},{"$f":"YEAR(tbldados[[#This Row],[DATA]])","v":2022}]
[313,"GASTOS","01 DE 01","JUROSRPAY","JUNIOR","GERAL","PAGMAE","CREDITO A VISTA",{"$f":"VLOOKUP(tbldados[[#This Row],[APP]],tblbandeira[],3,0)","v":0},44585,44602,19.989999999999998,{"$f":"tbldados[[#This Row],[VALOR PAGO]]+(tbldados[[#This Row],[VALOR PAGO]]*tbldados[[#This Row],[TAXA]])","v":19.989999999999998},{"$f":"tbldados[[#This Row],[TOTAL BRUTO]]-tbldados[[#This Row],[VALOR PAGO]]","v":0},{"$f":"CHOOSE(MONTH(tbldados[[#This Row],[DATA]]),\"JANEIRO\",\"FEVEREIRO\",\"MARÇO\",\"ABRIL\",\"MAIO\",\"JUNHO\",\"JULHO\",\"AGOSTO\",\"SETEMBRO\",\"OUTUBRO\",\"NOVEMBRO\",\"DEZEMBRO\")","v":"FEVEREIRO"},{"$f":"YEAR(tbldados[[#This Row],[DATA]])","v":2022}]
[314,"PGTO","01 DE 01","AZUL","FEVEREIRO","RECARGAPAY","PANMAE","CREDITO A VISTA",{"$f":"VLOOKUP(tbldados[[#This Row],[APP]],tblbandeira[],3,0)","v":3.49E-2},44594,44609,1200,{"$f":"tbldados[[#This Row],[VALOR PAGO]]+(tbldados[[#This Row],[VALOR PAGO]]*tbldados[[#This Row],[TAXA]])","v":1241.8800000000001},{"$f":"tbldados[[#This Row],[TOTAL BRUTO]]-tbldados[[#This Row],[VALOR PAGO]]","v":41.880000000000109},{"$f":"CHOOSE(MONTH(tbldados[[#This Row],[DATA]]),\"JANEIRO\",\"FEVEREIRO\",\"MARÇO\",\"ABRIL\",\"MAIO\",\"JUNHO\",\"JULHO\",\"AGOSTO\",\"SETEMBRO\",\"OUTUBRO\",\"NOVEMBRO\",\"DEZEMBRO\")","v":"FEVEREIRO"},{"$f":"YEAR(tbldados[[#This Row],[DATA]])","v":2022}]
[315,"GASTOS","01 DE 01","PGTOAZUL","JUNIOR","RECARGAPAY","PANMAE","CREDITO A VISTA",{"$f":"VLOOKUP(tbldados[[#This Row],[APP]],tblbandeira[],3,0)","v":3.49E-2},44594,44609,1200,{"$f":"tbldados[[#This Row],[VALOR PAGO]]+(tbldados[[#This Row],[VALOR PAGO]]*tbldados[[#This Row],[TAXA]])","v":1241.8800000000001},{"$f":"tbldados[[#This Row],[TOTAL BRUTO]]-tbldados[[#This Row],[VALOR PAGO]]","v":41.880000000000109},{"$f":"CHOOSE(MONTH(tbldados[[#This Row],[DATA]]),\"JANEIRO\",\"FEVEREIRO\",\"MARÇO\",\"ABRIL\",\"MAIO\",\"JUNHO\",\"JULHO\",\"AGOSTO\",\"SETEMBRO\",\"OUTUBRO\",\"NOVEMBRO\",\"DEZEMBRO\")","v":"FEVEREIRO"},{"$f":"YEAR(tbldados[[#This Row],[DATA]])","v":2022}]
[316,"PGTO","01 DE 01","AZUL","FEVEREIRO","RECARGAPAY","AZUL","CREDITO A VISTA",{"$f":"VLOOKUP(tbldados[[#This Row],[APP]],tblbandeira[],3,0)","v":3.49E-2},44594,44626,949.67,{"$f":"tbldados[[#This Row],[VALOR PAGO]]+(tbldados[[#This Row],[VALOR PAGO]]*tbldados[[#This Row],[TAXA]])","v":982.81348299999991},{"$f":"tbldados[[#This Row],[TOTAL BRUTO]]-tbldados[[#This Row],[VALOR PAGO]]","v":33.143482999999947},{"$f":"CHOOSE(MONTH(tbldados[[#This Row],[DATA]]),\"JANEIRO\",\"FEVEREIRO\",\"MARÇO\",\"ABRIL\",\"MAIO\",\"JUNHO\",\"JULHO\",\"AGOSTO\",\"SETEMBRO\",\"OUTUBRO\",\"NOVEMBRO\",\"DEZEMBRO\")","v":"MARÇO"},{"$f":"YEAR(tbldados[[#This Row],[DATA]])","v":2022}]
[317,"GASTOS","01 DE 01","PGTOAZUL","JUNIOR","RECARGAPAY","AZUL","CREDITO A VISTA",{"$f":"VLOOKUP(tbldados[[#This Row],[APP]],tblbandeira[],3,0)","v":3.49E-2},44594,44626,949.67,{"$f":"tbldados[[#This Row],[VALOR PAGO]]+(tbldados[[#This Row],[VALOR PAGO]]*tbldados[[#This Row],[TAXA]])","v":982.81348299999991},{"$f":"tbldados[[#This Row],[TOTAL BRUTO]]-tbldados[[#This Row],[VALOR PAGO]]","v":33.143482999999947},{"$f":"CHOOSE(MONTH(tbldados[[#This Row],[DATA]]),\"JANEIRO\",\"FEVEREIRO\",\"MARÇO\",\"ABRIL\",\"MAIO\",\"JUNHO\",\"JULHO\",\"AGOSTO\",\"SETEMBRO\",\"OUTUBRO\",\"NOVEMBRO\",\"DEZEMBRO\")","v":"MARÇO"},{"$f":"YEAR(tbldados[[#This Row],[DATA]])","v":2022}]
[318,"PGTO","01 DE 01","NCARD","FEVEREIRO","GERAL","AZUL","CREDITO A VISTA",{"$f":"VLOOKUP(tbldados[[#This Row],[APP]],tblbandeira[],3,0)","v":0},44596,44626,1171.93,{"$f":"tbldados[[#This Row],[VALOR PAGO]]+(tbldados[[#This Row],[VALOR PAGO]]*tbldados[[#This Row],[TAXA]])","v":1171.93},{"$f":"tbldados[[#This Row],[TOTAL BRUTO]]-tbldados[[#This Row],[VALOR PAGO]]","v":0},{"$f":"CHOOSE(MONTH(tbldados[[#This Row],[DATA]]),\"JANEIRO\",\"FEVEREIRO\",\"MARÇO\",\"ABRIL\",\"MAIO\",\"JUNHO\",\"JULHO\",\"AGOSTO\",\"SETEMBRO\",\"OUTUBRO\",\"NOVEMBRO\",\"DEZEMBRO\")","v":"MARÇO"},{"$f":"YEAR(tbldados[[#This Row],[DATA]])","v":2022}]
[319,"GASTOS","01 DE 01","ALMOÇO","JUNIOR","GERAL","C6MAE","CREDITO A VISTA",{"$f":"VLOOKUP(tbldados[[#This Row],[APP]],tblbandeira[],3,0)","v":0},44590,44597,25,{"$f":"tbldados[[#This Row],[VALOR PAGO]]+(tbldados[[#This Row],[VALOR PAGO]]*tbldados[[#This Row],[TAXA]])","v":25},{"$f":"tbldados[[#This Row],[TOTAL BRUTO]]-tbldados[[#This Row],[VALOR PAGO]]","v":0},{"$f":"CHOOSE(MONTH(tbldados[[#This Row],[DATA]]),\"JANEIRO\",\"FEVEREIRO\",\"MARÇO\",\"ABRIL\",\"MAIO\",\"JUNHO\",\"JULHO\",\"AGOSTO\",\"SETEMBRO\",\"OUTUBRO\",\"NOVEMBRO\",\"DEZEMBRO\")","v":"FEVEREIRO"},{"$f":"YEAR(tbldados[[#This Row],[DATA]])","v":2022}]
[320,"PGTO","01 DE 01","C6MAE","FEVEREIRO","RECARGAPAY","PAGMAE","CREDITO A VISTA",{"$f":"VLOOKUP(tbldados[[#This Row],[APP]],tblbandeira[],3,0)","v":3.49E-2},44597,44630,209.99,{"$f":"tbldados[[#This Row],[VALOR PAGO]]+(tbldados[[#This Row],[VALOR PAGO]]*tbldados[[#This Row],[TAXA]])","v":217.31865100000002},{"$f":"tbldados[[#This Row],[TOTAL BRUTO]]-tbldados[[#This Row],[VALOR PAGO]]","v":7.3286510000000078},{"$f":"CHOOSE(MONTH(tbldados[[#This Row],[DATA]]),\"JANEIRO\",\"FEVEREIRO\",\"MARÇO\",\"ABRIL\",\"MAIO\",\"JUNHO\",\"JULHO\",\"AGOSTO\",\"SETEMBRO\",\"OUTUBRO\",\"NOVEMBRO\",\"DEZEMBRO\")","v":"MARÇO"},{"$f":"YEAR(tbldados[[#This Row],[DATA]])","v":2022}]
[321,"GASTOS","01 DE 01","PGTOC6MAE","JUNIOR","RECARGAPAY","PAGMAE","CREDITO A VISTA",{"$f":"VLOOKUP(tbldados[[#This Row],[APP]],tblbandeira[],3,0)","v":3.49E-2},44597,44630,209.99,{"$f":"tbldados[[#This Row],[VALOR PAGO]]+(tbldados[[#This Row],[VALOR PAGO]]*tbldados[[#This Row],[TAXA]])","v":217.31865100000002},{"$f":"tbldados[[#This Row],[TOTAL BRUTO]]-tbldados[[#This Row],[VALOR PAGO]]","v":7.3286510000000078},{"$f":"CHOOSE(MONTH(tbldados[[#This Row],[DATA]]),\"JANEIRO\",\"FEVEREIRO\",\"MARÇO\",\"ABRIL\",\"MAIO\",\"JUNHO\",\"JULHO\",\"AGOSTO\",\"SETEMBRO\",\"OUTUBRO\",\"NOVEMBRO\",\"DEZEMBRO\")","v":"MARÇO"},{"$f":"YEAR(tbldados[[#This Row],[DATA]])","v":2022}]
[322,"PGTO","01 DE 01","PAGMAE","FEVEREIRO","GERAL","C6MAE","CREDITO A VISTA",{"$f":"VLOOKUP(tbldados[[#This Row],[APP]],tblbandeira[],3,0)","v":0},44597,44625,210,{"$f":"tbldados[[#This Row],[VALOR PAGO]]+(tbldados[[#This Row],[VALOR PAGO]]*tbldados[[#This Row],[TAXA]])","v":210},{"$f":"tbldados[[#This Row],[TOTAL BRUTO]]-tbldados[[#This Row],[VALOR PAGO]]","v":0},{"$f":"CHOOSE(MONTH(tbldados[[#This Row],[DATA]]),\"JANEIRO\",\"FEVEREIRO\",\"MARÇO\",\"ABRIL\",\"MAIO\",\"JUNHO\",\"JULHO\",\"AGOSTO\",\"SETEMBRO\",\"OUTUBRO\",\"NOVEMBRO\",\"DEZEMBRO\")","v":"MARÇO"},{"$f":"YEAR(tbldados[[#This Row],[DATA]])","v":2022}]
[323,"GASTOS","01 DE 01","PGTOPAGMAE","JUNIOR","GERAL","C6MAE","CREDITO A VISTA",{"$f":"VLOOKUP(tbldados[[#This Row],[APP]],tblbandeira[],3,0)","v":0},44597,44625,210,{"$f":"tbldados[[#This Row],[VALOR PAGO]]+(tbldados[[#This Row],[VALOR PAGO]]*tbldados[[#This Row],[TAXA]])","v":210},{"$f":"tbldados[[#This Row],[TOTAL BRUTO]]-tbldados[[#This Row],[VALOR PAGO]]","v":0},{"$f":"CHOOSE(MONTH(tbldados[[#This Row],[DATA]]),\"JANEIRO\",\"FEVEREIRO\",\"MARÇO\",\"ABRIL\",\"MAIO\",\"JUNHO\",\"JULHO\",\"AGOSTO\",\"SETEMBRO\",\"OUTUBRO\",\"NOVEMBRO\",\"DEZEMBRO\")","v":"MARÇO"},{"$f":"YEAR(tbldados[[#This Row],[DATA]])","v":2022}]
[324,"PGTO","01 DE 01","NCARD","FEVEREIRO","RECARGAPAY","NCARD","CREDITO A VISTA",{"$f":"VLOOKUP(tbldados[[#This Row],[APP]],tblbandeira[],3,0)","v":3.49E-2},44597,44629,401.21,{"$f":"tbldados[[#This Row],[VALOR PAGO]]+(tbldados[[#This Row],[VALOR PAGO]]*tbldados[[#This Row],[TAXA]])","v":415.21222899999998},{"$f":"tbldados[[#This Row],[TOTAL BRUTO]]-tbldados[[#This Row],[VALOR PAGO]]","v":14.002229},{"$f":"CHOOSE(MONTH(tbldados[[#This Row],[DATA]]),\"JANEIRO\",\"FEVEREIRO\",\"MARÇO\",\"ABRIL\",\"MAIO\",\"JUNHO\",\"JULHO\",\"AGOSTO\",\"SETEMBRO\",\"OUTUBRO\",\"NOVEMBRO\",\"DEZEMBRO\")","v":"MARÇO"},{"$f":"YEAR(tbldados[[#This Row],[DATA]])","v":2022}]
[325,"GASTOS","01 DE 01","PGTONCARD","JUNIOR","RECARGAPAY","NCARD","CREDITO A VISTA",{"$f":"VLOOKUP(tbldados[[#This Row],[APP]],tblbandeira[],3,0)","v":3.49E-2},44597,44629,399.23,{"$f":"tbldados[[#This Row],[VALOR PAGO]]+(tbldados[[#This Row],[VALOR PAGO]]*tbldados[[#This Row],[TAXA]])","v":413.16312700000003},{"$f":"tbldados[[#This Row],[TOTAL BRUTO]]-tbldados[[#This Row],[VALOR PAGO]]","v":13.933127000000013},{"$f":"CHOOSE(MONTH(tbldados[[#This Row],[DATA]]),\"JANEIRO\",\"FEVEREIRO\",\"MARÇO\",\"ABRIL\",\"MAIO\",\"JUNHO\",\"JULHO\",\"AGOSTO\",\"SETEMBRO\",\"OUTUBRO\",\"NOVEMBRO\",\"DEZEMBRO\")","v":"MARÇO"},{"$f":"YEAR(tbldados[[#This Row],[DATA]])","v":2022}]
[326,"PGTO","01 DE 01","PAGMAE","FEVEREIRO","GERAL","DÉBITO","DINHEIRO",{"$f":"VLOOKUP(tbldados[[#This Row],[APP]],tblbandeira[],3,0)","v":0},44598,44598,50,{"$f":"tbldados[[#This Row],[VALOR PAGO]]+(tbldados[[#This Row],[VALOR PAGO]]*tbldados[[#This Row],[TAXA]])","v":50},{"$f":"tbldados[[#This Row],[TOTAL BRUTO]]-tbldados[[#This Row],[VALOR PAGO]]","v":0},{"$f":"CHOOSE(MONTH(tbldados[[#This Row],[DATA]]),\"JANEIRO\",\"FEVEREIRO\",\"MARÇO\",\"ABRIL\",\"MAIO\",\"JUNHO\",\"JULHO\",\"AGOSTO\",\"SETEMBRO\",\"OUTUBRO\",\"NOVEMBRO\",\"DEZEMBRO\")","v":"FEVEREIRO"},{"$f":"YEAR(tbldados[[#This Row],[DATA]])","v":2022}]
[327,"PGTO","01 DE 01","PAGMAE","FEVEREIRO","RECARGAPAY","NCARD","CREDITO A VISTA",2.9899999999999999E-2,44598,44629,1145.6099999999999,{"$f":"tbldados[[#This Row],[VALOR PAGO]]+(tbldados[[#This Row],[VALOR PAGO]]*tbldados[[#This Row],[TAXA]])","v":1179.8637389999999},{"$f":"tbldados[[#This Row],[TOTAL BRUTO]]-tbldados[[#This Row],[VALOR PAGO]]","v":34.253738999999996},{"$f":"CHOOSE(MONTH(tbldados[[#This Row],[DATA]]),\"JANEIRO\",\"FEVEREIRO\",\"MARÇO\",\"ABRIL\",\"MAIO\",\"JUNHO\",\"JULHO\",\"AGOSTO\",\"SETEMBRO\",\"OUTUBRO\",\"NOVEMBRO\",\"DEZEMBRO\")","v":"MARÇO"},{"$f":"YEAR(tbldados[[#This Row],[DATA]])","v":2022}]
[328,"GASTOS","01 DE 01","PGTOPAGMAE","JUNIOR","RECARGAPAY","NCARD","CREDITO A VISTA",2.9899999999999999E-2,44598,44629,1145.6099999999999,{"$f":"tbldados[[#This Row],[VALOR PAGO]]+(tbldados[[#This Row],[VALOR PAGO]]*tbldados[[#This Row],[TAXA]])","v":1179.8637389999999},{"$f":"tbldados[[#This Row],[TOTAL BRUTO]]-tbldados[[#This Row],[VALOR PAGO]]","v":34.253738999999996},{"$f":"CHOOSE(MONTH(tbldados[[#This Row],[DATA]]),\"JANEIRO\",\"FEVEREIRO\",\"MARÇO\",\"ABRIL\",\"MAIO\",\"JUNHO\",\"JULHO\",\"AGOSTO\",\"SETEMBRO\",\"OUTUBRO\",\"NOVEMBRO\",\"DEZEMBRO\")","v":"MARÇO"},{"$f":"YEAR(tbldados[[#This Row],[DATA]])","v":2022}]
[329,"PGTO","01 DE 01","PAGMAE","FEVEREIRO","RECARGAPAY","PANMAE","CREDITO A VISTA",2.9899999999999999E-2,44598,44637,351.49,{"$f":"tbldados[[#This Row],[VALOR PAGO]]+(tbldados[[#This Row],[VALOR PAGO]]*tbldados[[#This Row],[TAXA]])","v":361.999551},{"$f":"tbldados[[#This Row],[TOTAL BRUTO]]-tbldados[[#This Row],[VALOR PAGO]]","v":10.509550999999988},{"$f":"CHOOSE(MONTH(tbldados[[#This Row],[DATA]]),\"JANEIRO\",\"FEVEREIRO\",\"MARÇO\",\"ABRIL\",\"MAIO\",\"JUNHO\",\"JULHO\",\"AGOSTO\",\"SETEMBRO\",\"OUTUBRO\",\"NOVEMBRO\",\"DEZEMBRO\")","v":"MARÇO"},{"$f":"YEAR(tbldados[[#This Row],[DATA]])","v":2022}]
[330,"PGTO","01 DE 01","PAGMAE","FEVEREIRO","RECARGAPAY","PAGMAE","CREDITO A VISTA",2.9899999999999999E-2,44598,44630,1497.1,{"$f":"tbldados[[#This Row],[VALOR PAGO]]+(tbldados[[#This Row],[VALOR PAGO]]*tbldados[[#This Row],[TAXA]])","v":1541.86329},{"$f":"tbldados[[#This Row],[TOTAL BRUTO]]-tbldados[[#This Row],[VALOR PAGO]]","v":44.763290000000097},{"$f":"CHOOSE(MONTH(tbldados[[#This Row],[DATA]]),\"JANEIRO\",\"FEVEREIRO\",\"MARÇO\",\"ABRIL\",\"MAIO\",\"JUNHO\",\"JULHO\",\"AGOSTO\",\"SETEMBRO\",\"OUTUBRO\",\"NOVEMBRO\",\"DEZEMBRO\")","v":"MARÇO"},{"$f":"YEAR(tbldados[[#This Row],[DATA]])","v":2022}]
[331,"PGTO","01 DE 01","PAGMAE","FEVEREIRO","RECARGAPAY","PAGMAE","CREDITO A VISTA",2.9899999999999999E-2,44599,44630,1497.1,{"$f":"tbldados[[#This Row],[VALOR PAGO]]+(tbldados[[#This Row],[VALOR PAGO]]*tbldados[[#This Row],[TAXA]])","v":1541.86329},{"$f":"tbldados[[#This Row],[TOTAL BRUTO]]-tbldados[[#This Row],[VALOR PAGO]]","v":44.763290000000097},{"$f":"CHOOSE(MONTH(tbldados[[#This Row],[DATA]]),\"JANEIRO\",\"FEVEREIRO\",\"MARÇO\",\"ABRIL\",\"MAIO\",\"JUNHO\",\"JULHO\",\"AGOSTO\",\"SETEMBRO\",\"OUTUBRO\",\"NOVEMBRO\",\"DEZEMBRO\")","v":"MARÇO"},{"$f":"YEAR(tbldados[[#This Row],[DATA]])","v":2022}]
[332,"GASTOS","01 DE 01","PGTOPAGMAE","JUNIOR","RECARGAPAY","PAGMAE","CREDITO A VISTA",2.9899999999999999E-2,44599,44630,1497.1,{"$f":"tbldados[[#This Row],[VALOR PAGO]]+(tbldados[[#This Row],[VALOR PAGO]]*tbldados[[#This Row],[TAXA]])","v":1541.86329},{"$f":"tbldados[[#This Row],[TOTAL BRUTO]]-tbldados[[#This Row],[VALOR PAGO]]","v":44.763290000000097},{"$f":"CHOOSE(MONTH(tbldados[[#This Row],[DATA]]),\"JANEIRO\",\"FEVEREIRO\",\"MARÇO\",\"ABRIL\",\"MAIO\",\"JUNHO\",\"JULHO\",\"AGOSTO\",\"SETEMBRO\",\"OUTUBRO\",\"NOVEMBRO\",\"DEZEMBRO\")","v":"MARÇO"},{"$f":"YEAR(tbldados[[#This Row],[DATA]])","v":2022}]
[333,"PGTO","01 DE 01","PAGMAE","FEVEREIRO","RECARGAPAY","PAGMAE","CREDITO A VISTA",2.9899999999999999E-2,44601,44630,1648.58,{"$f":"tbldados[[#This Row],[VALOR PAGO]]+(tbldados[[#This Row],[VALOR PAGO]]*tbldados[[#This Row],[TAXA]])","v":1697.8725419999998},{"$f":"tbldados[[#This Row],[TOTAL BRUTO]]-tbldados[[#This Row],[VALOR PAGO]]","v":49.292541999999912},{"$f":"CHOOSE(MONTH(tbldados[[#This Row],[DATA]]),\"JANEIRO\",\"FEVEREIRO\",\"MARÇO\",\"ABRIL\",\"MAIO\",\"JUNHO\",\"JULHO\",\"AGOSTO\",\"SETEMBRO\",\"OUTUBRO\",\"NOVEMBRO\",\"DEZEMBRO\")","v":"MARÇO"},{"$f":"YEAR(tbldados[[#This Row],[DATA]])","v":2022}]
[334,"GASTOS","01 DE 01","GASTOS","JUNIOR","RECARGAPAY","PAGMAE","CREDITO A VISTA",2.9899999999999999E-2,44601,44630,1648.58,{"$f":"tbldados[[#This Row],[VALOR PAGO]]+(tbldados[[#This Row],[VALOR PAGO]]*tbldados[[#This Row],[TAXA]])","v":1697.8725419999998},{"$f":"tbldados[[#This Row],[TOTAL BRUTO]]-tbldados[[#This Row],[VALOR PAGO]]","v":49.292541999999912},{"$f":"CHOOSE(MONTH(tbldados[[#This Row],[DATA]]),\"JANEIRO\",\"FEVEREIRO\",\"MARÇO\",\"ABRIL\",\"MAIO\",\"JUNHO\",\"JULHO\",\"AGOSTO\",\"SETEMBRO\",\"OUTUBRO\",\"NOVEMBRO\",\"DEZEMBRO\")","v":"MARÇO"},{"$f":"YEAR(tbldados[[#This Row],[DATA]])","v":2022}]
[335,"GASTOS","01 DE 01","PGTOPAGMAE","JUNIOR","RECARGAPAY","PAGMAE","CREDITO A VISTA",2.9899999999999999E-2,44598,44630,1497.1,{"$f":"tbldados[[#This Row],[VALOR PAGO]]+(tbldados[[#This Row],[VALOR PAGO]]*tbldados[[#This Row],[TAXA]])","v":1541.86329},{"$f":"tbldados[[#This Row],[TOTAL BRUTO]]-tbldados[[#This Row],[VALOR PAGO]]","v":44.763290000000097},{"$f":"CHOOSE(MONTH(tbldados[[#This Row],[DATA]]),\"JANEIRO\",\"FEVEREIRO\",\"MARÇO\",\"ABRIL\",\"MAIO\",\"JUNHO\",\"JULHO\",\"AGOSTO\",\"SETEMBRO\",\"OUTUBRO\",\"NOVEMBRO\",\"DEZEMBRO\")","v":"MARÇO"},{"$f":"YEAR(tbldados[[#This Row],[DATA]])","v":2022}]
[336,"PGTO","01 DE 01","NUBANK","FEVEREIRO","RECARGAPAY","PAGMAE","CREDITO A VISTA",2.9899999999999999E-2,44602,44630,1318.74,{"$f":"tbldados[[#This Row],[VALOR PAGO]]+(tbldados[[#This Row],[VALOR PAGO]]*tbldados[[#This Row],[TAXA]])","v":1358.1703259999999},{"$f":"tbldados[[#This Row],[TOTAL BRUTO]]-tbldados[[#This Row],[VALOR PAGO]]","v":39.430325999999923},{"$f":"CHOOSE(MONTH(tbldados[[#This Row],[DATA]]),\"JANEIRO\",\"FEVEREIRO\",\"MARÇO\",\"ABRIL\",\"MAIO\",\"JUNHO\",\"JULHO\",\"AGOSTO\",\"SETEMBRO\",\"OUTUBRO\",\"NOVEMBRO\",\"DEZEMBRO\")","v":"MARÇO"},{"$f":"YEAR(tbldados[[#This Row],[DATA]])","v":2022}]
[337,"GASTOS","01 DE 01","ALMOÇO","JUNIOR","GERAL","NUBANK","CREDITO A VISTA",{"$f":"VLOOKUP(tbldados[[#This Row],[APP]],tblbandeira[],3,0)","v":0},44597,44605,30,{"$f":"tbldados[[#This Row],[VALOR PAGO]]+(tbldados[[#This Row],[VALOR PAGO]]*tbldados[[#This Row],[TAXA]])","v":30},{"$f":"tbldados[[#This Row],[TOTAL BRUTO]]-tbldados[[#This Row],[VALOR PAGO]]","v":0},{"$f":"CHOOSE(MONTH(tbldados[[#This Row],[DATA]]),\"JANEIRO\",\"FEVEREIRO\",\"MARÇO\",\"ABRIL\",\"MAIO\",\"JUNHO\",\"JULHO\",\"AGOSTO\",\"SETEMBRO\",\"OUTUBRO\",\"NOVEMBRO\",\"DEZEMBRO\")","v":"FEVEREIRO"},{"$f":"YEAR(tbldados[[#This Row],[DATA]])","v":2022}]
[338,"PGTO","01 DE 01","NUBANK","FEVEREIRO","RECARGAPAY","NUBANK","CREDITO A VISTA",2.9899999999999999E-2,44602,44633,1750.55,{"$f":"tbldados[[#This Row],[VALOR PAGO]]+(tbldados[[#This Row],[VALOR PAGO]]*tbldados[[#This Row],[TAXA]])","v":1802.891445},{"$f":"tbldados[[#This Row],[TOTAL BRUTO]]-tbldados[[#This Row],[VALOR PAGO]]","v":52.341445000000022},{"$f":"CHOOSE(MONTH(tbldados[[#This Row],[DATA]]),\"JANEIRO\",\"FEVEREIRO\",\"MARÇO\",\"ABRIL\",\"MAIO\",\"JUNHO\",\"JULHO\",\"AGOSTO\",\"SETEMBRO\",\"OUTUBRO\",\"NOVEMBRO\",\"DEZEMBRO\")","v":"MARÇO"},{"$f":"YEAR(tbldados[[#This Row],[DATA]])","v":2022}]
[339,"GASTOS","01 DE 01","PGTONUBANK","JUNIOR","RECARGAPAY","NUBANK","CREDITO A VISTA",2.9899999999999999E-2,44602,44633,1750.55,{"$f":"tbldados[[#This Row],[VALOR PAGO]]+(tbldados[[#This Row],[VALOR PAGO]]*tbldados[[#This Row],[TAXA]])","v":1802.891445},{"$f":"tbldados[[#This Row],[TOTAL BRUTO]]-tbldados[[#This Row],[VALOR PAGO]]","v":52.341445000000022},{"$f":"CHOOSE(MONTH(tbldados[[#This Row],[DATA]]),\"JANEIRO\",\"FEVEREIRO\",\"MARÇO\",\"ABRIL\",\"MAIO\",\"JUNHO\",\"JULHO\",\"AGOSTO\",\"SETEMBRO\",\"OUTUBRO\",\"NOVEMBRO\",\"DEZEMBRO\")","v":"MARÇO"},{"$f":"YEAR(tbldados[[#This Row],[DATA]])","v":2022}]
[340,"PGTO","01 DE 01","NUBANK","FEVEREIRO","RECARGAPAY","NUBANK","CREDITO A VISTA",2.9899999999999999E-2,44603,44633,737.97,{"$f":"tbldados[[#This Row],[VALOR PAGO]]+(tbldados[[#This Row],[VALOR PAGO]]*tbldados[[#This Row],[TAXA]])","v":760.035303},{"$f":"tbldados[[#This Row],[TOTAL BRUTO]]-tbldados[[#This Row],[VALOR PAGO]]","v":22.065302999999972},{"$f":"CHOOSE(MONTH(tbldados[[#This Row],[DATA]]),\"JANEIRO\",\"FEVEREIRO\",\"MARÇO\",\"ABRIL\",\"MAIO\",\"JUNHO\",\"JULHO\",\"AGOSTO\",\"SETEMBRO\",\"OUTUBRO\",\"NOVEMBRO\",\"DEZEMBRO\")","v":"MARÇO"},{"$f":"YEAR(tbldados[[#This Row],[DATA]])","v":2022}]
[341,"GASTOS","01 DE 01","PGTONUBANK","JUNIOR","RECARGAPAY","NUBANK","CREDITO A VISTA",2.9899999999999999E-2,44603,44633,738,{"$f":"tbldados[[#This Row],[VALOR PAGO]]+(tbldados[[#This Row],[VALOR PAGO]]*tbldados[[#This Row],[TAXA]])","v":760.06619999999998},{"$f":"tbldados[[#This Row],[TOTAL BRUTO]]-tbldados[[#This Row],[VALOR PAGO]]","v":22.066199999999981},{"$f":"CHOOSE(MONTH(tbldados[[#This Row],[DATA]]),\"JANEIRO\",\"FEVEREIRO\",\"MARÇO\",\"ABRIL\",\"MAIO\",\"JUNHO\",\"JULHO\",\"AGOSTO\",\"SETEMBRO\",\"OUTUBRO\",\"NOVEMBRO\",\"DEZEMBRO\")","v":"MARÇO"},{"$f":"YEAR(tbldados[[#This Row],[DATA]])","v":2022}]
[342,"PGTO","01 DE 01","INTER","FEVEREIRO","RECARGAPAY","INTER","CREDITO A VISTA",2.9899999999999999E-2,44606,44635,2516.5300000000002,{"$f":"tbldados[[#This Row],[VALOR PAGO]]+(tbldados[[#This Row],[VALOR PAGO]]*tbldados[[#This Row],[TAXA]])","v":2591.7742470000003},{"$f":"tbldados[[#This Row],[TOTAL BRUTO]]-tbldados[[#This Row],[VALOR PAGO]]","v":75.244247000000087},{"$f":"CHOOSE(MONTH(tbldados[[#This Row],[DATA]]),\"JANEIRO\",\"FEVEREIRO\",\"MARÇO\",\"ABRIL\",\"MAIO\",\"JUNHO\",\"JULHO\",\"AGOSTO\",\"SETEMBRO\",\"OUTUBRO\",\"NOVEMBRO\",\"DEZEMBRO\")","v":"MARÇO"},{"$f":"YEAR(tbldados[[#This Row],[DATA]])","v":2022}]
[343,"GASTOS","01 DE 01","PGTOINTER","JUNIOR","RECARGAPAY","INTER","CREDITO A VISTA",2.9899999999999999E-2,44606,44635,2516.5300000000002,{"$f":"tbldados[[#This Row],[VALOR PAGO]]+(tbldados[[#This Row],[VALOR PAGO]]*tbldados[[#This Row],[TAXA]])","v":2591.7742470000003},{"$f":"tbldados[[#This Row],[TOTAL BRUTO]]-tbldados[[#This Row],[VALOR PAGO]]","v":75.244247000000087},{"$f":"CHOOSE(MONTH(tbldados[[#This Row],[DATA]]),\"JANEIRO\",\"FEVEREIRO\",\"MARÇO\",\"ABRIL\",\"MAIO\",\"JUNHO\",\"JULHO\",\"AGOSTO\",\"SETEMBRO\",\"OUTUBRO\",\"NOVEMBRO\",\"DEZEMBRO\")","v":"MARÇO"},{"$f":"YEAR(tbldados[[#This Row],[DATA]])","v":2022}]
[344,"PGTO","01 DE 01","INTER","FEVEREIRO","RECARGAPAY","MELIUZ","CREDITO A VISTA",2.9899999999999999E-2,44605,44621,1343.82,{"$f":"tbldados[[#This Row],[VALOR PAGO]]+(tbldados[[#This Row],[VALOR PAGO]]*tbldados[[#This Row],[TAXA]])","v":1384.0002179999999},{"$f":"tbldados[[#This Row],[TOTAL BRUTO]]-tbldados[[#This Row],[VALOR PAGO]]","v":40.180217999999968},{"$f":"CHOOSE(MONTH(tbldados[[#This Row],[DATA]]),\"JANEIRO\",\"FEVEREIRO\",\"MARÇO\",\"ABRIL\",\"MAIO\",\"JUNHO\",\"JULHO\",\"AGOSTO\",\"SETEMBRO\",\"OUTUBRO\",\"NOVEMBRO\",\"DEZEMBRO\")","v":"MARÇO"},{"$f":"YEAR(tbldados[[#This Row],[DATA]])","v":2022}]
[345,"GASTOS","01 DE 01","PGTOINTER","JUNIOR","RECARGAPAY","MELIUZ","CREDITO A VISTA",2.9899999999999999E-2,44605,44621,1343.82,{"$f":"tbldados[[#This Row],[VALOR PAGO]]+(tbldados[[#This Row],[VALOR PAGO]]*tbldados[[#This Row],[TAXA]])","v":1384.0002179999999},{"$f":"tbldados[[#This Row],[TOTAL BRUTO]]-tbldados[[#This Row],[VALOR PAGO]]","v":40.180217999999968},{"$f":"CHOOSE(MONTH(tbldados[[#This Row],[DATA]]),\"JANEIRO\",\"FEVEREIRO\",\"MARÇO\",\"ABRIL\",\"MAIO\",\"JUNHO\",\"JULHO\",\"AGOSTO\",\"SETEMBRO\",\"OUTUBRO\",\"NOVEMBRO\",\"DEZEMBRO\")","v":"MARÇO"},{"$f":"YEAR(tbldados[[#This Row],[DATA]])","v":2022}]
[346,"PGTO","01 DE 01","INTER","FEVEREIRO","RECARGAPAY","NUBANK","CREDITO A VISTA",2.9899999999999999E-2,44604,44633,1000,{"$f":"tbldados[[#This Row],[VALOR PAGO]]+(tbldados[[#This Row],[VALOR PAGO]]*tbldados[[#This Row],[TAXA]])","v":1029.9000000000001},{"$f":"tbldados[[#This Row],[TOTAL BRUTO]]-tbldados[[#This Row],[VALOR PAGO]]","v":29.900000000000091},{"$f":"CHOOSE(MONTH(tbldados[[#This Row],[DATA]]),\"JANEIRO\",\"FEVEREIRO\",\"MARÇO\",\"ABRIL\",\"MAIO\",\"JUNHO\",\"JULHO\",\"AGOSTO\",\"SETEMBRO\",\"OUTUBRO\",\"NOVEMBRO\",\"DEZEMBRO\")","v":"MARÇO"},{"$f":"YEAR(tbldados[[#This Row],[DATA]])","v":2022}]
[347,"GASTOS","01 DE 01","PGTOINTER","JUNIOR","RECARGAPAY","NUBANK","CREDITO A VISTA",2.9899999999999999E-2,44604,44633,1000,{"$f":"tbldados[[#This Row],[VALOR PAGO]]+(tbldados[[#This Row],[VALOR PAGO]]*tbldados[[#This Row],[TAXA]])","v":1029.9000000000001},{"$f":"tbldados[[#This Row],[TOTAL BRUTO]]-tbldados[[#This Row],[VALOR PAGO]]","v":29.900000000000091},{"$f":"CHOOSE(MONTH(tbldados[[#This Row],[DATA]]),\"JANEIRO\",\"FEVEREIRO\",\"MARÇO\",\"ABRIL\",\"MAIO\",\"JUNHO\",\"JULHO\",\"AGOSTO\",\"SETEMBRO\",\"OUTUBRO\",\"NOVEMBRO\",\"DEZEMBRO\")","v":"MARÇO"},{"$f":"YEAR(tbldados[[#This Row],[DATA]])","v":2022}]
[348,"PGTO","01 DE 01","INTER","FEVEREIRO","CONTA","DÉBITO","DINHEIRO",{"$f":"VLOOKUP(tbldados[[#This Row],[APP]],tblbandeira[],3,0)","v":0},44606,44606,59.6,{"$f":"tbldados[[#This Row],[VALOR PAGO]]+(tbldados[[#This Row],[VALOR PAGO]]*tbldados[[#This Row],[TAXA]])","v":59.6},{"$f":"tbldados[[#This Row],[TOTAL BRUTO]]-tbldados[[#This Row],[VALOR PAGO]]","v":0},{"$f":"CHOOSE(MONTH(tbldados[[#This Row],[DATA]]),\"JANEIRO\",\"FEVEREIRO\",\"MARÇO\",\"ABRIL\",\"MAIO\",\"JUNHO\",\"JULHO\",\"AGOSTO\",\"SETEMBRO\",\"OUTUBRO\",\"NOVEMBRO\",\"DEZEMBRO\")","v":"FEVEREIRO"},{"$f":"YEAR(tbldados[[#This Row],[DATA]])","v":2022}]
[349,"GASTOS","01 DE 01","ALMOÇO","JUNIOR","GERAL","ORIGINAL","CREDITO A VISTA",{"$f":"VLOOKUP(tbldados[[#This Row],[APP]],tblbandeira[],3,0)","v":0},44575,44602,48,{"$f":"tbldados[[#This Row],[VALOR PAGO]]+(tbldados[[#This Row],[VALOR PAGO]]*tbldados[[#This Row],[TAXA]])","v":48},{"$f":"tbldados[[#This Row],[TOTAL BRUTO]]-tbldados[[#This Row],[VALOR PAGO]]","v":0},{"$f":"CHOOSE(MONTH(tbldados[[#This Row],[DATA]]),\"JANEIRO\",\"FEVEREIRO\",\"MARÇO\",\"ABRIL\",\"MAIO\",\"JUNHO\",\"JULHO\",\"AGOSTO\",\"SETEMBRO\",\"OUTUBRO\",\"NOVEMBRO\",\"DEZEMBRO\")","v":"FEVEREIRO"},{"$f":"YEAR(tbldados[[#This Row],[DATA]])","v":2022}]
[350,"PGTO","01 DE 01","ORIGINAL","FEVEREIRO","RECARGAPAY","PAGMAE","CREDITO A VISTA",2.9899999999999999E-2,44605,44630,528,{"$f":"tbldados[[#This Row],[VALOR PAGO]]+(tbldados[[#This Row],[VALOR PAGO]]*tbldados[[#This Row],[TAXA]])","v":543.78719999999998},{"$f":"tbldados[[#This Row],[TOTAL BRUTO]]-tbldados[[#This Row],[VALOR PAGO]]","v":15.787199999999984},{"$f":"CHOOSE(MONTH(tbldados[[#This Row],[DATA]]),\"JANEIRO\",\"FEVEREIRO\",\"MARÇO\",\"ABRIL\",\"MAIO\",\"JUNHO\",\"JULHO\",\"AGOSTO\",\"SETEMBRO\",\"OUTUBRO\",\"NOVEMBRO\",\"DEZEMBRO\")","v":"MARÇO"},{"$f":"YEAR(tbldados[[#This Row],[DATA]])","v":2022}]
[351,"GASTOS","01 DE 01","PGTORIGINAL","JUNIOR","RECARGAPAY","PAN","CREDITO A VISTA",2.9899999999999999E-2,44605,44621,528,{"$f":"tbldados[[#This Row],[VALOR PAGO]]+(tbldados[[#This Row],[VALOR PAGO]]*tbldados[[#This Row],[TAXA]])","v":543.78719999999998},{"$f":"tbldados[[#This Row],[TOTAL BRUTO]]-tbldados[[#This Row],[VALOR PAGO]]","v":15.787199999999984},{"$f":"CHOOSE(MONTH(tbldados[[#This Row],[DATA]]),\"JANEIRO\",\"FEVEREIRO\",\"MARÇO\",\"ABRIL\",\"MAIO\",\"JUNHO\",\"JULHO\",\"AGOSTO\",\"SETEMBRO\",\"OUTUBRO\",\"NOVEMBRO\",\"DEZEMBRO\")","v":"MARÇO"},{"$f":"YEAR(tbldados[[#This Row],[DATA]])","v":2022}]
[352,"PGTO","01 DE 01","PAN","FEVEREIRO","RECARGAPAY","MELIUZ","CREDITO A VISTA",2.9899999999999999E-2,44605,44633,471.44,{"$f":"tbldados[[#This Row],[VALOR PAGO]]+(tbldados[[#This Row],[VALOR PAGO]]*tbldados[[#This Row],[TAXA]])","v":485.53605599999997},{"$f":"tbldados[[#This Row],[TOTAL BRUTO]]-tbldados[[#This Row],[VALOR PAGO]]","v":14.096055999999976},{"$f":"CHOOSE(MONTH(tbldados[[#This Row],[DATA]]),\"JANEIRO\",\"FEVEREIRO\",\"MARÇO\",\"ABRIL\",\"MAIO\",\"JUNHO\",\"JULHO\",\"AGOSTO\",\"SETEMBRO\",\"OUTUBRO\",\"NOVEMBRO\",\"DEZEMBRO\")","v":"MARÇO"},{"$f":"YEAR(tbldados[[#This Row],[DATA]])","v":2022}]
[353,"GASTOS","01 DE 01","PGTOPAN","JUNIOR","RECARGAPAY","MELIUZ","CREDITO A VISTA",2.9899999999999999E-2,44605,44621,471.44,{"$f":"tbldados[[#This Row],[VALOR PAGO]]+(tbldados[[#This Row],[VALOR PAGO]]*tbldados[[#This Row],[TAXA]])","v":485.53605599999997},{"$f":"tbldados[[#This Row],[TOTAL BRUTO]]-tbldados[[#This Row],[VALOR PAGO]]","v":14.096055999999976},{"$f":"CHOOSE(MONTH(tbldados[[#This Row],[DATA]]),\"JANEIRO\",\"FEVEREIRO\",\"MARÇO\",\"ABRIL\",\"MAIO\",\"JUNHO\",\"JULHO\",\"AGOSTO\",\"SETEMBRO\",\"OUTUBRO\",\"NOVEMBRO\",\"DEZEMBRO\")","v":"MARÇO"},{"$f":"YEAR(tbldados[[#This Row],[DATA]])","v":2022}]
[354,"GASTOS","01 DE 01","JUROSPAY","JUNIOR","GERAL","INTER","CREDITO A VISTA",{"$f":"VLOOKUP(tbldados[[#This Row],[APP]],tblbandeira[],3,0)","v":0},44606,44635,19.989999999999998,{"$f":"tbldados[[#This Row],[VALOR PAGO]]+(tbldados[[#This Row],[VALOR PAGO]]*tbldados[[#This Row],[TAXA]])","v":19.989999999999998},{"$f":"tbldados[[#This Row],[TOTAL BRUTO]]-tbldados[[#This Row],[VALOR PAGO]]","v":0},{"$f":"CHOOSE(MONTH(tbldados[[#This Row],[DATA]]),\"JANEIRO\",\"FEVEREIRO\",\"MARÇO\",\"ABRIL\",\"MAIO\",\"JUNHO\",\"JULHO\",\"AGOSTO\",\"SETEMBRO\",\"OUTUBRO\",\"NOVEMBRO\",\"DEZEMBRO\")","v":"MARÇO"},{"$f":"YEAR(tbldados[[#This Row],[DATA]])","v":2022}]
[355,"PGTO","01 DE 01","DIGIO","FEVEREIRO","RECARGAPAY","INTER","CREDITO A VISTA",2.9899999999999999E-2,44606,44635,880,{"$f":"tbldados[[#This Row],[VALOR PAGO]]+(tbldados[[#This Row],[VALOR PAGO]]*tbldados[[#This Row],[TAXA]])","v":906.31200000000001},{"$f":"tbldados[[#This Row],[TOTAL BRUTO]]-tbldados[[#This Row],[VALOR PAGO]]","v":26.312000000000012},{"$f":"CHOOSE(MONTH(tbldados[[#This Row],[DATA]]),\"JANEIRO\",\"FEVEREIRO\",\"MARÇO\",\"ABRIL\",\"MAIO\",\"JUNHO\",\"JULHO\",\"AGOSTO\",\"SETEMBRO\",\"OUTUBRO\",\"NOVEMBRO\",\"DEZEMBRO\")","v":"MARÇO"},{"$f":"YEAR(tbldados[[#This Row],[DATA]])","v":2022}]
[356,"GASTOS","01 DE 01","PGTODIGIO","JUNIOR","RECARGAPAY","INTER","CREDITO A VISTA",2.9899999999999999E-2,44606,44635,880,{"$f":"tbldados[[#This Row],[VALOR PAGO]]+(tbldados[[#This Row],[VALOR PAGO]]*tbldados[[#This Row],[TAXA]])","v":906.31200000000001},{"$f":"tbldados[[#This Row],[TOTAL BRUTO]]-tbldados[[#This Row],[VALOR PAGO]]","v":26.312000000000012},{"$f":"CHOOSE(MONTH(tbldados[[#This Row],[DATA]]),\"JANEIRO\",\"FEVEREIRO\",\"MARÇO\",\"ABRIL\",\"MAIO\",\"JUNHO\",\"JULHO\",\"AGOSTO\",\"SETEMBRO\",\"OUTUBRO\",\"NOVEMBRO\",\"DEZEMBRO\")","v":"MARÇO"},{"$f":"YEAR(tbldados[[#This Row],[DATA]])","v":2022}]
[357,"PGTO","01 DE 01","NEON","FEVEREIRO","RECARGAPAY","DIGIO","CREDITO A VISTA",2.9899999999999999E-2,44606,44635,854.45,{"$f":"tbldados[[#This Row],[VALOR PAGO]]+(tbldados[[#This Row],[VALOR PAGO]]*tbldados[[#This Row],[TAXA]])","v":879.99805500000002},{"$f":"tbldados[[#This Row],[TOTAL BRUTO]]-tbldados[[#This Row],[VALOR PAGO]]","v":25.548054999999977},{"$f":"CHOOSE(MONTH(tbldados[[#This Row],[DATA]]),\"JANEIRO\",\"FEVEREIRO\",\"MARÇO\",\"ABRIL\",\"MAIO\",\"JUNHO\",\"JULHO\",\"AGOSTO\",\"SETEMBRO\",\"OUTUBRO\",\"NOVEMBRO\",\"DEZEMBRO\")","v":"MARÇO"},{"$f":"YEAR(tbldados[[#This Row],[DATA]])","v":2022}]
[358,"GASTOS","01 DE 01","PGTONEON","JUNIOR","RECARGAPAY","DIGIO","CREDITO A VISTA",2.9899999999999999E-2,44606,44635,854.45,{"$f":"tbldados[[#This Row],[VALOR PAGO]]+(tbldados[[#This Row],[VALOR PAGO]]*tbldados[[#This Row],[TAXA]])","v":879.99805500000002},{"$f":"tbldados[[#This Row],[TOTAL BRUTO]]-tbldados[[#This Row],[VALOR PAGO]]","v":25.548054999999977},{"$f":"CHOOSE(MONTH(tbldados[[#This Row],[DATA]]),\"JANEIRO\",\"FEVEREIRO\",\"MARÇO\",\"ABRIL\",\"MAIO\",\"JUNHO\",\"JULHO\",\"AGOSTO\",\"SETEMBRO\",\"OUTUBRO\",\"NOVEMBRO\",\"DEZEMBRO\")","v":"MARÇO"},{"$f":"YEAR(tbldados[[#This Row],[DATA]])","v":2022}]
[359,"PGTO","01 DE 01","PANMAE","FEVEREIRO","RECARGAPAY","NEON","CREDITO A VISTA",2.9899999999999999E-2,44606,44635,825.32,{"$f":"tbldados[[#This Row],[VALOR PAGO]]+(tbldados[[#This Row],[VALOR PAGO]]*tbldados[[#This Row],[TAXA]])","v":849.99706800000001},{"$f":"tbldados[[#This Row],[TOTAL BRUTO]]-tbldados[[#This Row],[VALOR PAGO]]","v":24.677067999999963},{"$f":"CHOOSE(MONTH(tbldados[[#This Row],[DATA]]),\"JANEIRO\",\"FEVEREIRO\",\"MARÇO\",\"ABRIL\",\"MAIO\",\"JUNHO\",\"JULHO\",\"AGOSTO\",\"SETEMBRO\",\"OUTUBRO\",\"NOVEMBRO\",\"DEZEMBRO\")","v":"MARÇO"},{"$f":"YEAR(tbldados[[#This Row],[DATA]])","v":2022}]
[360,"GASTOS","01 DE 01","PGTOPANMAE","JUNIOR","RECARGAPAY","NEON","CREDITO A VISTA",2.9899999999999999E-2,44606,44635,825.32,{"$f":"tbldados[[#This Row],[VALOR PAGO]]+(tbldados[[#This Row],[VALOR PAGO]]*tbldados[[#This Row],[TAXA]])","v":849.99706800000001},{"$f":"tbldados[[#This Row],[TOTAL BRUTO]]-tbldados[[#This Row],[VALOR PAGO]]","v":24.677067999999963},{"$f":"CHOOSE(MONTH(tbldados[[#This Row],[DATA]]),\"JANEIRO\",\"FEVEREIRO\",\"MARÇO\",\"ABRIL\",\"MAIO\",\"JUNHO\",\"JULHO\",\"AGOSTO\",\"SETEMBRO\",\"OUTUBRO\",\"NOVEMBRO\",\"DEZEMBRO\")","v":"MARÇO"},{"$f":"YEAR(tbldados[[#This Row],[DATA]])","v":2022}]
[361,"PGTO","01 DE 01","CLICK","FEVEREIRO","RECARGAPAY","PANMAE","CREDITO A VISTA",2.9899999999999999E-2,44607,44637,1223.42,{"$f":"tbldados[[#This Row],[VALOR PAGO]]+(tbldados[[#This Row],[VALOR PAGO]]*tbldados[[#This Row],[TAXA]])","v":1260.000258},{"$f":"tbldados[[#This Row],[TOTAL BRUTO]]-tbldados[[#This Row],[VALOR PAGO]]","v":36.580257999999958},{"$f":"CHOOSE(MONTH(tbldados[[#This Row],[DATA]]),\"JANEIRO\",\"FEVEREIRO\",\"MARÇO\",\"ABRIL\",\"MAIO\",\"JUNHO\",\"JULHO\",\"AGOSTO\",\"SETEMBRO\",\"OUTUBRO\",\"NOVEMBRO\",\"DEZEMBRO\")","v":"MARÇO"},{"$f":"YEAR(tbldados[[#This Row],[DATA]])","v":2022}]
[362,"GASTOS","01 DE 01","PGTOCLICK","JUNIOR","RECARGAPAY","PANMAE","CREDITO A VISTA",2.9899999999999999E-2,44607,44637,1223.42,{"$f":"tbldados[[#This Row],[VALOR PAGO]]+(tbldados[[#This Row],[VALOR PAGO]]*tbldados[[#This Row],[TAXA]])","v":1260.000258},{"$f":"tbldados[[#This Row],[TOTAL BRUTO]]-tbldados[[#This Row],[VALOR PAGO]]","v":36.580257999999958},{"$f":"CHOOSE(MONTH(tbldados[[#This Row],[DATA]]),\"JANEIRO\",\"FEVEREIRO\",\"MARÇO\",\"ABRIL\",\"MAIO\",\"JUNHO\",\"JULHO\",\"AGOSTO\",\"SETEMBRO\",\"OUTUBRO\",\"NOVEMBRO\",\"DEZEMBRO\")","v":"MARÇO"},{"$f":"YEAR(tbldados[[#This Row],[DATA]])","v":2022}]
[363,"PGTO","01 DE 01","CLICK","FEVEREIRO","RECARGAPAY","CLICK","CREDITO A VISTA",2.9899999999999999E-2,44608,44637,1076.58,{"$f":"tbldados[[#This Row],[VALOR PAGO]]+(tbldados[[#This Row],[VALOR PAGO]]*tbldados[[#This Row],[TAXA]])","v":1108.769742},{"$f":"tbldados[[#This Row],[TOTAL BRUTO]]-tbldados[[#This Row],[VALOR PAGO]]","v":32.189742000000024},{"$f":"CHOOSE(MONTH(tbldados[[#This Row],[DATA]]),\"JANEIRO\",\"FEVEREIRO\",\"MARÇO\",\"ABRIL\",\"MAIO\",\"JUNHO\",\"JULHO\",\"AGOSTO\",\"SETEMBRO\",\"OUTUBRO\",\"NOVEMBRO\",\"DEZEMBRO\")","v":"MARÇO"},{"$f":"YEAR(tbldados[[#This Row],[DATA]])","v":2022}]
[364,"GASTOS","01 DE 01","PGTOCLICK","JUNIOR","RECARGAPAY","CLICK","CREDITO A VISTA",2.9899999999999999E-2,44608,44637,1076.58,{"$f":"tbldados[[#This Row],[VALOR PAGO]]+(tbldados[[#This Row],[VALOR PAGO]]*tbldados[[#This Row],[TAXA]])","v":1108.769742},{"$f":"tbldados[[#This Row],[TOTAL BRUTO]]-tbldados[[#This Row],[VALOR PAGO]]","v":32.189742000000024},{"$f":"CHOOSE(MONTH(tbldados[[#This Row],[DATA]]),\"JANEIRO\",\"FEVEREIRO\",\"MARÇO\",\"ABRIL\",\"MAIO\",\"JUNHO\",\"JULHO\",\"AGOSTO\",\"SETEMBRO\",\"OUTUBRO\",\"NOVEMBRO\",\"DEZEMBRO\")","v":"MARÇO"},{"$f":"YEAR(tbldados[[#This Row],[DATA]])","v":2022}]
[365,"GASTOS","01 DE 01","ANUIDADE","JUNIOR","GERAL","TRIGMAE","CREDITO A VISTA",{"$f":"VLOOKUP(tbldados[[#This Row],[APP]],tblbandeira[],3,0)","v":0},44577,44612,10.89,{"$f":"tbldados[[#This Row],[VALOR PAGO]]+(tbldados[[#This Row],[VALOR PAGO]]*tbldados[[#This Row],[TAXA]])","v":10.89},{"$f":"tbldados[[#This Row],[TOTAL BRUTO]]-tbldados[[#This Row],[VALOR PAGO]]","v":0},{"$f":"CHOOSE(MONTH(tbldados[[#This Row],[DATA]]),\"JANEIRO\",\"FEVEREIRO\",\"MARÇO\",\"ABRIL\",\"MAIO\",\"JUNHO\",\"JULHO\",\"AGOSTO\",\"SETEMBRO\",\"OUTUBRO\",\"NOVEMBRO\",\"DEZEMBRO\")","v":"FEVEREIRO"},{"$f":"YEAR(tbldados[[#This Row],[DATA]])","v":2022}]
[366,"PGTO","01 DE 01","TRIGMAE","FEVEREIRO","RECARGAPAY","ORIGINAL","CREDITO A VISTA",{"$f":"VLOOKUP(tbldados[[#This Row],[APP]],tblbandeira[],3,0)","v":3.49E-2},44608,44630,510.9,{"$f":"tbldados[[#This Row],[VALOR PAGO]]+(tbldados[[#This Row],[VALOR PAGO]]*tbldados[[#This Row],[TAXA]])","v":528.73041000000001},{"$f":"tbldados[[#This Row],[TOTAL BRUTO]]-tbldados[[#This Row],[VALOR PAGO]]","v":17.830410000000029},{"$f":"CHOOSE(MONTH(tbldados[[#This Row],[DATA]]),\"JANEIRO\",\"FEVEREIRO\",\"MARÇO\",\"ABRIL\",\"MAIO\",\"JUNHO\",\"JULHO\",\"AGOSTO\",\"SETEMBRO\",\"OUTUBRO\",\"NOVEMBRO\",\"DEZEMBRO\")","v":"MARÇO"},{"$f":"YEAR(tbldados[[#This Row],[DATA]])","v":2022}]
[367,"GASTOS","01 DE 01","PGTOTRIGMAE","JUNIOR","RECARGAPAY","ORIGINAL","CREDITO A VISTA",{"$f":"VLOOKUP(tbldados[[#This Row],[APP]],tblbandeira[],3,0)","v":3.49E-2},44608,44630,510.9,{"$f":"tbldados[[#This Row],[VALOR PAGO]]+(tbldados[[#This Row],[VALOR PAGO]]*tbldados[[#This Row],[TAXA]])","v":528.73041000000001},{"$f":"tbldados[[#This Row],[TOTAL BRUTO]]-tbldados[[#This Row],[VALOR PAGO]]","v":17.830410000000029},{"$f":"CHOOSE(MONTH(tbldados[[#This Row],[DATA]]),\"JANEIRO\",\"FEVEREIRO\",\"MARÇO\",\"ABRIL\",\"MAIO\",\"JUNHO\",\"JULHO\",\"AGOSTO\",\"SETEMBRO\",\"OUTUBRO\",\"NOVEMBRO\",\"DEZEMBRO\")","v":"MARÇO"},{"$f":"YEAR(tbldados[[#This Row],[DATA]])","v":2022}]
[368,"GASTOS","01 DE 02","FAMARCIA","JUNIOR","GERAL","WILL","CREDITO PARCELADO",{"$f":"VLOOKUP(tbldados[[#This Row],[APP]],tblbandeira[],3,0)","v":0},44592,44612,61.42,{"$f":"tbldados[[#This Row],[VALOR PAGO]]+(tbldados[[#This Row],[VALOR PAGO]]*tbldados[[#This Row],[TAXA]])","v":61.42},{"$f":"tbldados[[#This Row],[TOTAL BRUTO]]-tbldados[[#This Row],[VALOR PAGO]]","v":0},{"$f":"CHOOSE(MONTH(tbldados[[#This Row],[DATA]]),\"JANEIRO\",\"FEVEREIRO\",\"MARÇO\",\"ABRIL\",\"MAIO\",\"JUNHO\",\"JULHO\",\"AGOSTO\",\"SETEMBRO\",\"OUTUBRO\",\"NOVEMBRO\",\"DEZEMBRO\")","v":"FEVEREIRO"},{"$f":"YEAR(tbldados[[#This Row],[DATA]])","v":2022}]
[369,"GASTOS","02 DE 02","FAMARCIA","JUNIOR","GERAL","WILL","CREDITO PARCELADO",{"$f":"VLOOKUP(tbldados[[#This Row],[APP]],tblbandeira[],3,0)","v":0},44592,44640,61.42,{"$f":"tbldados[[#This Row],[VALOR PAGO]]+(tbldados[[#This Row],[VALOR PAGO]]*tbldados[[#This Row],[TAXA]])","v":61.42},{"$f":"tbldados[[#This Row],[TOTAL BRUTO]]-tbldados[[#This Row],[VALOR PAGO]]","v":0},{"$f":"CHOOSE(MONTH(tbldados[[#This Row],[DATA]]),\"JANEIRO\",\"FEVEREIRO\",\"MARÇO\",\"ABRIL\",\"MAIO\",\"JUNHO\",\"JULHO\",\"AGOSTO\",\"SETEMBRO\",\"OUTUBRO\",\"NOVEMBRO\",\"DEZEMBRO\")","v":"MARÇO"},{"$f":"YEAR(tbldados[[#This Row],[DATA]])","v":2022}]
[370,"PGTO","01 DE 01","WILL","FEVEREIRO","RECARGAPAY","CLICK","CREDITO A VISTA",{"$f":"VLOOKUP(tbldados[[#This Row],[APP]],tblbandeira[],3,0)","v":3.49E-2},44609,44637,1166.19,{"$f":"tbldados[[#This Row],[VALOR PAGO]]+(tbldados[[#This Row],[VALOR PAGO]]*tbldados[[#This Row],[TAXA]])","v":1206.8900310000001},{"$f":"tbldados[[#This Row],[TOTAL BRUTO]]-tbldados[[#This Row],[VALOR PAGO]]","v":40.700031000000081},{"$f":"CHOOSE(MONTH(tbldados[[#This Row],[DATA]]),\"JANEIRO\",\"FEVEREIRO\",\"MARÇO\",\"ABRIL\",\"MAIO\",\"JUNHO\",\"JULHO\",\"AGOSTO\",\"SETEMBRO\",\"OUTUBRO\",\"NOVEMBRO\",\"DEZEMBRO\")","v":"MARÇO"},{"$f":"YEAR(tbldados[[#This Row],[DATA]])","v":2022}]
[371,"GASTOS","01 DE 01","PGTOWILL","JUNIOR","RECARGAPAY","CLICK","CREDITO A VISTA",{"$f":"VLOOKUP(tbldados[[#This Row],[APP]],tblbandeira[],3,0)","v":3.49E-2},44609,44637,1166.19,{"$f":"tbldados[[#This Row],[VALOR PAGO]]+(tbldados[[#This Row],[VALOR PAGO]]*tbldados[[#This Row],[TAXA]])","v":1206.8900310000001},{"$f":"tbldados[[#This Row],[TOTAL BRUTO]]-tbldados[[#This Row],[VALOR PAGO]]","v":40.700031000000081},{"$f":"CHOOSE(MONTH(tbldados[[#This Row],[DATA]]),\"JANEIRO\",\"FEVEREIRO\",\"MARÇO\",\"ABRIL\",\"MAIO\",\"JUNHO\",\"JULHO\",\"AGOSTO\",\"SETEMBRO\",\"OUTUBRO\",\"NOVEMBRO\",\"DEZEMBRO\")","v":"MARÇO"},{"$f":"YEAR(tbldados[[#This Row],[DATA]])","v":2022}]
[372,"PGTO","01 DE 01","WILL","FEVEREIRO","RECARGAPAY","WILL","CREDITO A VISTA",{"$f":"VLOOKUP(tbldados[[#This Row],[APP]],tblbandeira[],3,0)","v":3.49E-2},44606,44640,1635.18,{"$f":"tbldados[[#This Row],[VALOR PAGO]]+(tbldados[[#This Row],[VALOR PAGO]]*tbldados[[#This Row],[TAXA]])","v":1692.2477820000001},{"$f":"tbldados[[#This Row],[TOTAL BRUTO]]-tbldados[[#This Row],[VALOR PAGO]]","v":57.067782000000079},{"$f":"CHOOSE(MONTH(tbldados[[#This Row],[DATA]]),\"JANEIRO\",\"FEVEREIRO\",\"MARÇO\",\"ABRIL\",\"MAIO\",\"JUNHO\",\"JULHO\",\"AGOSTO\",\"SETEMBRO\",\"OUTUBRO\",\"NOVEMBRO\",\"DEZEMBRO\")","v":"MARÇO"},{"$f":"YEAR(tbldados[[#This Row],[DATA]])","v":2022}]
[373,"GASTOS","01 DE 01","PGTOWILL","JUNIOR","RECARGAPAY","WILL","CREDITO A VISTA",{"$f":"VLOOKUP(tbldados[[#This Row],[APP]],tblbandeira[],3,0)","v":3.49E-2},44609,44640,1635.18,{"$f":"tbldados[[#This Row],[VALOR PAGO]]+(tbldados[[#This Row],[VALOR PAGO]]*tbldados[[#This Row],[TAXA]])","v":1692.2477820000001},{"$f":"tbldados[[#This Row],[TOTAL BRUTO]]-tbldados[[#This Row],[VALOR PAGO]]","v":57.067782000000079},{"$f":"CHOOSE(MONTH(tbldados[[#This Row],[DATA]]),\"JANEIRO\",\"FEVEREIRO\",\"MARÇO\",\"ABRIL\",\"MAIO\",\"JUNHO\",\"JULHO\",\"AGOSTO\",\"SETEMBRO\",\"OUTUBRO\",\"NOVEMBRO\",\"DEZEMBRO\")","v":"MARÇO"},{"$f":"YEAR(tbldados[[#This Row],[DATA]])","v":2022}]
[374,"PGTO","01 DE 01","GOLD","FEVEREIRO","RECARGAPAY","WILL","CREDITO A VISTA",{"$f":"VLOOKUP(tbldados[[#This Row],[APP]],tblbandeira[],3,0)","v":3.49E-2},44611,44640,1250,{"$f":"tbldados[[#This Row],[VALOR PAGO]]+(tbldados[[#This Row],[VALOR PAGO]]*tbldados[[#This Row],[TAXA]])","v":1293.625},{"$f":"tbldados[[#This Row],[TOTAL BRUTO]]-tbldados[[#This Row],[VALOR PAGO]]","v":43.625},{"$f":"CHOOSE(MONTH(tbldados[[#This Row],[DATA]]),\"JANEIRO\",\"FEVEREIRO\",\"MARÇO\",\"ABRIL\",\"MAIO\",\"JUNHO\",\"JULHO\",\"AGOSTO\",\"SETEMBRO\",\"OUTUBRO\",\"NOVEMBRO\",\"DEZEMBRO\")","v":"MARÇO"},{"$f":"YEAR(tbldados[[#This Row],[DATA]])","v":2022}]
[375,"GASTOS","01 DE 01","PGTOWILL","JUNIOR","RECARGAPAY","WILL","CREDITO A VISTA",{"$f":"VLOOKUP(tbldados[[#This Row],[APP]],tblbandeira[],3,0)","v":3.49E-2},44611,44640,1250,{"$f":"tbldados[[#This Row],[VALOR PAGO]]+(tbldados[[#This Row],[VALOR PAGO]]*tbldados[[#This Row],[TAXA]])","v":1293.625},{"$f":"tbldados[[#This Row],[TOTAL BRUTO]]-tbldados[[#This Row],[VALOR PAGO]]","v":43.625},{"$f":"CHOOSE(MONTH(tbldados[[#This Row],[DATA]]),\"JANEIRO\",\"FEVEREIRO\",\"MARÇO\",\"ABRIL\",\"MAIO\",\"JUNHO\",\"JULHO\",\"AGOSTO\",\"SETEMBRO\",\"OUTUBRO\",\"NOVEMBRO\",\"DEZEMBRO\")","v":"MARÇO"},{"$f":"YEAR(tbldados[[#This Row],[DATA]])","v":2022}]
[376,"PGTO","01 DE 01","GOLD","FEVEREIRO","RECARGAPAY","GOLD","CREDITO A VISTA",{"$f":"VLOOKUP(tbldados[[#This Row],[APP]],tblbandeira[],3,0)","v":3.49E-2},44611,44643,1213.71,{"$f":"tbldados[[#This Row],[VALOR PAGO]]+(tbldados[[#This Row],[VALOR PAGO]]*tbldados[[#This Row],[TAXA]])","v":1256.068479},{"$f":"tbldados[[#This Row],[TOTAL BRUTO]]-tbldados[[#This Row],[VALOR PAGO]]","v":42.358478999999988},{"$f":"CHOOSE(MONTH(tbldados[[#This Row],[DATA]]),\"JANEIRO\",\"FEVEREIRO\",\"MARÇO\",\"ABRIL\",\"MAIO\",\"JUNHO\",\"JULHO\",\"AGOSTO\",\"SETEMBRO\",\"OUTUBRO\",\"NOVEMBRO\",\"DEZEMBRO\")","v":"MARÇO"},{"$f":"YEAR(tbldados[[#This Row],[DATA]])","v":2022}]
[377,"GASTOS","01 DE 01","PGTOGOLD","JUNIOR","RECARGAPAY","GOLD","CREDITO A VISTA",2.9899999999999999E-2,44611,44643,1213.71,{"$f":"tbldados[[#This Row],[VALOR PAGO]]+(tbldados[[#This Row],[VALOR PAGO]]*tbldados[[#This Row],[TAXA]])","v":1249.9999290000001},{"$f":"tbldados[[#This Row],[TOTAL BRUTO]]-tbldados[[#This Row],[VALOR PAGO]]","v":36.289929000000029},{"$f":"CHOOSE(MONTH(tbldados[[#This Row],[DATA]]),\"JANEIRO\",\"FEVEREIRO\",\"MARÇO\",\"ABRIL\",\"MAIO\",\"JUNHO\",\"JULHO\",\"AGOSTO\",\"SETEMBRO\",\"OUTUBRO\",\"NOVEMBRO\",\"DEZEMBRO\")","v":"MARÇO"},{"$f":"YEAR(tbldados[[#This Row],[DATA]])","v":2022}]
[378,"PGTO","01 DE 01","GOLD","FEVEREIRO","RECARGAPAY","GOLD","CREDITO A VISTA",2.9899999999999999E-2,44611,44643,36.29,{"$f":"tbldados[[#This Row],[VALOR PAGO]]+(tbldados[[#This Row],[VALOR PAGO]]*tbldados[[#This Row],[TAXA]])","v":37.375070999999998},{"$f":"tbldados[[#This Row],[TOTAL BRUTO]]-tbldados[[#This Row],[VALOR PAGO]]","v":1.0850709999999992},{"$f":"CHOOSE(MONTH(tbldados[[#This Row],[DATA]]),\"JANEIRO\",\"FEVEREIRO\",\"MARÇO\",\"ABRIL\",\"MAIO\",\"JUNHO\",\"JULHO\",\"AGOSTO\",\"SETEMBRO\",\"OUTUBRO\",\"NOVEMBRO\",\"DEZEMBRO\")","v":"MARÇO"},{"$f":"YEAR(tbldados[[#This Row],[DATA]])","v":2022}]
[379,"GASTOS","01 DE 01","PGTOGOLD","JUNIOR","RECARGAPAY","GOLD","CREDITO A VISTA",2.9899999999999999E-2,44611,44643,36.29,{"$f":"tbldados[[#This Row],[VALOR PAGO]]+(tbldados[[#This Row],[VALOR PAGO]]*tbldados[[#This Row],[TAXA]])","v":37.375070999999998},{"$f":"tbldados[[#This Row],[TOTAL BRUTO]]-tbldados[[#This Row],[VALOR PAGO]]","v":1.0850709999999992},{"$f":"CHOOSE(MONTH(tbldados[[#This Row],[DATA]]),\"JANEIRO\",\"FEVEREIRO\",\"MARÇO\",\"ABRIL\",\"MAIO\",\"JUNHO\",\"JULHO\",\"AGOSTO\",\"SETEMBRO\",\"OUTUBRO\",\"NOVEMBRO\",\"DEZEMBRO\")","v":"MARÇO"},{"$f":"YEAR(tbldados[[#This Row],[DATA]])","v":2022}]
[380,"GASTOS","01 DE 06","RELOGIO","JUNIOR","GERAL","C6","CREDITO PARCELADO",{"$f":"VLOOKUP(tbldados[[#This Row],[APP]],tblbandeira[],3,0)","v":0},44614,44652,119.9,{"$f":"tbldados[[#This Row],[VALOR PAGO]]+(tbldados[[#This Row],[VALOR PAGO]]*tbldados[[#This Row],[TAXA]])","v":119.9},{"$f":"tbldados[[#This Row],[TOTAL BRUTO]]-tbldados[[#This Row],[VALOR PAGO]]","v":0},{"$f":"CHOOSE(MONTH(tbldados[[#This Row],[DATA]]),\"JANEIRO\",\"FEVEREIRO\",\"MARÇO\",\"ABRIL\",\"MAIO\",\"JUNHO\",\"JULHO\",\"AGOSTO\",\"SETEMBRO\",\"OUTUBRO\",\"NOVEMBRO\",\"DEZEMBRO\")","v":"ABRIL"},{"$f":"YEAR(tbldados[[#This Row],[DATA]])","v":2022}]
[381,"GASTOS","01 DE 01","FARMÁCIA","JUNIOR","GERAL","C6","CREDITO A VISTA",{"$f":"VLOOKUP(tbldados[[#This Row],[APP]],tblbandeira[],3,0)","v":0},44613,44652,28,{"$f":"tbldados[[#This Row],[VALOR PAGO]]+(tbldados[[#This Row],[VALOR PAGO]]*tbldados[[#This Row],[TAXA]])","v":28},{"$f":"tbldados[[#This Row],[TOTAL BRUTO]]-tbldados[[#This Row],[VALOR PAGO]]","v":0},{"$f":"CHOOSE(MONTH(tbldados[[#This Row],[DATA]]),\"JANEIRO\",\"FEVEREIRO\",\"MARÇO\",\"ABRIL\",\"MAIO\",\"JUNHO\",\"JULHO\",\"AGOSTO\",\"SETEMBRO\",\"OUTUBRO\",\"NOVEMBRO\",\"DEZEMBRO\")","v":"ABRIL"},{"$f":"YEAR(tbldados[[#This Row],[DATA]])","v":2022}]
[382,"GASTOS","01 DE 01","SUPERMERCADO","JUNIOR","GERAL","C6","CREDITO A VISTA",{"$f":"VLOOKUP(tbldados[[#This Row],[APP]],tblbandeira[],3,0)","v":0},44612,44652,34,{"$f":"tbldados[[#This Row],[VALOR PAGO]]+(tbldados[[#This Row],[VALOR PAGO]]*tbldados[[#This Row],[TAXA]])","v":34},{"$f":"tbldados[[#This Row],[TOTAL BRUTO]]-tbldados[[#This Row],[VALOR PAGO]]","v":0},{"$f":"CHOOSE(MONTH(tbldados[[#This Row],[DATA]]),\"JANEIRO\",\"FEVEREIRO\",\"MARÇO\",\"ABRIL\",\"MAIO\",\"JUNHO\",\"JULHO\",\"AGOSTO\",\"SETEMBRO\",\"OUTUBRO\",\"NOVEMBRO\",\"DEZEMBRO\")","v":"ABRIL"},{"$f":"YEAR(tbldados[[#This Row],[DATA]])","v":2022}]
[383,"PGTO","01 DE 01","LATAM","FEVEREIRO","RECARGAPAY","GOLD","CREDITO A VISTA",2.9899999999999999E-2,44613,44643,1177.42,{"$f":"tbldados[[#This Row],[VALOR PAGO]]+(tbldados[[#This Row],[VALOR PAGO]]*tbldados[[#This Row],[TAXA]])","v":1212.6248580000001},{"$f":"tbldados[[#This Row],[TOTAL BRUTO]]-tbldados[[#This Row],[VALOR PAGO]]","v":35.204858000000058},{"$f":"CHOOSE(MONTH(tbldados[[#This Row],[DATA]]),\"JANEIRO\",\"FEVEREIRO\",\"MARÇO\",\"ABRIL\",\"MAIO\",\"JUNHO\",\"JULHO\",\"AGOSTO\",\"SETEMBRO\",\"OUTUBRO\",\"NOVEMBRO\",\"DEZEMBRO\")","v":"MARÇO"},{"$f":"YEAR(tbldados[[#This Row],[DATA]])","v":2022}]
[384,"GASTOS","01 DE 01","PGTOLATAM","JUNIOR","RECARGAPAY","GOLD","CREDITO A VISTA",2.9899999999999999E-2,44613,44643,1177.42,{"$f":"tbldados[[#This Row],[VALOR PAGO]]+(tbldados[[#This Row],[VALOR PAGO]]*tbldados[[#This Row],[TAXA]])","v":1212.6248580000001},{"$f":"tbldados[[#This Row],[TOTAL BRUTO]]-tbldados[[#This Row],[VALOR PAGO]]","v":35.204858000000058},{"$f":"CHOOSE(MONTH(tbldados[[#This Row],[DATA]]),\"JANEIRO\",\"FEVEREIRO\",\"MARÇO\",\"ABRIL\",\"MAIO\",\"JUNHO\",\"JULHO\",\"AGOSTO\",\"SETEMBRO\",\"OUTUBRO\",\"NOVEMBRO\",\"DEZEMBRO\")","v":"MARÇO"},{"$f":"YEAR(tbldados[[#This Row],[DATA]])","v":2022}]
[385,"PGTO","01 DE 01","LATAM","FEVEREIRO","RECARGAPAY","LATAM","CREDITO A VISTA",{"$f":"VLOOKUP(tbldados[[#This Row],[APP]],tblbandeira[],3,0)","v":3.49E-2},44615,44645,1143.24,{"$f":"tbldados[[#This Row],[VALOR PAGO]]+(tbldados[[#This Row],[VALOR PAGO]]*tbldados[[#This Row],[TAXA]])","v":1183.1390759999999},{"$f":"tbldados[[#This Row],[TOTAL BRUTO]]-tbldados[[#This Row],[VALOR PAGO]]","v":39.899075999999923},{"$f":"CHOOSE(MONTH(tbldados[[#This Row],[DATA]]),\"JANEIRO\",\"FEVEREIRO\",\"MARÇO\",\"ABRIL\",\"MAIO\",\"JUNHO\",\"JULHO\",\"AGOSTO\",\"SETEMBRO\",\"OUTUBRO\",\"NOVEMBRO\",\"DEZEMBRO\")","v":"MARÇO"},{"$f":"YEAR(tbldados[[#This Row],[DATA]])","v":2022}]
[386,"GASTOS","01 DE 01","PGTOLATAM","JUNIOR","RECARGAPAY","LATAM","CREDITO A VISTA",{"$f":"VLOOKUP(tbldados[[#This Row],[APP]],tblbandeira[],3,0)","v":3.49E-2},44615,44645,1143.24,{"$f":"tbldados[[#This Row],[VALOR PAGO]]+(tbldados[[#This Row],[VALOR PAGO]]*tbldados[[#This Row],[TAXA]])","v":1183.1390759999999},{"$f":"tbldados[[#This Row],[TOTAL BRUTO]]-tbldados[[#This Row],[VALOR PAGO]]","v":39.899075999999923},{"$f":"CHOOSE(MONTH(tbldados[[#This Row],[DATA]]),\"JANEIRO\",\"FEVEREIRO\",\"MARÇO\",\"ABRIL\",\"MAIO\",\"JUNHO\",\"JULHO\",\"AGOSTO\",\"SETEMBRO\",\"OUTUBRO\",\"NOVEMBRO\",\"DEZEMBRO\")","v":"MARÇO"},{"$f":"YEAR(tbldados[[#This Row],[DATA]])","v":2022}]
[387,"PGTO","01 DE 01","LATAM","FEVEREIRO","CONTA","DÉBITO","DINHEIRO",{"$f":"VLOOKUP(tbldados[[#This Row],[APP]],tblbandeira[],3,0)","v":0},44615,44615,16.989999999999998,{"$f":"tbldados[[#This Row],[VALOR PAGO]]+(tbldados[[#This Row],[VALOR PAGO]]*tbldados[[#This Row],[TAXA]])","v":16.989999999999998},{"$f":"tbldados[[#This Row],[TOTAL BRUTO]]-tbldados[[#This Row],[VALOR PAGO]]","v":0},{"$f":"CHOOSE(MONTH(tbldados[[#This Row],[DATA]]),\"JANEIRO\",\"FEVEREIRO\",\"MARÇO\",\"ABRIL\",\"MAIO\",\"JUNHO\",\"JULHO\",\"AGOSTO\",\"SETEMBRO\",\"OUTUBRO\",\"NOVEMBRO\",\"DEZEMBRO\")","v":"FEVEREIRO"},{"$f":"YEAR(tbldados[[#This Row],[DATA]])","v":2022}]
[388,"PGTO","01 DE 01","LATAM","FEVEREIRO","RECARGAPAY","LATAM","CREDITO A VISTA",{"$f":"VLOOKUP(tbldados[[#This Row],[APP]],tblbandeira[],3,0)","v":3.49E-2},44616,44645,1125.57,{"$f":"tbldados[[#This Row],[VALOR PAGO]]+(tbldados[[#This Row],[VALOR PAGO]]*tbldados[[#This Row],[TAXA]])","v":1164.8523929999999},{"$f":"tbldados[[#This Row],[TOTAL BRUTO]]-tbldados[[#This Row],[VALOR PAGO]]","v":39.282392999999956},{"$f":"CHOOSE(MONTH(tbldados[[#This Row],[DATA]]),\"JANEIRO\",\"FEVEREIRO\",\"MARÇO\",\"ABRIL\",\"MAIO\",\"JUNHO\",\"JULHO\",\"AGOSTO\",\"SETEMBRO\",\"OUTUBRO\",\"NOVEMBRO\",\"DEZEMBRO\")","v":"MARÇO"},{"$f":"YEAR(tbldados[[#This Row],[DATA]])","v":2022}]
[389,"GASTOS","01 DE 01","PGTOLATAM","JUNIOR","RECARGAPAY","LATAM","CREDITO A VISTA",{"$f":"VLOOKUP(tbldados[[#This Row],[APP]],tblbandeira[],3,0)","v":3.49E-2},44616,44645,1126.57,{"$f":"tbldados[[#This Row],[VALOR PAGO]]+(tbldados[[#This Row],[VALOR PAGO]]*tbldados[[#This Row],[TAXA]])","v":1165.887293},{"$f":"tbldados[[#This Row],[TOTAL BRUTO]]-tbldados[[#This Row],[VALOR PAGO]]","v":39.317293000000063},{"$f":"CHOOSE(MONTH(tbldados[[#This Row],[DATA]]),\"JANEIRO\",\"FEVEREIRO\",\"MARÇO\",\"ABRIL\",\"MAIO\",\"JUNHO\",\"JULHO\",\"AGOSTO\",\"SETEMBRO\",\"OUTUBRO\",\"NOVEMBRO\",\"DEZEMBRO\")","v":"MARÇO"},{"$f":"YEAR(tbldados[[#This Row],[DATA]])","v":2022}]
[390,"PGTO","01 DE 01","LATAM","FEVEREIRO","RECARGAPAY","TRIGMAE","CREDITO A VISTA",{"$f":"VLOOKUP(tbldados[[#This Row],[APP]],tblbandeira[],3,0)","v":3.49E-2},44616,44640,336.76,{"$f":"tbldados[[#This Row],[VALOR PAGO]]+(tbldados[[#This Row],[VALOR PAGO]]*tbldados[[#This Row],[TAXA]])","v":348.512924},{"$f":"tbldados[[#This Row],[TOTAL BRUTO]]-tbldados[[#This Row],[VALOR PAGO]]","v":11.752924000000007},{"$f":"CHOOSE(MONTH(tbldados[[#This Row],[DATA]]),\"JANEIRO\",\"FEVEREIRO\",\"MARÇO\",\"ABRIL\",\"MAIO\",\"JUNHO\",\"JULHO\",\"AGOSTO\",\"SETEMBRO\",\"OUTUBRO\",\"NOVEMBRO\",\"DEZEMBRO\")","v":"MARÇO"},{"$f":"YEAR(tbldados[[#This Row],[DATA]])","v":2022}]
[391,"GASTOS","01 DE 01","PGTOLATAMJR","JUNIOR","RECARGAPAY","TRIGMAE","CREDITO A VISTA",{"$f":"VLOOKUP(tbldados[[#This Row],[APP]],tblbandeira[],3,0)","v":3.49E-2},44616,44640,336.76,{"$f":"tbldados[[#This Row],[VALOR PAGO]]+(tbldados[[#This Row],[VALOR PAGO]]*tbldados[[#This Row],[TAXA]])","v":348.512924},{"$f":"tbldados[[#This Row],[TOTAL BRUTO]]-tbldados[[#This Row],[VALOR PAGO]]","v":11.752924000000007},{"$f":"CHOOSE(MONTH(tbldados[[#This Row],[DATA]]),\"JANEIRO\",\"FEVEREIRO\",\"MARÇO\",\"ABRIL\",\"MAIO\",\"JUNHO\",\"JULHO\",\"AGOSTO\",\"SETEMBRO\",\"OUTUBRO\",\"NOVEMBRO\",\"DEZEMBRO\")","v":"MARÇO"},{"$f":"YEAR(tbldados[[#This Row],[DATA]])","v":2022}]
[392,"GASTOS","01 DE 03","CAPA","JUNIOR","GERAL","BMG","CREDITO PARCELADO",{"$f":"VLOOKUP(tbldados[[#This Row],[APP]],tblbandeira[],3,0)","v":0},44592,44617,40.090000000000003,{"$f":"tbldados[[#This Row],[VALOR PAGO]]+(tbldados[[#This Row],[VALOR PAGO]]*tbldados[[#This Row],[TAXA]])","v":40.090000000000003},{"$f":"tbldados[[#This Row],[TOTAL BRUTO]]-tbldados[[#This Row],[VALOR PAGO]]","v":0},{"$f":"CHOOSE(MONTH(tbldados[[#This Row],[DATA]]),\"JANEIRO\",\"FEVEREIRO\",\"MARÇO\",\"ABRIL\",\"MAIO\",\"JUNHO\",\"JULHO\",\"AGOSTO\",\"SETEMBRO\",\"OUTUBRO\",\"NOVEMBRO\",\"DEZEMBRO\")","v":"FEVEREIRO"},{"$f":"YEAR(tbldados[[#This Row],[DATA]])","v":2022}]
[393,"GASTOS","02 DE 03","CAPA","JUNIOR","GERAL","BMG","CREDITO PARCELADO",{"$f":"VLOOKUP(tbldados[[#This Row],[APP]],tblbandeira[],3,0)","v":0},44592,44645,40.090000000000003,{"$f":"tbldados[[#This Row],[VALOR PAGO]]+(tbldados[[#This Row],[VALOR PAGO]]*tbldados[[#This Row],[TAXA]])","v":40.090000000000003},{"$f":"tbldados[[#This Row],[TOTAL BRUTO]]-tbldados[[#This Row],[VALOR PAGO]]","v":0},{"$f":"CHOOSE(MONTH(tbldados[[#This Row],[DATA]]),\"JANEIRO\",\"FEVEREIRO\",\"MARÇO\",\"ABRIL\",\"MAIO\",\"JUNHO\",\"JULHO\",\"AGOSTO\",\"SETEMBRO\",\"OUTUBRO\",\"NOVEMBRO\",\"DEZEMBRO\")","v":"MARÇO"},{"$f":"YEAR(tbldados[[#This Row],[DATA]])","v":2022}]
[394,"GASTOS","03 DE 03","CAPA","JUNIOR","GERAL","BMG","CREDITO PARCELADO",{"$f":"VLOOKUP(tbldados[[#This Row],[APP]],tblbandeira[],3,0)","v":0},44592,44676,40.090000000000003,{"$f":"tbldados[[#This Row],[VALOR PAGO]]+(tbldados[[#This Row],[VALOR PAGO]]*tbldados[[#This Row],[TAXA]])","v":40.090000000000003},{"$f":"tbldados[[#This Row],[TOTAL BRUTO]]-tbldados[[#This Row],[VALOR PAGO]]","v":0},{"$f":"CHOOSE(MONTH(tbldados[[#This Row],[DATA]]),\"JANEIRO\",\"FEVEREIRO\",\"MARÇO\",\"ABRIL\",\"MAIO\",\"JUNHO\",\"JULHO\",\"AGOSTO\",\"SETEMBRO\",\"OUTUBRO\",\"NOVEMBRO\",\"DEZEMBRO\")","v":"ABRIL"},{"$f":"YEAR(tbldados[[#This Row],[DATA]])","v":2022}]
[395,"PGTO","01 DE 01","BMG","FEVEREIRO","RECARGAPAY","TRIGMAE","CREDITO A VISTA",{"$f":"VLOOKUP(tbldados[[#This Row],[APP]],tblbandeira[],3,0)","v":3.49E-2},44616,44640,209.28,{"$f":"tbldados[[#This Row],[VALOR PAGO]]+(tbldados[[#This Row],[VALOR PAGO]]*tbldados[[#This Row],[TAXA]])","v":216.58387200000001},{"$f":"tbldados[[#This Row],[TOTAL BRUTO]]-tbldados[[#This Row],[VALOR PAGO]]","v":7.3038720000000126},{"$f":"CHOOSE(MONTH(tbldados[[#This Row],[DATA]]),\"JANEIRO\",\"FEVEREIRO\",\"MARÇO\",\"ABRIL\",\"MAIO\",\"JUNHO\",\"JULHO\",\"AGOSTO\",\"SETEMBRO\",\"OUTUBRO\",\"NOVEMBRO\",\"DEZEMBRO\")","v":"MARÇO"},{"$f":"YEAR(tbldados[[#This Row],[DATA]])","v":2022}]
[396,"GASTOS","01 DE 01","PGTOBMG","JUNIOR","RECARGAPAY","TRIGMAE","CREDITO A VISTA",{"$f":"VLOOKUP(tbldados[[#This Row],[APP]],tblbandeira[],3,0)","v":3.49E-2},44616,44640,209.28,{"$f":"tbldados[[#This Row],[VALOR PAGO]]+(tbldados[[#This Row],[VALOR PAGO]]*tbldados[[#This Row],[TAXA]])","v":216.58387200000001},{"$f":"tbldados[[#This Row],[TOTAL BRUTO]]-tbldados[[#This Row],[VALOR PAGO]]","v":7.3038720000000126},{"$f":"CHOOSE(MONTH(tbldados[[#This Row],[DATA]]),\"JANEIRO\",\"FEVEREIRO\",\"MARÇO\",\"ABRIL\",\"MAIO\",\"JUNHO\",\"JULHO\",\"AGOSTO\",\"SETEMBRO\",\"OUTUBRO\",\"NOVEMBRO\",\"DEZEMBRO\")","v":"MARÇO"},{"$f":"YEAR(tbldados[[#This Row],[DATA]])","v":2022}]
[397,"PGTO","01 DE 01","MELIUZ","MARÇO","RECARGAPAY","LATAM","CREDITO A VISTA",{"$f":"VLOOKUP(tbldados[[#This Row],[APP]],tblbandeira[],3,0)","v":3.49E-2},44620,44645,1419.88,{"$f":"tbldados[[#This Row],[VALOR PAGO]]+(tbldados[[#This Row],[VALOR PAGO]]*tbldados[[#This Row],[TAXA]])","v":1469.4338120000002},{"$f":"tbldados[[#This Row],[TOTAL BRUTO]]-tbldados[[#This Row],[VALOR PAGO]]","v":49.553812000000107},{"$f":"CHOOSE(MONTH(tbldados[[#This Row],[DATA]]),\"JANEIRO\",\"FEVEREIRO\",\"MARÇO\",\"ABRIL\",\"MAIO\",\"JUNHO\",\"JULHO\",\"AGOSTO\",\"SETEMBRO\",\"OUTUBRO\",\"NOVEMBRO\",\"DEZEMBRO\")","v":"MARÇO"},{"$f":"YEAR(tbldados[[#This Row],[DATA]])","v":2022}]
[398,"GASTOS","01 DE 01","PGTOMELIUZ","JUNIOR","RECARGAPAY","LATAM","CREDITO A VISTA",{"$f":"VLOOKUP(tbldados[[#This Row],[APP]],tblbandeira[],3,0)","v":3.49E-2},44620,44645,1419.88,{"$f":"tbldados[[#This Row],[VALOR PAGO]]+(tbldados[[#This Row],[VALOR PAGO]]*tbldados[[#This Row],[TAXA]])","v":1469.4338120000002},{"$f":"tbldados[[#This Row],[TOTAL BRUTO]]-tbldados[[#This Row],[VALOR PAGO]]","v":49.553812000000107},{"$f":"CHOOSE(MONTH(tbldados[[#This Row],[DATA]]),\"JANEIRO\",\"FEVEREIRO\",\"MARÇO\",\"ABRIL\",\"MAIO\",\"JUNHO\",\"JULHO\",\"AGOSTO\",\"SETEMBRO\",\"OUTUBRO\",\"NOVEMBRO\",\"DEZEMBRO\")","v":"MARÇO"},{"$f":"YEAR(tbldados[[#This Row],[DATA]])","v":2022}]
[399,"PGTO","01 DE 01","MELIUZ","MARÇO","RECARGAPAY","MELIUZ","CREDITO A VISTA",{"$f":"VLOOKUP(tbldados[[#This Row],[APP]],tblbandeira[],3,0)","v":3.49E-2},44620,44652,449.66,{"$f":"tbldados[[#This Row],[VALOR PAGO]]+(tbldados[[#This Row],[VALOR PAGO]]*tbldados[[#This Row],[TAXA]])","v":465.35313400000001},{"$f":"tbldados[[#This Row],[TOTAL BRUTO]]-tbldados[[#This Row],[VALOR PAGO]]","v":15.693133999999986},{"$f":"CHOOSE(MONTH(tbldados[[#This Row],[DATA]]),\"JANEIRO\",\"FEVEREIRO\",\"MARÇO\",\"ABRIL\",\"MAIO\",\"JUNHO\",\"JULHO\",\"AGOSTO\",\"SETEMBRO\",\"OUTUBRO\",\"NOVEMBRO\",\"DEZEMBRO\")","v":"ABRIL"},{"$f":"YEAR(tbldados[[#This Row],[DATA]])","v":2022}]
[400,"GASTOS","01 DE 01","PGTOMELIUZ","JUNIOR","RECARGAPAY","MELIUZ","CREDITO A VISTA",2.9899999999999999E-2,44620,44652,449.63,{"$f":"tbldados[[#This Row],[VALOR PAGO]]+(tbldados[[#This Row],[VALOR PAGO]]*tbldados[[#This Row],[TAXA]])","v":463.073937},{"$f":"tbldados[[#This Row],[TOTAL BRUTO]]-tbldados[[#This Row],[VALOR PAGO]]","v":13.443937000000005},{"$f":"CHOOSE(MONTH(tbldados[[#This Row],[DATA]]),\"JANEIRO\",\"FEVEREIRO\",\"MARÇO\",\"ABRIL\",\"MAIO\",\"JUNHO\",\"JULHO\",\"AGOSTO\",\"SETEMBRO\",\"OUTUBRO\",\"NOVEMBRO\",\"DEZEMBRO\")","v":"ABRIL"},{"$f":"YEAR(tbldados[[#This Row],[DATA]])","v":2022}]
[401,"PGTO","01 DE 01","C6","MARÇO","RECARGAPAY","MELIUZ","CREDITO A VISTA",{"$f":"VLOOKUP(tbldados[[#This Row],[APP]],tblbandeira[],3,0)","v":3.49E-2},44621,44652,1330.08,{"$f":"tbldados[[#This Row],[VALOR PAGO]]+(tbldados[[#This Row],[VALOR PAGO]]*tbldados[[#This Row],[TAXA]])","v":1376.4997919999998},{"$f":"tbldados[[#This Row],[TOTAL BRUTO]]-tbldados[[#This Row],[VALOR PAGO]]","v":46.419791999999916},{"$f":"CHOOSE(MONTH(tbldados[[#This Row],[DATA]]),\"JANEIRO\",\"FEVEREIRO\",\"MARÇO\",\"ABRIL\",\"MAIO\",\"JUNHO\",\"JULHO\",\"AGOSTO\",\"SETEMBRO\",\"OUTUBRO\",\"NOVEMBRO\",\"DEZEMBRO\")","v":"ABRIL"},{"$f":"YEAR(tbldados[[#This Row],[DATA]])","v":2022}]
[402,"GASTOS","01 DE 10","CELULAR","JUNIOR","GERAL","C6","CREDITO PARCELADO",{"$f":"VLOOKUP(tbldados[[#This Row],[APP]],tblbandeira[],3,0)","v":0},44585,44621,99.9,{"$f":"tbldados[[#This Row],[VALOR PAGO]]+(tbldados[[#This Row],[VALOR PAGO]]*tbldados[[#This Row],[TAXA]])","v":99.9},{"$f":"tbldados[[#This Row],[TOTAL BRUTO]]-tbldados[[#This Row],[VALOR PAGO]]","v":0},{"$f":"CHOOSE(MONTH(tbldados[[#This Row],[DATA]]),\"JANEIRO\",\"FEVEREIRO\",\"MARÇO\",\"ABRIL\",\"MAIO\",\"JUNHO\",\"JULHO\",\"AGOSTO\",\"SETEMBRO\",\"OUTUBRO\",\"NOVEMBRO\",\"DEZEMBRO\")","v":"MARÇO"},{"$f":"YEAR(tbldados[[#This Row],[DATA]])","v":2022}]
[403,"GASTOS","02 DE 10","CELULAR","JUNIOR","GERAL","C6","CREDITO PARCELADO",{"$f":"VLOOKUP(tbldados[[#This Row],[APP]],tblbandeira[],3,0)","v":0},44585,44652,99.9,{"$f":"tbldados[[#This Row],[VALOR PAGO]]+(tbldados[[#This Row],[VALOR PAGO]]*tbldados[[#This Row],[TAXA]])","v":99.9},{"$f":"tbldados[[#This Row],[TOTAL BRUTO]]-tbldados[[#This Row],[VALOR PAGO]]","v":0},{"$f":"CHOOSE(MONTH(tbldados[[#This Row],[DATA]]),\"JANEIRO\",\"FEVEREIRO\",\"MARÇO\",\"ABRIL\",\"MAIO\",\"JUNHO\",\"JULHO\",\"AGOSTO\",\"SETEMBRO\",\"OUTUBRO\",\"NOVEMBRO\",\"DEZEMBRO\")","v":"ABRIL"},{"$f":"YEAR(tbldados[[#This Row],[DATA]])","v":2022}]
[404,"GASTOS","03 DE 10","CELULAR","JUNIOR","GERAL","C6","CREDITO PARCELADO",{"$f":"VLOOKUP(tbldados[[#This Row],[APP]],tblbandeira[],3,0)","v":0},44585,44682,99.9,{"$f":"tbldados[[#This Row],[VALOR PAGO]]+(tbldados[[#This Row],[VALOR PAGO]]*tbldados[[#This Row],[TAXA]])","v":99.9},{"$f":"tbldados[[#This Row],[TOTAL BRUTO]]-tbldados[[#This Row],[VALOR PAGO]]","v":0},{"$f":"CHOOSE(MONTH(tbldados[[#This Row],[DATA]]),\"JANEIRO\",\"FEVEREIRO\",\"MARÇO\",\"ABRIL\",\"MAIO\",\"JUNHO\",\"JULHO\",\"AGOSTO\",\"SETEMBRO\",\"OUTUBRO\",\"NOVEMBRO\",\"DEZEMBRO\")","v":"MAIO"},{"$f":"YEAR(tbldados[[#This Row],[DATA]])","v":2022}]
[405,"GASTOS","04 DE 10","CELULAR","JUNIOR","GERAL","C6","CREDITO PARCELADO",{"$f":"VLOOKUP(tbldados[[#This Row],[APP]],tblbandeira[],3,0)","v":0},44585,44713,99.9,{"$f":"tbldados[[#This Row],[VALOR PAGO]]+(tbldados[[#This Row],[VALOR PAGO]]*tbldados[[#This Row],[TAXA]])","v":99.9},{"$f":"tbldados[[#This Row],[TOTAL BRUTO]]-tbldados[[#This Row],[VALOR PAGO]]","v":0},{"$f":"CHOOSE(MONTH(tbldados[[#This Row],[DATA]]),\"JANEIRO\",\"FEVEREIRO\",\"MARÇO\",\"ABRIL\",\"MAIO\",\"JUNHO\",\"JULHO\",\"AGOSTO\",\"SETEMBRO\",\"OUTUBRO\",\"NOVEMBRO\",\"DEZEMBRO\")","v":"JUNHO"},{"$f":"YEAR(tbldados[[#This Row],[DATA]])","v":2022}]
[406,"GASTOS","05 DE 10","CELULAR","JUNIOR","GERAL","C6","CREDITO PARCELADO",{"$f":"VLOOKUP(tbldados[[#This Row],[APP]],tblbandeira[],3,0)","v":0},44585,44743,99.9,{"$f":"tbldados[[#This Row],[VALOR PAGO]]+(tbldados[[#This Row],[VALOR PAGO]]*tbldados[[#This Row],[TAXA]])","v":99.9},{"$f":"tbldados[[#This Row],[TOTAL BRUTO]]-tbldados[[#This Row],[VALOR PAGO]]","v":0},{"$f":"CHOOSE(MONTH(tbldados[[#This Row],[DATA]]),\"JANEIRO\",\"FEVEREIRO\",\"MARÇO\",\"ABRIL\",\"MAIO\",\"JUNHO\",\"JULHO\",\"AGOSTO\",\"SETEMBRO\",\"OUTUBRO\",\"NOVEMBRO\",\"DEZEMBRO\")","v":"JULHO"},{"$f":"YEAR(tbldados[[#This Row],[DATA]])","v":2022}]
[407,"GASTOS","06 DE 10","CELULAR","JUNIOR","GERAL","C6","CREDITO PARCELADO",{"$f":"VLOOKUP(tbldados[[#This Row],[APP]],tblbandeira[],3,0)","v":0},44585,44774,99.9,{"$f":"tbldados[[#This Row],[VALOR PAGO]]+(tbldados[[#This Row],[VALOR PAGO]]*tbldados[[#This Row],[TAXA]])","v":99.9},{"$f":"tbldados[[#This Row],[TOTAL BRUTO]]-tbldados[[#This Row],[VALOR PAGO]]","v":0},{"$f":"CHOOSE(MONTH(tbldados[[#This Row],[DATA]]),\"JANEIRO\",\"FEVEREIRO\",\"MARÇO\",\"ABRIL\",\"MAIO\",\"JUNHO\",\"JULHO\",\"AGOSTO\",\"SETEMBRO\",\"OUTUBRO\",\"NOVEMBRO\",\"DEZEMBRO\")","v":"AGOSTO"},{"$f":"YEAR(tbldados[[#This Row],[DATA]])","v":2022}]
[408,"GASTOS","07 DE 10","CELULAR","JUNIOR","GERAL","C6","CREDITO PARCELADO",{"$f":"VLOOKUP(tbldados[[#This Row],[APP]],tblbandeira[],3,0)","v":0},44585,44805,99.9,{"$f":"tbldados[[#This Row],[VALOR PAGO]]+(tbldados[[#This Row],[VALOR PAGO]]*tbldados[[#This Row],[TAXA]])","v":99.9},{"$f":"tbldados[[#This Row],[TOTAL BRUTO]]-tbldados[[#This Row],[VALOR PAGO]]","v":0},{"$f":"CHOOSE(MONTH(tbldados[[#This Row],[DATA]]),\"JANEIRO\",\"FEVEREIRO\",\"MARÇO\",\"ABRIL\",\"MAIO\",\"JUNHO\",\"JULHO\",\"AGOSTO\",\"SETEMBRO\",\"OUTUBRO\",\"NOVEMBRO\",\"DEZEMBRO\")","v":"SETEMBRO"},{"$f":"YEAR(tbldados[[#This Row],[DATA]])","v":2022}]
[409,"GASTOS","08 DE 10","CELULAR","JUNIOR","GERAL","C6","CREDITO PARCELADO",{"$f":"VLOOKUP(tbldados[[#This Row],[APP]],tblbandeira[],3,0)","v":0},44585,44835,99.9,{"$f":"tbldados[[#This Row],[VALOR PAGO]]+(tbldados[[#This Row],[VALOR PAGO]]*tbldados[[#This Row],[TAXA]])","v":99.9},{"$f":"tbldados[[#This Row],[TOTAL BRUTO]]-tbldados[[#This Row],[VALOR PAGO]]","v":0},{"$f":"CHOOSE(MONTH(tbldados[[#This Row],[DATA]]),\"JANEIRO\",\"FEVEREIRO\",\"MARÇO\",\"ABRIL\",\"MAIO\",\"JUNHO\",\"JULHO\",\"AGOSTO\",\"SETEMBRO\",\"OUTUBRO\",\"NOVEMBRO\",\"DEZEMBRO\")","v":"OUTUBRO"},{"$f":"YEAR(tbldados[[#This Row],[DATA]])","v":2022}]
[410,"GASTOS","09 DE 10","CELULAR","JUNIOR","GERAL","C6","CREDITO PARCELADO",{"$f":"VLOOKUP(tbldados[[#This Row],[APP]],tblbandeira[],3,0)","v":0},44585,44866,99.9,{"$f":"tbldados[[#This Row],[VALOR PAGO]]+(tbldados[[#This Row],[VALOR PAGO]]*tbldados[[#This Row],[TAXA]])","v":99.9},{"$f":"tbldados[[#This Row],[TOTAL BRUTO]]-tbldados[[#This Row],[VALOR PAGO]]","v":0},{"$f":"CHOOSE(MONTH(tbldados[[#This Row],[DATA]]),\"JANEIRO\",\"FEVEREIRO\",\"MARÇO\",\"ABRIL\",\"MAIO\",\"JUNHO\",\"JULHO\",\"AGOSTO\",\"SETEMBRO\",\"OUTUBRO\",\"NOVEMBRO\",\"DEZEMBRO\")","v":"NOVEMBRO"},{"$f":"YEAR(tbldados[[#This Row],[DATA]])","v":2022}]
[411,"GASTOS","10 DE 10","CELULAR","JUNIOR","GERAL","C6","CREDITO PARCELADO",{"$f":"VLOOKUP(tbldados[[#This Row],[APP]],tblbandeira[],3,0)","v":0},44585,44896,99.9,{"$f":"tbldados[[#This Row],[VALOR PAGO]]+(tbldados[[#This Row],[VALOR PAGO]]*tbldados[[#This Row],[TAXA]])","v":99.9},{"$f":"tbldados[[#This Row],[TOTAL BRUTO]]-tbldados[[#This Row],[VALOR PAGO]]","v":0},{"$f":"CHOOSE(MONTH(tbldados[[#This Row],[DATA]]),\"JANEIRO\",\"FEVEREIRO\",\"MARÇO\",\"ABRIL\",\"MAIO\",\"JUNHO\",\"JULHO\",\"AGOSTO\",\"SETEMBRO\",\"OUTUBRO\",\"NOVEMBRO\",\"DEZEMBRO\")","v":"DEZEMBRO"},{"$f":"YEAR(tbldados[[#This Row],[DATA]])","v":2022}]
[412,"GASTOS","01 DE 01","NETFLIX","JUNIOR","GERAL","C6","CREDITO A VISTA",{"$f":"VLOOKUP(tbldados[[#This Row],[APP]],tblbandeira[],3,0)","v":0},44586,44621,55.9,{"$f":"tbldados[[#This Row],[VALOR PAGO]]+(tbldados[[#This Row],[VALOR PAGO]]*tbldados[[#This Row],[TAXA]])","v":55.9},{"$f":"tbldados[[#This Row],[TOTAL BRUTO]]-tbldados[[#This Row],[VALOR PAGO]]","v":0},{"$f":"CHOOSE(MONTH(tbldados[[#This Row],[DATA]]),\"JANEIRO\",\"FEVEREIRO\",\"MARÇO\",\"ABRIL\",\"MAIO\",\"JUNHO\",\"JULHO\",\"AGOSTO\",\"SETEMBRO\",\"OUTUBRO\",\"NOVEMBRO\",\"DEZEMBRO\")","v":"MARÇO"},{"$f":"YEAR(tbldados[[#This Row],[DATA]])","v":2022}]
[413,"GASTOS","01 DE 01","TIM","JUNIOR","GERAL","C6","CREDITO A VISTA",{"$f":"VLOOKUP(tbldados[[#This Row],[APP]],tblbandeira[],3,0)","v":0},44594,44621,15,{"$f":"tbldados[[#This Row],[VALOR PAGO]]+(tbldados[[#This Row],[VALOR PAGO]]*tbldados[[#This Row],[TAXA]])","v":15},{"$f":"tbldados[[#This Row],[TOTAL BRUTO]]-tbldados[[#This Row],[VALOR PAGO]]","v":0},{"$f":"CHOOSE(MONTH(tbldados[[#This Row],[DATA]]),\"JANEIRO\",\"FEVEREIRO\",\"MARÇO\",\"ABRIL\",\"MAIO\",\"JUNHO\",\"JULHO\",\"AGOSTO\",\"SETEMBRO\",\"OUTUBRO\",\"NOVEMBRO\",\"DEZEMBRO\")","v":"MARÇO"},{"$f":"YEAR(tbldados[[#This Row],[DATA]])","v":2022}]
[414,"GASTOS","01 DE 01","SUPERMERCADO","JUNIOR","GERAL","C6","CREDITO A VISTA",{"$f":"VLOOKUP(tbldados[[#This Row],[APP]],tblbandeira[],3,0)","v":0},44600,44621,39.61,{"$f":"tbldados[[#This Row],[VALOR PAGO]]+(tbldados[[#This Row],[VALOR PAGO]]*tbldados[[#This Row],[TAXA]])","v":39.61},{"$f":"tbldados[[#This Row],[TOTAL BRUTO]]-tbldados[[#This Row],[VALOR PAGO]]","v":0},{"$f":"CHOOSE(MONTH(tbldados[[#This Row],[DATA]]),\"JANEIRO\",\"FEVEREIRO\",\"MARÇO\",\"ABRIL\",\"MAIO\",\"JUNHO\",\"JULHO\",\"AGOSTO\",\"SETEMBRO\",\"OUTUBRO\",\"NOVEMBRO\",\"DEZEMBRO\")","v":"MARÇO"},{"$f":"YEAR(tbldados[[#This Row],[DATA]])","v":2022}]
[415,"GASTOS","01 DE 01","EXAME","JUNIOR","GERAL","C6","CREDITO A VISTA",{"$f":"VLOOKUP(tbldados[[#This Row],[APP]],tblbandeira[],3,0)","v":0},44602,44621,230,{"$f":"tbldados[[#This Row],[VALOR PAGO]]+(tbldados[[#This Row],[VALOR PAGO]]*tbldados[[#This Row],[TAXA]])","v":230},{"$f":"tbldados[[#This Row],[TOTAL BRUTO]]-tbldados[[#This Row],[VALOR PAGO]]","v":0},{"$f":"CHOOSE(MONTH(tbldados[[#This Row],[DATA]]),\"JANEIRO\",\"FEVEREIRO\",\"MARÇO\",\"ABRIL\",\"MAIO\",\"JUNHO\",\"JULHO\",\"AGOSTO\",\"SETEMBRO\",\"OUTUBRO\",\"NOVEMBRO\",\"DEZEMBRO\")","v":"MARÇO"},{"$f":"YEAR(tbldados[[#This Row],[DATA]])","v":2022}]
[416,"PGTO","01 DE 01","C6","MARÇO","CONTA","DÉBITO","DINHEIRO",{"$f":"VLOOKUP(tbldados[[#This Row],[APP]],tblbandeira[],3,0)","v":0},44621,44621,467.1,{"$f":"tbldados[[#This Row],[VALOR PAGO]]+(tbldados[[#This Row],[VALOR PAGO]]*tbldados[[#This Row],[TAXA]])","v":467.1},{"$f":"tbldados[[#This Row],[TOTAL BRUTO]]-tbldados[[#This Row],[VALOR PAGO]]","v":0},{"$f":"CHOOSE(MONTH(tbldados[[#This Row],[DATA]]),\"JANEIRO\",\"FEVEREIRO\",\"MARÇO\",\"ABRIL\",\"MAIO\",\"JUNHO\",\"JULHO\",\"AGOSTO\",\"SETEMBRO\",\"OUTUBRO\",\"NOVEMBRO\",\"DEZEMBRO\")","v":"MARÇO"},{"$f":"YEAR(tbldados[[#This Row],[DATA]])","v":2022}]
[417,"PGTO","01 DE 01","C6","MARÇO","CONTA","DÉBITO","DINHEIRO",{"$f":"VLOOKUP(tbldados[[#This Row],[APP]],tblbandeira[],3,0)","v":0},44621,44621,120.23,{"$f":"tbldados[[#This Row],[VALOR PAGO]]+(tbldados[[#This Row],[VALOR PAGO]]*tbldados[[#This Row],[TAXA]])","v":120.23},{"$f":"tbldados[[#This Row],[TOTAL BRUTO]]-tbldados[[#This Row],[VALOR PAGO]]","v":0},{"$f":"CHOOSE(MONTH(tbldados[[#This Row],[DATA]]),\"JANEIRO\",\"FEVEREIRO\",\"MARÇO\",\"ABRIL\",\"MAIO\",\"JUNHO\",\"JULHO\",\"AGOSTO\",\"SETEMBRO\",\"OUTUBRO\",\"NOVEMBRO\",\"DEZEMBRO\")","v":"MARÇO"},{"$f":"YEAR(tbldados[[#This Row],[DATA]])","v":2022}]
[418,"GASTOS","01 DE 02","ROUPAS","JUNIOR","GERAL","C6","CREDITO PARCELADO",{"$f":"VLOOKUP(tbldados[[#This Row],[APP]],tblbandeira[],3,0)","v":0},44622,44652,117.93,{"$f":"tbldados[[#This Row],[VALOR PAGO]]+(tbldados[[#This Row],[VALOR PAGO]]*tbldados[[#This Row],[TAXA]])","v":117.93},{"$f":"tbldados[[#This Row],[TOTAL BRUTO]]-tbldados[[#This Row],[VALOR PAGO]]","v":0},{"$f":"CHOOSE(MONTH(tbldados[[#This Row],[DATA]]),\"JANEIRO\",\"FEVEREIRO\",\"MARÇO\",\"ABRIL\",\"MAIO\",\"JUNHO\",\"JULHO\",\"AGOSTO\",\"SETEMBRO\",\"OUTUBRO\",\"NOVEMBRO\",\"DEZEMBRO\")","v":"ABRIL"},{"$f":"YEAR(tbldados[[#This Row],[DATA]])","v":2022}]
[419,"GASTOS","02 DE 02","ROUPAS","JUNIOR","GERAL","C6","CREDITO PARCELADO",{"$f":"VLOOKUP(tbldados[[#This Row],[APP]],tblbandeira[],3,0)","v":0},44622,44682,117.92,{"$f":"tbldados[[#This Row],[VALOR PAGO]]+(tbldados[[#This Row],[VALOR PAGO]]*tbldados[[#This Row],[TAXA]])","v":117.92},{"$f":"tbldados[[#This Row],[TOTAL BRUTO]]-tbldados[[#This Row],[VALOR PAGO]]","v":0},{"$f":"CHOOSE(MONTH(tbldados[[#This Row],[DATA]]),\"JANEIRO\",\"FEVEREIRO\",\"MARÇO\",\"ABRIL\",\"MAIO\",\"JUNHO\",\"JULHO\",\"AGOSTO\",\"SETEMBRO\",\"OUTUBRO\",\"NOVEMBRO\",\"DEZEMBRO\")","v":"MAIO"},{"$f":"YEAR(tbldados[[#This Row],[DATA]])","v":2022}]
[420,"GASTOS","01 DE 01","JANTA","JUNIOR","GERAL","C6","CREDITO A VISTA",{"$f":"VLOOKUP(tbldados[[#This Row],[APP]],tblbandeira[],3,0)","v":0},44622,44652,22,{"$f":"tbldados[[#This Row],[VALOR PAGO]]+(tbldados[[#This Row],[VALOR PAGO]]*tbldados[[#This Row],[TAXA]])","v":22},{"$f":"tbldados[[#This Row],[TOTAL BRUTO]]-tbldados[[#This Row],[VALOR PAGO]]","v":0},{"$f":"CHOOSE(MONTH(tbldados[[#This Row],[DATA]]),\"JANEIRO\",\"FEVEREIRO\",\"MARÇO\",\"ABRIL\",\"MAIO\",\"JUNHO\",\"JULHO\",\"AGOSTO\",\"SETEMBRO\",\"OUTUBRO\",\"NOVEMBRO\",\"DEZEMBRO\")","v":"ABRIL"},{"$f":"YEAR(tbldados[[#This Row],[DATA]])","v":2022}]
[421,"GASTOS","01 DE 01","ALMOÇO","JUNIOR","GERAL","NUBANK","CREDITO A VISTA",{"$f":"VLOOKUP(tbldados[[#This Row],[APP]],tblbandeira[],3,0)","v":0},44623,44633,22,{"$f":"tbldados[[#This Row],[VALOR PAGO]]+(tbldados[[#This Row],[VALOR PAGO]]*tbldados[[#This Row],[TAXA]])","v":22},{"$f":"tbldados[[#This Row],[TOTAL BRUTO]]-tbldados[[#This Row],[VALOR PAGO]]","v":0},{"$f":"CHOOSE(MONTH(tbldados[[#This Row],[DATA]]),\"JANEIRO\",\"FEVEREIRO\",\"MARÇO\",\"ABRIL\",\"MAIO\",\"JUNHO\",\"JULHO\",\"AGOSTO\",\"SETEMBRO\",\"OUTUBRO\",\"NOVEMBRO\",\"DEZEMBRO\")","v":"MARÇO"},{"$f":"YEAR(tbldados[[#This Row],[DATA]])","v":2022}]
[422,"GASTOS","01 DE 06","LIQUIDIFICARDOR","JUNIOR","GERAL","C6","CREDITO PARCELADO",{"$f":"VLOOKUP(tbldados[[#This Row],[APP]],tblbandeira[],3,0)","v":0},44609,44652,24,{"$f":"tbldados[[#This Row],[VALOR PAGO]]+(tbldados[[#This Row],[VALOR PAGO]]*tbldados[[#This Row],[TAXA]])","v":24},{"$f":"tbldados[[#This Row],[TOTAL BRUTO]]-tbldados[[#This Row],[VALOR PAGO]]","v":0},{"$f":"CHOOSE(MONTH(tbldados[[#This Row],[DATA]]),\"JANEIRO\",\"FEVEREIRO\",\"MARÇO\",\"ABRIL\",\"MAIO\",\"JUNHO\",\"JULHO\",\"AGOSTO\",\"SETEMBRO\",\"OUTUBRO\",\"NOVEMBRO\",\"DEZEMBRO\")","v":"ABRIL"},{"$f":"YEAR(tbldados[[#This Row],[DATA]])","v":2022}]
[423,"GASTOS","02 DE 06","LIQUIDIFICARDOR","JUNIOR","GERAL","C6","CREDITO PARCELADO",{"$f":"VLOOKUP(tbldados[[#This Row],[APP]],tblbandeira[],3,0)","v":0},44609,44682,24,{"$f":"tbldados[[#This Row],[VALOR PAGO]]+(tbldados[[#This Row],[VALOR PAGO]]*tbldados[[#This Row],[TAXA]])","v":24},{"$f":"tbldados[[#This Row],[TOTAL BRUTO]]-tbldados[[#This Row],[VALOR PAGO]]","v":0},{"$f":"CHOOSE(MONTH(tbldados[[#This Row],[DATA]]),\"JANEIRO\",\"FEVEREIRO\",\"MARÇO\",\"ABRIL\",\"MAIO\",\"JUNHO\",\"JULHO\",\"AGOSTO\",\"SETEMBRO\",\"OUTUBRO\",\"NOVEMBRO\",\"DEZEMBRO\")","v":"MAIO"},{"$f":"YEAR(tbldados[[#This Row],[DATA]])","v":2022}]
[424,"GASTOS","03 DE 06","LIQUIDIFICARDOR","JUNIOR","GERAL","C6","CREDITO PARCELADO",{"$f":"VLOOKUP(tbldados[[#This Row],[APP]],tblbandeira[],3,0)","v":0},44609,44713,23.98,{"$f":"tbldados[[#This Row],[VALOR PAGO]]+(tbldados[[#This Row],[VALOR PAGO]]*tbldados[[#This Row],[TAXA]])","v":23.98},{"$f":"tbldados[[#This Row],[TOTAL BRUTO]]-tbldados[[#This Row],[VALOR PAGO]]","v":0},{"$f":"CHOOSE(MONTH(tbldados[[#This Row],[DATA]]),\"JANEIRO\",\"FEVEREIRO\",\"MARÇO\",\"ABRIL\",\"MAIO\",\"JUNHO\",\"JULHO\",\"AGOSTO\",\"SETEMBRO\",\"OUTUBRO\",\"NOVEMBRO\",\"DEZEMBRO\")","v":"JUNHO"},{"$f":"YEAR(tbldados[[#This Row],[DATA]])","v":2022}]
[425,"GASTOS","04 DE 06","LIQUIDIFICARDOR","JUNIOR","GERAL","C6","CREDITO PARCELADO",{"$f":"VLOOKUP(tbldados[[#This Row],[APP]],tblbandeira[],3,0)","v":0},44609,44743,24,{"$f":"tbldados[[#This Row],[VALOR PAGO]]+(tbldados[[#This Row],[VALOR PAGO]]*tbldados[[#This Row],[TAXA]])","v":24},{"$f":"tbldados[[#This Row],[TOTAL BRUTO]]-tbldados[[#This Row],[VALOR PAGO]]","v":0},{"$f":"CHOOSE(MONTH(tbldados[[#This Row],[DATA]]),\"JANEIRO\",\"FEVEREIRO\",\"MARÇO\",\"ABRIL\",\"MAIO\",\"JUNHO\",\"JULHO\",\"AGOSTO\",\"SETEMBRO\",\"OUTUBRO\",\"NOVEMBRO\",\"DEZEMBRO\")","v":"JULHO"},{"$f":"YEAR(tbldados[[#This Row],[DATA]])","v":2022}]
[426,"GASTOS","05 DE 06","LIQUIDIFICARDOR","JUNIOR","GERAL","C6","CREDITO PARCELADO",{"$f":"VLOOKUP(tbldados[[#This Row],[APP]],tblbandeira[],3,0)","v":0},44609,44774,24,{"$f":"tbldados[[#This Row],[VALOR PAGO]]+(tbldados[[#This Row],[VALOR PAGO]]*tbldados[[#This Row],[TAXA]])","v":24},{"$f":"tbldados[[#This Row],[TOTAL BRUTO]]-tbldados[[#This Row],[VALOR PAGO]]","v":0},{"$f":"CHOOSE(MONTH(tbldados[[#This Row],[DATA]]),\"JANEIRO\",\"FEVEREIRO\",\"MARÇO\",\"ABRIL\",\"MAIO\",\"JUNHO\",\"JULHO\",\"AGOSTO\",\"SETEMBRO\",\"OUTUBRO\",\"NOVEMBRO\",\"DEZEMBRO\")","v":"AGOSTO"},{"$f":"YEAR(tbldados[[#This Row],[DATA]])","v":2022}]
[427,"GASTOS","06 DE 06","LIQUIDIFICARDOR","JUNIOR","GERAL","C6","CREDITO PARCELADO",{"$f":"VLOOKUP(tbldados[[#This Row],[APP]],tblbandeira[],3,0)","v":0},44609,44805,24,{"$f":"tbldados[[#This Row],[VALOR PAGO]]+(tbldados[[#This Row],[VALOR PAGO]]*tbldados[[#This Row],[TAXA]])","v":24},{"$f":"tbldados[[#This Row],[TOTAL BRUTO]]-tbldados[[#This Row],[VALOR PAGO]]","v":0},{"$f":"CHOOSE(MONTH(tbldados[[#This Row],[DATA]]),\"JANEIRO\",\"FEVEREIRO\",\"MARÇO\",\"ABRIL\",\"MAIO\",\"JUNHO\",\"JULHO\",\"AGOSTO\",\"SETEMBRO\",\"OUTUBRO\",\"NOVEMBRO\",\"DEZEMBRO\")","v":"SETEMBRO"},{"$f":"YEAR(tbldados[[#This Row],[DATA]])","v":2022}]
[428,"GASTOS","01 DE 01","PGTOZERO","JUNIOR","RECARGAPAY","C6","CREDITO A VISTA",{"$f":"VLOOKUP(tbldados[[#This Row],[APP]],tblbandeira[],3,0)","v":3.49E-2},44623,44652,1000,{"$f":"tbldados[[#This Row],[VALOR PAGO]]+(tbldados[[#This Row],[VALOR PAGO]]*tbldados[[#This Row],[TAXA]])","v":1034.9000000000001},{"$f":"tbldados[[#This Row],[TOTAL BRUTO]]-tbldados[[#This Row],[VALOR PAGO]]","v":34.900000000000091},{"$f":"CHOOSE(MONTH(tbldados[[#This Row],[DATA]]),\"JANEIRO\",\"FEVEREIRO\",\"MARÇO\",\"ABRIL\",\"MAIO\",\"JUNHO\",\"JULHO\",\"AGOSTO\",\"SETEMBRO\",\"OUTUBRO\",\"NOVEMBRO\",\"DEZEMBRO\")","v":"ABRIL"},{"$f":"YEAR(tbldados[[#This Row],[DATA]])","v":2022}]
[429,"PGTO","01 DE 01","ZERO","MARÇO","RECARGAPAY","C6","CREDITO A VISTA",{"$f":"VLOOKUP(tbldados[[#This Row],[APP]],tblbandeira[],3,0)","v":3.49E-2},44623,44652,1000,{"$f":"tbldados[[#This Row],[VALOR PAGO]]+(tbldados[[#This Row],[VALOR PAGO]]*tbldados[[#This Row],[TAXA]])","v":1034.9000000000001},{"$f":"tbldados[[#This Row],[TOTAL BRUTO]]-tbldados[[#This Row],[VALOR PAGO]]","v":34.900000000000091},{"$f":"CHOOSE(MONTH(tbldados[[#This Row],[DATA]]),\"JANEIRO\",\"FEVEREIRO\",\"MARÇO\",\"ABRIL\",\"MAIO\",\"JUNHO\",\"JULHO\",\"AGOSTO\",\"SETEMBRO\",\"OUTUBRO\",\"NOVEMBRO\",\"DEZEMBRO\")","v":"ABRIL"},{"$f":"YEAR(tbldados[[#This Row],[DATA]])","v":2022}]
[430,"PGTO","01 DE 01","ZERO","MARÇO","RECARGAPAY","ZERO","CREDITO A VISTA",{"$f":"VLOOKUP(tbldados[[#This Row],[APP]],tblbandeira[],3,0)","v":3.49E-2},44623,44654,598.99,{"$f":"tbldados[[#This Row],[VALOR PAGO]]+(tbldados[[#This Row],[VALOR PAGO]]*tbldados[[#This Row],[TAXA]])","v":619.89475100000004},{"$f":"tbldados[[#This Row],[TOTAL BRUTO]]-tbldados[[#This Row],[VALOR PAGO]]","v":20.904751000000033},{"$f":"CHOOSE(MONTH(tbldados[[#This Row],[DATA]]),\"JANEIRO\",\"FEVEREIRO\",\"MARÇO\",\"ABRIL\",\"MAIO\",\"JUNHO\",\"JULHO\",\"AGOSTO\",\"SETEMBRO\",\"OUTUBRO\",\"NOVEMBRO\",\"DEZEMBRO\")","v":"ABRIL"},{"$f":"YEAR(tbldados[[#This Row],[DATA]])","v":2022}]
[431,"GASTOS","01 DE 01","PGTOZERO","JUNIOR","RECARGAPAY","ZERO","CREDITO A VISTA",{"$f":"VLOOKUP(tbldados[[#This Row],[APP]],tblbandeira[],3,0)","v":3.49E-2},44623,44654,598.99,{"$f":"tbldados[[#This Row],[VALOR PAGO]]+(tbldados[[#This Row],[VALOR PAGO]]*tbldados[[#This Row],[TAXA]])","v":619.89475100000004},{"$f":"tbldados[[#This Row],[TOTAL BRUTO]]-tbldados[[#This Row],[VALOR PAGO]]","v":20.904751000000033},{"$f":"CHOOSE(MONTH(tbldados[[#This Row],[DATA]]),\"JANEIRO\",\"FEVEREIRO\",\"MARÇO\",\"ABRIL\",\"MAIO\",\"JUNHO\",\"JULHO\",\"AGOSTO\",\"SETEMBRO\",\"OUTUBRO\",\"NOVEMBRO\",\"DEZEMBRO\")","v":"ABRIL"},{"$f":"YEAR(tbldados[[#This Row],[DATA]])","v":2022}]
[432,"PGTO","01 DE 01","ZERO","MARÇO","CONTA","DÉBITO","DINHEIRO",{"$f":"VLOOKUP(tbldados[[#This Row],[APP]],tblbandeira[],3,0)","v":0},44623,44623,8.77,{"$f":"tbldados[[#This Row],[VALOR PAGO]]+(tbldados[[#This Row],[VALOR PAGO]]*tbldados[[#This Row],[TAXA]])","v":8.77},{"$f":"tbldados[[#This Row],[TOTAL BRUTO]]-tbldados[[#This Row],[VALOR PAGO]]","v":0},{"$f":"CHOOSE(MONTH(tbldados[[#This Row],[DATA]]),\"JANEIRO\",\"FEVEREIRO\",\"MARÇO\",\"ABRIL\",\"MAIO\",\"JUNHO\",\"JULHO\",\"AGOSTO\",\"SETEMBRO\",\"OUTUBRO\",\"NOVEMBRO\",\"DEZEMBRO\")","v":"MARÇO"},{"$f":"YEAR(tbldados[[#This Row],[DATA]])","v":2022}]
[433,"PGTO","01 DE 01","AZUL","MARÇO","GERAL","ZERO","CREDITO A VISTA",{"$f":"VLOOKUP(tbldados[[#This Row],[APP]],tblbandeira[],3,0)","v":0},44623,44654,980.11,{"$f":"tbldados[[#This Row],[VALOR PAGO]]+(tbldados[[#This Row],[VALOR PAGO]]*tbldados[[#This Row],[TAXA]])","v":980.11},{"$f":"tbldados[[#This Row],[TOTAL BRUTO]]-tbldados[[#This Row],[VALOR PAGO]]","v":0},{"$f":"CHOOSE(MONTH(tbldados[[#This Row],[DATA]]),\"JANEIRO\",\"FEVEREIRO\",\"MARÇO\",\"ABRIL\",\"MAIO\",\"JUNHO\",\"JULHO\",\"AGOSTO\",\"SETEMBRO\",\"OUTUBRO\",\"NOVEMBRO\",\"DEZEMBRO\")","v":"ABRIL"},{"$f":"YEAR(tbldados[[#This Row],[DATA]])","v":2022}]
[434,"GASTOS","01 DE 01","PAGAMENTOS","JUNIOR","GERAL","AZUL","CREDITO A VISTA",{"$f":"VLOOKUP(tbldados[[#This Row],[APP]],tblbandeira[],3,0)","v":0},44609,44626,1166.44,{"$f":"tbldados[[#This Row],[VALOR PAGO]]+(tbldados[[#This Row],[VALOR PAGO]]*tbldados[[#This Row],[TAXA]])","v":1166.44},{"$f":"tbldados[[#This Row],[TOTAL BRUTO]]-tbldados[[#This Row],[VALOR PAGO]]","v":0},{"$f":"CHOOSE(MONTH(tbldados[[#This Row],[DATA]]),\"JANEIRO\",\"FEVEREIRO\",\"MARÇO\",\"ABRIL\",\"MAIO\",\"JUNHO\",\"JULHO\",\"AGOSTO\",\"SETEMBRO\",\"OUTUBRO\",\"NOVEMBRO\",\"DEZEMBRO\")","v":"MARÇO"},{"$f":"YEAR(tbldados[[#This Row],[DATA]])","v":2022}]
[435,"PGTO","01 DE 01","AZUL","MARÇO","RECARGAPAY","AZUL","CREDITO A VISTA",{"$f":"VLOOKUP(tbldados[[#This Row],[APP]],tblbandeira[],3,0)","v":3.49E-2},44624,44657,964.59,{"$f":"tbldados[[#This Row],[VALOR PAGO]]+(tbldados[[#This Row],[VALOR PAGO]]*tbldados[[#This Row],[TAXA]])","v":998.25419099999999},{"$f":"tbldados[[#This Row],[TOTAL BRUTO]]-tbldados[[#This Row],[VALOR PAGO]]","v":33.66419099999996},{"$f":"CHOOSE(MONTH(tbldados[[#This Row],[DATA]]),\"JANEIRO\",\"FEVEREIRO\",\"MARÇO\",\"ABRIL\",\"MAIO\",\"JUNHO\",\"JULHO\",\"AGOSTO\",\"SETEMBRO\",\"OUTUBRO\",\"NOVEMBRO\",\"DEZEMBRO\")","v":"ABRIL"},{"$f":"YEAR(tbldados[[#This Row],[DATA]])","v":2022}]
[436,"GASTOS","01 DE 01","PGTOAZUL","JUNIOR","RECARGAPAY","AZUL","CREDITO A VISTA",{"$f":"VLOOKUP(tbldados[[#This Row],[APP]],tblbandeira[],3,0)","v":3.49E-2},44624,44657,954.59,{"$f":"tbldados[[#This Row],[VALOR PAGO]]+(tbldados[[#This Row],[VALOR PAGO]]*tbldados[[#This Row],[TAXA]])","v":987.90519100000006},{"$f":"tbldados[[#This Row],[TOTAL BRUTO]]-tbldados[[#This Row],[VALOR PAGO]]","v":33.315191000000027},{"$f":"CHOOSE(MONTH(tbldados[[#This Row],[DATA]]),\"JANEIRO\",\"FEVEREIRO\",\"MARÇO\",\"ABRIL\",\"MAIO\",\"JUNHO\",\"JULHO\",\"AGOSTO\",\"SETEMBRO\",\"OUTUBRO\",\"NOVEMBRO\",\"DEZEMBRO\")","v":"ABRIL"},{"$f":"YEAR(tbldados[[#This Row],[DATA]])","v":2022}]
[437,"PGTO","01 DE 01","AZUL","MARÇO","CONTA","DÉBITO","DINHEIRO",{"$f":"VLOOKUP(tbldados[[#This Row],[APP]],tblbandeira[],3,0)","v":0},44624,44624,204.55,{"$f":"tbldados[[#This Row],[VALOR PAGO]]+(tbldados[[#This Row],[VALOR PAGO]]*tbldados[[#This Row],[TAXA]])","v":204.55},{"$f":"tbldados[[#This Row],[TOTAL BRUTO]]-tbldados[[#This Row],[VALOR PAGO]]","v":0},{"$f":"CHOOSE(MONTH(tbldados[[#This Row],[DATA]]),\"JANEIRO\",\"FEVEREIRO\",\"MARÇO\",\"ABRIL\",\"MAIO\",\"JUNHO\",\"JULHO\",\"AGOSTO\",\"SETEMBRO\",\"OUTUBRO\",\"NOVEMBRO\",\"DEZEMBRO\")","v":"MARÇO"},{"$f":"YEAR(tbldados[[#This Row],[DATA]])","v":2022}]
[438,"PGTO","01 DE 01","NCARD","MARÇO","RECARGAPAY","AZUL","CREDITO A VISTA",{"$f":"VLOOKUP(tbldados[[#This Row],[APP]],tblbandeira[],3,0)","v":3.49E-2},44627,44657,1130.44,{"$f":"tbldados[[#This Row],[VALOR PAGO]]+(tbldados[[#This Row],[VALOR PAGO]]*tbldados[[#This Row],[TAXA]])","v":1169.8923560000001},{"$f":"tbldados[[#This Row],[TOTAL BRUTO]]-tbldados[[#This Row],[VALOR PAGO]]","v":39.452356000000009},{"$f":"CHOOSE(MONTH(tbldados[[#This Row],[DATA]]),\"JANEIRO\",\"FEVEREIRO\",\"MARÇO\",\"ABRIL\",\"MAIO\",\"JUNHO\",\"JULHO\",\"AGOSTO\",\"SETEMBRO\",\"OUTUBRO\",\"NOVEMBRO\",\"DEZEMBRO\")","v":"ABRIL"},{"$f":"YEAR(tbldados[[#This Row],[DATA]])","v":2022}]
[439,"GASTOS","01 DE 01","PGTONCARD","JUNIOR","RECARGAPAY","AZUL","CREDITO A VISTA",{"$f":"VLOOKUP(tbldados[[#This Row],[APP]],tblbandeira[],3,0)","v":3.49E-2},44627,44657,1130.44,{"$f":"tbldados[[#This Row],[VALOR PAGO]]+(tbldados[[#This Row],[VALOR PAGO]]*tbldados[[#This Row],[TAXA]])","v":1169.8923560000001},{"$f":"tbldados[[#This Row],[TOTAL BRUTO]]-tbldados[[#This Row],[VALOR PAGO]]","v":39.452356000000009},{"$f":"CHOOSE(MONTH(tbldados[[#This Row],[DATA]]),\"JANEIRO\",\"FEVEREIRO\",\"MARÇO\",\"ABRIL\",\"MAIO\",\"JUNHO\",\"JULHO\",\"AGOSTO\",\"SETEMBRO\",\"OUTUBRO\",\"NOVEMBRO\",\"DEZEMBRO\")","v":"ABRIL"},{"$f":"YEAR(tbldados[[#This Row],[DATA]])","v":2022}]
[440,"PGTO","01 DE 01","NCARD","MARÇO","RECARGAPAY","NCARD","CREDITO A VISTA",{"$f":"VLOOKUP(tbldados[[#This Row],[APP]],tblbandeira[],3,0)","v":3.49E-2},44627,44660,450,{"$f":"tbldados[[#This Row],[VALOR PAGO]]+(tbldados[[#This Row],[VALOR PAGO]]*tbldados[[#This Row],[TAXA]])","v":465.70499999999998},{"$f":"tbldados[[#This Row],[TOTAL BRUTO]]-tbldados[[#This Row],[VALOR PAGO]]","v":15.704999999999984},{"$f":"CHOOSE(MONTH(tbldados[[#This Row],[DATA]]),\"JANEIRO\",\"FEVEREIRO\",\"MARÇO\",\"ABRIL\",\"MAIO\",\"JUNHO\",\"JULHO\",\"AGOSTO\",\"SETEMBRO\",\"OUTUBRO\",\"NOVEMBRO\",\"DEZEMBRO\")","v":"ABRIL"},{"$f":"YEAR(tbldados[[#This Row],[DATA]])","v":2022}]
[441,"GASTOS","01 DE 01","PGTONCARD","JUNIOR","RECARGAPAY","NCARD","CREDITO A VISTA",{"$f":"VLOOKUP(tbldados[[#This Row],[APP]],tblbandeira[],3,0)","v":3.49E-2},44627,44660,450,{"$f":"tbldados[[#This Row],[VALOR PAGO]]+(tbldados[[#This Row],[VALOR PAGO]]*tbldados[[#This Row],[TAXA]])","v":465.70499999999998},{"$f":"tbldados[[#This Row],[TOTAL BRUTO]]-tbldados[[#This Row],[VALOR PAGO]]","v":15.704999999999984},{"$f":"CHOOSE(MONTH(tbldados[[#This Row],[DATA]]),\"JANEIRO\",\"FEVEREIRO\",\"MARÇO\",\"ABRIL\",\"MAIO\",\"JUNHO\",\"JULHO\",\"AGOSTO\",\"SETEMBRO\",\"OUTUBRO\",\"NOVEMBRO\",\"DEZEMBRO\")","v":"ABRIL"},{"$f":"YEAR(tbldados[[#This Row],[DATA]])","v":2022}]
[442,"PGTO","01 DE 01","NCARD","MARÇO","CONTA","DÉBITO","DINHEIRO",{"$f":"VLOOKUP(tbldados[[#This Row],[APP]],tblbandeira[],3,0)","v":0},44627,44627,18.309999999999999,{"$f":"tbldados[[#This Row],[VALOR PAGO]]+(tbldados[[#This Row],[VALOR PAGO]]*tbldados[[#This Row],[TAXA]])","v":18.309999999999999},{"$f":"tbldados[[#This Row],[TOTAL BRUTO]]-tbldados[[#This Row],[VALOR PAGO]]","v":0},{"$f":"CHOOSE(MONTH(tbldados[[#This Row],[DATA]]),\"JANEIRO\",\"FEVEREIRO\",\"MARÇO\",\"ABRIL\",\"MAIO\",\"JUNHO\",\"JULHO\",\"AGOSTO\",\"SETEMBRO\",\"OUTUBRO\",\"NOVEMBRO\",\"DEZEMBRO\")","v":"MARÇO"},{"$f":"YEAR(tbldados[[#This Row],[DATA]])","v":2022}]
[443,"PGTO","01 DE 01","PAGMAE","MARÇO","GERAL","PAGMAE","CREDITO A VISTA",{"$f":"VLOOKUP(tbldados[[#This Row],[APP]],tblbandeira[],3,0)","v":0},44624,44661,210,{"$f":"tbldados[[#This Row],[VALOR PAGO]]+(tbldados[[#This Row],[VALOR PAGO]]*tbldados[[#This Row],[TAXA]])","v":210},{"$f":"tbldados[[#This Row],[TOTAL BRUTO]]-tbldados[[#This Row],[VALOR PAGO]]","v":0},{"$f":"CHOOSE(MONTH(tbldados[[#This Row],[DATA]]),\"JANEIRO\",\"FEVEREIRO\",\"MARÇO\",\"ABRIL\",\"MAIO\",\"JUNHO\",\"JULHO\",\"AGOSTO\",\"SETEMBRO\",\"OUTUBRO\",\"NOVEMBRO\",\"DEZEMBRO\")","v":"ABRIL"},{"$f":"YEAR(tbldados[[#This Row],[DATA]])","v":2022}]
[444,"PGTO","01 DE 01","PAGMAE","MARÇO","RECARGAPAY","NCARD","CREDITO A VISTA",{"$f":"VLOOKUP(tbldados[[#This Row],[APP]],tblbandeira[],3,0)","v":3.49E-2},44628,44660,1087.3800000000001,{"$f":"tbldados[[#This Row],[VALOR PAGO]]+(tbldados[[#This Row],[VALOR PAGO]]*tbldados[[#This Row],[TAXA]])","v":1125.3295620000001},{"$f":"tbldados[[#This Row],[TOTAL BRUTO]]-tbldados[[#This Row],[VALOR PAGO]]","v":37.949562000000014},{"$f":"CHOOSE(MONTH(tbldados[[#This Row],[DATA]]),\"JANEIRO\",\"FEVEREIRO\",\"MARÇO\",\"ABRIL\",\"MAIO\",\"JUNHO\",\"JULHO\",\"AGOSTO\",\"SETEMBRO\",\"OUTUBRO\",\"NOVEMBRO\",\"DEZEMBRO\")","v":"ABRIL"},{"$f":"YEAR(tbldados[[#This Row],[DATA]])","v":2022}]
[445,"GASTOS","01 DE 01","PGTOPAGMAE","JUNIOR","RECARGAPAY","NCARD","CREDITO A VISTA",{"$f":"VLOOKUP(tbldados[[#This Row],[APP]],tblbandeira[],3,0)","v":3.49E-2},44628,44660,1087.3800000000001,{"$f":"tbldados[[#This Row],[VALOR PAGO]]+(tbldados[[#This Row],[VALOR PAGO]]*tbldados[[#This Row],[TAXA]])","v":1125.3295620000001},{"$f":"tbldados[[#This Row],[TOTAL BRUTO]]-tbldados[[#This Row],[VALOR PAGO]]","v":37.949562000000014},{"$f":"CHOOSE(MONTH(tbldados[[#This Row],[DATA]]),\"JANEIRO\",\"FEVEREIRO\",\"MARÇO\",\"ABRIL\",\"MAIO\",\"JUNHO\",\"JULHO\",\"AGOSTO\",\"SETEMBRO\",\"OUTUBRO\",\"NOVEMBRO\",\"DEZEMBRO\")","v":"ABRIL"},{"$f":"YEAR(tbldados[[#This Row],[DATA]])","v":2022}]
[446,"GASTOS","01 DE 01","PGTO","JUNIOR","GERAL","PAGMAE","CREDITO A VISTA",{"$f":"VLOOKUP(tbldados[[#This Row],[APP]],tblbandeira[],3,0)","v":0},44601,44630,1265.3399999999999,{"$f":"tbldados[[#This Row],[VALOR PAGO]]+(tbldados[[#This Row],[VALOR PAGO]]*tbldados[[#This Row],[TAXA]])","v":1265.3399999999999},{"$f":"tbldados[[#This Row],[TOTAL BRUTO]]-tbldados[[#This Row],[VALOR PAGO]]","v":0},{"$f":"CHOOSE(MONTH(tbldados[[#This Row],[DATA]]),\"JANEIRO\",\"FEVEREIRO\",\"MARÇO\",\"ABRIL\",\"MAIO\",\"JUNHO\",\"JULHO\",\"AGOSTO\",\"SETEMBRO\",\"OUTUBRO\",\"NOVEMBRO\",\"DEZEMBRO\")","v":"MARÇO"},{"$f":"YEAR(tbldados[[#This Row],[DATA]])","v":2022}]
[447,"GASTOS","01 DE 01","PGTOC6","JUNIOR","GERAL","PAGMAE","CREDITO A VISTA",{"$f":"VLOOKUP(tbldados[[#This Row],[APP]],tblbandeira[],3,0)","v":0},44629,44661,210,{"$f":"tbldados[[#This Row],[VALOR PAGO]]+(tbldados[[#This Row],[VALOR PAGO]]*tbldados[[#This Row],[TAXA]])","v":210},{"$f":"tbldados[[#This Row],[TOTAL BRUTO]]-tbldados[[#This Row],[VALOR PAGO]]","v":0},{"$f":"CHOOSE(MONTH(tbldados[[#This Row],[DATA]]),\"JANEIRO\",\"FEVEREIRO\",\"MARÇO\",\"ABRIL\",\"MAIO\",\"JUNHO\",\"JULHO\",\"AGOSTO\",\"SETEMBRO\",\"OUTUBRO\",\"NOVEMBRO\",\"DEZEMBRO\")","v":"ABRIL"},{"$f":"YEAR(tbldados[[#This Row],[DATA]])","v":2022}]
[448,"PGTO","01 DE 01","PAGMAE","MARÇO","GERAL","PAGMAE","CREDITO A VISTA",{"$f":"VLOOKUP(tbldados[[#This Row],[APP]],tblbandeira[],3,0)","v":0},44629,44661,1290,{"$f":"tbldados[[#This Row],[VALOR PAGO]]+(tbldados[[#This Row],[VALOR PAGO]]*tbldados[[#This Row],[TAXA]])","v":1290},{"$f":"tbldados[[#This Row],[TOTAL BRUTO]]-tbldados[[#This Row],[VALOR PAGO]]","v":0},{"$f":"CHOOSE(MONTH(tbldados[[#This Row],[DATA]]),\"JANEIRO\",\"FEVEREIRO\",\"MARÇO\",\"ABRIL\",\"MAIO\",\"JUNHO\",\"JULHO\",\"AGOSTO\",\"SETEMBRO\",\"OUTUBRO\",\"NOVEMBRO\",\"DEZEMBRO\")","v":"ABRIL"},{"$f":"YEAR(tbldados[[#This Row],[DATA]])","v":2022}]
[449,"GASTOS","01 DE 01","PGTOPAGMAE","JUNIOR","GERAL","PAGMAE","CREDITO A VISTA",{"$f":"VLOOKUP(tbldados[[#This Row],[APP]],tblbandeira[],3,0)","v":0},44629,44661,1297.33,{"$f":"tbldados[[#This Row],[VALOR PAGO]]+(tbldados[[#This Row],[VALOR PAGO]]*tbldados[[#This Row],[TAXA]])","v":1297.33},{"$f":"tbldados[[#This Row],[TOTAL BRUTO]]-tbldados[[#This Row],[VALOR PAGO]]","v":0},{"$f":"CHOOSE(MONTH(tbldados[[#This Row],[DATA]]),\"JANEIRO\",\"FEVEREIRO\",\"MARÇO\",\"ABRIL\",\"MAIO\",\"JUNHO\",\"JULHO\",\"AGOSTO\",\"SETEMBRO\",\"OUTUBRO\",\"NOVEMBRO\",\"DEZEMBRO\")","v":"ABRIL"},{"$f":"YEAR(tbldados[[#This Row],[DATA]])","v":2022}]
[450,"GASTOS","01 DE 01","JUROSPGTOPAGMAE","JUNIOR","GERAL","PAGMAE","CREDITO A VISTA",{"$f":"VLOOKUP(tbldados[[#This Row],[APP]],tblbandeira[],3,0)","v":0},44629,44661,7.33,{"$f":"tbldados[[#This Row],[VALOR PAGO]]+(tbldados[[#This Row],[VALOR PAGO]]*tbldados[[#This Row],[TAXA]])","v":7.33},{"$f":"tbldados[[#This Row],[TOTAL BRUTO]]-tbldados[[#This Row],[VALOR PAGO]]","v":0},{"$f":"CHOOSE(MONTH(tbldados[[#This Row],[DATA]]),\"JANEIRO\",\"FEVEREIRO\",\"MARÇO\",\"ABRIL\",\"MAIO\",\"JUNHO\",\"JULHO\",\"AGOSTO\",\"SETEMBRO\",\"OUTUBRO\",\"NOVEMBRO\",\"DEZEMBRO\")","v":"ABRIL"},{"$f":"YEAR(tbldados[[#This Row],[DATA]])","v":2022}]
[451,"PGTO","01 DE 01","PAGMAE","MARÇO","RECARGAPAY","PAGMAE","CREDITO A VISTA",{"$f":"VLOOKUP(tbldados[[#This Row],[APP]],tblbandeira[],3,0)","v":3.49E-2},44630,44661,1932.55,{"$f":"tbldados[[#This Row],[VALOR PAGO]]+(tbldados[[#This Row],[VALOR PAGO]]*tbldados[[#This Row],[TAXA]])","v":1999.995995},{"$f":"tbldados[[#This Row],[TOTAL BRUTO]]-tbldados[[#This Row],[VALOR PAGO]]","v":67.445995000000039},{"$f":"CHOOSE(MONTH(tbldados[[#This Row],[DATA]]),\"JANEIRO\",\"FEVEREIRO\",\"MARÇO\",\"ABRIL\",\"MAIO\",\"JUNHO\",\"JULHO\",\"AGOSTO\",\"SETEMBRO\",\"OUTUBRO\",\"NOVEMBRO\",\"DEZEMBRO\")","v":"ABRIL"},{"$f":"YEAR(tbldados[[#This Row],[DATA]])","v":2022}]
[452,"GASTOS","01 DE 01","PGTOPAGMAE","JUNIOR","RECARGAPAY","PAGMAE","CREDITO A VISTA",{"$f":"VLOOKUP(tbldados[[#This Row],[APP]],tblbandeira[],3,0)","v":3.49E-2},44630,44661,1932.55,{"$f":"tbldados[[#This Row],[VALOR PAGO]]+(tbldados[[#This Row],[VALOR PAGO]]*tbldados[[#This Row],[TAXA]])","v":1999.995995},{"$f":"tbldados[[#This Row],[TOTAL BRUTO]]-tbldados[[#This Row],[VALOR PAGO]]","v":67.445995000000039},{"$f":"CHOOSE(MONTH(tbldados[[#This Row],[DATA]]),\"JANEIRO\",\"FEVEREIRO\",\"MARÇO\",\"ABRIL\",\"MAIO\",\"JUNHO\",\"JULHO\",\"AGOSTO\",\"SETEMBRO\",\"OUTUBRO\",\"NOVEMBRO\",\"DEZEMBRO\")","v":"ABRIL"},{"$f":"YEAR(tbldados[[#This Row],[DATA]])","v":2022}]
[453,"PGTO","01 DE 01","PAGMAE","MARÇO","RECARGAPAY","PAGMAE","CREDITO A VISTA",{"$f":"VLOOKUP(tbldados[[#This Row],[APP]],tblbandeira[],3,0)","v":3.49E-2},44630,44661,1800.31,{"$f":"tbldados[[#This Row],[VALOR PAGO]]+(tbldados[[#This Row],[VALOR PAGO]]*tbldados[[#This Row],[TAXA]])","v":1863.140819},{"$f":"tbldados[[#This Row],[TOTAL BRUTO]]-tbldados[[#This Row],[VALOR PAGO]]","v":62.83081900000002},{"$f":"CHOOSE(MONTH(tbldados[[#This Row],[DATA]]),\"JANEIRO\",\"FEVEREIRO\",\"MARÇO\",\"ABRIL\",\"MAIO\",\"JUNHO\",\"JULHO\",\"AGOSTO\",\"SETEMBRO\",\"OUTUBRO\",\"NOVEMBRO\",\"DEZEMBRO\")","v":"ABRIL"},{"$f":"YEAR(tbldados[[#This Row],[DATA]])","v":2022}]
[454,"GASTOS","01 DE 01","PGTOPAGMAE","JUNIOR","RECARGAPAY","PAGMAE","CREDITO A VISTA",{"$f":"VLOOKUP(tbldados[[#This Row],[APP]],tblbandeira[],3,0)","v":3.49E-2},44630,44661,1800.31,{"$f":"tbldados[[#This Row],[VALOR PAGO]]+(tbldados[[#This Row],[VALOR PAGO]]*tbldados[[#This Row],[TAXA]])","v":1863.140819},{"$f":"tbldados[[#This Row],[TOTAL BRUTO]]-tbldados[[#This Row],[VALOR PAGO]]","v":62.83081900000002},{"$f":"CHOOSE(MONTH(tbldados[[#This Row],[DATA]]),\"JANEIRO\",\"FEVEREIRO\",\"MARÇO\",\"ABRIL\",\"MAIO\",\"JUNHO\",\"JULHO\",\"AGOSTO\",\"SETEMBRO\",\"OUTUBRO\",\"NOVEMBRO\",\"DEZEMBRO\")","v":"ABRIL"},{"$f":"YEAR(tbldados[[#This Row],[DATA]])","v":2022}]
[455,"PGTO","01 DE 01","ORIGINAL","MARÇO","RECARGAPAY","PAGMAE","CREDITO A VISTA",{"$f":"VLOOKUP(tbldados[[#This Row],[APP]],tblbandeira[],3,0)","v":3.49E-2},44630,44661,567.45000000000005,{"$f":"tbldados[[#This Row],[VALOR PAGO]]+(tbldados[[#This Row],[VALOR PAGO]]*tbldados[[#This Row],[TAXA]])","v":587.25400500000001},{"$f":"tbldados[[#This Row],[TOTAL BRUTO]]-tbldados[[#This Row],[VALOR PAGO]]","v":19.804004999999961},{"$f":"CHOOSE(MONTH(tbldados[[#This Row],[DATA]]),\"JANEIRO\",\"FEVEREIRO\",\"MARÇO\",\"ABRIL\",\"MAIO\",\"JUNHO\",\"JULHO\",\"AGOSTO\",\"SETEMBRO\",\"OUTUBRO\",\"NOVEMBRO\",\"DEZEMBRO\")","v":"ABRIL"},{"$f":"YEAR(tbldados[[#This Row],[DATA]])","v":2022}]
[456,"GASTOS","01 DE 01","PGTORIGINAL","JUNIOR","RECARGAPAY","PAGMAE","CREDITO A VISTA",{"$f":"VLOOKUP(tbldados[[#This Row],[APP]],tblbandeira[],3,0)","v":3.49E-2},44630,44661,567.45000000000005,{"$f":"tbldados[[#This Row],[VALOR PAGO]]+(tbldados[[#This Row],[VALOR PAGO]]*tbldados[[#This Row],[TAXA]])","v":587.25400500000001},{"$f":"tbldados[[#This Row],[TOTAL BRUTO]]-tbldados[[#This Row],[VALOR PAGO]]","v":19.804004999999961},{"$f":"CHOOSE(MONTH(tbldados[[#This Row],[DATA]]),\"JANEIRO\",\"FEVEREIRO\",\"MARÇO\",\"ABRIL\",\"MAIO\",\"JUNHO\",\"JULHO\",\"AGOSTO\",\"SETEMBRO\",\"OUTUBRO\",\"NOVEMBRO\",\"DEZEMBRO\")","v":"ABRIL"},{"$f":"YEAR(tbldados[[#This Row],[DATA]])","v":2022}]
[457,"PGTO","01 DE 01","PAGMAE","MARÇO","CONTA","DÉBITO","DINHEIRO",{"$f":"VLOOKUP(tbldados[[#This Row],[APP]],tblbandeira[],3,0)","v":0},44630,44630,11.19,{"$f":"tbldados[[#This Row],[VALOR PAGO]]+(tbldados[[#This Row],[VALOR PAGO]]*tbldados[[#This Row],[TAXA]])","v":11.19},{"$f":"tbldados[[#This Row],[TOTAL BRUTO]]-tbldados[[#This Row],[VALOR PAGO]]","v":0},{"$f":"CHOOSE(MONTH(tbldados[[#This Row],[DATA]]),\"JANEIRO\",\"FEVEREIRO\",\"MARÇO\",\"ABRIL\",\"MAIO\",\"JUNHO\",\"JULHO\",\"AGOSTO\",\"SETEMBRO\",\"OUTUBRO\",\"NOVEMBRO\",\"DEZEMBRO\")","v":"MARÇO"},{"$f":"YEAR(tbldados[[#This Row],[DATA]])","v":2022}]
[458,"GASTOS","01 DE 01","CLARO","JUNIOR","GERAL","PAGMAE","CREDITO A VISTA",{"$f":"VLOOKUP(tbldados[[#This Row],[APP]],tblbandeira[],3,0)","v":0},44630,44661,45.99,{"$f":"tbldados[[#This Row],[VALOR PAGO]]+(tbldados[[#This Row],[VALOR PAGO]]*tbldados[[#This Row],[TAXA]])","v":45.99},{"$f":"tbldados[[#This Row],[TOTAL BRUTO]]-tbldados[[#This Row],[VALOR PAGO]]","v":0},{"$f":"CHOOSE(MONTH(tbldados[[#This Row],[DATA]]),\"JANEIRO\",\"FEVEREIRO\",\"MARÇO\",\"ABRIL\",\"MAIO\",\"JUNHO\",\"JULHO\",\"AGOSTO\",\"SETEMBRO\",\"OUTUBRO\",\"NOVEMBRO\",\"DEZEMBRO\")","v":"ABRIL"},{"$f":"YEAR(tbldados[[#This Row],[DATA]])","v":2022}]
[459,"PGTO","01 DE 01","NUBANK","MARÇO","RECARGAPAY","PAGMAE","CREDITO A VISTA",{"$f":"VLOOKUP(tbldados[[#This Row],[APP]],tblbandeira[],3,0)","v":3.49E-2},44631,44661,917.56,{"$f":"tbldados[[#This Row],[VALOR PAGO]]+(tbldados[[#This Row],[VALOR PAGO]]*tbldados[[#This Row],[TAXA]])","v":949.58284399999991},{"$f":"tbldados[[#This Row],[TOTAL BRUTO]]-tbldados[[#This Row],[VALOR PAGO]]","v":32.022843999999964},{"$f":"CHOOSE(MONTH(tbldados[[#This Row],[DATA]]),\"JANEIRO\",\"FEVEREIRO\",\"MARÇO\",\"ABRIL\",\"MAIO\",\"JUNHO\",\"JULHO\",\"AGOSTO\",\"SETEMBRO\",\"OUTUBRO\",\"NOVEMBRO\",\"DEZEMBRO\")","v":"ABRIL"},{"$f":"YEAR(tbldados[[#This Row],[DATA]])","v":2022}]
[460,"GASTOS","01 DE 01","PGTONUBANK","JUNIOR","RECARGAPAY","PAGMAE","CREDITO A VISTA",{"$f":"VLOOKUP(tbldados[[#This Row],[APP]],tblbandeira[],3,0)","v":3.49E-2},44631,44661,917.56,{"$f":"tbldados[[#This Row],[VALOR PAGO]]+(tbldados[[#This Row],[VALOR PAGO]]*tbldados[[#This Row],[TAXA]])","v":949.58284399999991},{"$f":"tbldados[[#This Row],[TOTAL BRUTO]]-tbldados[[#This Row],[VALOR PAGO]]","v":32.022843999999964},{"$f":"CHOOSE(MONTH(tbldados[[#This Row],[DATA]]),\"JANEIRO\",\"FEVEREIRO\",\"MARÇO\",\"ABRIL\",\"MAIO\",\"JUNHO\",\"JULHO\",\"AGOSTO\",\"SETEMBRO\",\"OUTUBRO\",\"NOVEMBRO\",\"DEZEMBRO\")","v":"ABRIL"},{"$f":"YEAR(tbldados[[#This Row],[DATA]])","v":2022}]
[461,"PGTO","01 DE 01","NUBANK","MARÇO","RECARGAPAY","ORIGINAL","CREDITO A VISTA",{"$f":"VLOOKUP(tbldados[[#This Row],[APP]],tblbandeira[],3,0)","v":3.49E-2},44630,44661,470.58,{"$f":"tbldados[[#This Row],[VALOR PAGO]]+(tbldados[[#This Row],[VALOR PAGO]]*tbldados[[#This Row],[TAXA]])","v":487.003242},{"$f":"tbldados[[#This Row],[TOTAL BRUTO]]-tbldados[[#This Row],[VALOR PAGO]]","v":16.423242000000016},{"$f":"CHOOSE(MONTH(tbldados[[#This Row],[DATA]]),\"JANEIRO\",\"FEVEREIRO\",\"MARÇO\",\"ABRIL\",\"MAIO\",\"JUNHO\",\"JULHO\",\"AGOSTO\",\"SETEMBRO\",\"OUTUBRO\",\"NOVEMBRO\",\"DEZEMBRO\")","v":"ABRIL"},{"$f":"YEAR(tbldados[[#This Row],[DATA]])","v":2022}]
[462,"PGTO","01 DE 01","NUBANK","MARÇO","CONTA","DÉBITO","DINHEIRO",{"$f":"VLOOKUP(tbldados[[#This Row],[APP]],tblbandeira[],3,0)","v":0},44630,44630,16.43,{"$f":"tbldados[[#This Row],[VALOR PAGO]]+(tbldados[[#This Row],[VALOR PAGO]]*tbldados[[#This Row],[TAXA]])","v":16.43},{"$f":"tbldados[[#This Row],[TOTAL BRUTO]]-tbldados[[#This Row],[VALOR PAGO]]","v":0},{"$f":"CHOOSE(MONTH(tbldados[[#This Row],[DATA]]),\"JANEIRO\",\"FEVEREIRO\",\"MARÇO\",\"ABRIL\",\"MAIO\",\"JUNHO\",\"JULHO\",\"AGOSTO\",\"SETEMBRO\",\"OUTUBRO\",\"NOVEMBRO\",\"DEZEMBRO\")","v":"MARÇO"},{"$f":"YEAR(tbldados[[#This Row],[DATA]])","v":2022}]
[463,"GASTOS","01 DE 01","JANTA","JUNIOR","GERAL","NUBANK","CREDITO A VISTA",{"$f":"VLOOKUP(tbldados[[#This Row],[APP]],tblbandeira[],3,0)","v":0},44602,44633,32.99,{"$f":"tbldados[[#This Row],[VALOR PAGO]]+(tbldados[[#This Row],[VALOR PAGO]]*tbldados[[#This Row],[TAXA]])","v":32.99},{"$f":"tbldados[[#This Row],[TOTAL BRUTO]]-tbldados[[#This Row],[VALOR PAGO]]","v":0},{"$f":"CHOOSE(MONTH(tbldados[[#This Row],[DATA]]),\"JANEIRO\",\"FEVEREIRO\",\"MARÇO\",\"ABRIL\",\"MAIO\",\"JUNHO\",\"JULHO\",\"AGOSTO\",\"SETEMBRO\",\"OUTUBRO\",\"NOVEMBRO\",\"DEZEMBRO\")","v":"MARÇO"},{"$f":"YEAR(tbldados[[#This Row],[DATA]])","v":2022}]
[464,"PGTO","01 DE 01","NUBANK","MARÇO","GERAL","DÉBITO","DINHEIRO",{"$f":"VLOOKUP(tbldados[[#This Row],[APP]],tblbandeira[],3,0)","v":0},44631,44631,1.74,{"$f":"tbldados[[#This Row],[VALOR PAGO]]+(tbldados[[#This Row],[VALOR PAGO]]*tbldados[[#This Row],[TAXA]])","v":1.74},{"$f":"tbldados[[#This Row],[TOTAL BRUTO]]-tbldados[[#This Row],[VALOR PAGO]]","v":0},{"$f":"CHOOSE(MONTH(tbldados[[#This Row],[DATA]]),\"JANEIRO\",\"FEVEREIRO\",\"MARÇO\",\"ABRIL\",\"MAIO\",\"JUNHO\",\"JULHO\",\"AGOSTO\",\"SETEMBRO\",\"OUTUBRO\",\"NOVEMBRO\",\"DEZEMBRO\")","v":"MARÇO"},{"$f":"YEAR(tbldados[[#This Row],[DATA]])","v":2022}]
[465,"PGTO","01 DE 01","NUBANK","MARÇO","RECARGAPAY","NUBANK","CREDITO A VISTA",{"$f":"VLOOKUP(tbldados[[#This Row],[APP]],tblbandeira[],3,0)","v":3.49E-2},44632,44664,2000,{"$f":"tbldados[[#This Row],[VALOR PAGO]]+(tbldados[[#This Row],[VALOR PAGO]]*tbldados[[#This Row],[TAXA]])","v":2069.8000000000002},{"$f":"tbldados[[#This Row],[TOTAL BRUTO]]-tbldados[[#This Row],[VALOR PAGO]]","v":69.800000000000182},{"$f":"CHOOSE(MONTH(tbldados[[#This Row],[DATA]]),\"JANEIRO\",\"FEVEREIRO\",\"MARÇO\",\"ABRIL\",\"MAIO\",\"JUNHO\",\"JULHO\",\"AGOSTO\",\"SETEMBRO\",\"OUTUBRO\",\"NOVEMBRO\",\"DEZEMBRO\")","v":"ABRIL"},{"$f":"YEAR(tbldados[[#This Row],[DATA]])","v":2022}]
[466,"GASTOS","01 DE 01","PGTONUBANK","JUNIOR","RECARGAPAY","NUBANK","CREDITO A VISTA",{"$f":"VLOOKUP(tbldados[[#This Row],[APP]],tblbandeira[],3,0)","v":3.49E-2},44632,44664,2000,{"$f":"tbldados[[#This Row],[VALOR PAGO]]+(tbldados[[#This Row],[VALOR PAGO]]*tbldados[[#This Row],[TAXA]])","v":2069.8000000000002},{"$f":"tbldados[[#This Row],[TOTAL BRUTO]]-tbldados[[#This Row],[VALOR PAGO]]","v":69.800000000000182},{"$f":"CHOOSE(MONTH(tbldados[[#This Row],[DATA]]),\"JANEIRO\",\"FEVEREIRO\",\"MARÇO\",\"ABRIL\",\"MAIO\",\"JUNHO\",\"JULHO\",\"AGOSTO\",\"SETEMBRO\",\"OUTUBRO\",\"NOVEMBRO\",\"DEZEMBRO\")","v":"ABRIL"},{"$f":"YEAR(tbldados[[#This Row],[DATA]])","v":2022}]
[467,"PGTO","01 DE 01","NUBANK","MARÇO","CONTA","DÉBITO","DINHEIRO",{"$f":"VLOOKUP(tbldados[[#This Row],[APP]],tblbandeira[],3,0)","v":0},44633,44633,258.98,{"$f":"tbldados[[#This Row],[VALOR PAGO]]+(tbldados[[#This Row],[VALOR PAGO]]*tbldados[[#This Row],[TAXA]])","v":258.98},{"$f":"tbldados[[#This Row],[TOTAL BRUTO]]-tbldados[[#This Row],[VALOR PAGO]]","v":0},{"$f":"CHOOSE(MONTH(tbldados[[#This Row],[DATA]]),\"JANEIRO\",\"FEVEREIRO\",\"MARÇO\",\"ABRIL\",\"MAIO\",\"JUNHO\",\"JULHO\",\"AGOSTO\",\"SETEMBRO\",\"OUTUBRO\",\"NOVEMBRO\",\"DEZEMBRO\")","v":"MARÇO"},{"$f":"YEAR(tbldados[[#This Row],[DATA]])","v":2022}]
[468,"PGTO","01 DE 01","INTER","MARÇO","RECARGAPAY","NUBANK","CREDITO A VISTA",{"$f":"VLOOKUP(tbldados[[#This Row],[APP]],tblbandeira[],3,0)","v":3.49E-2},44633,44664,1478.59,{"$f":"tbldados[[#This Row],[VALOR PAGO]]+(tbldados[[#This Row],[VALOR PAGO]]*tbldados[[#This Row],[TAXA]])","v":1530.1927909999999},{"$f":"tbldados[[#This Row],[TOTAL BRUTO]]-tbldados[[#This Row],[VALOR PAGO]]","v":51.602791000000025},{"$f":"CHOOSE(MONTH(tbldados[[#This Row],[DATA]]),\"JANEIRO\",\"FEVEREIRO\",\"MARÇO\",\"ABRIL\",\"MAIO\",\"JUNHO\",\"JULHO\",\"AGOSTO\",\"SETEMBRO\",\"OUTUBRO\",\"NOVEMBRO\",\"DEZEMBRO\")","v":"ABRIL"},{"$f":"YEAR(tbldados[[#This Row],[DATA]])","v":2022}]
[469,"GASTOS","01 DE 01","DIVERSOS","JUNIOR","GERAL","INTER","CREDITO A VISTA",{"$f":"VLOOKUP(tbldados[[#This Row],[APP]],tblbandeira[],3,0)","v":0},44607,44635,490.96,{"$f":"tbldados[[#This Row],[VALOR PAGO]]+(tbldados[[#This Row],[VALOR PAGO]]*tbldados[[#This Row],[TAXA]])","v":490.96},{"$f":"tbldados[[#This Row],[TOTAL BRUTO]]-tbldados[[#This Row],[VALOR PAGO]]","v":0},{"$f":"CHOOSE(MONTH(tbldados[[#This Row],[DATA]]),\"JANEIRO\",\"FEVEREIRO\",\"MARÇO\",\"ABRIL\",\"MAIO\",\"JUNHO\",\"JULHO\",\"AGOSTO\",\"SETEMBRO\",\"OUTUBRO\",\"NOVEMBRO\",\"DEZEMBRO\")","v":"MARÇO"},{"$f":"YEAR(tbldados[[#This Row],[DATA]])","v":2022}]
[470,"PGTO","01 DE 01","INTER","MARÇO","RECARGAPAY","INTER","CREDITO A VISTA",{"$f":"VLOOKUP(tbldados[[#This Row],[APP]],tblbandeira[],3,0)","v":3.49E-2},44633,44666,2743.29,{"$f":"tbldados[[#This Row],[VALOR PAGO]]+(tbldados[[#This Row],[VALOR PAGO]]*tbldados[[#This Row],[TAXA]])","v":2839.0308209999998},{"$f":"tbldados[[#This Row],[TOTAL BRUTO]]-tbldados[[#This Row],[VALOR PAGO]]","v":95.740820999999869},{"$f":"CHOOSE(MONTH(tbldados[[#This Row],[DATA]]),\"JANEIRO\",\"FEVEREIRO\",\"MARÇO\",\"ABRIL\",\"MAIO\",\"JUNHO\",\"JULHO\",\"AGOSTO\",\"SETEMBRO\",\"OUTUBRO\",\"NOVEMBRO\",\"DEZEMBRO\")","v":"ABRIL"},{"$f":"YEAR(tbldados[[#This Row],[DATA]])","v":2022}]
[471,"GASTOS","01 DE 01","PGTOINTER","JUNIOR","RECARGAPAY","INTER","CREDITO A VISTA",{"$f":"VLOOKUP(tbldados[[#This Row],[APP]],tblbandeira[],3,0)","v":3.49E-2},44633,44666,2743.29,{"$f":"tbldados[[#This Row],[VALOR PAGO]]+(tbldados[[#This Row],[VALOR PAGO]]*tbldados[[#This Row],[TAXA]])","v":2839.0308209999998},{"$f":"tbldados[[#This Row],[TOTAL BRUTO]]-tbldados[[#This Row],[VALOR PAGO]]","v":95.740820999999869},{"$f":"CHOOSE(MONTH(tbldados[[#This Row],[DATA]]),\"JANEIRO\",\"FEVEREIRO\",\"MARÇO\",\"ABRIL\",\"MAIO\",\"JUNHO\",\"JULHO\",\"AGOSTO\",\"SETEMBRO\",\"OUTUBRO\",\"NOVEMBRO\",\"DEZEMBRO\")","v":"ABRIL"},{"$f":"YEAR(tbldados[[#This Row],[DATA]])","v":2022}]
[472,"PGTO","01 DE 01","INTER","MARÇO","CONTA","DÉBITO","DINHEIRO",{"$f":"VLOOKUP(tbldados[[#This Row],[APP]],tblbandeira[],3,0)","v":0},44633,44633,206.87,{"$f":"tbldados[[#This Row],[VALOR PAGO]]+(tbldados[[#This Row],[VALOR PAGO]]*tbldados[[#This Row],[TAXA]])","v":206.87},{"$f":"tbldados[[#This Row],[TOTAL BRUTO]]-tbldados[[#This Row],[VALOR PAGO]]","v":0},{"$f":"CHOOSE(MONTH(tbldados[[#This Row],[DATA]]),\"JANEIRO\",\"FEVEREIRO\",\"MARÇO\",\"ABRIL\",\"MAIO\",\"JUNHO\",\"JULHO\",\"AGOSTO\",\"SETEMBRO\",\"OUTUBRO\",\"NOVEMBRO\",\"DEZEMBRO\")","v":"MARÇO"},{"$f":"YEAR(tbldados[[#This Row],[DATA]])","v":2022}]
[473,"PGTO","01 DE 01","DIGIO","MARÇO","RECARGAPAY","INTER","CREDITO A VISTA",{"$f":"VLOOKUP(tbldados[[#This Row],[APP]],tblbandeira[],3,0)","v":3.49E-2},44634,44666,880,{"$f":"tbldados[[#This Row],[VALOR PAGO]]+(tbldados[[#This Row],[VALOR PAGO]]*tbldados[[#This Row],[TAXA]])","v":910.71199999999999},{"$f":"tbldados[[#This Row],[TOTAL BRUTO]]-tbldados[[#This Row],[VALOR PAGO]]","v":30.711999999999989},{"$f":"CHOOSE(MONTH(tbldados[[#This Row],[DATA]]),\"JANEIRO\",\"FEVEREIRO\",\"MARÇO\",\"ABRIL\",\"MAIO\",\"JUNHO\",\"JULHO\",\"AGOSTO\",\"SETEMBRO\",\"OUTUBRO\",\"NOVEMBRO\",\"DEZEMBRO\")","v":"ABRIL"},{"$f":"YEAR(tbldados[[#This Row],[DATA]])","v":2022}]
[474,"GASTOS","01 DE 01","PGTODIGIO","JUNIOR","RECARGAPAY","INTER","CREDITO A VISTA",{"$f":"VLOOKUP(tbldados[[#This Row],[APP]],tblbandeira[],3,0)","v":3.49E-2},44634,44666,880,{"$f":"tbldados[[#This Row],[VALOR PAGO]]+(tbldados[[#This Row],[VALOR PAGO]]*tbldados[[#This Row],[TAXA]])","v":910.71199999999999},{"$f":"tbldados[[#This Row],[TOTAL BRUTO]]-tbldados[[#This Row],[VALOR PAGO]]","v":30.711999999999989},{"$f":"CHOOSE(MONTH(tbldados[[#This Row],[DATA]]),\"JANEIRO\",\"FEVEREIRO\",\"MARÇO\",\"ABRIL\",\"MAIO\",\"JUNHO\",\"JULHO\",\"AGOSTO\",\"SETEMBRO\",\"OUTUBRO\",\"NOVEMBRO\",\"DEZEMBRO\")","v":"ABRIL"},{"$f":"YEAR(tbldados[[#This Row],[DATA]])","v":2022}]
[475,"PGTO","01 DE 01","NEON","MARÇO","RECARGAPAY","DIGIO","CREDITO A VISTA",{"$f":"VLOOKUP(tbldados[[#This Row],[APP]],tblbandeira[],3,0)","v":3.49E-2},44634,44666,850,{"$f":"tbldados[[#This Row],[VALOR PAGO]]+(tbldados[[#This Row],[VALOR PAGO]]*tbldados[[#This Row],[TAXA]])","v":879.66499999999996},{"$f":"tbldados[[#This Row],[TOTAL BRUTO]]-tbldados[[#This Row],[VALOR PAGO]]","v":29.664999999999964},{"$f":"CHOOSE(MONTH(tbldados[[#This Row],[DATA]]),\"JANEIRO\",\"FEVEREIRO\",\"MARÇO\",\"ABRIL\",\"MAIO\",\"JUNHO\",\"JULHO\",\"AGOSTO\",\"SETEMBRO\",\"OUTUBRO\",\"NOVEMBRO\",\"DEZEMBRO\")","v":"ABRIL"},{"$f":"YEAR(tbldados[[#This Row],[DATA]])","v":2022}]
[476,"GASTOS","01 DE 01","PGTONEON","JUNIOR","RECARGAPAY","DIGIO","CREDITO A VISTA",{"$f":"VLOOKUP(tbldados[[#This Row],[APP]],tblbandeira[],3,0)","v":3.49E-2},44634,44666,850,{"$f":"tbldados[[#This Row],[VALOR PAGO]]+(tbldados[[#This Row],[VALOR PAGO]]*tbldados[[#This Row],[TAXA]])","v":879.66499999999996},{"$f":"tbldados[[#This Row],[TOTAL BRUTO]]-tbldados[[#This Row],[VALOR PAGO]]","v":29.664999999999964},{"$f":"CHOOSE(MONTH(tbldados[[#This Row],[DATA]]),\"JANEIRO\",\"FEVEREIRO\",\"MARÇO\",\"ABRIL\",\"MAIO\",\"JUNHO\",\"JULHO\",\"AGOSTO\",\"SETEMBRO\",\"OUTUBRO\",\"NOVEMBRO\",\"DEZEMBRO\")","v":"ABRIL"},{"$f":"YEAR(tbldados[[#This Row],[DATA]])","v":2022}]
[477,"GASTOS","01 DE 01","DIVERSOS","JUNIOR","RECARGAPAY","PANMAE","CREDITO A VISTA",2.9899999999999999E-2,44598,44637,351.49,{"$f":"tbldados[[#This Row],[VALOR PAGO]]+(tbldados[[#This Row],[VALOR PAGO]]*tbldados[[#This Row],[TAXA]])","v":361.999551},{"$f":"tbldados[[#This Row],[TOTAL BRUTO]]-tbldados[[#This Row],[VALOR PAGO]]","v":10.509550999999988},{"$f":"CHOOSE(MONTH(tbldados[[#This Row],[DATA]]),\"JANEIRO\",\"FEVEREIRO\",\"MARÇO\",\"ABRIL\",\"MAIO\",\"JUNHO\",\"JULHO\",\"AGOSTO\",\"SETEMBRO\",\"OUTUBRO\",\"NOVEMBRO\",\"DEZEMBRO\")","v":"MARÇO"},{"$f":"YEAR(tbldados[[#This Row],[DATA]])","v":2022}]
[478,"GASTOS","01 DE 01","DIVERSOS","JUNIOR","RECARGAPAY","PANMAE","CREDITO A VISTA",2.9899999999999999E-2,44607,44637,1221.21,{"$f":"tbldados[[#This Row],[VALOR PAGO]]+(tbldados[[#This Row],[VALOR PAGO]]*tbldados[[#This Row],[TAXA]])","v":1257.724179},{"$f":"tbldados[[#This Row],[TOTAL BRUTO]]-tbldados[[#This Row],[VALOR PAGO]]","v":36.514179000000013},{"$f":"CHOOSE(MONTH(tbldados[[#This Row],[DATA]]),\"JANEIRO\",\"FEVEREIRO\",\"MARÇO\",\"ABRIL\",\"MAIO\",\"JUNHO\",\"JULHO\",\"AGOSTO\",\"SETEMBRO\",\"OUTUBRO\",\"NOVEMBRO\",\"DEZEMBRO\")","v":"MARÇO"},{"$f":"YEAR(tbldados[[#This Row],[DATA]])","v":2022}]
[479,"PGTO","01 DE 01","PANMAE","MARÇO","RECARGAPAY","NEON","CREDITO A VISTA",{"$f":"VLOOKUP(tbldados[[#This Row],[APP]],tblbandeira[],3,0)","v":3.49E-2},44635,44666,821.34,{"$f":"tbldados[[#This Row],[VALOR PAGO]]+(tbldados[[#This Row],[VALOR PAGO]]*tbldados[[#This Row],[TAXA]])","v":850.00476600000002},{"$f":"tbldados[[#This Row],[TOTAL BRUTO]]-tbldados[[#This Row],[VALOR PAGO]]","v":28.664765999999986},{"$f":"CHOOSE(MONTH(tbldados[[#This Row],[DATA]]),\"JANEIRO\",\"FEVEREIRO\",\"MARÇO\",\"ABRIL\",\"MAIO\",\"JUNHO\",\"JULHO\",\"AGOSTO\",\"SETEMBRO\",\"OUTUBRO\",\"NOVEMBRO\",\"DEZEMBRO\")","v":"ABRIL"},{"$f":"YEAR(tbldados[[#This Row],[DATA]])","v":2022}]
[480,"PGTO","01 DE 01","PANMAE","MARÇO","RECARGAPAY","INTER","CREDITO A VISTA",{"$f":"VLOOKUP(tbldados[[#This Row],[APP]],tblbandeira[],3,0)","v":3.49E-2},44635,44666,480.65,{"$f":"tbldados[[#This Row],[VALOR PAGO]]+(tbldados[[#This Row],[VALOR PAGO]]*tbldados[[#This Row],[TAXA]])","v":497.42468499999995},{"$f":"tbldados[[#This Row],[TOTAL BRUTO]]-tbldados[[#This Row],[VALOR PAGO]]","v":16.774684999999977},{"$f":"CHOOSE(MONTH(tbldados[[#This Row],[DATA]]),\"JANEIRO\",\"FEVEREIRO\",\"MARÇO\",\"ABRIL\",\"MAIO\",\"JUNHO\",\"JULHO\",\"AGOSTO\",\"SETEMBRO\",\"OUTUBRO\",\"NOVEMBRO\",\"DEZEMBRO\")","v":"ABRIL"},{"$f":"YEAR(tbldados[[#This Row],[DATA]])","v":2022}]
[481,"GASTOS","01 DE 01","PGTOPANMAE","JUNIOR","RECARGAPAY","INTER","CREDITO A VISTA",{"$f":"VLOOKUP(tbldados[[#This Row],[APP]],tblbandeira[],3,0)","v":3.49E-2},44635,44666,480.65,{"$f":"tbldados[[#This Row],[VALOR PAGO]]+(tbldados[[#This Row],[VALOR PAGO]]*tbldados[[#This Row],[TAXA]])","v":497.42468499999995},{"$f":"tbldados[[#This Row],[TOTAL BRUTO]]-tbldados[[#This Row],[VALOR PAGO]]","v":16.774684999999977},{"$f":"CHOOSE(MONTH(tbldados[[#This Row],[DATA]]),\"JANEIRO\",\"FEVEREIRO\",\"MARÇO\",\"ABRIL\",\"MAIO\",\"JUNHO\",\"JULHO\",\"AGOSTO\",\"SETEMBRO\",\"OUTUBRO\",\"NOVEMBRO\",\"DEZEMBRO\")","v":"ABRIL"},{"$f":"YEAR(tbldados[[#This Row],[DATA]])","v":2022}]
[482,"GASTOS","01 DE 01","DIVERSOS","JUNIOR","GERAL","PAN","CREDITO A VISTA",{"$f":"VLOOKUP(tbldados[[#This Row],[APP]],tblbandeira[],3,0)","v":0},44605,44633,543.79,{"$f":"tbldados[[#This Row],[VALOR PAGO]]+(tbldados[[#This Row],[VALOR PAGO]]*tbldados[[#This Row],[TAXA]])","v":543.79},{"$f":"tbldados[[#This Row],[TOTAL BRUTO]]-tbldados[[#This Row],[VALOR PAGO]]","v":0},{"$f":"CHOOSE(MONTH(tbldados[[#This Row],[DATA]]),\"JANEIRO\",\"FEVEREIRO\",\"MARÇO\",\"ABRIL\",\"MAIO\",\"JUNHO\",\"JULHO\",\"AGOSTO\",\"SETEMBRO\",\"OUTUBRO\",\"NOVEMBRO\",\"DEZEMBRO\")","v":"MARÇO"},{"$f":"YEAR(tbldados[[#This Row],[DATA]])","v":2022}]
[483,"PGTO","01 DE 01","PAN","MARÇO","RECARGAPAY","PANMAE","CREDITO A VISTA",{"$f":"VLOOKUP(tbldados[[#This Row],[APP]],tblbandeira[],3,0)","v":3.49E-2},44605,44637,543.79,{"$f":"tbldados[[#This Row],[VALOR PAGO]]+(tbldados[[#This Row],[VALOR PAGO]]*tbldados[[#This Row],[TAXA]])","v":562.76827099999991},{"$f":"tbldados[[#This Row],[TOTAL BRUTO]]-tbldados[[#This Row],[VALOR PAGO]]","v":18.97827099999995},{"$f":"CHOOSE(MONTH(tbldados[[#This Row],[DATA]]),\"JANEIRO\",\"FEVEREIRO\",\"MARÇO\",\"ABRIL\",\"MAIO\",\"JUNHO\",\"JULHO\",\"AGOSTO\",\"SETEMBRO\",\"OUTUBRO\",\"NOVEMBRO\",\"DEZEMBRO\")","v":"MARÇO"},{"$f":"YEAR(tbldados[[#This Row],[DATA]])","v":2022}]
[484,"PGTO","01 DE 01","PANMAE","MARÇO","RECARGAPAY","PAN","CREDITO A VISTA",{"$f":"VLOOKUP(tbldados[[#This Row],[APP]],tblbandeira[],3,0)","v":3.49E-2},44635,44664,657.06,{"$f":"tbldados[[#This Row],[VALOR PAGO]]+(tbldados[[#This Row],[VALOR PAGO]]*tbldados[[#This Row],[TAXA]])","v":679.9913939999999},{"$f":"tbldados[[#This Row],[TOTAL BRUTO]]-tbldados[[#This Row],[VALOR PAGO]]","v":22.931393999999955},{"$f":"CHOOSE(MONTH(tbldados[[#This Row],[DATA]]),\"JANEIRO\",\"FEVEREIRO\",\"MARÇO\",\"ABRIL\",\"MAIO\",\"JUNHO\",\"JULHO\",\"AGOSTO\",\"SETEMBRO\",\"OUTUBRO\",\"NOVEMBRO\",\"DEZEMBRO\")","v":"ABRIL"},{"$f":"YEAR(tbldados[[#This Row],[DATA]])","v":2022}]
[485,"GASTOS","01 DE 01","PGTOPANMAE","JUNIOR","RECARGAPAY","PAN","CREDITO A VISTA",{"$f":"VLOOKUP(tbldados[[#This Row],[APP]],tblbandeira[],3,0)","v":3.49E-2},44635,44664,657.06,{"$f":"tbldados[[#This Row],[VALOR PAGO]]+(tbldados[[#This Row],[VALOR PAGO]]*tbldados[[#This Row],[TAXA]])","v":679.9913939999999},{"$f":"tbldados[[#This Row],[TOTAL BRUTO]]-tbldados[[#This Row],[VALOR PAGO]]","v":22.931393999999955},{"$f":"CHOOSE(MONTH(tbldados[[#This Row],[DATA]]),\"JANEIRO\",\"FEVEREIRO\",\"MARÇO\",\"ABRIL\",\"MAIO\",\"JUNHO\",\"JULHO\",\"AGOSTO\",\"SETEMBRO\",\"OUTUBRO\",\"NOVEMBRO\",\"DEZEMBRO\")","v":"ABRIL"},{"$f":"YEAR(tbldados[[#This Row],[DATA]])","v":2022}]
[486,"PGTO","01 DE 01","PANMAE","MARÇO","RECARGAPAY","PANMAE","CREDITO A VISTA",{"$f":"VLOOKUP(tbldados[[#This Row],[APP]],tblbandeira[],3,0)","v":3.49E-2},44635,44668,920.67,{"$f":"tbldados[[#This Row],[VALOR PAGO]]+(tbldados[[#This Row],[VALOR PAGO]]*tbldados[[#This Row],[TAXA]])","v":952.80138299999999},{"$f":"tbldados[[#This Row],[TOTAL BRUTO]]-tbldados[[#This Row],[VALOR PAGO]]","v":32.131383000000028},{"$f":"CHOOSE(MONTH(tbldados[[#This Row],[DATA]]),\"JANEIRO\",\"FEVEREIRO\",\"MARÇO\",\"ABRIL\",\"MAIO\",\"JUNHO\",\"JULHO\",\"AGOSTO\",\"SETEMBRO\",\"OUTUBRO\",\"NOVEMBRO\",\"DEZEMBRO\")","v":"ABRIL"},{"$f":"YEAR(tbldados[[#This Row],[DATA]])","v":2022}]
[487,"GASTOS","01 DE 01","PGTOPANMAE","JUNIOR","RECARGAPAY","PANMAE","CREDITO A VISTA",{"$f":"VLOOKUP(tbldados[[#This Row],[APP]],tblbandeira[],3,0)","v":3.49E-2},44635,44668,920.67,{"$f":"tbldados[[#This Row],[VALOR PAGO]]+(tbldados[[#This Row],[VALOR PAGO]]*tbldados[[#This Row],[TAXA]])","v":952.80138299999999},{"$f":"tbldados[[#This Row],[TOTAL BRUTO]]-tbldados[[#This Row],[VALOR PAGO]]","v":32.131383000000028},{"$f":"CHOOSE(MONTH(tbldados[[#This Row],[DATA]]),\"JANEIRO\",\"FEVEREIRO\",\"MARÇO\",\"ABRIL\",\"MAIO\",\"JUNHO\",\"JULHO\",\"AGOSTO\",\"SETEMBRO\",\"OUTUBRO\",\"NOVEMBRO\",\"DEZEMBRO\")","v":"ABRIL"},{"$f":"YEAR(tbldados[[#This Row],[DATA]])","v":2022}]
[488,"PGTO","01 DE 01","CLICK","MARÇO","GERAL","DÉBITO","DINHEIRO",{"$f":"VLOOKUP(tbldados[[#This Row],[APP]],tblbandeira[],3,0)","v":0},44636,44636,9.83,{"$f":"tbldados[[#This Row],[VALOR PAGO]]+(tbldados[[#This Row],[VALOR PAGO]]*tbldados[[#This Row],[TAXA]])","v":9.83},{"$f":"tbldados[[#This Row],[TOTAL BRUTO]]-tbldados[[#This Row],[VALOR PAGO]]","v":0},{"$f":"CHOOSE(MONTH(tbldados[[#This Row],[DATA]]),\"JANEIRO\",\"FEVEREIRO\",\"MARÇO\",\"ABRIL\",\"MAIO\",\"JUNHO\",\"JULHO\",\"AGOSTO\",\"SETEMBRO\",\"OUTUBRO\",\"NOVEMBRO\",\"DEZEMBRO\")","v":"MARÇO"},{"$f":"YEAR(tbldados[[#This Row],[DATA]])","v":2022}]
[489,"PGTO","01 DE 01","CLICK","MARÇO","CONTA","DÉBITO","DINHEIRO",{"$f":"VLOOKUP(tbldados[[#This Row],[APP]],tblbandeira[],3,0)","v":0},44636,44636,5.83,{"$f":"tbldados[[#This Row],[VALOR PAGO]]+(tbldados[[#This Row],[VALOR PAGO]]*tbldados[[#This Row],[TAXA]])","v":5.83},{"$f":"tbldados[[#This Row],[TOTAL BRUTO]]-tbldados[[#This Row],[VALOR PAGO]]","v":0},{"$f":"CHOOSE(MONTH(tbldados[[#This Row],[DATA]]),\"JANEIRO\",\"FEVEREIRO\",\"MARÇO\",\"ABRIL\",\"MAIO\",\"JUNHO\",\"JULHO\",\"AGOSTO\",\"SETEMBRO\",\"OUTUBRO\",\"NOVEMBRO\",\"DEZEMBRO\")","v":"MARÇO"},{"$f":"YEAR(tbldados[[#This Row],[DATA]])","v":2022}]
[490,"PGTO","01 DE 01","CLICK","MARÇO","RECARGAPAY","PANMAE","CREDITO A VISTA",{"$f":"VLOOKUP(tbldados[[#This Row],[APP]],tblbandeira[],3,0)","v":3.49E-2},44636,44668,1318,{"$f":"tbldados[[#This Row],[VALOR PAGO]]+(tbldados[[#This Row],[VALOR PAGO]]*tbldados[[#This Row],[TAXA]])","v":1363.9982},{"$f":"tbldados[[#This Row],[TOTAL BRUTO]]-tbldados[[#This Row],[VALOR PAGO]]","v":45.998199999999997},{"$f":"CHOOSE(MONTH(tbldados[[#This Row],[DATA]]),\"JANEIRO\",\"FEVEREIRO\",\"MARÇO\",\"ABRIL\",\"MAIO\",\"JUNHO\",\"JULHO\",\"AGOSTO\",\"SETEMBRO\",\"OUTUBRO\",\"NOVEMBRO\",\"DEZEMBRO\")","v":"ABRIL"},{"$f":"YEAR(tbldados[[#This Row],[DATA]])","v":2022}]
[491,"GASTOS","01 DE 01","PGTOCLICK","JUNIOR","RECARGAPAY","PANMAE","CREDITO A VISTA",{"$f":"VLOOKUP(tbldados[[#This Row],[APP]],tblbandeira[],3,0)","v":3.49E-2},44636,44668,1318,{"$f":"tbldados[[#This Row],[VALOR PAGO]]+(tbldados[[#This Row],[VALOR PAGO]]*tbldados[[#This Row],[TAXA]])","v":1363.9982},{"$f":"tbldados[[#This Row],[TOTAL BRUTO]]-tbldados[[#This Row],[VALOR PAGO]]","v":45.998199999999997},{"$f":"CHOOSE(MONTH(tbldados[[#This Row],[DATA]]),\"JANEIRO\",\"FEVEREIRO\",\"MARÇO\",\"ABRIL\",\"MAIO\",\"JUNHO\",\"JULHO\",\"AGOSTO\",\"SETEMBRO\",\"OUTUBRO\",\"NOVEMBRO\",\"DEZEMBRO\")","v":"ABRIL"},{"$f":"YEAR(tbldados[[#This Row],[DATA]])","v":2022}]
[492,"PGTO","01 DE 01","CLICK","MARÇO","RECARGAPAY","CLICK","CREDITO A VISTA",{"$f":"VLOOKUP(tbldados[[#This Row],[APP]],tblbandeira[],3,0)","v":3.49E-2},44636,44668,982,{"$f":"tbldados[[#This Row],[VALOR PAGO]]+(tbldados[[#This Row],[VALOR PAGO]]*tbldados[[#This Row],[TAXA]])","v":1016.2718},{"$f":"tbldados[[#This Row],[TOTAL BRUTO]]-tbldados[[#This Row],[VALOR PAGO]]","v":34.271799999999985},{"$f":"CHOOSE(MONTH(tbldados[[#This Row],[DATA]]),\"JANEIRO\",\"FEVEREIRO\",\"MARÇO\",\"ABRIL\",\"MAIO\",\"JUNHO\",\"JULHO\",\"AGOSTO\",\"SETEMBRO\",\"OUTUBRO\",\"NOVEMBRO\",\"DEZEMBRO\")","v":"ABRIL"},{"$f":"YEAR(tbldados[[#This Row],[DATA]])","v":2022}]
[493,"GASTOS","01 DE 01","PGTOCLICK","JUNIOR","RECARGAPAY","CLICK","CREDITO A VISTA",{"$f":"VLOOKUP(tbldados[[#This Row],[APP]],tblbandeira[],3,0)","v":3.49E-2},44636,44668,982,{"$f":"tbldados[[#This Row],[VALOR PAGO]]+(tbldados[[#This Row],[VALOR PAGO]]*tbldados[[#This Row],[TAXA]])","v":1016.2718},{"$f":"tbldados[[#This Row],[TOTAL BRUTO]]-tbldados[[#This Row],[VALOR PAGO]]","v":34.271799999999985},{"$f":"CHOOSE(MONTH(tbldados[[#This Row],[DATA]]),\"JANEIRO\",\"FEVEREIRO\",\"MARÇO\",\"ABRIL\",\"MAIO\",\"JUNHO\",\"JULHO\",\"AGOSTO\",\"SETEMBRO\",\"OUTUBRO\",\"NOVEMBRO\",\"DEZEMBRO\")","v":"ABRIL"},{"$f":"YEAR(tbldados[[#This Row],[DATA]])","v":2022}]
[494,"PGTO","01 DE 01","WILL","MARÇO","RECARGAPAY","CLICK","CREDITO A VISTA",{"$f":"VLOOKUP(tbldados[[#This Row],[APP]],tblbandeira[],3,0)","v":3.49E-2},44637,44668,1241.0999999999999,{"$f":"tbldados[[#This Row],[VALOR PAGO]]+(tbldados[[#This Row],[VALOR PAGO]]*tbldados[[#This Row],[TAXA]])","v":1284.4143899999999},{"$f":"tbldados[[#This Row],[TOTAL BRUTO]]-tbldados[[#This Row],[VALOR PAGO]]","v":43.314390000000003},{"$f":"CHOOSE(MONTH(tbldados[[#This Row],[DATA]]),\"JANEIRO\",\"FEVEREIRO\",\"MARÇO\",\"ABRIL\",\"MAIO\",\"JUNHO\",\"JULHO\",\"AGOSTO\",\"SETEMBRO\",\"OUTUBRO\",\"NOVEMBRO\",\"DEZEMBRO\")","v":"ABRIL"},{"$f":"YEAR(tbldados[[#This Row],[DATA]])","v":2022}]
[495,"GASTOS","01 DE 01","PGTOWILL","JUNIOR","RECARGAPAY","CLICK","CREDITO A VISTA",{"$f":"VLOOKUP(tbldados[[#This Row],[APP]],tblbandeira[],3,0)","v":3.49E-2},44637,44668,1241.0999999999999,{"$f":"tbldados[[#This Row],[VALOR PAGO]]+(tbldados[[#This Row],[VALOR PAGO]]*tbldados[[#This Row],[TAXA]])","v":1284.4143899999999},{"$f":"tbldados[[#This Row],[TOTAL BRUTO]]-tbldados[[#This Row],[VALOR PAGO]]","v":43.314390000000003},{"$f":"CHOOSE(MONTH(tbldados[[#This Row],[DATA]]),\"JANEIRO\",\"FEVEREIRO\",\"MARÇO\",\"ABRIL\",\"MAIO\",\"JUNHO\",\"JULHO\",\"AGOSTO\",\"SETEMBRO\",\"OUTUBRO\",\"NOVEMBRO\",\"DEZEMBRO\")","v":"ABRIL"},{"$f":"YEAR(tbldados[[#This Row],[DATA]])","v":2022}]
[496,"PGTO","01 DE 01","TRIGMAE","MARÇO","RECARGAPAY","WILL","CREDITO A VISTA",{"$f":"VLOOKUP(tbldados[[#This Row],[APP]],tblbandeira[],3,0)","v":3.49E-2},44637,44671,573.27,{"$f":"tbldados[[#This Row],[VALOR PAGO]]+(tbldados[[#This Row],[VALOR PAGO]]*tbldados[[#This Row],[TAXA]])","v":593.27712299999996},{"$f":"tbldados[[#This Row],[TOTAL BRUTO]]-tbldados[[#This Row],[VALOR PAGO]]","v":20.007122999999979},{"$f":"CHOOSE(MONTH(tbldados[[#This Row],[DATA]]),\"JANEIRO\",\"FEVEREIRO\",\"MARÇO\",\"ABRIL\",\"MAIO\",\"JUNHO\",\"JULHO\",\"AGOSTO\",\"SETEMBRO\",\"OUTUBRO\",\"NOVEMBRO\",\"DEZEMBRO\")","v":"ABRIL"},{"$f":"YEAR(tbldados[[#This Row],[DATA]])","v":2022}]
[497,"GASTOS","01 DE 01","JUROS","JUNIOR","GERAL","TRIGMAE","CREDITO A VISTA",{"$f":"VLOOKUP(tbldados[[#This Row],[APP]],tblbandeira[],3,0)","v":0},44609,44640,8.17,{"$f":"tbldados[[#This Row],[VALOR PAGO]]+(tbldados[[#This Row],[VALOR PAGO]]*tbldados[[#This Row],[TAXA]])","v":8.17},{"$f":"tbldados[[#This Row],[TOTAL BRUTO]]-tbldados[[#This Row],[VALOR PAGO]]","v":0},{"$f":"CHOOSE(MONTH(tbldados[[#This Row],[DATA]]),\"JANEIRO\",\"FEVEREIRO\",\"MARÇO\",\"ABRIL\",\"MAIO\",\"JUNHO\",\"JULHO\",\"AGOSTO\",\"SETEMBRO\",\"OUTUBRO\",\"NOVEMBRO\",\"DEZEMBRO\")","v":"MARÇO"},{"$f":"YEAR(tbldados[[#This Row],[DATA]])","v":2022}]
[498,"GASTOS","01 DE 01","PGTOTRIGMAE","JUNIOR","RECARGAPAY","WILL","CREDITO A VISTA",{"$f":"VLOOKUP(tbldados[[#This Row],[APP]],tblbandeira[],3,0)","v":3.49E-2},44637,44671,573.27,{"$f":"tbldados[[#This Row],[VALOR PAGO]]+(tbldados[[#This Row],[VALOR PAGO]]*tbldados[[#This Row],[TAXA]])","v":593.27712299999996},{"$f":"tbldados[[#This Row],[TOTAL BRUTO]]-tbldados[[#This Row],[VALOR PAGO]]","v":20.007122999999979},{"$f":"CHOOSE(MONTH(tbldados[[#This Row],[DATA]]),\"JANEIRO\",\"FEVEREIRO\",\"MARÇO\",\"ABRIL\",\"MAIO\",\"JUNHO\",\"JULHO\",\"AGOSTO\",\"SETEMBRO\",\"OUTUBRO\",\"NOVEMBRO\",\"DEZEMBRO\")","v":"ABRIL"},{"$f":"YEAR(tbldados[[#This Row],[DATA]])","v":2022}]
[499,"GASTOS","01 DE 01","CLARO","JUNIOR","GERAL","WILL","CREDITO A VISTA",{"$f":"VLOOKUP(tbldados[[#This Row],[APP]],tblbandeira[],3,0)","v":0},44614,44640,30,{"$f":"tbldados[[#This Row],[VALOR PAGO]]+(tbldados[[#This Row],[VALOR PAGO]]*tbldados[[#This Row],[TAXA]])","v":30},{"$f":"tbldados[[#This Row],[TOTAL BRUTO]]-tbldados[[#This Row],[VALOR PAGO]]","v":0},{"$f":"CHOOSE(MONTH(tbldados[[#This Row],[DATA]]),\"JANEIRO\",\"FEVEREIRO\",\"MARÇO\",\"ABRIL\",\"MAIO\",\"JUNHO\",\"JULHO\",\"AGOSTO\",\"SETEMBRO\",\"OUTUBRO\",\"NOVEMBRO\",\"DEZEMBRO\")","v":"MARÇO"},{"$f":"YEAR(tbldados[[#This Row],[DATA]])","v":2022}]
[500,"PGTO","01 DE 01","WILL","MARÇO","CONTA","DÉBITO","DINHEIRO",{"$f":"VLOOKUP(tbldados[[#This Row],[APP]],tblbandeira[],3,0)","v":0},44638,44638,14.43,{"$f":"tbldados[[#This Row],[VALOR PAGO]]+(tbldados[[#This Row],[VALOR PAGO]]*tbldados[[#This Row],[TAXA]])","v":14.43},{"$f":"tbldados[[#This Row],[TOTAL BRUTO]]-tbldados[[#This Row],[VALOR PAGO]]","v":0},{"$f":"CHOOSE(MONTH(tbldados[[#This Row],[DATA]]),\"JANEIRO\",\"FEVEREIRO\",\"MARÇO\",\"ABRIL\",\"MAIO\",\"JUNHO\",\"JULHO\",\"AGOSTO\",\"SETEMBRO\",\"OUTUBRO\",\"NOVEMBRO\",\"DEZEMBRO\")","v":"MARÇO"},{"$f":"YEAR(tbldados[[#This Row],[DATA]])","v":2022}]
[501,"PGTO","01 DE 01","WILL","MARÇO","RECARGAPAY","WILL","CREDITO A VISTA",{"$f":"VLOOKUP(tbldados[[#This Row],[APP]],tblbandeira[],3,0)","v":3.49E-2},44639,44671,1861.71,{"$f":"tbldados[[#This Row],[VALOR PAGO]]+(tbldados[[#This Row],[VALOR PAGO]]*tbldados[[#This Row],[TAXA]])","v":1926.683679},{"$f":"tbldados[[#This Row],[TOTAL BRUTO]]-tbldados[[#This Row],[VALOR PAGO]]","v":64.973678999999947},{"$f":"CHOOSE(MONTH(tbldados[[#This Row],[DATA]]),\"JANEIRO\",\"FEVEREIRO\",\"MARÇO\",\"ABRIL\",\"MAIO\",\"JUNHO\",\"JULHO\",\"AGOSTO\",\"SETEMBRO\",\"OUTUBRO\",\"NOVEMBRO\",\"DEZEMBRO\")","v":"ABRIL"},{"$f":"YEAR(tbldados[[#This Row],[DATA]])","v":2022}]
[502,"GASTOS","01 DE 01","PGTOWILL","JUNIOR","RECARGAPAY","WILL","CREDITO A VISTA",{"$f":"VLOOKUP(tbldados[[#This Row],[APP]],tblbandeira[],3,0)","v":3.49E-2},44639,44671,1861.71,{"$f":"tbldados[[#This Row],[VALOR PAGO]]+(tbldados[[#This Row],[VALOR PAGO]]*tbldados[[#This Row],[TAXA]])","v":1926.683679},{"$f":"tbldados[[#This Row],[TOTAL BRUTO]]-tbldados[[#This Row],[VALOR PAGO]]","v":64.973678999999947},{"$f":"CHOOSE(MONTH(tbldados[[#This Row],[DATA]]),\"JANEIRO\",\"FEVEREIRO\",\"MARÇO\",\"ABRIL\",\"MAIO\",\"JUNHO\",\"JULHO\",\"AGOSTO\",\"SETEMBRO\",\"OUTUBRO\",\"NOVEMBRO\",\"DEZEMBRO\")","v":"ABRIL"},{"$f":"YEAR(tbldados[[#This Row],[DATA]])","v":2022}]
[503,"PGTO","01 DE 01","GOLD","MARÇO","RECARGAPAY","TRIGMAE","CREDITO A VISTA",{"$f":"VLOOKUP(tbldados[[#This Row],[APP]],tblbandeira[],3,0)","v":3.49E-2},44640,44671,676.39,{"$f":"tbldados[[#This Row],[VALOR PAGO]]+(tbldados[[#This Row],[VALOR PAGO]]*tbldados[[#This Row],[TAXA]])","v":699.99601099999995},{"$f":"tbldados[[#This Row],[TOTAL BRUTO]]-tbldados[[#This Row],[VALOR PAGO]]","v":23.606010999999967},{"$f":"CHOOSE(MONTH(tbldados[[#This Row],[DATA]]),\"JANEIRO\",\"FEVEREIRO\",\"MARÇO\",\"ABRIL\",\"MAIO\",\"JUNHO\",\"JULHO\",\"AGOSTO\",\"SETEMBRO\",\"OUTUBRO\",\"NOVEMBRO\",\"DEZEMBRO\")","v":"ABRIL"},{"$f":"YEAR(tbldados[[#This Row],[DATA]])","v":2022}]
[504,"GASTOS","01 DE 01","PGTOGOLD","JUNIOR","RECARGAPAY","TRIGMAE","CREDITO A VISTA",{"$f":"VLOOKUP(tbldados[[#This Row],[APP]],tblbandeira[],3,0)","v":3.49E-2},44640,44671,676.39,{"$f":"tbldados[[#This Row],[VALOR PAGO]]+(tbldados[[#This Row],[VALOR PAGO]]*tbldados[[#This Row],[TAXA]])","v":699.99601099999995},{"$f":"tbldados[[#This Row],[TOTAL BRUTO]]-tbldados[[#This Row],[VALOR PAGO]]","v":23.606010999999967},{"$f":"CHOOSE(MONTH(tbldados[[#This Row],[DATA]]),\"JANEIRO\",\"FEVEREIRO\",\"MARÇO\",\"ABRIL\",\"MAIO\",\"JUNHO\",\"JULHO\",\"AGOSTO\",\"SETEMBRO\",\"OUTUBRO\",\"NOVEMBRO\",\"DEZEMBRO\")","v":"ABRIL"},{"$f":"YEAR(tbldados[[#This Row],[DATA]])","v":2022}]
[505,"PGTO","01 DE 01","GOLD","MARÇO","RECARGAPAY","WILL","CREDITO A VISTA",{"$f":"VLOOKUP(tbldados[[#This Row],[APP]],tblbandeira[],3,0)","v":3.49E-2},44640,44671,573.61,{"$f":"tbldados[[#This Row],[VALOR PAGO]]+(tbldados[[#This Row],[VALOR PAGO]]*tbldados[[#This Row],[TAXA]])","v":593.62898900000005},{"$f":"tbldados[[#This Row],[TOTAL BRUTO]]-tbldados[[#This Row],[VALOR PAGO]]","v":20.018989000000033},{"$f":"CHOOSE(MONTH(tbldados[[#This Row],[DATA]]),\"JANEIRO\",\"FEVEREIRO\",\"MARÇO\",\"ABRIL\",\"MAIO\",\"JUNHO\",\"JULHO\",\"AGOSTO\",\"SETEMBRO\",\"OUTUBRO\",\"NOVEMBRO\",\"DEZEMBRO\")","v":"ABRIL"},{"$f":"YEAR(tbldados[[#This Row],[DATA]])","v":2022}]
[506,"GASTOS","01 DE 01","PGTOGOLD","JUNIOR","RECARGAPAY","WILL","CREDITO A VISTA",{"$f":"VLOOKUP(tbldados[[#This Row],[APP]],tblbandeira[],3,0)","v":3.49E-2},44640,44671,573.61,{"$f":"tbldados[[#This Row],[VALOR PAGO]]+(tbldados[[#This Row],[VALOR PAGO]]*tbldados[[#This Row],[TAXA]])","v":593.62898900000005},{"$f":"tbldados[[#This Row],[TOTAL BRUTO]]-tbldados[[#This Row],[VALOR PAGO]]","v":20.018989000000033},{"$f":"CHOOSE(MONTH(tbldados[[#This Row],[DATA]]),\"JANEIRO\",\"FEVEREIRO\",\"MARÇO\",\"ABRIL\",\"MAIO\",\"JUNHO\",\"JULHO\",\"AGOSTO\",\"SETEMBRO\",\"OUTUBRO\",\"NOVEMBRO\",\"DEZEMBRO\")","v":"ABRIL"},{"$f":"YEAR(tbldados[[#This Row],[DATA]])","v":2022}]
[507,"PGTO","01 DE 01","GOLD","MARÇO","CONTA","DÉBITO","DINHEIRO",{"$f":"VLOOKUP(tbldados[[#This Row],[APP]],tblbandeira[],3,0)","v":0},44640,44640,68.05,{"$f":"tbldados[[#This Row],[VALOR PAGO]]+(tbldados[[#This Row],[VALOR PAGO]]*tbldados[[#This Row],[TAXA]])","v":68.05},{"$f":"tbldados[[#This Row],[TOTAL BRUTO]]-tbldados[[#This Row],[VALOR PAGO]]","v":0},{"$f":"CHOOSE(MONTH(tbldados[[#This Row],[DATA]]),\"JANEIRO\",\"FEVEREIRO\",\"MARÇO\",\"ABRIL\",\"MAIO\",\"JUNHO\",\"JULHO\",\"AGOSTO\",\"SETEMBRO\",\"OUTUBRO\",\"NOVEMBRO\",\"DEZEMBRO\")","v":"MARÇO"},{"$f":"YEAR(tbldados[[#This Row],[DATA]])","v":2022}]
[508,"PGTO","01 DE 01","GOLD","MARÇO","RECARGAPAY","GOLD","CREDITO A VISTA",{"$f":"VLOOKUP(tbldados[[#This Row],[APP]],tblbandeira[],3,0)","v":3.49E-2},44641,44674,1181.95,{"$f":"tbldados[[#This Row],[VALOR PAGO]]+(tbldados[[#This Row],[VALOR PAGO]]*tbldados[[#This Row],[TAXA]])","v":1223.200055},{"$f":"tbldados[[#This Row],[TOTAL BRUTO]]-tbldados[[#This Row],[VALOR PAGO]]","v":41.250054999999975},{"$f":"CHOOSE(MONTH(tbldados[[#This Row],[DATA]]),\"JANEIRO\",\"FEVEREIRO\",\"MARÇO\",\"ABRIL\",\"MAIO\",\"JUNHO\",\"JULHO\",\"AGOSTO\",\"SETEMBRO\",\"OUTUBRO\",\"NOVEMBRO\",\"DEZEMBRO\")","v":"ABRIL"},{"$f":"YEAR(tbldados[[#This Row],[DATA]])","v":2022}]
[509,"GASTOS","01 DE 01","PGTOGOLD","JUNIOR","RECARGAPAY","GOLD","CREDITO A VISTA",{"$f":"VLOOKUP(tbldados[[#This Row],[APP]],tblbandeira[],3,0)","v":3.49E-2},44641,44674,1181.94,{"$f":"tbldados[[#This Row],[VALOR PAGO]]+(tbldados[[#This Row],[VALOR PAGO]]*tbldados[[#This Row],[TAXA]])","v":1223.1897060000001},{"$f":"tbldados[[#This Row],[TOTAL BRUTO]]-tbldados[[#This Row],[VALOR PAGO]]","v":41.24970600000006},{"$f":"CHOOSE(MONTH(tbldados[[#This Row],[DATA]]),\"JANEIRO\",\"FEVEREIRO\",\"MARÇO\",\"ABRIL\",\"MAIO\",\"JUNHO\",\"JULHO\",\"AGOSTO\",\"SETEMBRO\",\"OUTUBRO\",\"NOVEMBRO\",\"DEZEMBRO\")","v":"ABRIL"},{"$f":"YEAR(tbldados[[#This Row],[DATA]])","v":2022}]
[510,"PGTO","01 DE 01","LATAM","MARÇO","RECARGAPAY","GOLD","CREDITO A VISTA",{"$f":"VLOOKUP(tbldados[[#This Row],[APP]],tblbandeira[],3,0)","v":3.49E-2},44643,44674,1233.75,{"$f":"tbldados[[#This Row],[VALOR PAGO]]+(tbldados[[#This Row],[VALOR PAGO]]*tbldados[[#This Row],[TAXA]])","v":1276.807875},{"$f":"tbldados[[#This Row],[TOTAL BRUTO]]-tbldados[[#This Row],[VALOR PAGO]]","v":43.057874999999967},{"$f":"CHOOSE(MONTH(tbldados[[#This Row],[DATA]]),\"JANEIRO\",\"FEVEREIRO\",\"MARÇO\",\"ABRIL\",\"MAIO\",\"JUNHO\",\"JULHO\",\"AGOSTO\",\"SETEMBRO\",\"OUTUBRO\",\"NOVEMBRO\",\"DEZEMBRO\")","v":"ABRIL"},{"$f":"YEAR(tbldados[[#This Row],[DATA]])","v":2022}]
[511,"GASTOS","01 DE 01","PGTOLATAM","JUNIOR","RECARGAPAY","GOLD","CREDITO A VISTA",{"$f":"VLOOKUP(tbldados[[#This Row],[APP]],tblbandeira[],3,0)","v":3.49E-2},44643,44674,1233.75,{"$f":"tbldados[[#This Row],[VALOR PAGO]]+(tbldados[[#This Row],[VALOR PAGO]]*tbldados[[#This Row],[TAXA]])","v":1276.807875},{"$f":"tbldados[[#This Row],[TOTAL BRUTO]]-tbldados[[#This Row],[VALOR PAGO]]","v":43.057874999999967},{"$f":"CHOOSE(MONTH(tbldados[[#This Row],[DATA]]),\"JANEIRO\",\"FEVEREIRO\",\"MARÇO\",\"ABRIL\",\"MAIO\",\"JUNHO\",\"JULHO\",\"AGOSTO\",\"SETEMBRO\",\"OUTUBRO\",\"NOVEMBRO\",\"DEZEMBRO\")","v":"ABRIL"},{"$f":"YEAR(tbldados[[#This Row],[DATA]])","v":2022}]
[512,"PGTO","01 DE 01","C6","ABRIL","CONTA","DÉBITO","DINHEIRO",{"$f":"VLOOKUP(tbldados[[#This Row],[APP]],tblbandeira[],3,0)","v":0},44641,44641,100,{"$f":"tbldados[[#This Row],[VALOR PAGO]]+(tbldados[[#This Row],[VALOR PAGO]]*tbldados[[#This Row],[TAXA]])","v":100},{"$f":"tbldados[[#This Row],[TOTAL BRUTO]]-tbldados[[#This Row],[VALOR PAGO]]","v":0},{"$f":"CHOOSE(MONTH(tbldados[[#This Row],[DATA]]),\"JANEIRO\",\"FEVEREIRO\",\"MARÇO\",\"ABRIL\",\"MAIO\",\"JUNHO\",\"JULHO\",\"AGOSTO\",\"SETEMBRO\",\"OUTUBRO\",\"NOVEMBRO\",\"DEZEMBRO\")","v":"MARÇO"},{"$f":"YEAR(tbldados[[#This Row],[DATA]])","v":2022}]
[513,"GASTOS","01 DE 06","PERFUMARIA","JUNIOR","GERAL","MNEXT","CREDITO PARCELADO",{"$f":"VLOOKUP(tbldados[[#This Row],[APP]],tblbandeira[],3,0)","v":0},44641,44655,42.5,{"$f":"tbldados[[#This Row],[VALOR PAGO]]+(tbldados[[#This Row],[VALOR PAGO]]*tbldados[[#This Row],[TAXA]])","v":42.5},{"$f":"tbldados[[#This Row],[TOTAL BRUTO]]-tbldados[[#This Row],[VALOR PAGO]]","v":0},{"$f":"CHOOSE(MONTH(tbldados[[#This Row],[DATA]]),\"JANEIRO\",\"FEVEREIRO\",\"MARÇO\",\"ABRIL\",\"MAIO\",\"JUNHO\",\"JULHO\",\"AGOSTO\",\"SETEMBRO\",\"OUTUBRO\",\"NOVEMBRO\",\"DEZEMBRO\")","v":"ABRIL"},{"$f":"YEAR(tbldados[[#This Row],[DATA]])","v":2022}]
[514,"GASTOS","02 DE 06","PERFUMARIA","JUNIOR","GERAL","MNEXT","CREDITO PARCELADO",{"$f":"VLOOKUP(tbldados[[#This Row],[APP]],tblbandeira[],3,0)","v":0},44641,44685,42.5,{"$f":"tbldados[[#This Row],[VALOR PAGO]]+(tbldados[[#This Row],[VALOR PAGO]]*tbldados[[#This Row],[TAXA]])","v":42.5},{"$f":"tbldados[[#This Row],[TOTAL BRUTO]]-tbldados[[#This Row],[VALOR PAGO]]","v":0},{"$f":"CHOOSE(MONTH(tbldados[[#This Row],[DATA]]),\"JANEIRO\",\"FEVEREIRO\",\"MARÇO\",\"ABRIL\",\"MAIO\",\"JUNHO\",\"JULHO\",\"AGOSTO\",\"SETEMBRO\",\"OUTUBRO\",\"NOVEMBRO\",\"DEZEMBRO\")","v":"MAIO"},{"$f":"YEAR(tbldados[[#This Row],[DATA]])","v":2022}]
[515,"GASTOS","03 DE 06","PERFUMARIA","JUNIOR","GERAL","MNEXT","CREDITO PARCELADO",{"$f":"VLOOKUP(tbldados[[#This Row],[APP]],tblbandeira[],3,0)","v":0},44641,44716,42.5,{"$f":"tbldados[[#This Row],[VALOR PAGO]]+(tbldados[[#This Row],[VALOR PAGO]]*tbldados[[#This Row],[TAXA]])","v":42.5},{"$f":"tbldados[[#This Row],[TOTAL BRUTO]]-tbldados[[#This Row],[VALOR PAGO]]","v":0},{"$f":"CHOOSE(MONTH(tbldados[[#This Row],[DATA]]),\"JANEIRO\",\"FEVEREIRO\",\"MARÇO\",\"ABRIL\",\"MAIO\",\"JUNHO\",\"JULHO\",\"AGOSTO\",\"SETEMBRO\",\"OUTUBRO\",\"NOVEMBRO\",\"DEZEMBRO\")","v":"JUNHO"},{"$f":"YEAR(tbldados[[#This Row],[DATA]])","v":2022}]
[516,"GASTOS","04 DE 06","PERFUMARIA","JUNIOR","GERAL","MNEXT","CREDITO PARCELADO",{"$f":"VLOOKUP(tbldados[[#This Row],[APP]],tblbandeira[],3,0)","v":0},44641,44746,42.5,{"$f":"tbldados[[#This Row],[VALOR PAGO]]+(tbldados[[#This Row],[VALOR PAGO]]*tbldados[[#This Row],[TAXA]])","v":42.5},{"$f":"tbldados[[#This Row],[TOTAL BRUTO]]-tbldados[[#This Row],[VALOR PAGO]]","v":0},{"$f":"CHOOSE(MONTH(tbldados[[#This Row],[DATA]]),\"JANEIRO\",\"FEVEREIRO\",\"MARÇO\",\"ABRIL\",\"MAIO\",\"JUNHO\",\"JULHO\",\"AGOSTO\",\"SETEMBRO\",\"OUTUBRO\",\"NOVEMBRO\",\"DEZEMBRO\")","v":"JULHO"},{"$f":"YEAR(tbldados[[#This Row],[DATA]])","v":2022}]
[517,"GASTOS","05 DE 06","PERFUMARIA","JUNIOR","GERAL","MNEXT","CREDITO PARCELADO",{"$f":"VLOOKUP(tbldados[[#This Row],[APP]],tblbandeira[],3,0)","v":0},44641,44777,42.5,{"$f":"tbldados[[#This Row],[VALOR PAGO]]+(tbldados[[#This Row],[VALOR PAGO]]*tbldados[[#This Row],[TAXA]])","v":42.5},{"$f":"tbldados[[#This Row],[TOTAL BRUTO]]-tbldados[[#This Row],[VALOR PAGO]]","v":0},{"$f":"CHOOSE(MONTH(tbldados[[#This Row],[DATA]]),\"JANEIRO\",\"FEVEREIRO\",\"MARÇO\",\"ABRIL\",\"MAIO\",\"JUNHO\",\"JULHO\",\"AGOSTO\",\"SETEMBRO\",\"OUTUBRO\",\"NOVEMBRO\",\"DEZEMBRO\")","v":"AGOSTO"},{"$f":"YEAR(tbldados[[#This Row],[DATA]])","v":2022}]
[518,"GASTOS","06 DE 06","PERFUMARIA","JUNIOR","GERAL","MNEXT","CREDITO PARCELADO",{"$f":"VLOOKUP(tbldados[[#This Row],[APP]],tblbandeira[],3,0)","v":0},44641,44808,42.5,{"$f":"tbldados[[#This Row],[VALOR PAGO]]+(tbldados[[#This Row],[VALOR PAGO]]*tbldados[[#This Row],[TAXA]])","v":42.5},{"$f":"tbldados[[#This Row],[TOTAL BRUTO]]-tbldados[[#This Row],[VALOR PAGO]]","v":0},{"$f":"CHOOSE(MONTH(tbldados[[#This Row],[DATA]]),\"JANEIRO\",\"FEVEREIRO\",\"MARÇO\",\"ABRIL\",\"MAIO\",\"JUNHO\",\"JULHO\",\"AGOSTO\",\"SETEMBRO\",\"OUTUBRO\",\"NOVEMBRO\",\"DEZEMBRO\")","v":"SETEMBRO"},{"$f":"YEAR(tbldados[[#This Row],[DATA]])","v":2022}]
[519,"GASTOS","01 DE 02","FARMÁCIA","JUNIOR","GERAL","MNEXT","CREDITO PARCELADO",{"$f":"VLOOKUP(tbldados[[#This Row],[APP]],tblbandeira[],3,0)","v":0},44641,44655,44.3,{"$f":"tbldados[[#This Row],[VALOR PAGO]]+(tbldados[[#This Row],[VALOR PAGO]]*tbldados[[#This Row],[TAXA]])","v":44.3},{"$f":"tbldados[[#This Row],[TOTAL BRUTO]]-tbldados[[#This Row],[VALOR PAGO]]","v":0},{"$f":"CHOOSE(MONTH(tbldados[[#This Row],[DATA]]),\"JANEIRO\",\"FEVEREIRO\",\"MARÇO\",\"ABRIL\",\"MAIO\",\"JUNHO\",\"JULHO\",\"AGOSTO\",\"SETEMBRO\",\"OUTUBRO\",\"NOVEMBRO\",\"DEZEMBRO\")","v":"ABRIL"},{"$f":"YEAR(tbldados[[#This Row],[DATA]])","v":2022}]
[520,"GASTOS","02 DE 02","FARMÁCIA","JUNIOR","GERAL","MNEXT","CREDITO PARCELADO",{"$f":"VLOOKUP(tbldados[[#This Row],[APP]],tblbandeira[],3,0)","v":0},44641,44685,44.3,{"$f":"tbldados[[#This Row],[VALOR PAGO]]+(tbldados[[#This Row],[VALOR PAGO]]*tbldados[[#This Row],[TAXA]])","v":44.3},{"$f":"tbldados[[#This Row],[TOTAL BRUTO]]-tbldados[[#This Row],[VALOR PAGO]]","v":0},{"$f":"CHOOSE(MONTH(tbldados[[#This Row],[DATA]]),\"JANEIRO\",\"FEVEREIRO\",\"MARÇO\",\"ABRIL\",\"MAIO\",\"JUNHO\",\"JULHO\",\"AGOSTO\",\"SETEMBRO\",\"OUTUBRO\",\"NOVEMBRO\",\"DEZEMBRO\")","v":"MAIO"},{"$f":"YEAR(tbldados[[#This Row],[DATA]])","v":2022}]
[521,"PGTO","01 DE 01","LATAM","MARÇO","RECARGAPAY","LATAM","CREDITO A VISTA",{"$f":"VLOOKUP(tbldados[[#This Row],[APP]],tblbandeira[],3,0)","v":3.49E-2},44644,44676,1192.1300000000001,{"$f":"tbldados[[#This Row],[VALOR PAGO]]+(tbldados[[#This Row],[VALOR PAGO]]*tbldados[[#This Row],[TAXA]])","v":1233.7353370000001},{"$f":"tbldados[[#This Row],[TOTAL BRUTO]]-tbldados[[#This Row],[VALOR PAGO]]","v":41.605336999999963},{"$f":"CHOOSE(MONTH(tbldados[[#This Row],[DATA]]),\"JANEIRO\",\"FEVEREIRO\",\"MARÇO\",\"ABRIL\",\"MAIO\",\"JUNHO\",\"JULHO\",\"AGOSTO\",\"SETEMBRO\",\"OUTUBRO\",\"NOVEMBRO\",\"DEZEMBRO\")","v":"ABRIL"},{"$f":"YEAR(tbldados[[#This Row],[DATA]])","v":2022}]
[522,"GASTOS","01 DE 01","PGTOLATAM","JUNIOR","RECARGAPAY","LATAM","CREDITO A VISTA",{"$f":"VLOOKUP(tbldados[[#This Row],[APP]],tblbandeira[],3,0)","v":3.49E-2},44644,44676,1192.1300000000001,{"$f":"tbldados[[#This Row],[VALOR PAGO]]+(tbldados[[#This Row],[VALOR PAGO]]*tbldados[[#This Row],[TAXA]])","v":1233.7353370000001},{"$f":"tbldados[[#This Row],[TOTAL BRUTO]]-tbldados[[#This Row],[VALOR PAGO]]","v":41.605336999999963},{"$f":"CHOOSE(MONTH(tbldados[[#This Row],[DATA]]),\"JANEIRO\",\"FEVEREIRO\",\"MARÇO\",\"ABRIL\",\"MAIO\",\"JUNHO\",\"JULHO\",\"AGOSTO\",\"SETEMBRO\",\"OUTUBRO\",\"NOVEMBRO\",\"DEZEMBRO\")","v":"ABRIL"},{"$f":"YEAR(tbldados[[#This Row],[DATA]])","v":2022}]
[523,"PGTO","01 DE 01","LATAM","MARÇO","RECARGAPAY","LATAM","CREDITO A VISTA",{"$f":"VLOOKUP(tbldados[[#This Row],[APP]],tblbandeira[],3,0)","v":3.49E-2},44645,44676,1152.9000000000001,{"$f":"tbldados[[#This Row],[VALOR PAGO]]+(tbldados[[#This Row],[VALOR PAGO]]*tbldados[[#This Row],[TAXA]])","v":1193.1362100000001},{"$f":"tbldados[[#This Row],[TOTAL BRUTO]]-tbldados[[#This Row],[VALOR PAGO]]","v":40.236210000000028},{"$f":"CHOOSE(MONTH(tbldados[[#This Row],[DATA]]),\"JANEIRO\",\"FEVEREIRO\",\"MARÇO\",\"ABRIL\",\"MAIO\",\"JUNHO\",\"JULHO\",\"AGOSTO\",\"SETEMBRO\",\"OUTUBRO\",\"NOVEMBRO\",\"DEZEMBRO\")","v":"ABRIL"},{"$f":"YEAR(tbldados[[#This Row],[DATA]])","v":2022}]
[524,"GASTOS","01 DE 01","PGTOLATAM","JUNIOR","RECARGAPAY","LATAM","CREDITO A VISTA",{"$f":"VLOOKUP(tbldados[[#This Row],[APP]],tblbandeira[],3,0)","v":3.49E-2},44645,44676,1152.9000000000001,{"$f":"tbldados[[#This Row],[VALOR PAGO]]+(tbldados[[#This Row],[VALOR PAGO]]*tbldados[[#This Row],[TAXA]])","v":1193.1362100000001},{"$f":"tbldados[[#This Row],[TOTAL BRUTO]]-tbldados[[#This Row],[VALOR PAGO]]","v":40.236210000000028},{"$f":"CHOOSE(MONTH(tbldados[[#This Row],[DATA]]),\"JANEIRO\",\"FEVEREIRO\",\"MARÇO\",\"ABRIL\",\"MAIO\",\"JUNHO\",\"JULHO\",\"AGOSTO\",\"SETEMBRO\",\"OUTUBRO\",\"NOVEMBRO\",\"DEZEMBRO\")","v":"ABRIL"},{"$f":"YEAR(tbldados[[#This Row],[DATA]])","v":2022}]
[525,"PGTO","01 DE 01","FREE","MARÇO","RECARGAPAY","LATAM","CREDITO A VISTA",{"$f":"VLOOKUP(tbldados[[#This Row],[APP]],tblbandeira[],3,0)","v":3.49E-2},44646,44676,95.24,{"$f":"tbldados[[#This Row],[VALOR PAGO]]+(tbldados[[#This Row],[VALOR PAGO]]*tbldados[[#This Row],[TAXA]])","v":98.563875999999993},{"$f":"tbldados[[#This Row],[TOTAL BRUTO]]-tbldados[[#This Row],[VALOR PAGO]]","v":3.3238759999999985},{"$f":"CHOOSE(MONTH(tbldados[[#This Row],[DATA]]),\"JANEIRO\",\"FEVEREIRO\",\"MARÇO\",\"ABRIL\",\"MAIO\",\"JUNHO\",\"JULHO\",\"AGOSTO\",\"SETEMBRO\",\"OUTUBRO\",\"NOVEMBRO\",\"DEZEMBRO\")","v":"ABRIL"},{"$f":"YEAR(tbldados[[#This Row],[DATA]])","v":2022}]
[526,"GASTOS","01 DE 01","PGTOFREE","JUNIOR","RECARGAPAY","LATAM","CREDITO A VISTA",{"$f":"VLOOKUP(tbldados[[#This Row],[APP]],tblbandeira[],3,0)","v":3.49E-2},44646,44676,95.24,{"$f":"tbldados[[#This Row],[VALOR PAGO]]+(tbldados[[#This Row],[VALOR PAGO]]*tbldados[[#This Row],[TAXA]])","v":98.563875999999993},{"$f":"tbldados[[#This Row],[TOTAL BRUTO]]-tbldados[[#This Row],[VALOR PAGO]]","v":3.3238759999999985},{"$f":"CHOOSE(MONTH(tbldados[[#This Row],[DATA]]),\"JANEIRO\",\"FEVEREIRO\",\"MARÇO\",\"ABRIL\",\"MAIO\",\"JUNHO\",\"JULHO\",\"AGOSTO\",\"SETEMBRO\",\"OUTUBRO\",\"NOVEMBRO\",\"DEZEMBRO\")","v":"ABRIL"},{"$f":"YEAR(tbldados[[#This Row],[DATA]])","v":2022}]
[527,"PGTO","01 DE 01","LATAM","MARÇO","GERAL","LATAM","CREDITO A VISTA",{"$f":"VLOOKUP(tbldados[[#This Row],[APP]],tblbandeira[],3,0)","v":0},44648,44676,239.68,{"$f":"tbldados[[#This Row],[VALOR PAGO]]+(tbldados[[#This Row],[VALOR PAGO]]*tbldados[[#This Row],[TAXA]])","v":239.68},{"$f":"tbldados[[#This Row],[TOTAL BRUTO]]-tbldados[[#This Row],[VALOR PAGO]]","v":0},{"$f":"CHOOSE(MONTH(tbldados[[#This Row],[DATA]]),\"JANEIRO\",\"FEVEREIRO\",\"MARÇO\",\"ABRIL\",\"MAIO\",\"JUNHO\",\"JULHO\",\"AGOSTO\",\"SETEMBRO\",\"OUTUBRO\",\"NOVEMBRO\",\"DEZEMBRO\")","v":"ABRIL"},{"$f":"YEAR(tbldados[[#This Row],[DATA]])","v":2022}]
[528,"GASTOS","01 DE 01","PGTO","JUNIOR","GERAL","ZERO","CREDITO A VISTA",{"$f":"VLOOKUP(tbldados[[#This Row],[APP]],tblbandeira[],3,0)","v":0},44623,44654,980.11,{"$f":"tbldados[[#This Row],[VALOR PAGO]]+(tbldados[[#This Row],[VALOR PAGO]]*tbldados[[#This Row],[TAXA]])","v":980.11},{"$f":"tbldados[[#This Row],[TOTAL BRUTO]]-tbldados[[#This Row],[VALOR PAGO]]","v":0},{"$f":"CHOOSE(MONTH(tbldados[[#This Row],[DATA]]),\"JANEIRO\",\"FEVEREIRO\",\"MARÇO\",\"ABRIL\",\"MAIO\",\"JUNHO\",\"JULHO\",\"AGOSTO\",\"SETEMBRO\",\"OUTUBRO\",\"NOVEMBRO\",\"DEZEMBRO\")","v":"ABRIL"},{"$f":"YEAR(tbldados[[#This Row],[DATA]])","v":2022}]
[529,"PGTO","01 DE 01","ZERO","ABRIL","RECARGAPAY","LATAM","CREDITO A VISTA",{"$f":"VLOOKUP(tbldados[[#This Row],[APP]],tblbandeira[],3,0)","v":3.49E-2},44648,44676,1214.23,{"$f":"tbldados[[#This Row],[VALOR PAGO]]+(tbldados[[#This Row],[VALOR PAGO]]*tbldados[[#This Row],[TAXA]])","v":1256.6066270000001},{"$f":"tbldados[[#This Row],[TOTAL BRUTO]]-tbldados[[#This Row],[VALOR PAGO]]","v":42.376627000000099},{"$f":"CHOOSE(MONTH(tbldados[[#This Row],[DATA]]),\"JANEIRO\",\"FEVEREIRO\",\"MARÇO\",\"ABRIL\",\"MAIO\",\"JUNHO\",\"JULHO\",\"AGOSTO\",\"SETEMBRO\",\"OUTUBRO\",\"NOVEMBRO\",\"DEZEMBRO\")","v":"ABRIL"},{"$f":"YEAR(tbldados[[#This Row],[DATA]])","v":2022}]
[530,"GASTOS","01 DE 01","PGTOZERO","JUNIOR","RECARGAPAY","LATAM","CREDITO A VISTA",{"$f":"VLOOKUP(tbldados[[#This Row],[APP]],tblbandeira[],3,0)","v":3.49E-2},44648,44676,1214.23,{"$f":"tbldados[[#This Row],[VALOR PAGO]]+(tbldados[[#This Row],[VALOR PAGO]]*tbldados[[#This Row],[TAXA]])","v":1256.6066270000001},{"$f":"tbldados[[#This Row],[TOTAL BRUTO]]-tbldados[[#This Row],[VALOR PAGO]]","v":42.376627000000099},{"$f":"CHOOSE(MONTH(tbldados[[#This Row],[DATA]]),\"JANEIRO\",\"FEVEREIRO\",\"MARÇO\",\"ABRIL\",\"MAIO\",\"JUNHO\",\"JULHO\",\"AGOSTO\",\"SETEMBRO\",\"OUTUBRO\",\"NOVEMBRO\",\"DEZEMBRO\")","v":"ABRIL"},{"$f":"YEAR(tbldados[[#This Row],[DATA]])","v":2022}]
[531,"PGTO","01 DE 01","ZERO","ABRIL","RECARGAPAY","ZERO","CREDITO A VISTA",{"$f":"VLOOKUP(tbldados[[#This Row],[APP]],tblbandeira[],3,0)","v":3.49E-2},44649,44684,385.77,{"$f":"tbldados[[#This Row],[VALOR PAGO]]+(tbldados[[#This Row],[VALOR PAGO]]*tbldados[[#This Row],[TAXA]])","v":399.23337299999997},{"$f":"tbldados[[#This Row],[TOTAL BRUTO]]-tbldados[[#This Row],[VALOR PAGO]]","v":13.46337299999999},{"$f":"CHOOSE(MONTH(tbldados[[#This Row],[DATA]]),\"JANEIRO\",\"FEVEREIRO\",\"MARÇO\",\"ABRIL\",\"MAIO\",\"JUNHO\",\"JULHO\",\"AGOSTO\",\"SETEMBRO\",\"OUTUBRO\",\"NOVEMBRO\",\"DEZEMBRO\")","v":"MAIO"},{"$f":"YEAR(tbldados[[#This Row],[DATA]])","v":2022}]
[532,"GASTOS","01 DE 01","PGTOZERO","JUNIOR","RECARGAPAY","ZERO","CREDITO A VISTA",{"$f":"VLOOKUP(tbldados[[#This Row],[APP]],tblbandeira[],3,0)","v":3.49E-2},44649,44684,385.77,{"$f":"tbldados[[#This Row],[VALOR PAGO]]+(tbldados[[#This Row],[VALOR PAGO]]*tbldados[[#This Row],[TAXA]])","v":399.23337299999997},{"$f":"tbldados[[#This Row],[TOTAL BRUTO]]-tbldados[[#This Row],[VALOR PAGO]]","v":13.46337299999999},{"$f":"CHOOSE(MONTH(tbldados[[#This Row],[DATA]]),\"JANEIRO\",\"FEVEREIRO\",\"MARÇO\",\"ABRIL\",\"MAIO\",\"JUNHO\",\"JULHO\",\"AGOSTO\",\"SETEMBRO\",\"OUTUBRO\",\"NOVEMBRO\",\"DEZEMBRO\")","v":"MAIO"},{"$f":"YEAR(tbldados[[#This Row],[DATA]])","v":2022}]
[533,"PGTO","01 DE 01","C6","ABRIL","RECARGAPAY","ZERO","CREDITO A VISTA",{"$f":"VLOOKUP(tbldados[[#This Row],[APP]],tblbandeira[],3,0)","v":3.49E-2},44651,44684,1160.27,{"$f":"tbldados[[#This Row],[VALOR PAGO]]+(tbldados[[#This Row],[VALOR PAGO]]*tbldados[[#This Row],[TAXA]])","v":1200.7634229999999},{"$f":"tbldados[[#This Row],[TOTAL BRUTO]]-tbldados[[#This Row],[VALOR PAGO]]","v":40.493422999999893},{"$f":"CHOOSE(MONTH(tbldados[[#This Row],[DATA]]),\"JANEIRO\",\"FEVEREIRO\",\"MARÇO\",\"ABRIL\",\"MAIO\",\"JUNHO\",\"JULHO\",\"AGOSTO\",\"SETEMBRO\",\"OUTUBRO\",\"NOVEMBRO\",\"DEZEMBRO\")","v":"MAIO"},{"$f":"YEAR(tbldados[[#This Row],[DATA]])","v":2022}]
[534,"GASTOS","01 DE 01","PGTOC6","JUNIOR","RECARGAPAY","ZERO","CREDITO A VISTA",{"$f":"VLOOKUP(tbldados[[#This Row],[APP]],tblbandeira[],3,0)","v":3.49E-2},44651,44684,1160.27,{"$f":"tbldados[[#This Row],[VALOR PAGO]]+(tbldados[[#This Row],[VALOR PAGO]]*tbldados[[#This Row],[TAXA]])","v":1200.7634229999999},{"$f":"tbldados[[#This Row],[TOTAL BRUTO]]-tbldados[[#This Row],[VALOR PAGO]]","v":40.493422999999893},{"$f":"CHOOSE(MONTH(tbldados[[#This Row],[DATA]]),\"JANEIRO\",\"FEVEREIRO\",\"MARÇO\",\"ABRIL\",\"MAIO\",\"JUNHO\",\"JULHO\",\"AGOSTO\",\"SETEMBRO\",\"OUTUBRO\",\"NOVEMBRO\",\"DEZEMBRO\")","v":"MAIO"},{"$f":"YEAR(tbldados[[#This Row],[DATA]])","v":2022}]
[535,"GASTOS","01 DE 01","MEMORY CARD","JUNIOR","GERAL","C6","CREDITO A VISTA",{"$f":"VLOOKUP(tbldados[[#This Row],[APP]],tblbandeira[],3,0)","v":0},44635,44652,66.349999999999994,{"$f":"tbldados[[#This Row],[VALOR PAGO]]+(tbldados[[#This Row],[VALOR PAGO]]*tbldados[[#This Row],[TAXA]])","v":66.349999999999994},{"$f":"tbldados[[#This Row],[TOTAL BRUTO]]-tbldados[[#This Row],[VALOR PAGO]]","v":0},{"$f":"CHOOSE(MONTH(tbldados[[#This Row],[DATA]]),\"JANEIRO\",\"FEVEREIRO\",\"MARÇO\",\"ABRIL\",\"MAIO\",\"JUNHO\",\"JULHO\",\"AGOSTO\",\"SETEMBRO\",\"OUTUBRO\",\"NOVEMBRO\",\"DEZEMBRO\")","v":"ABRIL"},{"$f":"YEAR(tbldados[[#This Row],[DATA]])","v":2022}]
[536,"GASTOS","01 DE 01","JANTA","JUNIOR","GERAL","C6","CREDITO A VISTA",{"$f":"VLOOKUP(tbldados[[#This Row],[APP]],tblbandeira[],3,0)","v":0},44621,44652,26,{"$f":"tbldados[[#This Row],[VALOR PAGO]]+(tbldados[[#This Row],[VALOR PAGO]]*tbldados[[#This Row],[TAXA]])","v":26},{"$f":"tbldados[[#This Row],[TOTAL BRUTO]]-tbldados[[#This Row],[VALOR PAGO]]","v":0},{"$f":"CHOOSE(MONTH(tbldados[[#This Row],[DATA]]),\"JANEIRO\",\"FEVEREIRO\",\"MARÇO\",\"ABRIL\",\"MAIO\",\"JUNHO\",\"JULHO\",\"AGOSTO\",\"SETEMBRO\",\"OUTUBRO\",\"NOVEMBRO\",\"DEZEMBRO\")","v":"ABRIL"},{"$f":"YEAR(tbldados[[#This Row],[DATA]])","v":2022}]
[537,"GASTOS","01 DE 01","ACESSÓRIOS","JUNIOR","GERAL","C6","CREDITO A VISTA",{"$f":"VLOOKUP(tbldados[[#This Row],[APP]],tblbandeira[],3,0)","v":0},44623,44652,29.85,{"$f":"tbldados[[#This Row],[VALOR PAGO]]+(tbldados[[#This Row],[VALOR PAGO]]*tbldados[[#This Row],[TAXA]])","v":29.85},{"$f":"tbldados[[#This Row],[TOTAL BRUTO]]-tbldados[[#This Row],[VALOR PAGO]]","v":0},{"$f":"CHOOSE(MONTH(tbldados[[#This Row],[DATA]]),\"JANEIRO\",\"FEVEREIRO\",\"MARÇO\",\"ABRIL\",\"MAIO\",\"JUNHO\",\"JULHO\",\"AGOSTO\",\"SETEMBRO\",\"OUTUBRO\",\"NOVEMBRO\",\"DEZEMBRO\")","v":"ABRIL"},{"$f":"YEAR(tbldados[[#This Row],[DATA]])","v":2022}]
[538,"PGTO","01 DE 01","C6","ABRIL","CONTA","DÉBITO","DINHEIRO",{"$f":"VLOOKUP(tbldados[[#This Row],[APP]],tblbandeira[],3,0)","v":0},44651,44651,180,{"$f":"tbldados[[#This Row],[VALOR PAGO]]+(tbldados[[#This Row],[VALOR PAGO]]*tbldados[[#This Row],[TAXA]])","v":180},{"$f":"tbldados[[#This Row],[TOTAL BRUTO]]-tbldados[[#This Row],[VALOR PAGO]]","v":0},{"$f":"CHOOSE(MONTH(tbldados[[#This Row],[DATA]]),\"JANEIRO\",\"FEVEREIRO\",\"MARÇO\",\"ABRIL\",\"MAIO\",\"JUNHO\",\"JULHO\",\"AGOSTO\",\"SETEMBRO\",\"OUTUBRO\",\"NOVEMBRO\",\"DEZEMBRO\")","v":"MARÇO"},{"$f":"YEAR(tbldados[[#This Row],[DATA]])","v":2022}]
[539,"PGTO","01 DE 01","C6","ABRIL","RECARGAPAY","C6","CREDITO A VISTA",{"$f":"VLOOKUP(tbldados[[#This Row],[APP]],tblbandeira[],3,0)","v":3.49E-2},44652,44682,803.32,{"$f":"tbldados[[#This Row],[VALOR PAGO]]+(tbldados[[#This Row],[VALOR PAGO]]*tbldados[[#This Row],[TAXA]])","v":831.3558680000001},{"$f":"tbldados[[#This Row],[TOTAL BRUTO]]-tbldados[[#This Row],[VALOR PAGO]]","v":28.03586800000005},{"$f":"CHOOSE(MONTH(tbldados[[#This Row],[DATA]]),\"JANEIRO\",\"FEVEREIRO\",\"MARÇO\",\"ABRIL\",\"MAIO\",\"JUNHO\",\"JULHO\",\"AGOSTO\",\"SETEMBRO\",\"OUTUBRO\",\"NOVEMBRO\",\"DEZEMBRO\")","v":"MAIO"},{"$f":"YEAR(tbldados[[#This Row],[DATA]])","v":2022}]
[540,"GASTOS","01 DE 01","PGTOC6","JUNIOR","RECARGAPAY","C6","CREDITO A VISTA",{"$f":"VLOOKUP(tbldados[[#This Row],[APP]],tblbandeira[],3,0)","v":3.49E-2},44652,44682,803.32,{"$f":"tbldados[[#This Row],[VALOR PAGO]]+(tbldados[[#This Row],[VALOR PAGO]]*tbldados[[#This Row],[TAXA]])","v":831.3558680000001},{"$f":"tbldados[[#This Row],[TOTAL BRUTO]]-tbldados[[#This Row],[VALOR PAGO]]","v":28.03586800000005},{"$f":"CHOOSE(MONTH(tbldados[[#This Row],[DATA]]),\"JANEIRO\",\"FEVEREIRO\",\"MARÇO\",\"ABRIL\",\"MAIO\",\"JUNHO\",\"JULHO\",\"AGOSTO\",\"SETEMBRO\",\"OUTUBRO\",\"NOVEMBRO\",\"DEZEMBRO\")","v":"MAIO"},{"$f":"YEAR(tbldados[[#This Row],[DATA]])","v":2022}]
[541,"GASTOS","01 DE 01","PGTO","JUNIOR","RECARGAPAY","MELIUZ","CREDITO A VISTA",{"$f":"VLOOKUP(tbldados[[#This Row],[APP]],tblbandeira[],3,0)","v":3.49E-2},44621,44652,1359.55,{"$f":"tbldados[[#This Row],[VALOR PAGO]]+(tbldados[[#This Row],[VALOR PAGO]]*tbldados[[#This Row],[TAXA]])","v":1406.9982949999999},{"$f":"tbldados[[#This Row],[TOTAL BRUTO]]-tbldados[[#This Row],[VALOR PAGO]]","v":47.448294999999916},{"$f":"CHOOSE(MONTH(tbldados[[#This Row],[DATA]]),\"JANEIRO\",\"FEVEREIRO\",\"MARÇO\",\"ABRIL\",\"MAIO\",\"JUNHO\",\"JULHO\",\"AGOSTO\",\"SETEMBRO\",\"OUTUBRO\",\"NOVEMBRO\",\"DEZEMBRO\")","v":"ABRIL"},{"$f":"YEAR(tbldados[[#This Row],[DATA]])","v":2022}]
[542,"PGTO","01 DE 01","MELIUZ","ABRIL","RECARGAPAY","C6","CREDITO A VISTA",{"$f":"VLOOKUP(tbldados[[#This Row],[APP]],tblbandeira[],3,0)","v":3.49E-2},44652,44682,935.04,{"$f":"tbldados[[#This Row],[VALOR PAGO]]+(tbldados[[#This Row],[VALOR PAGO]]*tbldados[[#This Row],[TAXA]])","v":967.67289599999992},{"$f":"tbldados[[#This Row],[TOTAL BRUTO]]-tbldados[[#This Row],[VALOR PAGO]]","v":32.63289599999996},{"$f":"CHOOSE(MONTH(tbldados[[#This Row],[DATA]]),\"JANEIRO\",\"FEVEREIRO\",\"MARÇO\",\"ABRIL\",\"MAIO\",\"JUNHO\",\"JULHO\",\"AGOSTO\",\"SETEMBRO\",\"OUTUBRO\",\"NOVEMBRO\",\"DEZEMBRO\")","v":"MAIO"},{"$f":"YEAR(tbldados[[#This Row],[DATA]])","v":2022}]
[543,"GASTOS","01 DE 01","PGTOMELIUZ","JUNIOR","RECARGAPAY","C6","CREDITO A VISTA",{"$f":"VLOOKUP(tbldados[[#This Row],[APP]],tblbandeira[],3,0)","v":3.49E-2},44652,44682,935.04,{"$f":"tbldados[[#This Row],[VALOR PAGO]]+(tbldados[[#This Row],[VALOR PAGO]]*tbldados[[#This Row],[TAXA]])","v":967.67289599999992},{"$f":"tbldados[[#This Row],[TOTAL BRUTO]]-tbldados[[#This Row],[VALOR PAGO]]","v":32.63289599999996},{"$f":"CHOOSE(MONTH(tbldados[[#This Row],[DATA]]),\"JANEIRO\",\"FEVEREIRO\",\"MARÇO\",\"ABRIL\",\"MAIO\",\"JUNHO\",\"JULHO\",\"AGOSTO\",\"SETEMBRO\",\"OUTUBRO\",\"NOVEMBRO\",\"DEZEMBRO\")","v":"MAIO"},{"$f":"YEAR(tbldados[[#This Row],[DATA]])","v":2022}]
[544,"PGTO","01 DE 01","MELIUZ","ABRIL","CONTA","DÉBITO","DINHEIRO",{"$f":"VLOOKUP(tbldados[[#This Row],[APP]],tblbandeira[],3,0)","v":0},44652,44652,32.630000000000003,{"$f":"tbldados[[#This Row],[VALOR PAGO]]+(tbldados[[#This Row],[VALOR PAGO]]*tbldados[[#This Row],[TAXA]])","v":32.630000000000003},{"$f":"tbldados[[#This Row],[TOTAL BRUTO]]-tbldados[[#This Row],[VALOR PAGO]]","v":0},{"$f":"CHOOSE(MONTH(tbldados[[#This Row],[DATA]]),\"JANEIRO\",\"FEVEREIRO\",\"MARÇO\",\"ABRIL\",\"MAIO\",\"JUNHO\",\"JULHO\",\"AGOSTO\",\"SETEMBRO\",\"OUTUBRO\",\"NOVEMBRO\",\"DEZEMBRO\")","v":"ABRIL"},{"$f":"YEAR(tbldados[[#This Row],[DATA]])","v":2022}]
[545,"PGTO","01 DE 01","MELIUZ","ABRIL","RECARGAPAY","MELIUZ","CREDITO A VISTA",{"$f":"VLOOKUP(tbldados[[#This Row],[APP]],tblbandeira[],3,0)","v":3.49E-2},44652,44682,902.4,{"$f":"tbldados[[#This Row],[VALOR PAGO]]+(tbldados[[#This Row],[VALOR PAGO]]*tbldados[[#This Row],[TAXA]])","v":933.89375999999993},{"$f":"tbldados[[#This Row],[TOTAL BRUTO]]-tbldados[[#This Row],[VALOR PAGO]]","v":31.493759999999952},{"$f":"CHOOSE(MONTH(tbldados[[#This Row],[DATA]]),\"JANEIRO\",\"FEVEREIRO\",\"MARÇO\",\"ABRIL\",\"MAIO\",\"JUNHO\",\"JULHO\",\"AGOSTO\",\"SETEMBRO\",\"OUTUBRO\",\"NOVEMBRO\",\"DEZEMBRO\")","v":"MAIO"},{"$f":"YEAR(tbldados[[#This Row],[DATA]])","v":2022}]
[546,"GASTOS","01 DE 01","PGTOMELIUZ","JUNIOR","RECARGAPAY","MELIUZ","CREDITO A VISTA",{"$f":"VLOOKUP(tbldados[[#This Row],[APP]],tblbandeira[],3,0)","v":3.49E-2},44652,44682,902.4,{"$f":"tbldados[[#This Row],[VALOR PAGO]]+(tbldados[[#This Row],[VALOR PAGO]]*tbldados[[#This Row],[TAXA]])","v":933.89375999999993},{"$f":"tbldados[[#This Row],[TOTAL BRUTO]]-tbldados[[#This Row],[VALOR PAGO]]","v":31.493759999999952},{"$f":"CHOOSE(MONTH(tbldados[[#This Row],[DATA]]),\"JANEIRO\",\"FEVEREIRO\",\"MARÇO\",\"ABRIL\",\"MAIO\",\"JUNHO\",\"JULHO\",\"AGOSTO\",\"SETEMBRO\",\"OUTUBRO\",\"NOVEMBRO\",\"DEZEMBRO\")","v":"MAIO"},{"$f":"YEAR(tbldados[[#This Row],[DATA]])","v":2022}]
[547,"PGTO","01 DE 01","AZUL","ABRIL","GERAL","MELIUZ","CREDITO A VISTA",{"$f":"VLOOKUP(tbldados[[#This Row],[APP]],tblbandeira[],3,0)","v":0},44655,44682,936,{"$f":"tbldados[[#This Row],[VALOR PAGO]]+(tbldados[[#This Row],[VALOR PAGO]]*tbldados[[#This Row],[TAXA]])","v":936},{"$f":"tbldados[[#This Row],[TOTAL BRUTO]]-tbldados[[#This Row],[VALOR PAGO]]","v":0},{"$f":"CHOOSE(MONTH(tbldados[[#This Row],[DATA]]),\"JANEIRO\",\"FEVEREIRO\",\"MARÇO\",\"ABRIL\",\"MAIO\",\"JUNHO\",\"JULHO\",\"AGOSTO\",\"SETEMBRO\",\"OUTUBRO\",\"NOVEMBRO\",\"DEZEMBRO\")","v":"MAIO"},{"$f":"YEAR(tbldados[[#This Row],[DATA]])","v":2022}]
[548,"GASTOS","01 DE 01","PGTOAZUL","JUNIOR","GERAL","MELIUZ","CREDITO A VISTA",{"$f":"VLOOKUP(tbldados[[#This Row],[APP]],tblbandeira[],3,0)","v":0},44655,44682,936,{"$f":"tbldados[[#This Row],[VALOR PAGO]]+(tbldados[[#This Row],[VALOR PAGO]]*tbldados[[#This Row],[TAXA]])","v":936},{"$f":"tbldados[[#This Row],[TOTAL BRUTO]]-tbldados[[#This Row],[VALOR PAGO]]","v":0},{"$f":"CHOOSE(MONTH(tbldados[[#This Row],[DATA]]),\"JANEIRO\",\"FEVEREIRO\",\"MARÇO\",\"ABRIL\",\"MAIO\",\"JUNHO\",\"JULHO\",\"AGOSTO\",\"SETEMBRO\",\"OUTUBRO\",\"NOVEMBRO\",\"DEZEMBRO\")","v":"MAIO"},{"$f":"YEAR(tbldados[[#This Row],[DATA]])","v":2022}]
[549,"PGTO","01 DE 01","C6MAE","ABRIL","GERAL","PAGMAE","CREDITO A VISTA",{"$f":"VLOOKUP(tbldados[[#This Row],[APP]],tblbandeira[],3,0)","v":0},44655,44691,210,{"$f":"tbldados[[#This Row],[VALOR PAGO]]+(tbldados[[#This Row],[VALOR PAGO]]*tbldados[[#This Row],[TAXA]])","v":210},{"$f":"tbldados[[#This Row],[TOTAL BRUTO]]-tbldados[[#This Row],[VALOR PAGO]]","v":0},{"$f":"CHOOSE(MONTH(tbldados[[#This Row],[DATA]]),\"JANEIRO\",\"FEVEREIRO\",\"MARÇO\",\"ABRIL\",\"MAIO\",\"JUNHO\",\"JULHO\",\"AGOSTO\",\"SETEMBRO\",\"OUTUBRO\",\"NOVEMBRO\",\"DEZEMBRO\")","v":"MAIO"},{"$f":"YEAR(tbldados[[#This Row],[DATA]])","v":2022}]
[550,"GASTOS","01 DE 01","PGTOC6MAE","JUNIOR","GERAL","PAGMAE","CREDITO A VISTA",{"$f":"VLOOKUP(tbldados[[#This Row],[APP]],tblbandeira[],3,0)","v":0},44655,44691,210,{"$f":"tbldados[[#This Row],[VALOR PAGO]]+(tbldados[[#This Row],[VALOR PAGO]]*tbldados[[#This Row],[TAXA]])","v":210},{"$f":"tbldados[[#This Row],[TOTAL BRUTO]]-tbldados[[#This Row],[VALOR PAGO]]","v":0},{"$f":"CHOOSE(MONTH(tbldados[[#This Row],[DATA]]),\"JANEIRO\",\"FEVEREIRO\",\"MARÇO\",\"ABRIL\",\"MAIO\",\"JUNHO\",\"JULHO\",\"AGOSTO\",\"SETEMBRO\",\"OUTUBRO\",\"NOVEMBRO\",\"DEZEMBRO\")","v":"MAIO"},{"$f":"YEAR(tbldados[[#This Row],[DATA]])","v":2022}]
[551,"PGTO","01 DE 01","AZUL","ABRIL","RECARGAPAY","AZUL","CREDITO A VISTA",{"$f":"VLOOKUP(tbldados[[#This Row],[APP]],tblbandeira[],3,0)","v":3.49E-2},44656,44687,919.49,{"$f":"tbldados[[#This Row],[VALOR PAGO]]+(tbldados[[#This Row],[VALOR PAGO]]*tbldados[[#This Row],[TAXA]])","v":951.58020099999999},{"$f":"tbldados[[#This Row],[TOTAL BRUTO]]-tbldados[[#This Row],[VALOR PAGO]]","v":32.090200999999979},{"$f":"CHOOSE(MONTH(tbldados[[#This Row],[DATA]]),\"JANEIRO\",\"FEVEREIRO\",\"MARÇO\",\"ABRIL\",\"MAIO\",\"JUNHO\",\"JULHO\",\"AGOSTO\",\"SETEMBRO\",\"OUTUBRO\",\"NOVEMBRO\",\"DEZEMBRO\")","v":"MAIO"},{"$f":"YEAR(tbldados[[#This Row],[DATA]])","v":2022}]
[552,"GASTOS","01 DE 01","PGTOAZUL","JUNIOR","RECARGAPAY","AZUL","CREDITO A VISTA",{"$f":"VLOOKUP(tbldados[[#This Row],[APP]],tblbandeira[],3,0)","v":3.49E-2},44656,44687,919.49,{"$f":"tbldados[[#This Row],[VALOR PAGO]]+(tbldados[[#This Row],[VALOR PAGO]]*tbldados[[#This Row],[TAXA]])","v":951.58020099999999},{"$f":"tbldados[[#This Row],[TOTAL BRUTO]]-tbldados[[#This Row],[VALOR PAGO]]","v":32.090200999999979},{"$f":"CHOOSE(MONTH(tbldados[[#This Row],[DATA]]),\"JANEIRO\",\"FEVEREIRO\",\"MARÇO\",\"ABRIL\",\"MAIO\",\"JUNHO\",\"JULHO\",\"AGOSTO\",\"SETEMBRO\",\"OUTUBRO\",\"NOVEMBRO\",\"DEZEMBRO\")","v":"MAIO"},{"$f":"YEAR(tbldados[[#This Row],[DATA]])","v":2022}]
[553,"PGTO","01 DE 01","AZUL","ABRIL","RECARGAPAY","AZUL","CREDITO A VISTA",{"$f":"VLOOKUP(tbldados[[#This Row],[APP]],tblbandeira[],3,0)","v":3.49E-2},44656,44687,287.01,{"$f":"tbldados[[#This Row],[VALOR PAGO]]+(tbldados[[#This Row],[VALOR PAGO]]*tbldados[[#This Row],[TAXA]])","v":297.02664899999996},{"$f":"tbldados[[#This Row],[TOTAL BRUTO]]-tbldados[[#This Row],[VALOR PAGO]]","v":10.016648999999973},{"$f":"CHOOSE(MONTH(tbldados[[#This Row],[DATA]]),\"JANEIRO\",\"FEVEREIRO\",\"MARÇO\",\"ABRIL\",\"MAIO\",\"JUNHO\",\"JULHO\",\"AGOSTO\",\"SETEMBRO\",\"OUTUBRO\",\"NOVEMBRO\",\"DEZEMBRO\")","v":"MAIO"},{"$f":"YEAR(tbldados[[#This Row],[DATA]])","v":2022}]
[554,"GASTOS","01 DE 01","PGTOAZUL","JUNIOR","RECARGAPAY","AZUL","CREDITO A VISTA",{"$f":"VLOOKUP(tbldados[[#This Row],[APP]],tblbandeira[],3,0)","v":3.49E-2},44656,44687,287.01,{"$f":"tbldados[[#This Row],[VALOR PAGO]]+(tbldados[[#This Row],[VALOR PAGO]]*tbldados[[#This Row],[TAXA]])","v":297.02664899999996},{"$f":"tbldados[[#This Row],[TOTAL BRUTO]]-tbldados[[#This Row],[VALOR PAGO]]","v":10.016648999999973},{"$f":"CHOOSE(MONTH(tbldados[[#This Row],[DATA]]),\"JANEIRO\",\"FEVEREIRO\",\"MARÇO\",\"ABRIL\",\"MAIO\",\"JUNHO\",\"JULHO\",\"AGOSTO\",\"SETEMBRO\",\"OUTUBRO\",\"NOVEMBRO\",\"DEZEMBRO\")","v":"MAIO"},{"$f":"YEAR(tbldados[[#This Row],[DATA]])","v":2022}]
[555,"PGTO","01 DE 01","AZUL","ABRIL","CONTA","DÉBITO","DINHEIRO",{"$f":"VLOOKUP(tbldados[[#This Row],[APP]],tblbandeira[],3,0)","v":0},44656,44656,15.3,{"$f":"tbldados[[#This Row],[VALOR PAGO]]+(tbldados[[#This Row],[VALOR PAGO]]*tbldados[[#This Row],[TAXA]])","v":15.3},{"$f":"tbldados[[#This Row],[TOTAL BRUTO]]-tbldados[[#This Row],[VALOR PAGO]]","v":0},{"$f":"CHOOSE(MONTH(tbldados[[#This Row],[DATA]]),\"JANEIRO\",\"FEVEREIRO\",\"MARÇO\",\"ABRIL\",\"MAIO\",\"JUNHO\",\"JULHO\",\"AGOSTO\",\"SETEMBRO\",\"OUTUBRO\",\"NOVEMBRO\",\"DEZEMBRO\")","v":"ABRIL"},{"$f":"YEAR(tbldados[[#This Row],[DATA]])","v":2022}]
[556,"PGTO","01 DE 01","PAGMAE","ABRIL","CONTA","DÉBITO","DINHEIRO",{"$f":"VLOOKUP(tbldados[[#This Row],[APP]],tblbandeira[],3,0)","v":0},44656,44656,50,{"$f":"tbldados[[#This Row],[VALOR PAGO]]+(tbldados[[#This Row],[VALOR PAGO]]*tbldados[[#This Row],[TAXA]])","v":50},{"$f":"tbldados[[#This Row],[TOTAL BRUTO]]-tbldados[[#This Row],[VALOR PAGO]]","v":0},{"$f":"CHOOSE(MONTH(tbldados[[#This Row],[DATA]]),\"JANEIRO\",\"FEVEREIRO\",\"MARÇO\",\"ABRIL\",\"MAIO\",\"JUNHO\",\"JULHO\",\"AGOSTO\",\"SETEMBRO\",\"OUTUBRO\",\"NOVEMBRO\",\"DEZEMBRO\")","v":"ABRIL"},{"$f":"YEAR(tbldados[[#This Row],[DATA]])","v":2022}]
[557,"PGTO","01 DE 01","PAGMAE","ABRIL","GERAL","C6","CREDITO A VISTA",{"$f":"VLOOKUP(tbldados[[#This Row],[APP]],tblbandeira[],3,0)","v":0},44656,44682,210,{"$f":"tbldados[[#This Row],[VALOR PAGO]]+(tbldados[[#This Row],[VALOR PAGO]]*tbldados[[#This Row],[TAXA]])","v":210},{"$f":"tbldados[[#This Row],[TOTAL BRUTO]]-tbldados[[#This Row],[VALOR PAGO]]","v":0},{"$f":"CHOOSE(MONTH(tbldados[[#This Row],[DATA]]),\"JANEIRO\",\"FEVEREIRO\",\"MARÇO\",\"ABRIL\",\"MAIO\",\"JUNHO\",\"JULHO\",\"AGOSTO\",\"SETEMBRO\",\"OUTUBRO\",\"NOVEMBRO\",\"DEZEMBRO\")","v":"MAIO"},{"$f":"YEAR(tbldados[[#This Row],[DATA]])","v":2022}]
[558,"GASTOS","01 DE 01","PGTOPAGMAE","JUNIOR","GERAL","C6MAE","CREDITO A VISTA",{"$f":"VLOOKUP(tbldados[[#This Row],[APP]],tblbandeira[],3,0)","v":0},44656,44686,210,{"$f":"tbldados[[#This Row],[VALOR PAGO]]+(tbldados[[#This Row],[VALOR PAGO]]*tbldados[[#This Row],[TAXA]])","v":210},{"$f":"tbldados[[#This Row],[TOTAL BRUTO]]-tbldados[[#This Row],[VALOR PAGO]]","v":0},{"$f":"CHOOSE(MONTH(tbldados[[#This Row],[DATA]]),\"JANEIRO\",\"FEVEREIRO\",\"MARÇO\",\"ABRIL\",\"MAIO\",\"JUNHO\",\"JULHO\",\"AGOSTO\",\"SETEMBRO\",\"OUTUBRO\",\"NOVEMBRO\",\"DEZEMBRO\")","v":"MAIO"},{"$f":"YEAR(tbldados[[#This Row],[DATA]])","v":2022}]
[559,"PGTO","01 DE 01","C6MAE","ABRIL","GERAL","PAGMAE","CREDITO A VISTA",{"$f":"VLOOKUP(tbldados[[#This Row],[APP]],tblbandeira[],3,0)","v":0},44656,44691,210,{"$f":"tbldados[[#This Row],[VALOR PAGO]]+(tbldados[[#This Row],[VALOR PAGO]]*tbldados[[#This Row],[TAXA]])","v":210},{"$f":"tbldados[[#This Row],[TOTAL BRUTO]]-tbldados[[#This Row],[VALOR PAGO]]","v":0},{"$f":"CHOOSE(MONTH(tbldados[[#This Row],[DATA]]),\"JANEIRO\",\"FEVEREIRO\",\"MARÇO\",\"ABRIL\",\"MAIO\",\"JUNHO\",\"JULHO\",\"AGOSTO\",\"SETEMBRO\",\"OUTUBRO\",\"NOVEMBRO\",\"DEZEMBRO\")","v":"MAIO"},{"$f":"YEAR(tbldados[[#This Row],[DATA]])","v":2022}]
[560,"GASTOS","01 DE 01","DIVERSOS","JUNIOR","GERAL","PAGMAE","CREDITO A VISTA",{"$f":"VLOOKUP(tbldados[[#This Row],[APP]],tblbandeira[],3,0)","v":0},44625,44661,12.66,{"$f":"tbldados[[#This Row],[VALOR PAGO]]+(tbldados[[#This Row],[VALOR PAGO]]*tbldados[[#This Row],[TAXA]])","v":12.66},{"$f":"tbldados[[#This Row],[TOTAL BRUTO]]-tbldados[[#This Row],[VALOR PAGO]]","v":0},{"$f":"CHOOSE(MONTH(tbldados[[#This Row],[DATA]]),\"JANEIRO\",\"FEVEREIRO\",\"MARÇO\",\"ABRIL\",\"MAIO\",\"JUNHO\",\"JULHO\",\"AGOSTO\",\"SETEMBRO\",\"OUTUBRO\",\"NOVEMBRO\",\"DEZEMBRO\")","v":"ABRIL"},{"$f":"YEAR(tbldados[[#This Row],[DATA]])","v":2022}]
[561,"PGTO","01 DE 01","PAGMAE","ABRIL","RECARGAPAY","AZUL","CREDITO A VISTA",{"$f":"VLOOKUP(tbldados[[#This Row],[APP]],tblbandeira[],3,0)","v":3.49E-2},44657,44687,886.35,{"$f":"tbldados[[#This Row],[VALOR PAGO]]+(tbldados[[#This Row],[VALOR PAGO]]*tbldados[[#This Row],[TAXA]])","v":917.28361500000005},{"$f":"tbldados[[#This Row],[TOTAL BRUTO]]-tbldados[[#This Row],[VALOR PAGO]]","v":30.933615000000032},{"$f":"CHOOSE(MONTH(tbldados[[#This Row],[DATA]]),\"JANEIRO\",\"FEVEREIRO\",\"MARÇO\",\"ABRIL\",\"MAIO\",\"JUNHO\",\"JULHO\",\"AGOSTO\",\"SETEMBRO\",\"OUTUBRO\",\"NOVEMBRO\",\"DEZEMBRO\")","v":"MAIO"},{"$f":"YEAR(tbldados[[#This Row],[DATA]])","v":2022}]
[562,"GASTOS","01 DE 01","PGTOPAGMAE","JUNIOR","RECARGAPAY","AZUL","CREDITO A VISTA",{"$f":"VLOOKUP(tbldados[[#This Row],[APP]],tblbandeira[],3,0)","v":3.49E-2},44657,44687,886.35,{"$f":"tbldados[[#This Row],[VALOR PAGO]]+(tbldados[[#This Row],[VALOR PAGO]]*tbldados[[#This Row],[TAXA]])","v":917.28361500000005},{"$f":"tbldados[[#This Row],[TOTAL BRUTO]]-tbldados[[#This Row],[VALOR PAGO]]","v":30.933615000000032},{"$f":"CHOOSE(MONTH(tbldados[[#This Row],[DATA]]),\"JANEIRO\",\"FEVEREIRO\",\"MARÇO\",\"ABRIL\",\"MAIO\",\"JUNHO\",\"JULHO\",\"AGOSTO\",\"SETEMBRO\",\"OUTUBRO\",\"NOVEMBRO\",\"DEZEMBRO\")","v":"MAIO"},{"$f":"YEAR(tbldados[[#This Row],[DATA]])","v":2022}]
[563,"PGTO","01 DE 01","PAGMAE","ABRIL","RECARGAPAY","PAGMAE","CREDITO A VISTA",{"$f":"VLOOKUP(tbldados[[#This Row],[APP]],tblbandeira[],3,0)","v":3.49E-2},44658,44691,1180,{"$f":"tbldados[[#This Row],[VALOR PAGO]]+(tbldados[[#This Row],[VALOR PAGO]]*tbldados[[#This Row],[TAXA]])","v":1221.182},{"$f":"tbldados[[#This Row],[TOTAL BRUTO]]-tbldados[[#This Row],[VALOR PAGO]]","v":41.182000000000016},{"$f":"CHOOSE(MONTH(tbldados[[#This Row],[DATA]]),\"JANEIRO\",\"FEVEREIRO\",\"MARÇO\",\"ABRIL\",\"MAIO\",\"JUNHO\",\"JULHO\",\"AGOSTO\",\"SETEMBRO\",\"OUTUBRO\",\"NOVEMBRO\",\"DEZEMBRO\")","v":"MAIO"},{"$f":"YEAR(tbldados[[#This Row],[DATA]])","v":2022}]
[564,"GASTOS","01 DE 01","PGTOPAGMAE","JUNIOR","RECARGAPAY","PAGMAE","CREDITO A VISTA",{"$f":"VLOOKUP(tbldados[[#This Row],[APP]],tblbandeira[],3,0)","v":3.49E-2},44658,44691,1180,{"$f":"tbldados[[#This Row],[VALOR PAGO]]+(tbldados[[#This Row],[VALOR PAGO]]*tbldados[[#This Row],[TAXA]])","v":1221.182},{"$f":"tbldados[[#This Row],[TOTAL BRUTO]]-tbldados[[#This Row],[VALOR PAGO]]","v":41.182000000000016},{"$f":"CHOOSE(MONTH(tbldados[[#This Row],[DATA]]),\"JANEIRO\",\"FEVEREIRO\",\"MARÇO\",\"ABRIL\",\"MAIO\",\"JUNHO\",\"JULHO\",\"AGOSTO\",\"SETEMBRO\",\"OUTUBRO\",\"NOVEMBRO\",\"DEZEMBRO\")","v":"MAIO"},{"$f":"YEAR(tbldados[[#This Row],[DATA]])","v":2022}]
[565,"PGTO","01 DE 01","PAGMAE","ABRIL","RECARGAPAY","PAGMAE","CREDITO A VISTA",{"$f":"VLOOKUP(tbldados[[#This Row],[APP]],tblbandeira[],3,0)","v":3.49E-2},44658,44691,1884.24,{"$f":"tbldados[[#This Row],[VALOR PAGO]]+(tbldados[[#This Row],[VALOR PAGO]]*tbldados[[#This Row],[TAXA]])","v":1949.9999760000001},{"$f":"tbldados[[#This Row],[TOTAL BRUTO]]-tbldados[[#This Row],[VALOR PAGO]]","v":65.759976000000051},{"$f":"CHOOSE(MONTH(tbldados[[#This Row],[DATA]]),\"JANEIRO\",\"FEVEREIRO\",\"MARÇO\",\"ABRIL\",\"MAIO\",\"JUNHO\",\"JULHO\",\"AGOSTO\",\"SETEMBRO\",\"OUTUBRO\",\"NOVEMBRO\",\"DEZEMBRO\")","v":"MAIO"},{"$f":"YEAR(tbldados[[#This Row],[DATA]])","v":2022}]
[566,"GASTOS","01 DE 01","PGTOPAGMAE","JUNIOR","RECARGAPAY","PAGMAE","CREDITO A VISTA",{"$f":"VLOOKUP(tbldados[[#This Row],[APP]],tblbandeira[],3,0)","v":3.49E-2},44658,44691,1884.24,{"$f":"tbldados[[#This Row],[VALOR PAGO]]+(tbldados[[#This Row],[VALOR PAGO]]*tbldados[[#This Row],[TAXA]])","v":1949.9999760000001},{"$f":"tbldados[[#This Row],[TOTAL BRUTO]]-tbldados[[#This Row],[VALOR PAGO]]","v":65.759976000000051},{"$f":"CHOOSE(MONTH(tbldados[[#This Row],[DATA]]),\"JANEIRO\",\"FEVEREIRO\",\"MARÇO\",\"ABRIL\",\"MAIO\",\"JUNHO\",\"JULHO\",\"AGOSTO\",\"SETEMBRO\",\"OUTUBRO\",\"NOVEMBRO\",\"DEZEMBRO\")","v":"MAIO"},{"$f":"YEAR(tbldados[[#This Row],[DATA]])","v":2022}]
[567,"PGTO","01 DE 01","PAGMAE","ABRIL","RECARGAPAY","PAGMAE","CREDITO A VISTA",{"$f":"VLOOKUP(tbldados[[#This Row],[APP]],tblbandeira[],3,0)","v":3.49E-2},44658,44691,1668.42,{"$f":"tbldados[[#This Row],[VALOR PAGO]]+(tbldados[[#This Row],[VALOR PAGO]]*tbldados[[#This Row],[TAXA]])","v":1726.647858},{"$f":"tbldados[[#This Row],[TOTAL BRUTO]]-tbldados[[#This Row],[VALOR PAGO]]","v":58.227857999999969},{"$f":"CHOOSE(MONTH(tbldados[[#This Row],[DATA]]),\"JANEIRO\",\"FEVEREIRO\",\"MARÇO\",\"ABRIL\",\"MAIO\",\"JUNHO\",\"JULHO\",\"AGOSTO\",\"SETEMBRO\",\"OUTUBRO\",\"NOVEMBRO\",\"DEZEMBRO\")","v":"MAIO"},{"$f":"YEAR(tbldados[[#This Row],[DATA]])","v":2022}]
[568,"GASTOS","01 DE 01","PGTOPAGMAE","JUNIOR","RECARGAPAY","PAGMAE","CREDITO A VISTA",{"$f":"VLOOKUP(tbldados[[#This Row],[APP]],tblbandeira[],3,0)","v":3.49E-2},44658,44691,1668.42,{"$f":"tbldados[[#This Row],[VALOR PAGO]]+(tbldados[[#This Row],[VALOR PAGO]]*tbldados[[#This Row],[TAXA]])","v":1726.647858},{"$f":"tbldados[[#This Row],[TOTAL BRUTO]]-tbldados[[#This Row],[VALOR PAGO]]","v":58.227857999999969},{"$f":"CHOOSE(MONTH(tbldados[[#This Row],[DATA]]),\"JANEIRO\",\"FEVEREIRO\",\"MARÇO\",\"ABRIL\",\"MAIO\",\"JUNHO\",\"JULHO\",\"AGOSTO\",\"SETEMBRO\",\"OUTUBRO\",\"NOVEMBRO\",\"DEZEMBRO\")","v":"MAIO"},{"$f":"YEAR(tbldados[[#This Row],[DATA]])","v":2022}]
[569,"GASTOS","01 DE 01","PGTOPAGMAE","JUNIOR","GERAL","PAGMAE","CREDITO A VISTA",{"$f":"VLOOKUP(tbldados[[#This Row],[APP]],tblbandeira[],3,0)","v":0},44658,44691,1140.1600000000001,{"$f":"tbldados[[#This Row],[VALOR PAGO]]+(tbldados[[#This Row],[VALOR PAGO]]*tbldados[[#This Row],[TAXA]])","v":1140.1600000000001},{"$f":"tbldados[[#This Row],[TOTAL BRUTO]]-tbldados[[#This Row],[VALOR PAGO]]","v":0},{"$f":"CHOOSE(MONTH(tbldados[[#This Row],[DATA]]),\"JANEIRO\",\"FEVEREIRO\",\"MARÇO\",\"ABRIL\",\"MAIO\",\"JUNHO\",\"JULHO\",\"AGOSTO\",\"SETEMBRO\",\"OUTUBRO\",\"NOVEMBRO\",\"DEZEMBRO\")","v":"MAIO"},{"$f":"YEAR(tbldados[[#This Row],[DATA]])","v":2022}]
[570,"PGTO","01 DE 01","PAGMAE","ABRIL","GERAL","PAGMAE","CREDITO A VISTA",{"$f":"VLOOKUP(tbldados[[#This Row],[APP]],tblbandeira[],3,0)","v":0},44658,44691,1138.23,{"$f":"tbldados[[#This Row],[VALOR PAGO]]+(tbldados[[#This Row],[VALOR PAGO]]*tbldados[[#This Row],[TAXA]])","v":1138.23},{"$f":"tbldados[[#This Row],[TOTAL BRUTO]]-tbldados[[#This Row],[VALOR PAGO]]","v":0},{"$f":"CHOOSE(MONTH(tbldados[[#This Row],[DATA]]),\"JANEIRO\",\"FEVEREIRO\",\"MARÇO\",\"ABRIL\",\"MAIO\",\"JUNHO\",\"JULHO\",\"AGOSTO\",\"SETEMBRO\",\"OUTUBRO\",\"NOVEMBRO\",\"DEZEMBRO\")","v":"MAIO"},{"$f":"YEAR(tbldados[[#This Row],[DATA]])","v":2022}]
[571,"PGTO","01 DE 01","NCARD","ABRIL","RECARGAPAY","PAGMAE","CREDITO A VISTA",{"$f":"VLOOKUP(tbldados[[#This Row],[APP]],tblbandeira[],3,0)","v":3.49E-2},44659,44691,1018.54,{"$f":"tbldados[[#This Row],[VALOR PAGO]]+(tbldados[[#This Row],[VALOR PAGO]]*tbldados[[#This Row],[TAXA]])","v":1054.0870459999999},{"$f":"tbldados[[#This Row],[TOTAL BRUTO]]-tbldados[[#This Row],[VALOR PAGO]]","v":35.547045999999909},{"$f":"CHOOSE(MONTH(tbldados[[#This Row],[DATA]]),\"JANEIRO\",\"FEVEREIRO\",\"MARÇO\",\"ABRIL\",\"MAIO\",\"JUNHO\",\"JULHO\",\"AGOSTO\",\"SETEMBRO\",\"OUTUBRO\",\"NOVEMBRO\",\"DEZEMBRO\")","v":"MAIO"},{"$f":"YEAR(tbldados[[#This Row],[DATA]])","v":2022}]
[572,"GASTOS","01 DE 01","PGTONCARD","JUNIOR","RECARGAPAY","PAGMAE","DINHEIRO",{"$f":"VLOOKUP(tbldados[[#This Row],[APP]],tblbandeira[],3,0)","v":3.49E-2},44659,44691,1018.54,{"$f":"tbldados[[#This Row],[VALOR PAGO]]+(tbldados[[#This Row],[VALOR PAGO]]*tbldados[[#This Row],[TAXA]])","v":1054.0870459999999},{"$f":"tbldados[[#This Row],[TOTAL BRUTO]]-tbldados[[#This Row],[VALOR PAGO]]","v":35.547045999999909},{"$f":"CHOOSE(MONTH(tbldados[[#This Row],[DATA]]),\"JANEIRO\",\"FEVEREIRO\",\"MARÇO\",\"ABRIL\",\"MAIO\",\"JUNHO\",\"JULHO\",\"AGOSTO\",\"SETEMBRO\",\"OUTUBRO\",\"NOVEMBRO\",\"DEZEMBRO\")","v":"MAIO"},{"$f":"YEAR(tbldados[[#This Row],[DATA]])","v":2022}]
[573,"GASTOS","01 DE 01","DIVERSOS","JUNIOR","GERAL","NCARD","CREDITO A VISTA",{"$f":"VLOOKUP(tbldados[[#This Row],[APP]],tblbandeira[],3,0)","v":0},44629,44660,8.9700000000000006,{"$f":"tbldados[[#This Row],[VALOR PAGO]]+(tbldados[[#This Row],[VALOR PAGO]]*tbldados[[#This Row],[TAXA]])","v":8.9700000000000006},{"$f":"tbldados[[#This Row],[TOTAL BRUTO]]-tbldados[[#This Row],[VALOR PAGO]]","v":0},{"$f":"CHOOSE(MONTH(tbldados[[#This Row],[DATA]]),\"JANEIRO\",\"FEVEREIRO\",\"MARÇO\",\"ABRIL\",\"MAIO\",\"JUNHO\",\"JULHO\",\"AGOSTO\",\"SETEMBRO\",\"OUTUBRO\",\"NOVEMBRO\",\"DEZEMBRO\")","v":"ABRIL"},{"$f":"YEAR(tbldados[[#This Row],[DATA]])","v":2022}]
[574,"PGTO","01 DE 01","NCARD","ABRIL","GERAL","DÉBITO","DINHEIRO",{"$f":"VLOOKUP(tbldados[[#This Row],[APP]],tblbandeira[],3,0)","v":0},44661,44661,467.82,{"$f":"tbldados[[#This Row],[VALOR PAGO]]+(tbldados[[#This Row],[VALOR PAGO]]*tbldados[[#This Row],[TAXA]])","v":467.82},{"$f":"tbldados[[#This Row],[TOTAL BRUTO]]-tbldados[[#This Row],[VALOR PAGO]]","v":0},{"$f":"CHOOSE(MONTH(tbldados[[#This Row],[DATA]]),\"JANEIRO\",\"FEVEREIRO\",\"MARÇO\",\"ABRIL\",\"MAIO\",\"JUNHO\",\"JULHO\",\"AGOSTO\",\"SETEMBRO\",\"OUTUBRO\",\"NOVEMBRO\",\"DEZEMBRO\")","v":"ABRIL"},{"$f":"YEAR(tbldados[[#This Row],[DATA]])","v":2022}]
[575,"PGTO","01 DE 01","NCARD","ABRIL","RECARGAPAY","NCARD","CREDITO A VISTA",{"$f":"VLOOKUP(tbldados[[#This Row],[APP]],tblbandeira[],3,0)","v":3.49E-2},44661,44690,113.64,{"$f":"tbldados[[#This Row],[VALOR PAGO]]+(tbldados[[#This Row],[VALOR PAGO]]*tbldados[[#This Row],[TAXA]])","v":117.606036},{"$f":"tbldados[[#This Row],[TOTAL BRUTO]]-tbldados[[#This Row],[VALOR PAGO]]","v":3.9660360000000026},{"$f":"CHOOSE(MONTH(tbldados[[#This Row],[DATA]]),\"JANEIRO\",\"FEVEREIRO\",\"MARÇO\",\"ABRIL\",\"MAIO\",\"JUNHO\",\"JULHO\",\"AGOSTO\",\"SETEMBRO\",\"OUTUBRO\",\"NOVEMBRO\",\"DEZEMBRO\")","v":"MAIO"},{"$f":"YEAR(tbldados[[#This Row],[DATA]])","v":2022}]
[576,"GASTOS","01 DE 01","PGTONCARD","JUNIOR","RECARGAPAY","NCARD","CREDITO A VISTA",{"$f":"VLOOKUP(tbldados[[#This Row],[APP]],tblbandeira[],3,0)","v":3.49E-2},44661,44690,113.64,{"$f":"tbldados[[#This Row],[VALOR PAGO]]+(tbldados[[#This Row],[VALOR PAGO]]*tbldados[[#This Row],[TAXA]])","v":117.606036},{"$f":"tbldados[[#This Row],[TOTAL BRUTO]]-tbldados[[#This Row],[VALOR PAGO]]","v":3.9660360000000026},{"$f":"CHOOSE(MONTH(tbldados[[#This Row],[DATA]]),\"JANEIRO\",\"FEVEREIRO\",\"MARÇO\",\"ABRIL\",\"MAIO\",\"JUNHO\",\"JULHO\",\"AGOSTO\",\"SETEMBRO\",\"OUTUBRO\",\"NOVEMBRO\",\"DEZEMBRO\")","v":"MAIO"},{"$f":"YEAR(tbldados[[#This Row],[DATA]])","v":2022}]
[577,"GASTOS","01 DE 01","DIVERSOS","JUNIOR","GERAL","ORIGINAL","CREDITO A VISTA",{"$f":"VLOOKUP(tbldados[[#This Row],[APP]],tblbandeira[],3,0)","v":0},44630,44661,523.79,{"$f":"tbldados[[#This Row],[VALOR PAGO]]+(tbldados[[#This Row],[VALOR PAGO]]*tbldados[[#This Row],[TAXA]])","v":523.79},{"$f":"tbldados[[#This Row],[TOTAL BRUTO]]-tbldados[[#This Row],[VALOR PAGO]]","v":0},{"$f":"CHOOSE(MONTH(tbldados[[#This Row],[DATA]]),\"JANEIRO\",\"FEVEREIRO\",\"MARÇO\",\"ABRIL\",\"MAIO\",\"JUNHO\",\"JULHO\",\"AGOSTO\",\"SETEMBRO\",\"OUTUBRO\",\"NOVEMBRO\",\"DEZEMBRO\")","v":"ABRIL"},{"$f":"YEAR(tbldados[[#This Row],[DATA]])","v":2022}]
[578,"PGTO","01 DE 01","ORIGINAL","ABRIL","RECARGAPAY","NCARD","CREDITO A VISTA",{"$f":"VLOOKUP(tbldados[[#This Row],[APP]],tblbandeira[],3,0)","v":3.49E-2},44661,44690,523.79,{"$f":"tbldados[[#This Row],[VALOR PAGO]]+(tbldados[[#This Row],[VALOR PAGO]]*tbldados[[#This Row],[TAXA]])","v":542.07027099999993},{"$f":"tbldados[[#This Row],[TOTAL BRUTO]]-tbldados[[#This Row],[VALOR PAGO]]","v":18.280270999999971},{"$f":"CHOOSE(MONTH(tbldados[[#This Row],[DATA]]),\"JANEIRO\",\"FEVEREIRO\",\"MARÇO\",\"ABRIL\",\"MAIO\",\"JUNHO\",\"JULHO\",\"AGOSTO\",\"SETEMBRO\",\"OUTUBRO\",\"NOVEMBRO\",\"DEZEMBRO\")","v":"MAIO"},{"$f":"YEAR(tbldados[[#This Row],[DATA]])","v":2022}]
[579,"GASTOS","01 DE 01","PGTORIGINAL","JUNIO","RECARGAPAY","NCARD","CREDITO A VISTA",{"$f":"VLOOKUP(tbldados[[#This Row],[APP]],tblbandeira[],3,0)","v":3.49E-2},44661,44690,523.79,{"$f":"tbldados[[#This Row],[VALOR PAGO]]+(tbldados[[#This Row],[VALOR PAGO]]*tbldados[[#This Row],[TAXA]])","v":542.07027099999993},{"$f":"tbldados[[#This Row],[TOTAL BRUTO]]-tbldados[[#This Row],[VALOR PAGO]]","v":18.280270999999971},{"$f":"CHOOSE(MONTH(tbldados[[#This Row],[DATA]]),\"JANEIRO\",\"FEVEREIRO\",\"MARÇO\",\"ABRIL\",\"MAIO\",\"JUNHO\",\"JULHO\",\"AGOSTO\",\"SETEMBRO\",\"OUTUBRO\",\"NOVEMBRO\",\"DEZEMBRO\")","v":"MAIO"},{"$f":"YEAR(tbldados[[#This Row],[DATA]])","v":2022}]
[580,"GASTOS","01 DE 01","ATRASO-JUROS","JUNIOR","GERAL","PAN","CREDITO A VISTA",{"$f":"VLOOKUP(tbldados[[#This Row],[APP]],tblbandeira[],3,0)","v":0},44632,44664,22.46,{"$f":"tbldados[[#This Row],[VALOR PAGO]]+(tbldados[[#This Row],[VALOR PAGO]]*tbldados[[#This Row],[TAXA]])","v":22.46},{"$f":"tbldados[[#This Row],[TOTAL BRUTO]]-tbldados[[#This Row],[VALOR PAGO]]","v":0},{"$f":"CHOOSE(MONTH(tbldados[[#This Row],[DATA]]),\"JANEIRO\",\"FEVEREIRO\",\"MARÇO\",\"ABRIL\",\"MAIO\",\"JUNHO\",\"JULHO\",\"AGOSTO\",\"SETEMBRO\",\"OUTUBRO\",\"NOVEMBRO\",\"DEZEMBRO\")","v":"ABRIL"},{"$f":"YEAR(tbldados[[#This Row],[DATA]])","v":2022}]
[581,"PGTO","01 DE 01","PAN","ABRIL","RECARGAPAY","NCARD","CREDITO A VISTA",{"$f":"VLOOKUP(tbldados[[#This Row],[APP]],tblbandeira[],3,0)","v":3.49E-2},44663,44690,702.45,{"$f":"tbldados[[#This Row],[VALOR PAGO]]+(tbldados[[#This Row],[VALOR PAGO]]*tbldados[[#This Row],[TAXA]])","v":726.96550500000001},{"$f":"tbldados[[#This Row],[TOTAL BRUTO]]-tbldados[[#This Row],[VALOR PAGO]]","v":24.515504999999962},{"$f":"CHOOSE(MONTH(tbldados[[#This Row],[DATA]]),\"JANEIRO\",\"FEVEREIRO\",\"MARÇO\",\"ABRIL\",\"MAIO\",\"JUNHO\",\"JULHO\",\"AGOSTO\",\"SETEMBRO\",\"OUTUBRO\",\"NOVEMBRO\",\"DEZEMBRO\")","v":"MAIO"},{"$f":"YEAR(tbldados[[#This Row],[DATA]])","v":2022}]
[582,"GASTOS","01 DE 01","PGTOPAN","JUNIOR","RECARGAPAY","NCARD","CREDITO A VISTA",{"$f":"VLOOKUP(tbldados[[#This Row],[APP]],tblbandeira[],3,0)","v":3.49E-2},44663,44690,702.45,{"$f":"tbldados[[#This Row],[VALOR PAGO]]+(tbldados[[#This Row],[VALOR PAGO]]*tbldados[[#This Row],[TAXA]])","v":726.96550500000001},{"$f":"tbldados[[#This Row],[TOTAL BRUTO]]-tbldados[[#This Row],[VALOR PAGO]]","v":24.515504999999962},{"$f":"CHOOSE(MONTH(tbldados[[#This Row],[DATA]]),\"JANEIRO\",\"FEVEREIRO\",\"MARÇO\",\"ABRIL\",\"MAIO\",\"JUNHO\",\"JULHO\",\"AGOSTO\",\"SETEMBRO\",\"OUTUBRO\",\"NOVEMBRO\",\"DEZEMBRO\")","v":"MAIO"},{"$f":"YEAR(tbldados[[#This Row],[DATA]])","v":2022}]
[583,"PGTO","01 DE 01","NUBANK","ABRIL","RECARGAPAY","NCARD","CREDITO A VISTA",{"$f":"VLOOKUP(tbldados[[#This Row],[APP]],tblbandeira[],3,0)","v":3.49E-2},44663,44690,206.41,{"$f":"tbldados[[#This Row],[VALOR PAGO]]+(tbldados[[#This Row],[VALOR PAGO]]*tbldados[[#This Row],[TAXA]])","v":213.613709},{"$f":"tbldados[[#This Row],[TOTAL BRUTO]]-tbldados[[#This Row],[VALOR PAGO]]","v":7.2037090000000035},{"$f":"CHOOSE(MONTH(tbldados[[#This Row],[DATA]]),\"JANEIRO\",\"FEVEREIRO\",\"MARÇO\",\"ABRIL\",\"MAIO\",\"JUNHO\",\"JULHO\",\"AGOSTO\",\"SETEMBRO\",\"OUTUBRO\",\"NOVEMBRO\",\"DEZEMBRO\")","v":"MAIO"},{"$f":"YEAR(tbldados[[#This Row],[DATA]])","v":2022}]
[584,"GASTOS","01 DE 01","PGTONUBANK","JUNIOR","RECARGAPAY","NCARD","CREDITO A VISTA",{"$f":"VLOOKUP(tbldados[[#This Row],[APP]],tblbandeira[],3,0)","v":3.49E-2},44663,44690,206.41,{"$f":"tbldados[[#This Row],[VALOR PAGO]]+(tbldados[[#This Row],[VALOR PAGO]]*tbldados[[#This Row],[TAXA]])","v":213.613709},{"$f":"tbldados[[#This Row],[TOTAL BRUTO]]-tbldados[[#This Row],[VALOR PAGO]]","v":7.2037090000000035},{"$f":"CHOOSE(MONTH(tbldados[[#This Row],[DATA]]),\"JANEIRO\",\"FEVEREIRO\",\"MARÇO\",\"ABRIL\",\"MAIO\",\"JUNHO\",\"JULHO\",\"AGOSTO\",\"SETEMBRO\",\"OUTUBRO\",\"NOVEMBRO\",\"DEZEMBRO\")","v":"MAIO"},{"$f":"YEAR(tbldados[[#This Row],[DATA]])","v":2022}]
[585,"GASTOS","01 DE 01","PGTOINTER","JUNIOR","RECARGAPAY","NUBANK","CREDITO A VISTA",{"$f":"VLOOKUP(tbldados[[#This Row],[APP]],tblbandeira[],3,0)","v":3.49E-2},44634,44664,1478.59,{"$f":"tbldados[[#This Row],[VALOR PAGO]]+(tbldados[[#This Row],[VALOR PAGO]]*tbldados[[#This Row],[TAXA]])","v":1530.1927909999999},{"$f":"tbldados[[#This Row],[TOTAL BRUTO]]-tbldados[[#This Row],[VALOR PAGO]]","v":51.602791000000025},{"$f":"CHOOSE(MONTH(tbldados[[#This Row],[DATA]]),\"JANEIRO\",\"FEVEREIRO\",\"MARÇO\",\"ABRIL\",\"MAIO\",\"JUNHO\",\"JULHO\",\"AGOSTO\",\"SETEMBRO\",\"OUTUBRO\",\"NOVEMBRO\",\"DEZEMBRO\")","v":"ABRIL"},{"$f":"YEAR(tbldados[[#This Row],[DATA]])","v":2022}]
[586,"GASTOS","01 DE 01","SUPERMERCADO","JUNIOR","GERAL","NUBANK","CREDITO A VISTA",{"$f":"VLOOKUP(tbldados[[#This Row],[APP]],tblbandeira[],3,0)","v":0},44635,44664,59.69,{"$f":"tbldados[[#This Row],[VALOR PAGO]]+(tbldados[[#This Row],[VALOR PAGO]]*tbldados[[#This Row],[TAXA]])","v":59.69},{"$f":"tbldados[[#This Row],[TOTAL BRUTO]]-tbldados[[#This Row],[VALOR PAGO]]","v":0},{"$f":"CHOOSE(MONTH(tbldados[[#This Row],[DATA]]),\"JANEIRO\",\"FEVEREIRO\",\"MARÇO\",\"ABRIL\",\"MAIO\",\"JUNHO\",\"JULHO\",\"AGOSTO\",\"SETEMBRO\",\"OUTUBRO\",\"NOVEMBRO\",\"DEZEMBRO\")","v":"ABRIL"},{"$f":"YEAR(tbldados[[#This Row],[DATA]])","v":2022}]
[587,"PGTO","01 DE 01","NUBANK","ABRIL","RECARGAPAY","NUBANK","CREDITO A VISTA",{"$f":"VLOOKUP(tbldados[[#This Row],[APP]],tblbandeira[],3,0)","v":3.49E-2},44663,44694,866.49,{"$f":"tbldados[[#This Row],[VALOR PAGO]]+(tbldados[[#This Row],[VALOR PAGO]]*tbldados[[#This Row],[TAXA]])","v":896.730501},{"$f":"tbldados[[#This Row],[TOTAL BRUTO]]-tbldados[[#This Row],[VALOR PAGO]]","v":30.240500999999995},{"$f":"CHOOSE(MONTH(tbldados[[#This Row],[DATA]]),\"JANEIRO\",\"FEVEREIRO\",\"MARÇO\",\"ABRIL\",\"MAIO\",\"JUNHO\",\"JULHO\",\"AGOSTO\",\"SETEMBRO\",\"OUTUBRO\",\"NOVEMBRO\",\"DEZEMBRO\")","v":"MAIO"},{"$f":"YEAR(tbldados[[#This Row],[DATA]])","v":2022}]
[588,"GASTOS","01 DE 01","PGTONUBANK","JUNIOR","RECARGAPAY","NUBANK","CREDITO A VISTA",{"$f":"VLOOKUP(tbldados[[#This Row],[APP]],tblbandeira[],3,0)","v":3.49E-2},44663,44694,866.49,{"$f":"tbldados[[#This Row],[VALOR PAGO]]+(tbldados[[#This Row],[VALOR PAGO]]*tbldados[[#This Row],[TAXA]])","v":896.730501},{"$f":"tbldados[[#This Row],[TOTAL BRUTO]]-tbldados[[#This Row],[VALOR PAGO]]","v":30.240500999999995},{"$f":"CHOOSE(MONTH(tbldados[[#This Row],[DATA]]),\"JANEIRO\",\"FEVEREIRO\",\"MARÇO\",\"ABRIL\",\"MAIO\",\"JUNHO\",\"JULHO\",\"AGOSTO\",\"SETEMBRO\",\"OUTUBRO\",\"NOVEMBRO\",\"DEZEMBRO\")","v":"MAIO"},{"$f":"YEAR(tbldados[[#This Row],[DATA]])","v":2022}]
[589,"PGTO","01 DE 01","NUBANK","ABRIL","RECARGAPAY","NUBANK","CREDITO A VISTA",{"$f":"VLOOKUP(tbldados[[#This Row],[APP]],tblbandeira[],3,0)","v":3.49E-2},44664,44694,1311.59,{"$f":"tbldados[[#This Row],[VALOR PAGO]]+(tbldados[[#This Row],[VALOR PAGO]]*tbldados[[#This Row],[TAXA]])","v":1357.3644909999998},{"$f":"tbldados[[#This Row],[TOTAL BRUTO]]-tbldados[[#This Row],[VALOR PAGO]]","v":45.774490999999898},{"$f":"CHOOSE(MONTH(tbldados[[#This Row],[DATA]]),\"JANEIRO\",\"FEVEREIRO\",\"MARÇO\",\"ABRIL\",\"MAIO\",\"JUNHO\",\"JULHO\",\"AGOSTO\",\"SETEMBRO\",\"OUTUBRO\",\"NOVEMBRO\",\"DEZEMBRO\")","v":"MAIO"},{"$f":"YEAR(tbldados[[#This Row],[DATA]])","v":2022}]
[590,"GASTOS","01 DE 01","PGTONUBANK","JUNIOR","RECARGAPAY","NUBANK","CREDITO A VISTA",{"$f":"VLOOKUP(tbldados[[#This Row],[APP]],tblbandeira[],3,0)","v":3.49E-2},44664,44694,1311.59,{"$f":"tbldados[[#This Row],[VALOR PAGO]]+(tbldados[[#This Row],[VALOR PAGO]]*tbldados[[#This Row],[TAXA]])","v":1357.3644909999998},{"$f":"tbldados[[#This Row],[TOTAL BRUTO]]-tbldados[[#This Row],[VALOR PAGO]]","v":45.774490999999898},{"$f":"CHOOSE(MONTH(tbldados[[#This Row],[DATA]]),\"JANEIRO\",\"FEVEREIRO\",\"MARÇO\",\"ABRIL\",\"MAIO\",\"JUNHO\",\"JULHO\",\"AGOSTO\",\"SETEMBRO\",\"OUTUBRO\",\"NOVEMBRO\",\"DEZEMBRO\")","v":"MAIO"},{"$f":"YEAR(tbldados[[#This Row],[DATA]])","v":2022}]
[591,"PGTO","01 DE 01","NUBANK","ABRIL","RECARGAPAY","ORIGINAL","CREDITO A VISTA",{"$f":"VLOOKUP(tbldados[[#This Row],[APP]],tblbandeira[],3,0)","v":3.49E-2},44664,44691,490.87,{"$f":"tbldados[[#This Row],[VALOR PAGO]]+(tbldados[[#This Row],[VALOR PAGO]]*tbldados[[#This Row],[TAXA]])","v":508.00136300000003},{"$f":"tbldados[[#This Row],[TOTAL BRUTO]]-tbldados[[#This Row],[VALOR PAGO]]","v":17.131363000000022},{"$f":"CHOOSE(MONTH(tbldados[[#This Row],[DATA]]),\"JANEIRO\",\"FEVEREIRO\",\"MARÇO\",\"ABRIL\",\"MAIO\",\"JUNHO\",\"JULHO\",\"AGOSTO\",\"SETEMBRO\",\"OUTUBRO\",\"NOVEMBRO\",\"DEZEMBRO\")","v":"MAIO"},{"$f":"YEAR(tbldados[[#This Row],[DATA]])","v":2022}]
[592,"GASTOS","01 DE 01","PGTONUBANK","JUNIOR","RECARGAPAY","ORIGINAL","CREDITO A VISTA",{"$f":"VLOOKUP(tbldados[[#This Row],[APP]],tblbandeira[],3,0)","v":3.49E-2},44664,44691,490.87,{"$f":"tbldados[[#This Row],[VALOR PAGO]]+(tbldados[[#This Row],[VALOR PAGO]]*tbldados[[#This Row],[TAXA]])","v":508.00136300000003},{"$f":"tbldados[[#This Row],[TOTAL BRUTO]]-tbldados[[#This Row],[VALOR PAGO]]","v":17.131363000000022},{"$f":"CHOOSE(MONTH(tbldados[[#This Row],[DATA]]),\"JANEIRO\",\"FEVEREIRO\",\"MARÇO\",\"ABRIL\",\"MAIO\",\"JUNHO\",\"JULHO\",\"AGOSTO\",\"SETEMBRO\",\"OUTUBRO\",\"NOVEMBRO\",\"DEZEMBRO\")","v":"MAIO"},{"$f":"YEAR(tbldados[[#This Row],[DATA]])","v":2022}]
[593,"PGTO","01 DE 01","NUBANK","ABRIL","RECARGAPAY","NUBANK","CREDITO A VISTA",{"$f":"VLOOKUP(tbldados[[#This Row],[APP]],tblbandeira[],3,0)","v":3.49E-2},44664,44694,783.85,{"$f":"tbldados[[#This Row],[VALOR PAGO]]+(tbldados[[#This Row],[VALOR PAGO]]*tbldados[[#This Row],[TAXA]])","v":811.20636500000001},{"$f":"tbldados[[#This Row],[TOTAL BRUTO]]-tbldados[[#This Row],[VALOR PAGO]]","v":27.356364999999983},{"$f":"CHOOSE(MONTH(tbldados[[#This Row],[DATA]]),\"JANEIRO\",\"FEVEREIRO\",\"MARÇO\",\"ABRIL\",\"MAIO\",\"JUNHO\",\"JULHO\",\"AGOSTO\",\"SETEMBRO\",\"OUTUBRO\",\"NOVEMBRO\",\"DEZEMBRO\")","v":"MAIO"},{"$f":"YEAR(tbldados[[#This Row],[DATA]])","v":2022}]
[594,"GASTOS","01 DE 01","PGTONUBANK","JUNIOR","RECARGAPAY","NUBANK","CREDITO A VISTA",{"$f":"VLOOKUP(tbldados[[#This Row],[APP]],tblbandeira[],3,0)","v":3.49E-2},44664,44694,783.85,{"$f":"tbldados[[#This Row],[VALOR PAGO]]+(tbldados[[#This Row],[VALOR PAGO]]*tbldados[[#This Row],[TAXA]])","v":811.20636500000001},{"$f":"tbldados[[#This Row],[TOTAL BRUTO]]-tbldados[[#This Row],[VALOR PAGO]]","v":27.356364999999983},{"$f":"CHOOSE(MONTH(tbldados[[#This Row],[DATA]]),\"JANEIRO\",\"FEVEREIRO\",\"MARÇO\",\"ABRIL\",\"MAIO\",\"JUNHO\",\"JULHO\",\"AGOSTO\",\"SETEMBRO\",\"OUTUBRO\",\"NOVEMBRO\",\"DEZEMBRO\")","v":"MAIO"},{"$f":"YEAR(tbldados[[#This Row],[DATA]])","v":2022}]
[595,"PGTO","01 DE 01","NUBANK","ABRIL","CONTA","DÉBITO","DINHEIRO",{"$f":"VLOOKUP(tbldados[[#This Row],[APP]],tblbandeira[],3,0)","v":0},44664,44664,0.47,{"$f":"tbldados[[#This Row],[VALOR PAGO]]+(tbldados[[#This Row],[VALOR PAGO]]*tbldados[[#This Row],[TAXA]])","v":0.47},{"$f":"tbldados[[#This Row],[TOTAL BRUTO]]-tbldados[[#This Row],[VALOR PAGO]]","v":0},{"$f":"CHOOSE(MONTH(tbldados[[#This Row],[DATA]]),\"JANEIRO\",\"FEVEREIRO\",\"MARÇO\",\"ABRIL\",\"MAIO\",\"JUNHO\",\"JULHO\",\"AGOSTO\",\"SETEMBRO\",\"OUTUBRO\",\"NOVEMBRO\",\"DEZEMBRO\")","v":"ABRIL"},{"$f":"YEAR(tbldados[[#This Row],[DATA]])","v":2022}]
[596,"PGTO","01 DE 01","INTER","ABRIL","RECARGAPAY","PAN","CREDITO A VISTA",{"$f":"VLOOKUP(tbldados[[#This Row],[APP]],tblbandeira[],3,0)","v":3.49E-2},44664,44694,655.14,{"$f":"tbldados[[#This Row],[VALOR PAGO]]+(tbldados[[#This Row],[VALOR PAGO]]*tbldados[[#This Row],[TAXA]])","v":678.00438599999995},{"$f":"tbldados[[#This Row],[TOTAL BRUTO]]-tbldados[[#This Row],[VALOR PAGO]]","v":22.864385999999968},{"$f":"CHOOSE(MONTH(tbldados[[#This Row],[DATA]]),\"JANEIRO\",\"FEVEREIRO\",\"MARÇO\",\"ABRIL\",\"MAIO\",\"JUNHO\",\"JULHO\",\"AGOSTO\",\"SETEMBRO\",\"OUTUBRO\",\"NOVEMBRO\",\"DEZEMBRO\")","v":"MAIO"},{"$f":"YEAR(tbldados[[#This Row],[DATA]])","v":2022}]
[597,"GASTOS","01 DE 01","PGTOINTER","JUNIOR","RECARGAPAY","PAN","CREDITO A VISTA",{"$f":"VLOOKUP(tbldados[[#This Row],[APP]],tblbandeira[],3,0)","v":3.49E-2},44664,44694,655.14,{"$f":"tbldados[[#This Row],[VALOR PAGO]]+(tbldados[[#This Row],[VALOR PAGO]]*tbldados[[#This Row],[TAXA]])","v":678.00438599999995},{"$f":"tbldados[[#This Row],[TOTAL BRUTO]]-tbldados[[#This Row],[VALOR PAGO]]","v":22.864385999999968},{"$f":"CHOOSE(MONTH(tbldados[[#This Row],[DATA]]),\"JANEIRO\",\"FEVEREIRO\",\"MARÇO\",\"ABRIL\",\"MAIO\",\"JUNHO\",\"JULHO\",\"AGOSTO\",\"SETEMBRO\",\"OUTUBRO\",\"NOVEMBRO\",\"DEZEMBRO\")","v":"MAIO"},{"$f":"YEAR(tbldados[[#This Row],[DATA]])","v":2022}]
[598,"PGTO","01 DE 01","INTER","ABRIL","RECARGAPAY","NUBANK","CREDITO A VISTA",{"$f":"VLOOKUP(tbldados[[#This Row],[APP]],tblbandeira[],3,0)","v":3.49E-2},44666,44694,613.29,{"$f":"tbldados[[#This Row],[VALOR PAGO]]+(tbldados[[#This Row],[VALOR PAGO]]*tbldados[[#This Row],[TAXA]])","v":634.69382099999996},{"$f":"tbldados[[#This Row],[TOTAL BRUTO]]-tbldados[[#This Row],[VALOR PAGO]]","v":21.403820999999994},{"$f":"CHOOSE(MONTH(tbldados[[#This Row],[DATA]]),\"JANEIRO\",\"FEVEREIRO\",\"MARÇO\",\"ABRIL\",\"MAIO\",\"JUNHO\",\"JULHO\",\"AGOSTO\",\"SETEMBRO\",\"OUTUBRO\",\"NOVEMBRO\",\"DEZEMBRO\")","v":"MAIO"},{"$f":"YEAR(tbldados[[#This Row],[DATA]])","v":2022}]
[599,"GASTOS","01 DE 01","PGTOINTER","JUNIOR","RECARGAPAY","NUBANK","CREDITO A VISTA",{"$f":"VLOOKUP(tbldados[[#This Row],[APP]],tblbandeira[],3,0)","v":3.49E-2},44666,44694,613.29,{"$f":"tbldados[[#This Row],[VALOR PAGO]]+(tbldados[[#This Row],[VALOR PAGO]]*tbldados[[#This Row],[TAXA]])","v":634.69382099999996},{"$f":"tbldados[[#This Row],[TOTAL BRUTO]]-tbldados[[#This Row],[VALOR PAGO]]","v":21.403820999999994},{"$f":"CHOOSE(MONTH(tbldados[[#This Row],[DATA]]),\"JANEIRO\",\"FEVEREIRO\",\"MARÇO\",\"ABRIL\",\"MAIO\",\"JUNHO\",\"JULHO\",\"AGOSTO\",\"SETEMBRO\",\"OUTUBRO\",\"NOVEMBRO\",\"DEZEMBRO\")","v":"MAIO"},{"$f":"YEAR(tbldados[[#This Row],[DATA]])","v":2022}]
[600,"GASTOS","01 DE 01","JRECARGAPAY","JUNIOR","GERAL","INTER","CREDITO A VISTA",{"$f":"VLOOKUP(tbldados[[#This Row],[APP]],tblbandeira[],3,0)","v":0},44635,44666,39.97,{"$f":"tbldados[[#This Row],[VALOR PAGO]]+(tbldados[[#This Row],[VALOR PAGO]]*tbldados[[#This Row],[TAXA]])","v":39.97},{"$f":"tbldados[[#This Row],[TOTAL BRUTO]]-tbldados[[#This Row],[VALOR PAGO]]","v":0},{"$f":"CHOOSE(MONTH(tbldados[[#This Row],[DATA]]),\"JANEIRO\",\"FEVEREIRO\",\"MARÇO\",\"ABRIL\",\"MAIO\",\"JUNHO\",\"JULHO\",\"AGOSTO\",\"SETEMBRO\",\"OUTUBRO\",\"NOVEMBRO\",\"DEZEMBRO\")","v":"ABRIL"},{"$f":"YEAR(tbldados[[#This Row],[DATA]])","v":2022}]
[601,"PGTO","01 DE 01","INTER","ABRIL","RECARGAPAY","INTER","CREDITO A VISTA",{"$f":"VLOOKUP(tbldados[[#This Row],[APP]],tblbandeira[],3,0)","v":3.49E-2},44666,44696,3071.54,{"$f":"tbldados[[#This Row],[VALOR PAGO]]+(tbldados[[#This Row],[VALOR PAGO]]*tbldados[[#This Row],[TAXA]])","v":3178.736746},{"$f":"tbldados[[#This Row],[TOTAL BRUTO]]-tbldados[[#This Row],[VALOR PAGO]]","v":107.19674600000008},{"$f":"CHOOSE(MONTH(tbldados[[#This Row],[DATA]]),\"JANEIRO\",\"FEVEREIRO\",\"MARÇO\",\"ABRIL\",\"MAIO\",\"JUNHO\",\"JULHO\",\"AGOSTO\",\"SETEMBRO\",\"OUTUBRO\",\"NOVEMBRO\",\"DEZEMBRO\")","v":"MAIO"},{"$f":"YEAR(tbldados[[#This Row],[DATA]])","v":2022}]
[602,"GASTOS","01 DE 01","PGTOINTER","JUNIOR","RECARGAPAY","INTER","CREDITO A VISTA",{"$f":"VLOOKUP(tbldados[[#This Row],[APP]],tblbandeira[],3,0)","v":3.49E-2},44666,44696,3071.54,{"$f":"tbldados[[#This Row],[VALOR PAGO]]+(tbldados[[#This Row],[VALOR PAGO]]*tbldados[[#This Row],[TAXA]])","v":3178.736746},{"$f":"tbldados[[#This Row],[TOTAL BRUTO]]-tbldados[[#This Row],[VALOR PAGO]]","v":107.19674600000008},{"$f":"CHOOSE(MONTH(tbldados[[#This Row],[DATA]]),\"JANEIRO\",\"FEVEREIRO\",\"MARÇO\",\"ABRIL\",\"MAIO\",\"JUNHO\",\"JULHO\",\"AGOSTO\",\"SETEMBRO\",\"OUTUBRO\",\"NOVEMBRO\",\"DEZEMBRO\")","v":"MAIO"},{"$f":"YEAR(tbldados[[#This Row],[DATA]])","v":2022}]
[603,"PGTO","01 DE 01","CLICK","ABRIL","RECARGAPAY","INTER","CREDITO A VISTA",{"$f":"VLOOKUP(tbldados[[#This Row],[APP]],tblbandeira[],3,0)","v":3.49E-2},44668,44696,1190.1400000000001,{"$f":"tbldados[[#This Row],[VALOR PAGO]]+(tbldados[[#This Row],[VALOR PAGO]]*tbldados[[#This Row],[TAXA]])","v":1231.675886},{"$f":"tbldados[[#This Row],[TOTAL BRUTO]]-tbldados[[#This Row],[VALOR PAGO]]","v":41.535885999999891},{"$f":"CHOOSE(MONTH(tbldados[[#This Row],[DATA]]),\"JANEIRO\",\"FEVEREIRO\",\"MARÇO\",\"ABRIL\",\"MAIO\",\"JUNHO\",\"JULHO\",\"AGOSTO\",\"SETEMBRO\",\"OUTUBRO\",\"NOVEMBRO\",\"DEZEMBRO\")","v":"MAIO"},{"$f":"YEAR(tbldados[[#This Row],[DATA]])","v":2022}]
[604,"GASTOS","01 DE 01","PGTOINTER","JUNIOR","RECARGAPAY","INTER","CREDITO A VISTA",{"$f":"VLOOKUP(tbldados[[#This Row],[APP]],tblbandeira[],3,0)","v":3.49E-2},44668,44696,1190.1400000000001,{"$f":"tbldados[[#This Row],[VALOR PAGO]]+(tbldados[[#This Row],[VALOR PAGO]]*tbldados[[#This Row],[TAXA]])","v":1231.675886},{"$f":"tbldados[[#This Row],[TOTAL BRUTO]]-tbldados[[#This Row],[VALOR PAGO]]","v":41.535885999999891},{"$f":"CHOOSE(MONTH(tbldados[[#This Row],[DATA]]),\"JANEIRO\",\"FEVEREIRO\",\"MARÇO\",\"ABRIL\",\"MAIO\",\"JUNHO\",\"JULHO\",\"AGOSTO\",\"SETEMBRO\",\"OUTUBRO\",\"NOVEMBRO\",\"DEZEMBRO\")","v":"MAIO"},{"$f":"YEAR(tbldados[[#This Row],[DATA]])","v":2022}]
[605,"GASTOS","01 DE 01","DIVERSOS","JUNIOR","RECARGAPAY","PANMAE","CREDITO A VISTA",{"$f":"VLOOKUP(tbldados[[#This Row],[APP]],tblbandeira[],3,0)","v":3.49E-2},44635,44668,544,{"$f":"tbldados[[#This Row],[VALOR PAGO]]+(tbldados[[#This Row],[VALOR PAGO]]*tbldados[[#This Row],[TAXA]])","v":562.98559999999998},{"$f":"tbldados[[#This Row],[TOTAL BRUTO]]-tbldados[[#This Row],[VALOR PAGO]]","v":18.985599999999977},{"$f":"CHOOSE(MONTH(tbldados[[#This Row],[DATA]]),\"JANEIRO\",\"FEVEREIRO\",\"MARÇO\",\"ABRIL\",\"MAIO\",\"JUNHO\",\"JULHO\",\"AGOSTO\",\"SETEMBRO\",\"OUTUBRO\",\"NOVEMBRO\",\"DEZEMBRO\")","v":"ABRIL"},{"$f":"YEAR(tbldados[[#This Row],[DATA]])","v":2022}]
[606,"PGTO","01 DE 01","DIGIO","ABRIL","RECARGAPAY","PANMAE","CREDITO A VISTA",{"$f":"VLOOKUP(tbldados[[#This Row],[APP]],tblbandeira[],3,0)","v":3.49E-2},44668,44698,879.67,{"$f":"tbldados[[#This Row],[VALOR PAGO]]+(tbldados[[#This Row],[VALOR PAGO]]*tbldados[[#This Row],[TAXA]])","v":910.37048299999992},{"$f":"tbldados[[#This Row],[TOTAL BRUTO]]-tbldados[[#This Row],[VALOR PAGO]]","v":30.700482999999963},{"$f":"CHOOSE(MONTH(tbldados[[#This Row],[DATA]]),\"JANEIRO\",\"FEVEREIRO\",\"MARÇO\",\"ABRIL\",\"MAIO\",\"JUNHO\",\"JULHO\",\"AGOSTO\",\"SETEMBRO\",\"OUTUBRO\",\"NOVEMBRO\",\"DEZEMBRO\")","v":"MAIO"},{"$f":"YEAR(tbldados[[#This Row],[DATA]])","v":2022}]
[607,"GASTOS","01 DE 01","PGTOCLICK","JUNIOR","RECARGAPAY","PANMAE","CREDITO A VISTA",{"$f":"VLOOKUP(tbldados[[#This Row],[APP]],tblbandeira[],3,0)","v":3.49E-2},44668,44698,879.67,{"$f":"tbldados[[#This Row],[VALOR PAGO]]+(tbldados[[#This Row],[VALOR PAGO]]*tbldados[[#This Row],[TAXA]])","v":910.37048299999992},{"$f":"tbldados[[#This Row],[TOTAL BRUTO]]-tbldados[[#This Row],[VALOR PAGO]]","v":30.700482999999963},{"$f":"CHOOSE(MONTH(tbldados[[#This Row],[DATA]]),\"JANEIRO\",\"FEVEREIRO\",\"MARÇO\",\"ABRIL\",\"MAIO\",\"JUNHO\",\"JULHO\",\"AGOSTO\",\"SETEMBRO\",\"OUTUBRO\",\"NOVEMBRO\",\"DEZEMBRO\")","v":"MAIO"},{"$f":"YEAR(tbldados[[#This Row],[DATA]])","v":2022}]
[608,"PGTO","01 DE 01","NEON","ABRIL","RECARGAPAY","DIGIO","CREDITO A VISTA",{"$f":"VLOOKUP(tbldados[[#This Row],[APP]],tblbandeira[],3,0)","v":3.49E-2},44668,44696,850,{"$f":"tbldados[[#This Row],[VALOR PAGO]]+(tbldados[[#This Row],[VALOR PAGO]]*tbldados[[#This Row],[TAXA]])","v":879.66499999999996},{"$f":"tbldados[[#This Row],[TOTAL BRUTO]]-tbldados[[#This Row],[VALOR PAGO]]","v":29.664999999999964},{"$f":"CHOOSE(MONTH(tbldados[[#This Row],[DATA]]),\"JANEIRO\",\"FEVEREIRO\",\"MARÇO\",\"ABRIL\",\"MAIO\",\"JUNHO\",\"JULHO\",\"AGOSTO\",\"SETEMBRO\",\"OUTUBRO\",\"NOVEMBRO\",\"DEZEMBRO\")","v":"MAIO"},{"$f":"YEAR(tbldados[[#This Row],[DATA]])","v":2022}]
[609,"GASTOS","01 DE 01","PGTONEON","JUNIOR","RECARGAPAY","DIGIO","CREDITO A VISTA",{"$f":"VLOOKUP(tbldados[[#This Row],[APP]],tblbandeira[],3,0)","v":3.49E-2},44668,44696,850,{"$f":"tbldados[[#This Row],[VALOR PAGO]]+(tbldados[[#This Row],[VALOR PAGO]]*tbldados[[#This Row],[TAXA]])","v":879.66499999999996},{"$f":"tbldados[[#This Row],[TOTAL BRUTO]]-tbldados[[#This Row],[VALOR PAGO]]","v":29.664999999999964},{"$f":"CHOOSE(MONTH(tbldados[[#This Row],[DATA]]),\"JANEIRO\",\"FEVEREIRO\",\"MARÇO\",\"ABRIL\",\"MAIO\",\"JUNHO\",\"JULHO\",\"AGOSTO\",\"SETEMBRO\",\"OUTUBRO\",\"NOVEMBRO\",\"DEZEMBRO\")","v":"MAIO"},{"$f":"YEAR(tbldados[[#This Row],[DATA]])","v":2022}]
[610,"GASTOS","01 DE 01","PGTO","JUNIOR","RECARGAPAY","NEON","CREDITO A VISTA",{"$f":"VLOOKUP(tbldados[[#This Row],[APP]],tblbandeira[],3,0)","v":3.49E-2},44635,44666,821.34,{"$f":"tbldados[[#This Row],[VALOR PAGO]]+(tbldados[[#This Row],[VALOR PAGO]]*tbldados[[#This Row],[TAXA]])","v":850.00476600000002},{"$f":"tbldados[[#This Row],[TOTAL BRUTO]]-tbldados[[#This Row],[VALOR PAGO]]","v":28.664765999999986},{"$f":"CHOOSE(MONTH(tbldados[[#This Row],[DATA]]),\"JANEIRO\",\"FEVEREIRO\",\"MARÇO\",\"ABRIL\",\"MAIO\",\"JUNHO\",\"JULHO\",\"AGOSTO\",\"SETEMBRO\",\"OUTUBRO\",\"NOVEMBRO\",\"DEZEMBRO\")","v":"ABRIL"},{"$f":"YEAR(tbldados[[#This Row],[DATA]])","v":2022}]
[611,"PGTO","01 DE 01","PANMAE","ABRIL","RECARGAPAY","NEON","CREDITO A VISTA",{"$f":"VLOOKUP(tbldados[[#This Row],[APP]],tblbandeira[],3,0)","v":3.49E-2},44668,44696,821.34,{"$f":"tbldados[[#This Row],[VALOR PAGO]]+(tbldados[[#This Row],[VALOR PAGO]]*tbldados[[#This Row],[TAXA]])","v":850.00476600000002},{"$f":"tbldados[[#This Row],[TOTAL BRUTO]]-tbldados[[#This Row],[VALOR PAGO]]","v":28.664765999999986},{"$f":"CHOOSE(MONTH(tbldados[[#This Row],[DATA]]),\"JANEIRO\",\"FEVEREIRO\",\"MARÇO\",\"ABRIL\",\"MAIO\",\"JUNHO\",\"JULHO\",\"AGOSTO\",\"SETEMBRO\",\"OUTUBRO\",\"NOVEMBRO\",\"DEZEMBRO\")","v":"MAIO"},{"$f":"YEAR(tbldados[[#This Row],[DATA]])","v":2022}]
[612,"GASTOS","01 DE 01","PGTOPANMAE","JUNIOR","RECARGAPAY","NEON","CREDITO A VISTA",{"$f":"VLOOKUP(tbldados[[#This Row],[APP]],tblbandeira[],3,0)","v":3.49E-2},44668,44696,821.34,{"$f":"tbldados[[#This Row],[VALOR PAGO]]+(tbldados[[#This Row],[VALOR PAGO]]*tbldados[[#This Row],[TAXA]])","v":850.00476600000002},{"$f":"tbldados[[#This Row],[TOTAL BRUTO]]-tbldados[[#This Row],[VALOR PAGO]]","v":28.664765999999986},{"$f":"CHOOSE(MONTH(tbldados[[#This Row],[DATA]]),\"JANEIRO\",\"FEVEREIRO\",\"MARÇO\",\"ABRIL\",\"MAIO\",\"JUNHO\",\"JULHO\",\"AGOSTO\",\"SETEMBRO\",\"OUTUBRO\",\"NOVEMBRO\",\"DEZEMBRO\")","v":"MAIO"},{"$f":"YEAR(tbldados[[#This Row],[DATA]])","v":2022}]
[613,"PGTO","01 DE 01","PANMAE","ABRIL","RECARGAPAY","PANMAE","CREDITO A VISTA",{"$f":"VLOOKUP(tbldados[[#This Row],[APP]],tblbandeira[],3,0)","v":3.49E-2},44668,44698,1102.52,{"$f":"tbldados[[#This Row],[VALOR PAGO]]+(tbldados[[#This Row],[VALOR PAGO]]*tbldados[[#This Row],[TAXA]])","v":1140.997948},{"$f":"tbldados[[#This Row],[TOTAL BRUTO]]-tbldados[[#This Row],[VALOR PAGO]]","v":38.477947999999969},{"$f":"CHOOSE(MONTH(tbldados[[#This Row],[DATA]]),\"JANEIRO\",\"FEVEREIRO\",\"MARÇO\",\"ABRIL\",\"MAIO\",\"JUNHO\",\"JULHO\",\"AGOSTO\",\"SETEMBRO\",\"OUTUBRO\",\"NOVEMBRO\",\"DEZEMBRO\")","v":"MAIO"},{"$f":"YEAR(tbldados[[#This Row],[DATA]])","v":2022}]
[614,"GASTOS","01 DE 01","PGTOPANMAE","JUNIOR","RECARGAPAY","PANMAE","CREDITO A VISTA",{"$f":"VLOOKUP(tbldados[[#This Row],[APP]],tblbandeira[],3,0)","v":3.49E-2},44668,44698,1102.52,{"$f":"tbldados[[#This Row],[VALOR PAGO]]+(tbldados[[#This Row],[VALOR PAGO]]*tbldados[[#This Row],[TAXA]])","v":1140.997948},{"$f":"tbldados[[#This Row],[TOTAL BRUTO]]-tbldados[[#This Row],[VALOR PAGO]]","v":38.477947999999969},{"$f":"CHOOSE(MONTH(tbldados[[#This Row],[DATA]]),\"JANEIRO\",\"FEVEREIRO\",\"MARÇO\",\"ABRIL\",\"MAIO\",\"JUNHO\",\"JULHO\",\"AGOSTO\",\"SETEMBRO\",\"OUTUBRO\",\"NOVEMBRO\",\"DEZEMBRO\")","v":"MAIO"},{"$f":"YEAR(tbldados[[#This Row],[DATA]])","v":2022}]
[615,"PGTO","01 DE 01","PANMAE","ABRIL","RECARGAPAY","PAN","CREDITO A VISTA",{"$f":"VLOOKUP(tbldados[[#This Row],[APP]],tblbandeira[],3,0)","v":3.49E-2},44668,44694,955.93,{"$f":"tbldados[[#This Row],[VALOR PAGO]]+(tbldados[[#This Row],[VALOR PAGO]]*tbldados[[#This Row],[TAXA]])","v":989.29195699999991},{"$f":"tbldados[[#This Row],[TOTAL BRUTO]]-tbldados[[#This Row],[VALOR PAGO]]","v":33.361956999999961},{"$f":"CHOOSE(MONTH(tbldados[[#This Row],[DATA]]),\"JANEIRO\",\"FEVEREIRO\",\"MARÇO\",\"ABRIL\",\"MAIO\",\"JUNHO\",\"JULHO\",\"AGOSTO\",\"SETEMBRO\",\"OUTUBRO\",\"NOVEMBRO\",\"DEZEMBRO\")","v":"MAIO"},{"$f":"YEAR(tbldados[[#This Row],[DATA]])","v":2022}]
[616,"GASTOS","01 DE 01","PGTOPANMAE","JUNIOR","RECARGAPAY","PANMAE","CREDITO A VISTA",{"$f":"VLOOKUP(tbldados[[#This Row],[APP]],tblbandeira[],3,0)","v":3.49E-2},44668,44698,955.93,{"$f":"tbldados[[#This Row],[VALOR PAGO]]+(tbldados[[#This Row],[VALOR PAGO]]*tbldados[[#This Row],[TAXA]])","v":989.29195699999991},{"$f":"tbldados[[#This Row],[TOTAL BRUTO]]-tbldados[[#This Row],[VALOR PAGO]]","v":33.361956999999961},{"$f":"CHOOSE(MONTH(tbldados[[#This Row],[DATA]]),\"JANEIRO\",\"FEVEREIRO\",\"MARÇO\",\"ABRIL\",\"MAIO\",\"JUNHO\",\"JULHO\",\"AGOSTO\",\"SETEMBRO\",\"OUTUBRO\",\"NOVEMBRO\",\"DEZEMBRO\")","v":"MAIO"},{"$f":"YEAR(tbldados[[#This Row],[DATA]])","v":2022}]
[617,"PGTO","01 DE 01","TRIGMAE","ABRIL","RECARGAPAY","CLICK","CREDITO A VISTA",{"$f":"VLOOKUP(tbldados[[#This Row],[APP]],tblbandeira[],3,0)","v":3.49E-2},44669,44698,710.9,{"$f":"tbldados[[#This Row],[VALOR PAGO]]+(tbldados[[#This Row],[VALOR PAGO]]*tbldados[[#This Row],[TAXA]])","v":735.71041000000002},{"$f":"tbldados[[#This Row],[TOTAL BRUTO]]-tbldados[[#This Row],[VALOR PAGO]]","v":24.810410000000047},{"$f":"CHOOSE(MONTH(tbldados[[#This Row],[DATA]]),\"JANEIRO\",\"FEVEREIRO\",\"MARÇO\",\"ABRIL\",\"MAIO\",\"JUNHO\",\"JULHO\",\"AGOSTO\",\"SETEMBRO\",\"OUTUBRO\",\"NOVEMBRO\",\"DEZEMBRO\")","v":"MAIO"},{"$f":"YEAR(tbldados[[#This Row],[DATA]])","v":2022}]
[618,"GASTOS","01 DE 01","PGTOTRIGMAE","JUNIOR","RECARGAPAY","CLICK","CREDITO A VISTA",{"$f":"VLOOKUP(tbldados[[#This Row],[APP]],tblbandeira[],3,0)","v":3.49E-2},44669,44698,710.9,{"$f":"tbldados[[#This Row],[VALOR PAGO]]+(tbldados[[#This Row],[VALOR PAGO]]*tbldados[[#This Row],[TAXA]])","v":735.71041000000002},{"$f":"tbldados[[#This Row],[TOTAL BRUTO]]-tbldados[[#This Row],[VALOR PAGO]]","v":24.810410000000047},{"$f":"CHOOSE(MONTH(tbldados[[#This Row],[DATA]]),\"JANEIRO\",\"FEVEREIRO\",\"MARÇO\",\"ABRIL\",\"MAIO\",\"JUNHO\",\"JULHO\",\"AGOSTO\",\"SETEMBRO\",\"OUTUBRO\",\"NOVEMBRO\",\"DEZEMBRO\")","v":"MAIO"},{"$f":"YEAR(tbldados[[#This Row],[DATA]])","v":2022}]
[619,"GASTOS","01 DE 01","ANUIDADE","JUNIOR","GERAL","TRIGMAE","CREDITO A VISTA",{"$f":"VLOOKUP(tbldados[[#This Row],[APP]],tblbandeira[],3,0)","v":0},44637,44671,10.9,{"$f":"tbldados[[#This Row],[VALOR PAGO]]+(tbldados[[#This Row],[VALOR PAGO]]*tbldados[[#This Row],[TAXA]])","v":10.9},{"$f":"tbldados[[#This Row],[TOTAL BRUTO]]-tbldados[[#This Row],[VALOR PAGO]]","v":0},{"$f":"CHOOSE(MONTH(tbldados[[#This Row],[DATA]]),\"JANEIRO\",\"FEVEREIRO\",\"MARÇO\",\"ABRIL\",\"MAIO\",\"JUNHO\",\"JULHO\",\"AGOSTO\",\"SETEMBRO\",\"OUTUBRO\",\"NOVEMBRO\",\"DEZEMBRO\")","v":"ABRIL"},{"$f":"YEAR(tbldados[[#This Row],[DATA]])","v":2022}]
[620,"GASTOS","01 DE 01","CLARO","JUNIOR","GERAL","WILL","CREDITO A VISTA",{"$f":"VLOOKUP(tbldados[[#This Row],[APP]],tblbandeira[],3,0)","v":0},44643,44671,30,{"$f":"tbldados[[#This Row],[VALOR PAGO]]+(tbldados[[#This Row],[VALOR PAGO]]*tbldados[[#This Row],[TAXA]])","v":30},{"$f":"tbldados[[#This Row],[TOTAL BRUTO]]-tbldados[[#This Row],[VALOR PAGO]]","v":0},{"$f":"CHOOSE(MONTH(tbldados[[#This Row],[DATA]]),\"JANEIRO\",\"FEVEREIRO\",\"MARÇO\",\"ABRIL\",\"MAIO\",\"JUNHO\",\"JULHO\",\"AGOSTO\",\"SETEMBRO\",\"OUTUBRO\",\"NOVEMBRO\",\"DEZEMBRO\")","v":"ABRIL"},{"$f":"YEAR(tbldados[[#This Row],[DATA]])","v":2022}]
[621,"PGTO","01 DE 01","WILL","ABRIL","RECARGAPAY","TRIGMAE","CREDITO A VISTA",{"$f":"VLOOKUP(tbldados[[#This Row],[APP]],tblbandeira[],3,0)","v":3.49E-2},44670,44701,859.12,{"$f":"tbldados[[#This Row],[VALOR PAGO]]+(tbldados[[#This Row],[VALOR PAGO]]*tbldados[[#This Row],[TAXA]])","v":889.10328800000002},{"$f":"tbldados[[#This Row],[TOTAL BRUTO]]-tbldados[[#This Row],[VALOR PAGO]]","v":29.983288000000016},{"$f":"CHOOSE(MONTH(tbldados[[#This Row],[DATA]]),\"JANEIRO\",\"FEVEREIRO\",\"MARÇO\",\"ABRIL\",\"MAIO\",\"JUNHO\",\"JULHO\",\"AGOSTO\",\"SETEMBRO\",\"OUTUBRO\",\"NOVEMBRO\",\"DEZEMBRO\")","v":"MAIO"},{"$f":"YEAR(tbldados[[#This Row],[DATA]])","v":2022}]
[622,"GASTOS","01 DE 01","PGTOWILL","JUNIOR","RECARGAPAY","TRIGMAE","CREDITO A VISTA",{"$f":"VLOOKUP(tbldados[[#This Row],[APP]],tblbandeira[],3,0)","v":3.49E-2},44670,44701,859.12,{"$f":"tbldados[[#This Row],[VALOR PAGO]]+(tbldados[[#This Row],[VALOR PAGO]]*tbldados[[#This Row],[TAXA]])","v":889.10328800000002},{"$f":"tbldados[[#This Row],[TOTAL BRUTO]]-tbldados[[#This Row],[VALOR PAGO]]","v":29.983288000000016},{"$f":"CHOOSE(MONTH(tbldados[[#This Row],[DATA]]),\"JANEIRO\",\"FEVEREIRO\",\"MARÇO\",\"ABRIL\",\"MAIO\",\"JUNHO\",\"JULHO\",\"AGOSTO\",\"SETEMBRO\",\"OUTUBRO\",\"NOVEMBRO\",\"DEZEMBRO\")","v":"MAIO"},{"$f":"YEAR(tbldados[[#This Row],[DATA]])","v":2022}]
[623,"PGTO","01 DE 01","WILL","ABRIL","RECARGAPAY","CLICK","CREDITO A VISTA",{"$f":"VLOOKUP(tbldados[[#This Row],[APP]],tblbandeira[],3,0)","v":3.49E-2},44670,44698,419.34,{"$f":"tbldados[[#This Row],[VALOR PAGO]]+(tbldados[[#This Row],[VALOR PAGO]]*tbldados[[#This Row],[TAXA]])","v":433.97496599999999},{"$f":"tbldados[[#This Row],[TOTAL BRUTO]]-tbldados[[#This Row],[VALOR PAGO]]","v":14.63496600000002},{"$f":"CHOOSE(MONTH(tbldados[[#This Row],[DATA]]),\"JANEIRO\",\"FEVEREIRO\",\"MARÇO\",\"ABRIL\",\"MAIO\",\"JUNHO\",\"JULHO\",\"AGOSTO\",\"SETEMBRO\",\"OUTUBRO\",\"NOVEMBRO\",\"DEZEMBRO\")","v":"MAIO"},{"$f":"YEAR(tbldados[[#This Row],[DATA]])","v":2022}]
[624,"GASTOS","01 DE 01","PGTOWILL","JUNIOR","RECARGAPAY","CLICK","CREDITO A VISTA",{"$f":"VLOOKUP(tbldados[[#This Row],[APP]],tblbandeira[],3,0)","v":3.49E-2},44670,44698,419.34,{"$f":"tbldados[[#This Row],[VALOR PAGO]]+(tbldados[[#This Row],[VALOR PAGO]]*tbldados[[#This Row],[TAXA]])","v":433.97496599999999},{"$f":"tbldados[[#This Row],[TOTAL BRUTO]]-tbldados[[#This Row],[VALOR PAGO]]","v":14.63496600000002},{"$f":"CHOOSE(MONTH(tbldados[[#This Row],[DATA]]),\"JANEIRO\",\"FEVEREIRO\",\"MARÇO\",\"ABRIL\",\"MAIO\",\"JUNHO\",\"JULHO\",\"AGOSTO\",\"SETEMBRO\",\"OUTUBRO\",\"NOVEMBRO\",\"DEZEMBRO\")","v":"MAIO"},{"$f":"YEAR(tbldados[[#This Row],[DATA]])","v":2022}]
[625,"PGTO","01 DE 01","WILL","ABRIL","RECARGAPAY","WILL","CREDITO A VISTA",{"$f":"VLOOKUP(tbldados[[#This Row],[APP]],tblbandeira[],3,0)","v":3.49E-2},44671,44701,1865.13,{"$f":"tbldados[[#This Row],[VALOR PAGO]]+(tbldados[[#This Row],[VALOR PAGO]]*tbldados[[#This Row],[TAXA]])","v":1930.2230370000002},{"$f":"tbldados[[#This Row],[TOTAL BRUTO]]-tbldados[[#This Row],[VALOR PAGO]]","v":65.093037000000095},{"$f":"CHOOSE(MONTH(tbldados[[#This Row],[DATA]]),\"JANEIRO\",\"FEVEREIRO\",\"MARÇO\",\"ABRIL\",\"MAIO\",\"JUNHO\",\"JULHO\",\"AGOSTO\",\"SETEMBRO\",\"OUTUBRO\",\"NOVEMBRO\",\"DEZEMBRO\")","v":"MAIO"},{"$f":"YEAR(tbldados[[#This Row],[DATA]])","v":2022}]
[626,"GASTOS","01 DE 01","PGTOWILL","JUNIOR","RECARGAPAY","WILL","CREDITO A VISTA",{"$f":"VLOOKUP(tbldados[[#This Row],[APP]],tblbandeira[],3,0)","v":3.49E-2},44671,44701,1865.13,{"$f":"tbldados[[#This Row],[VALOR PAGO]]+(tbldados[[#This Row],[VALOR PAGO]]*tbldados[[#This Row],[TAXA]])","v":1930.2230370000002},{"$f":"tbldados[[#This Row],[TOTAL BRUTO]]-tbldados[[#This Row],[VALOR PAGO]]","v":65.093037000000095},{"$f":"CHOOSE(MONTH(tbldados[[#This Row],[DATA]]),\"JANEIRO\",\"FEVEREIRO\",\"MARÇO\",\"ABRIL\",\"MAIO\",\"JUNHO\",\"JULHO\",\"AGOSTO\",\"SETEMBRO\",\"OUTUBRO\",\"NOVEMBRO\",\"DEZEMBRO\")","v":"MAIO"},{"$f":"YEAR(tbldados[[#This Row],[DATA]])","v":2022}]
[627,"GASTOS","01 DE 01","MOTO MANUTENÇÃO","JUNIOR","RECARGAPAY","INTER","CREDITO A VISTA",{"$f":"VLOOKUP(tbldados[[#This Row],[APP]],tblbandeira[],3,0)","v":3.49E-2},44671,44696,255,{"$f":"tbldados[[#This Row],[VALOR PAGO]]+(tbldados[[#This Row],[VALOR PAGO]]*tbldados[[#This Row],[TAXA]])","v":263.89949999999999},{"$f":"tbldados[[#This Row],[TOTAL BRUTO]]-tbldados[[#This Row],[VALOR PAGO]]","v":8.8994999999999891},{"$f":"CHOOSE(MONTH(tbldados[[#This Row],[DATA]]),\"JANEIRO\",\"FEVEREIRO\",\"MARÇO\",\"ABRIL\",\"MAIO\",\"JUNHO\",\"JULHO\",\"AGOSTO\",\"SETEMBRO\",\"OUTUBRO\",\"NOVEMBRO\",\"DEZEMBRO\")","v":"MAIO"},{"$f":"YEAR(tbldados[[#This Row],[DATA]])","v":2022}]
[628,"GASTOS","01 DE 01","CLARO","JUNIOR","GERAL","WILL","CREDITO A VISTA",{"$f":"VLOOKUP(tbldados[[#This Row],[APP]],tblbandeira[],3,0)","v":0},44672,44701,30,{"$f":"tbldados[[#This Row],[VALOR PAGO]]+(tbldados[[#This Row],[VALOR PAGO]]*tbldados[[#This Row],[TAXA]])","v":30},{"$f":"tbldados[[#This Row],[TOTAL BRUTO]]-tbldados[[#This Row],[VALOR PAGO]]","v":0},{"$f":"CHOOSE(MONTH(tbldados[[#This Row],[DATA]]),\"JANEIRO\",\"FEVEREIRO\",\"MARÇO\",\"ABRIL\",\"MAIO\",\"JUNHO\",\"JULHO\",\"AGOSTO\",\"SETEMBRO\",\"OUTUBRO\",\"NOVEMBRO\",\"DEZEMBRO\")","v":"MAIO"},{"$f":"YEAR(tbldados[[#This Row],[DATA]])","v":2022}]
[629,"PGTO","01 DE 01","GOLD","ABRIL","RECARGAPAY","WILL","CREDITO A VISTA",{"$f":"VLOOKUP(tbldados[[#This Row],[APP]],tblbandeira[],3,0)","v":3.49E-2},44673,44701,1293.6300000000001,{"$f":"tbldados[[#This Row],[VALOR PAGO]]+(tbldados[[#This Row],[VALOR PAGO]]*tbldados[[#This Row],[TAXA]])","v":1338.777687},{"$f":"tbldados[[#This Row],[TOTAL BRUTO]]-tbldados[[#This Row],[VALOR PAGO]]","v":45.147686999999905},{"$f":"CHOOSE(MONTH(tbldados[[#This Row],[DATA]]),\"JANEIRO\",\"FEVEREIRO\",\"MARÇO\",\"ABRIL\",\"MAIO\",\"JUNHO\",\"JULHO\",\"AGOSTO\",\"SETEMBRO\",\"OUTUBRO\",\"NOVEMBRO\",\"DEZEMBRO\")","v":"MAIO"},{"$f":"YEAR(tbldados[[#This Row],[DATA]])","v":2022}]
[630,"GASTOS","01 DE 01","PGTOGOLD","JUNIOR","RECARGAPAY","WILL","CREDITO A VISTA",{"$f":"VLOOKUP(tbldados[[#This Row],[APP]],tblbandeira[],3,0)","v":3.49E-2},44673,44701,1293.6300000000001,{"$f":"tbldados[[#This Row],[VALOR PAGO]]+(tbldados[[#This Row],[VALOR PAGO]]*tbldados[[#This Row],[TAXA]])","v":1338.777687},{"$f":"tbldados[[#This Row],[TOTAL BRUTO]]-tbldados[[#This Row],[VALOR PAGO]]","v":45.147686999999905},{"$f":"CHOOSE(MONTH(tbldados[[#This Row],[DATA]]),\"JANEIRO\",\"FEVEREIRO\",\"MARÇO\",\"ABRIL\",\"MAIO\",\"JUNHO\",\"JULHO\",\"AGOSTO\",\"SETEMBRO\",\"OUTUBRO\",\"NOVEMBRO\",\"DEZEMBRO\")","v":"MAIO"},{"$f":"YEAR(tbldados[[#This Row],[DATA]])","v":2022}]
[631,"PGTO","01 DE 01","LATAM","ABRIL","RECARGAPAY","GOLD","CREDITO A VISTA",{"$f":"VLOOKUP(tbldados[[#This Row],[APP]],tblbandeira[],3,0)","v":3.49E-2},44674,44704,1209.32,{"$f":"tbldados[[#This Row],[VALOR PAGO]]+(tbldados[[#This Row],[VALOR PAGO]]*tbldados[[#This Row],[TAXA]])","v":1251.5252679999999},{"$f":"tbldados[[#This Row],[TOTAL BRUTO]]-tbldados[[#This Row],[VALOR PAGO]]","v":42.205267999999933},{"$f":"CHOOSE(MONTH(tbldados[[#This Row],[DATA]]),\"JANEIRO\",\"FEVEREIRO\",\"MARÇO\",\"ABRIL\",\"MAIO\",\"JUNHO\",\"JULHO\",\"AGOSTO\",\"SETEMBRO\",\"OUTUBRO\",\"NOVEMBRO\",\"DEZEMBRO\")","v":"MAIO"},{"$f":"YEAR(tbldados[[#This Row],[DATA]])","v":2022}]
[632,"GASTOS","01 DE 01","PGTOLATAM","JUNIOR","RECARGAPAY","GOLD","CREDITO A VISTA",{"$f":"VLOOKUP(tbldados[[#This Row],[APP]],tblbandeira[],3,0)","v":3.49E-2},44674,44704,1209.32,{"$f":"tbldados[[#This Row],[VALOR PAGO]]+(tbldados[[#This Row],[VALOR PAGO]]*tbldados[[#This Row],[TAXA]])","v":1251.5252679999999},{"$f":"tbldados[[#This Row],[TOTAL BRUTO]]-tbldados[[#This Row],[VALOR PAGO]]","v":42.205267999999933},{"$f":"CHOOSE(MONTH(tbldados[[#This Row],[DATA]]),\"JANEIRO\",\"FEVEREIRO\",\"MARÇO\",\"ABRIL\",\"MAIO\",\"JUNHO\",\"JULHO\",\"AGOSTO\",\"SETEMBRO\",\"OUTUBRO\",\"NOVEMBRO\",\"DEZEMBRO\")","v":"MAIO"},{"$f":"YEAR(tbldados[[#This Row],[DATA]])","v":2022}]
[633,"GASTOS","01 DE 01","JUROS","JUNIOR","GERAL","LATAM","CREDITO A VISTA",{"$f":"VLOOKUP(tbldados[[#This Row],[APP]],tblbandeira[],3,0)","v":0},44644,44676,17.96,{"$f":"tbldados[[#This Row],[VALOR PAGO]]+(tbldados[[#This Row],[VALOR PAGO]]*tbldados[[#This Row],[TAXA]])","v":17.96},{"$f":"tbldados[[#This Row],[TOTAL BRUTO]]-tbldados[[#This Row],[VALOR PAGO]]","v":0},{"$f":"CHOOSE(MONTH(tbldados[[#This Row],[DATA]]),\"JANEIRO\",\"FEVEREIRO\",\"MARÇO\",\"ABRIL\",\"MAIO\",\"JUNHO\",\"JULHO\",\"AGOSTO\",\"SETEMBRO\",\"OUTUBRO\",\"NOVEMBRO\",\"DEZEMBRO\")","v":"ABRIL"},{"$f":"YEAR(tbldados[[#This Row],[DATA]])","v":2022}]
[634,"PGTO","01 DE 01","LATAM","ABRIL","RECARGAPAY","LATAM","CREDITO A VISTA",{"$f":"VLOOKUP(tbldados[[#This Row],[APP]],tblbandeira[],3,0)","v":3.49E-2},44675,44706,1168.54,{"$f":"tbldados[[#This Row],[VALOR PAGO]]+(tbldados[[#This Row],[VALOR PAGO]]*tbldados[[#This Row],[TAXA]])","v":1209.322046},{"$f":"tbldados[[#This Row],[TOTAL BRUTO]]-tbldados[[#This Row],[VALOR PAGO]]","v":40.782046000000037},{"$f":"CHOOSE(MONTH(tbldados[[#This Row],[DATA]]),\"JANEIRO\",\"FEVEREIRO\",\"MARÇO\",\"ABRIL\",\"MAIO\",\"JUNHO\",\"JULHO\",\"AGOSTO\",\"SETEMBRO\",\"OUTUBRO\",\"NOVEMBRO\",\"DEZEMBRO\")","v":"MAIO"},{"$f":"YEAR(tbldados[[#This Row],[DATA]])","v":2022}]
[635,"GASTOS","01 DE 01","PGTOLATAM","JUNIOR","RECARGAPAY","LATAM","CREDITO A VISTA",{"$f":"VLOOKUP(tbldados[[#This Row],[APP]],tblbandeira[],3,0)","v":3.49E-2},44675,44706,1168.54,{"$f":"tbldados[[#This Row],[VALOR PAGO]]+(tbldados[[#This Row],[VALOR PAGO]]*tbldados[[#This Row],[TAXA]])","v":1209.322046},{"$f":"tbldados[[#This Row],[TOTAL BRUTO]]-tbldados[[#This Row],[VALOR PAGO]]","v":40.782046000000037},{"$f":"CHOOSE(MONTH(tbldados[[#This Row],[DATA]]),\"JANEIRO\",\"FEVEREIRO\",\"MARÇO\",\"ABRIL\",\"MAIO\",\"JUNHO\",\"JULHO\",\"AGOSTO\",\"SETEMBRO\",\"OUTUBRO\",\"NOVEMBRO\",\"DEZEMBRO\")","v":"MAIO"},{"$f":"YEAR(tbldados[[#This Row],[DATA]])","v":2022}]
[636,"PGTO","01 DE 01","LATAM","ABRIL","RECARGAPAY","LATAM","CREDITO A VISTA",{"$f":"VLOOKUP(tbldados[[#This Row],[APP]],tblbandeira[],3,0)","v":3.49E-2},44675,44706,1129.22,{"$f":"tbldados[[#This Row],[VALOR PAGO]]+(tbldados[[#This Row],[VALOR PAGO]]*tbldados[[#This Row],[TAXA]])","v":1168.629778},{"$f":"tbldados[[#This Row],[TOTAL BRUTO]]-tbldados[[#This Row],[VALOR PAGO]]","v":39.40977799999996},{"$f":"CHOOSE(MONTH(tbldados[[#This Row],[DATA]]),\"JANEIRO\",\"FEVEREIRO\",\"MARÇO\",\"ABRIL\",\"MAIO\",\"JUNHO\",\"JULHO\",\"AGOSTO\",\"SETEMBRO\",\"OUTUBRO\",\"NOVEMBRO\",\"DEZEMBRO\")","v":"MAIO"},{"$f":"YEAR(tbldados[[#This Row],[DATA]])","v":2022}]
[637,"GASTOS","01 DE 01","PGTOLATAM","JUNIOR","RECARGAPAY","LATAM","CREDITO A VISTA",{"$f":"VLOOKUP(tbldados[[#This Row],[APP]],tblbandeira[],3,0)","v":3.49E-2},44675,44706,1129.22,{"$f":"tbldados[[#This Row],[VALOR PAGO]]+(tbldados[[#This Row],[VALOR PAGO]]*tbldados[[#This Row],[TAXA]])","v":1168.629778},{"$f":"tbldados[[#This Row],[TOTAL BRUTO]]-tbldados[[#This Row],[VALOR PAGO]]","v":39.40977799999996},{"$f":"CHOOSE(MONTH(tbldados[[#This Row],[DATA]]),\"JANEIRO\",\"FEVEREIRO\",\"MARÇO\",\"ABRIL\",\"MAIO\",\"JUNHO\",\"JULHO\",\"AGOSTO\",\"SETEMBRO\",\"OUTUBRO\",\"NOVEMBRO\",\"DEZEMBRO\")","v":"MAIO"},{"$f":"YEAR(tbldados[[#This Row],[DATA]])","v":2022}]
[638,"PGTO","01 DE 01","LATAM","ABRIL","RECARGAPAY","LATAM","CREDITO A VISTA",{"$f":"VLOOKUP(tbldados[[#This Row],[APP]],tblbandeira[],3,0)","v":3.49E-2},44675,44706,292.92,{"$f":"tbldados[[#This Row],[VALOR PAGO]]+(tbldados[[#This Row],[VALOR PAGO]]*tbldados[[#This Row],[TAXA]])","v":303.14290800000003},{"$f":"tbldados[[#This Row],[TOTAL BRUTO]]-tbldados[[#This Row],[VALOR PAGO]]","v":10.222908000000018},{"$f":"CHOOSE(MONTH(tbldados[[#This Row],[DATA]]),\"JANEIRO\",\"FEVEREIRO\",\"MARÇO\",\"ABRIL\",\"MAIO\",\"JUNHO\",\"JULHO\",\"AGOSTO\",\"SETEMBRO\",\"OUTUBRO\",\"NOVEMBRO\",\"DEZEMBRO\")","v":"MAIO"},{"$f":"YEAR(tbldados[[#This Row],[DATA]])","v":2022}]
[639,"GASTOS","01 DE 01","PGTOLATAM","JUNIOR","RECARGAPAY","LATAM","CREDITO A VISTA",{"$f":"VLOOKUP(tbldados[[#This Row],[APP]],tblbandeira[],3,0)","v":3.49E-2},44675,44706,292.92,{"$f":"tbldados[[#This Row],[VALOR PAGO]]+(tbldados[[#This Row],[VALOR PAGO]]*tbldados[[#This Row],[TAXA]])","v":303.14290800000003},{"$f":"tbldados[[#This Row],[TOTAL BRUTO]]-tbldados[[#This Row],[VALOR PAGO]]","v":10.222908000000018},{"$f":"CHOOSE(MONTH(tbldados[[#This Row],[DATA]]),\"JANEIRO\",\"FEVEREIRO\",\"MARÇO\",\"ABRIL\",\"MAIO\",\"JUNHO\",\"JULHO\",\"AGOSTO\",\"SETEMBRO\",\"OUTUBRO\",\"NOVEMBRO\",\"DEZEMBRO\")","v":"MAIO"},{"$f":"YEAR(tbldados[[#This Row],[DATA]])","v":2022}]
[640,"PGTO","01 DE 01","C6","MAIO","GERAL","DÉBITO","DINHEIRO",{"$f":"VLOOKUP(tbldados[[#This Row],[APP]],tblbandeira[],3,0)","v":0},44680,44680,101.03,{"$f":"tbldados[[#This Row],[VALOR PAGO]]+(tbldados[[#This Row],[VALOR PAGO]]*tbldados[[#This Row],[TAXA]])","v":101.03},{"$f":"tbldados[[#This Row],[TOTAL BRUTO]]-tbldados[[#This Row],[VALOR PAGO]]","v":0},{"$f":"CHOOSE(MONTH(tbldados[[#This Row],[DATA]]),\"JANEIRO\",\"FEVEREIRO\",\"MARÇO\",\"ABRIL\",\"MAIO\",\"JUNHO\",\"JULHO\",\"AGOSTO\",\"SETEMBRO\",\"OUTUBRO\",\"NOVEMBRO\",\"DEZEMBRO\")","v":"ABRIL"},{"$f":"YEAR(tbldados[[#This Row],[DATA]])","v":2022}]
[641,"PGTO","01 DE 01","C6","MAIO","GERAL","DÉBITO","DINHEIRO",{"$f":"VLOOKUP(tbldados[[#This Row],[APP]],tblbandeira[],3,0)","v":0},44679,44679,200,{"$f":"tbldados[[#This Row],[VALOR PAGO]]+(tbldados[[#This Row],[VALOR PAGO]]*tbldados[[#This Row],[TAXA]])","v":200},{"$f":"tbldados[[#This Row],[TOTAL BRUTO]]-tbldados[[#This Row],[VALOR PAGO]]","v":0},{"$f":"CHOOSE(MONTH(tbldados[[#This Row],[DATA]]),\"JANEIRO\",\"FEVEREIRO\",\"MARÇO\",\"ABRIL\",\"MAIO\",\"JUNHO\",\"JULHO\",\"AGOSTO\",\"SETEMBRO\",\"OUTUBRO\",\"NOVEMBRO\",\"DEZEMBRO\")","v":"ABRIL"},{"$f":"YEAR(tbldados[[#This Row],[DATA]])","v":2022}]
[642,"PGTO","01 DE 01","C6","MAIO","GERAL","DÉBITO","DINHEIRO",{"$f":"VLOOKUP(tbldados[[#This Row],[APP]],tblbandeira[],3,0)","v":0},44680,44680,579.86,{"$f":"tbldados[[#This Row],[VALOR PAGO]]+(tbldados[[#This Row],[VALOR PAGO]]*tbldados[[#This Row],[TAXA]])","v":579.86},{"$f":"tbldados[[#This Row],[TOTAL BRUTO]]-tbldados[[#This Row],[VALOR PAGO]]","v":0},{"$f":"CHOOSE(MONTH(tbldados[[#This Row],[DATA]]),\"JANEIRO\",\"FEVEREIRO\",\"MARÇO\",\"ABRIL\",\"MAIO\",\"JUNHO\",\"JULHO\",\"AGOSTO\",\"SETEMBRO\",\"OUTUBRO\",\"NOVEMBRO\",\"DEZEMBRO\")","v":"ABRIL"},{"$f":"YEAR(tbldados[[#This Row],[DATA]])","v":2022}]
[643,"PGTO","01 DE 01","C6","MAIO","RECARGAPAY","LATAM","CREDITO A VISTA",{"$f":"VLOOKUP(tbldados[[#This Row],[APP]],tblbandeira[],3,0)","v":3.49E-2},44682,44706,760.52,{"$f":"tbldados[[#This Row],[VALOR PAGO]]+(tbldados[[#This Row],[VALOR PAGO]]*tbldados[[#This Row],[TAXA]])","v":787.06214799999998},{"$f":"tbldados[[#This Row],[TOTAL BRUTO]]-tbldados[[#This Row],[VALOR PAGO]]","v":26.542147999999997},{"$f":"CHOOSE(MONTH(tbldados[[#This Row],[DATA]]),\"JANEIRO\",\"FEVEREIRO\",\"MARÇO\",\"ABRIL\",\"MAIO\",\"JUNHO\",\"JULHO\",\"AGOSTO\",\"SETEMBRO\",\"OUTUBRO\",\"NOVEMBRO\",\"DEZEMBRO\")","v":"MAIO"},{"$f":"YEAR(tbldados[[#This Row],[DATA]])","v":2022}]
[644,"PGTO","01 DE 01","C6","MAIO","CONTA","DÉBITO","DINHEIRO",{"$f":"VLOOKUP(tbldados[[#This Row],[APP]],tblbandeira[],3,0)","v":0},44682,44682,177.11,{"$f":"tbldados[[#This Row],[VALOR PAGO]]+(tbldados[[#This Row],[VALOR PAGO]]*tbldados[[#This Row],[TAXA]])","v":177.11},{"$f":"tbldados[[#This Row],[TOTAL BRUTO]]-tbldados[[#This Row],[VALOR PAGO]]","v":0},{"$f":"CHOOSE(MONTH(tbldados[[#This Row],[DATA]]),\"JANEIRO\",\"FEVEREIRO\",\"MARÇO\",\"ABRIL\",\"MAIO\",\"JUNHO\",\"JULHO\",\"AGOSTO\",\"SETEMBRO\",\"OUTUBRO\",\"NOVEMBRO\",\"DEZEMBRO\")","v":"MAIO"},{"$f":"YEAR(tbldados[[#This Row],[DATA]])","v":2022}]
[645,"GASTOS","01 DE 01","PGTOC6","JUNIOR","RECARGAPAY","LATAM","CREDITO A VISTA",{"$f":"VLOOKUP(tbldados[[#This Row],[APP]],tblbandeira[],3,0)","v":3.49E-2},44682,44706,760.52,{"$f":"tbldados[[#This Row],[VALOR PAGO]]+(tbldados[[#This Row],[VALOR PAGO]]*tbldados[[#This Row],[TAXA]])","v":787.06214799999998},{"$f":"tbldados[[#This Row],[TOTAL BRUTO]]-tbldados[[#This Row],[VALOR PAGO]]","v":26.542147999999997},{"$f":"CHOOSE(MONTH(tbldados[[#This Row],[DATA]]),\"JANEIRO\",\"FEVEREIRO\",\"MARÇO\",\"ABRIL\",\"MAIO\",\"JUNHO\",\"JULHO\",\"AGOSTO\",\"SETEMBRO\",\"OUTUBRO\",\"NOVEMBRO\",\"DEZEMBRO\")","v":"MAIO"},{"$f":"YEAR(tbldados[[#This Row],[DATA]])","v":2022}]
[646,"PGTO","01 DE 01","C6","MAIO","RECARGAPAY","C6","CREDITO A VISTA",{"$f":"VLOOKUP(tbldados[[#This Row],[APP]],tblbandeira[],3,0)","v":3.49E-2},44682,44713,750.2,{"$f":"tbldados[[#This Row],[VALOR PAGO]]+(tbldados[[#This Row],[VALOR PAGO]]*tbldados[[#This Row],[TAXA]])","v":776.38198},{"$f":"tbldados[[#This Row],[TOTAL BRUTO]]-tbldados[[#This Row],[VALOR PAGO]]","v":26.181979999999953},{"$f":"CHOOSE(MONTH(tbldados[[#This Row],[DATA]]),\"JANEIRO\",\"FEVEREIRO\",\"MARÇO\",\"ABRIL\",\"MAIO\",\"JUNHO\",\"JULHO\",\"AGOSTO\",\"SETEMBRO\",\"OUTUBRO\",\"NOVEMBRO\",\"DEZEMBRO\")","v":"JUNHO"},{"$f":"YEAR(tbldados[[#This Row],[DATA]])","v":2022}]
[647,"GASTOS","01 DE 01","PGTOC6","JUNIOR","RECARGAPAY","C6","CREDITO A VISTA",{"$f":"VLOOKUP(tbldados[[#This Row],[APP]],tblbandeira[],3,0)","v":3.49E-2},44682,44713,750.2,{"$f":"tbldados[[#This Row],[VALOR PAGO]]+(tbldados[[#This Row],[VALOR PAGO]]*tbldados[[#This Row],[TAXA]])","v":776.38198},{"$f":"tbldados[[#This Row],[TOTAL BRUTO]]-tbldados[[#This Row],[VALOR PAGO]]","v":26.181979999999953},{"$f":"CHOOSE(MONTH(tbldados[[#This Row],[DATA]]),\"JANEIRO\",\"FEVEREIRO\",\"MARÇO\",\"ABRIL\",\"MAIO\",\"JUNHO\",\"JULHO\",\"AGOSTO\",\"SETEMBRO\",\"OUTUBRO\",\"NOVEMBRO\",\"DEZEMBRO\")","v":"JUNHO"},{"$f":"YEAR(tbldados[[#This Row],[DATA]])","v":2022}]
[648,"GASTOS","01 DE 03","SUPERMERCADO","JUNIOR","GERAL","BMG","CREDITO PARCELADO",{"$f":"VLOOKUP(tbldados[[#This Row],[APP]],tblbandeira[],3,0)","v":0},44617,44645,29.33,{"$f":"tbldados[[#This Row],[VALOR PAGO]]+(tbldados[[#This Row],[VALOR PAGO]]*tbldados[[#This Row],[TAXA]])","v":29.33},{"$f":"tbldados[[#This Row],[TOTAL BRUTO]]-tbldados[[#This Row],[VALOR PAGO]]","v":0},{"$f":"CHOOSE(MONTH(tbldados[[#This Row],[DATA]]),\"JANEIRO\",\"FEVEREIRO\",\"MARÇO\",\"ABRIL\",\"MAIO\",\"JUNHO\",\"JULHO\",\"AGOSTO\",\"SETEMBRO\",\"OUTUBRO\",\"NOVEMBRO\",\"DEZEMBRO\")","v":"MARÇO"},{"$f":"YEAR(tbldados[[#This Row],[DATA]])","v":2022}]
[649,"GASTOS","02 DE 03","SUPERMERCADO","JUNIOR","GERAL","BMG","CREDITO PARCELADO",{"$f":"VLOOKUP(tbldados[[#This Row],[APP]],tblbandeira[],3,0)","v":0},44617,44676,29.33,{"$f":"tbldados[[#This Row],[VALOR PAGO]]+(tbldados[[#This Row],[VALOR PAGO]]*tbldados[[#This Row],[TAXA]])","v":29.33},{"$f":"tbldados[[#This Row],[TOTAL BRUTO]]-tbldados[[#This Row],[VALOR PAGO]]","v":0},{"$f":"CHOOSE(MONTH(tbldados[[#This Row],[DATA]]),\"JANEIRO\",\"FEVEREIRO\",\"MARÇO\",\"ABRIL\",\"MAIO\",\"JUNHO\",\"JULHO\",\"AGOSTO\",\"SETEMBRO\",\"OUTUBRO\",\"NOVEMBRO\",\"DEZEMBRO\")","v":"ABRIL"},{"$f":"YEAR(tbldados[[#This Row],[DATA]])","v":2022}]
[650,"GASTOS","03 DE 03","SUPERMERCADO","JUNIOR","GERAL","BMG","CREDITO PARCELADO",{"$f":"VLOOKUP(tbldados[[#This Row],[APP]],tblbandeira[],3,0)","v":0},44617,44706,29.33,{"$f":"tbldados[[#This Row],[VALOR PAGO]]+(tbldados[[#This Row],[VALOR PAGO]]*tbldados[[#This Row],[TAXA]])","v":29.33},{"$f":"tbldados[[#This Row],[TOTAL BRUTO]]-tbldados[[#This Row],[VALOR PAGO]]","v":0},{"$f":"CHOOSE(MONTH(tbldados[[#This Row],[DATA]]),\"JANEIRO\",\"FEVEREIRO\",\"MARÇO\",\"ABRIL\",\"MAIO\",\"JUNHO\",\"JULHO\",\"AGOSTO\",\"SETEMBRO\",\"OUTUBRO\",\"NOVEMBRO\",\"DEZEMBRO\")","v":"MAIO"},{"$f":"YEAR(tbldados[[#This Row],[DATA]])","v":2022}]
[651,"GASTOS","01 DE 01","DIVERSOS","JUNIOR","GERAL","BMG","CREDITO A VISTA",{"$f":"VLOOKUP(tbldados[[#This Row],[APP]],tblbandeira[],3,0)","v":0},44645,44676,251.24,{"$f":"tbldados[[#This Row],[VALOR PAGO]]+(tbldados[[#This Row],[VALOR PAGO]]*tbldados[[#This Row],[TAXA]])","v":251.24},{"$f":"tbldados[[#This Row],[TOTAL BRUTO]]-tbldados[[#This Row],[VALOR PAGO]]","v":0},{"$f":"CHOOSE(MONTH(tbldados[[#This Row],[DATA]]),\"JANEIRO\",\"FEVEREIRO\",\"MARÇO\",\"ABRIL\",\"MAIO\",\"JUNHO\",\"JULHO\",\"AGOSTO\",\"SETEMBRO\",\"OUTUBRO\",\"NOVEMBRO\",\"DEZEMBRO\")","v":"ABRIL"},{"$f":"YEAR(tbldados[[#This Row],[DATA]])","v":2022}]
[652,"PGTO","01 DE 01","BMG","ABRIL","RECARGAPAY","LATAM","CREDITO A VISTA",{"$f":"VLOOKUP(tbldados[[#This Row],[APP]],tblbandeira[],3,0)","v":3.49E-2},44676,44706,320.66000000000003,{"$f":"tbldados[[#This Row],[VALOR PAGO]]+(tbldados[[#This Row],[VALOR PAGO]]*tbldados[[#This Row],[TAXA]])","v":331.85103400000003},{"$f":"tbldados[[#This Row],[TOTAL BRUTO]]-tbldados[[#This Row],[VALOR PAGO]]","v":11.191034000000002},{"$f":"CHOOSE(MONTH(tbldados[[#This Row],[DATA]]),\"JANEIRO\",\"FEVEREIRO\",\"MARÇO\",\"ABRIL\",\"MAIO\",\"JUNHO\",\"JULHO\",\"AGOSTO\",\"SETEMBRO\",\"OUTUBRO\",\"NOVEMBRO\",\"DEZEMBRO\")","v":"MAIO"},{"$f":"YEAR(tbldados[[#This Row],[DATA]])","v":2022}]
[653,"GASTOS","01 DE 01","PGTOBMG","JUNIOR","RECARGAPAY","LATAM","CREDITO A VISTA",{"$f":"VLOOKUP(tbldados[[#This Row],[APP]],tblbandeira[],3,0)","v":3.49E-2},44676,44706,320.66000000000003,{"$f":"tbldados[[#This Row],[VALOR PAGO]]+(tbldados[[#This Row],[VALOR PAGO]]*tbldados[[#This Row],[TAXA]])","v":331.85103400000003},{"$f":"tbldados[[#This Row],[TOTAL BRUTO]]-tbldados[[#This Row],[VALOR PAGO]]","v":11.191034000000002},{"$f":"CHOOSE(MONTH(tbldados[[#This Row],[DATA]]),\"JANEIRO\",\"FEVEREIRO\",\"MARÇO\",\"ABRIL\",\"MAIO\",\"JUNHO\",\"JULHO\",\"AGOSTO\",\"SETEMBRO\",\"OUTUBRO\",\"NOVEMBRO\",\"DEZEMBRO\")","v":"MAIO"},{"$f":"YEAR(tbldados[[#This Row],[DATA]])","v":2022}]
[654,"PGTO","01 DE 01","ZERO","MAIO","RECARGAPAY","MELIUZ","CREDITO A VISTA",{"$f":"VLOOKUP(tbldados[[#This Row],[APP]],tblbandeira[],3,0)","v":3.49E-2},44685,44713,1137.3,{"$f":"tbldados[[#This Row],[VALOR PAGO]]+(tbldados[[#This Row],[VALOR PAGO]]*tbldados[[#This Row],[TAXA]])","v":1176.9917699999999},{"$f":"tbldados[[#This Row],[TOTAL BRUTO]]-tbldados[[#This Row],[VALOR PAGO]]","v":39.691769999999906},{"$f":"CHOOSE(MONTH(tbldados[[#This Row],[DATA]]),\"JANEIRO\",\"FEVEREIRO\",\"MARÇO\",\"ABRIL\",\"MAIO\",\"JUNHO\",\"JULHO\",\"AGOSTO\",\"SETEMBRO\",\"OUTUBRO\",\"NOVEMBRO\",\"DEZEMBRO\")","v":"JUNHO"},{"$f":"YEAR(tbldados[[#This Row],[DATA]])","v":2022}]
[655,"GASTOS","01 DE 01","PGTOZERO","JUNIOR","RECARGAPAY","MELIUZ","CREDITO A VISTA",{"$f":"VLOOKUP(tbldados[[#This Row],[APP]],tblbandeira[],3,0)","v":3.49E-2},44685,44713,1137.3,{"$f":"tbldados[[#This Row],[VALOR PAGO]]+(tbldados[[#This Row],[VALOR PAGO]]*tbldados[[#This Row],[TAXA]])","v":1176.9917699999999},{"$f":"tbldados[[#This Row],[TOTAL BRUTO]]-tbldados[[#This Row],[VALOR PAGO]]","v":39.691769999999906},{"$f":"CHOOSE(MONTH(tbldados[[#This Row],[DATA]]),\"JANEIRO\",\"FEVEREIRO\",\"MARÇO\",\"ABRIL\",\"MAIO\",\"JUNHO\",\"JULHO\",\"AGOSTO\",\"SETEMBRO\",\"OUTUBRO\",\"NOVEMBRO\",\"DEZEMBRO\")","v":"JUNHO"},{"$f":"YEAR(tbldados[[#This Row],[DATA]])","v":2022}]
[656,"PGTO","01 DE 01","ZERO","MAIO","RECARGAPAY","ZERO","CREDITO A VISTA",{"$f":"VLOOKUP(tbldados[[#This Row],[APP]],tblbandeira[],3,0)","v":3.49E-2},44685,44715,462.7,{"$f":"tbldados[[#This Row],[VALOR PAGO]]+(tbldados[[#This Row],[VALOR PAGO]]*tbldados[[#This Row],[TAXA]])","v":478.84823},{"$f":"tbldados[[#This Row],[TOTAL BRUTO]]-tbldados[[#This Row],[VALOR PAGO]]","v":16.148230000000012},{"$f":"CHOOSE(MONTH(tbldados[[#This Row],[DATA]]),\"JANEIRO\",\"FEVEREIRO\",\"MARÇO\",\"ABRIL\",\"MAIO\",\"JUNHO\",\"JULHO\",\"AGOSTO\",\"SETEMBRO\",\"OUTUBRO\",\"NOVEMBRO\",\"DEZEMBRO\")","v":"JUNHO"},{"$f":"YEAR(tbldados[[#This Row],[DATA]])","v":2022}]
[657,"GASTOS","01 DE 01","PGTOZERO","JUNIOR","RECARGAPAY","ZERO","CREDITO A VISTA",{"$f":"VLOOKUP(tbldados[[#This Row],[APP]],tblbandeira[],3,0)","v":3.49E-2},44685,44715,462.7,{"$f":"tbldados[[#This Row],[VALOR PAGO]]+(tbldados[[#This Row],[VALOR PAGO]]*tbldados[[#This Row],[TAXA]])","v":478.84823},{"$f":"tbldados[[#This Row],[TOTAL BRUTO]]-tbldados[[#This Row],[VALOR PAGO]]","v":16.148230000000012},{"$f":"CHOOSE(MONTH(tbldados[[#This Row],[DATA]]),\"JANEIRO\",\"FEVEREIRO\",\"MARÇO\",\"ABRIL\",\"MAIO\",\"JUNHO\",\"JULHO\",\"AGOSTO\",\"SETEMBRO\",\"OUTUBRO\",\"NOVEMBRO\",\"DEZEMBRO\")","v":"JUNHO"},{"$f":"YEAR(tbldados[[#This Row],[DATA]])","v":2022}]
[658,"PGTO","01 DE 01","AZUL","MAIO","RECARGAPAY","ZERO","CREDITO A VISTA",{"$f":"VLOOKUP(tbldados[[#This Row],[APP]],tblbandeira[],3,0)","v":3.49E-2},44686,44715,1083.3399999999999,{"$f":"tbldados[[#This Row],[VALOR PAGO]]+(tbldados[[#This Row],[VALOR PAGO]]*tbldados[[#This Row],[TAXA]])","v":1121.1485659999998},{"$f":"tbldados[[#This Row],[TOTAL BRUTO]]-tbldados[[#This Row],[VALOR PAGO]]","v":37.808565999999928},{"$f":"CHOOSE(MONTH(tbldados[[#This Row],[DATA]]),\"JANEIRO\",\"FEVEREIRO\",\"MARÇO\",\"ABRIL\",\"MAIO\",\"JUNHO\",\"JULHO\",\"AGOSTO\",\"SETEMBRO\",\"OUTUBRO\",\"NOVEMBRO\",\"DEZEMBRO\")","v":"JUNHO"},{"$f":"YEAR(tbldados[[#This Row],[DATA]])","v":2022}]
[659,"GASTOS","01 DE 01","PGTOAZUL","JUNIOR","RECARGAPAY","ZERO","CREDITO A VISTA",{"$f":"VLOOKUP(tbldados[[#This Row],[APP]],tblbandeira[],3,0)","v":3.49E-2},44686,44715,1083.3399999999999,{"$f":"tbldados[[#This Row],[VALOR PAGO]]+(tbldados[[#This Row],[VALOR PAGO]]*tbldados[[#This Row],[TAXA]])","v":1121.1485659999998},{"$f":"tbldados[[#This Row],[TOTAL BRUTO]]-tbldados[[#This Row],[VALOR PAGO]]","v":37.808565999999928},{"$f":"CHOOSE(MONTH(tbldados[[#This Row],[DATA]]),\"JANEIRO\",\"FEVEREIRO\",\"MARÇO\",\"ABRIL\",\"MAIO\",\"JUNHO\",\"JULHO\",\"AGOSTO\",\"SETEMBRO\",\"OUTUBRO\",\"NOVEMBRO\",\"DEZEMBRO\")","v":"JUNHO"},{"$f":"YEAR(tbldados[[#This Row],[DATA]])","v":2022}]
[660,"PGTO","01 DE 01","AZUL","MAIO","RECARGAPAY","AZUL","CREDITO A VISTA",{"$f":"VLOOKUP(tbldados[[#This Row],[APP]],tblbandeira[],3,0)","v":3.49E-2},44686,44718,1046.82,{"$f":"tbldados[[#This Row],[VALOR PAGO]]+(tbldados[[#This Row],[VALOR PAGO]]*tbldados[[#This Row],[TAXA]])","v":1083.354018},{"$f":"tbldados[[#This Row],[TOTAL BRUTO]]-tbldados[[#This Row],[VALOR PAGO]]","v":36.53401800000006},{"$f":"CHOOSE(MONTH(tbldados[[#This Row],[DATA]]),\"JANEIRO\",\"FEVEREIRO\",\"MARÇO\",\"ABRIL\",\"MAIO\",\"JUNHO\",\"JULHO\",\"AGOSTO\",\"SETEMBRO\",\"OUTUBRO\",\"NOVEMBRO\",\"DEZEMBRO\")","v":"JUNHO"},{"$f":"YEAR(tbldados[[#This Row],[DATA]])","v":2022}]
[661,"GASTOS","01 DE 01","PGTOAZUL","JUNIOR","RECARGAPAY","AZUL","CREDITO A VISTA",{"$f":"VLOOKUP(tbldados[[#This Row],[APP]],tblbandeira[],3,0)","v":3.49E-2},44686,44718,1046.82,{"$f":"tbldados[[#This Row],[VALOR PAGO]]+(tbldados[[#This Row],[VALOR PAGO]]*tbldados[[#This Row],[TAXA]])","v":1083.354018},{"$f":"tbldados[[#This Row],[TOTAL BRUTO]]-tbldados[[#This Row],[VALOR PAGO]]","v":36.53401800000006},{"$f":"CHOOSE(MONTH(tbldados[[#This Row],[DATA]]),\"JANEIRO\",\"FEVEREIRO\",\"MARÇO\",\"ABRIL\",\"MAIO\",\"JUNHO\",\"JULHO\",\"AGOSTO\",\"SETEMBRO\",\"OUTUBRO\",\"NOVEMBRO\",\"DEZEMBRO\")","v":"JUNHO"},{"$f":"YEAR(tbldados[[#This Row],[DATA]])","v":2022}]
[662,"PGTO","01 DE 01","AZUL","MAIO","RECARGAPAY","AZUL","CREDITO A VISTA",{"$f":"VLOOKUP(tbldados[[#This Row],[APP]],tblbandeira[],3,0)","v":3.49E-2},44686,44718,35.729999999999997,{"$f":"tbldados[[#This Row],[VALOR PAGO]]+(tbldados[[#This Row],[VALOR PAGO]]*tbldados[[#This Row],[TAXA]])","v":36.976976999999998},{"$f":"tbldados[[#This Row],[TOTAL BRUTO]]-tbldados[[#This Row],[VALOR PAGO]]","v":1.2469770000000011},{"$f":"CHOOSE(MONTH(tbldados[[#This Row],[DATA]]),\"JANEIRO\",\"FEVEREIRO\",\"MARÇO\",\"ABRIL\",\"MAIO\",\"JUNHO\",\"JULHO\",\"AGOSTO\",\"SETEMBRO\",\"OUTUBRO\",\"NOVEMBRO\",\"DEZEMBRO\")","v":"JUNHO"},{"$f":"YEAR(tbldados[[#This Row],[DATA]])","v":2022}]
[663,"GASTOS","01 DE 01","PGTOAZUL","JUNIOR","RECARGAPAY","AZUL","CREDITO A VISTA",{"$f":"VLOOKUP(tbldados[[#This Row],[APP]],tblbandeira[],3,0)","v":3.49E-2},44686,44718,35.729999999999997,{"$f":"tbldados[[#This Row],[VALOR PAGO]]+(tbldados[[#This Row],[VALOR PAGO]]*tbldados[[#This Row],[TAXA]])","v":36.976976999999998},{"$f":"tbldados[[#This Row],[TOTAL BRUTO]]-tbldados[[#This Row],[VALOR PAGO]]","v":1.2469770000000011},{"$f":"CHOOSE(MONTH(tbldados[[#This Row],[DATA]]),\"JANEIRO\",\"FEVEREIRO\",\"MARÇO\",\"ABRIL\",\"MAIO\",\"JUNHO\",\"JULHO\",\"AGOSTO\",\"SETEMBRO\",\"OUTUBRO\",\"NOVEMBRO\",\"DEZEMBRO\")","v":"JUNHO"},{"$f":"YEAR(tbldados[[#This Row],[DATA]])","v":2022}]
[664,"GASTOS","01 DE 01","PGTO-DIVERSOS","JUNIOR","RECARGAPAY","NCARD","CREDITO A VISTA",{"$f":"VLOOKUP(tbldados[[#This Row],[APP]],tblbandeira[],3,0)","v":3.49E-2},44661,44690,523.79,{"$f":"tbldados[[#This Row],[VALOR PAGO]]+(tbldados[[#This Row],[VALOR PAGO]]*tbldados[[#This Row],[TAXA]])","v":542.07027099999993},{"$f":"tbldados[[#This Row],[TOTAL BRUTO]]-tbldados[[#This Row],[VALOR PAGO]]","v":18.280270999999971},{"$f":"CHOOSE(MONTH(tbldados[[#This Row],[DATA]]),\"JANEIRO\",\"FEVEREIRO\",\"MARÇO\",\"ABRIL\",\"MAIO\",\"JUNHO\",\"JULHO\",\"AGOSTO\",\"SETEMBRO\",\"OUTUBRO\",\"NOVEMBRO\",\"DEZEMBRO\")","v":"MAIO"},{"$f":"YEAR(tbldados[[#This Row],[DATA]])","v":2022}]
[665,"GASTOS","01 DE 01","ANUIDADE","JUNIOR","GERAL","NCARD","CREDITO A VISTA",{"$f":"VLOOKUP(tbldados[[#This Row],[APP]],tblbandeira[],3,0)","v":0},44661,44690,8.9600000000000009,{"$f":"tbldados[[#This Row],[VALOR PAGO]]+(tbldados[[#This Row],[VALOR PAGO]]*tbldados[[#This Row],[TAXA]])","v":8.9600000000000009},{"$f":"tbldados[[#This Row],[TOTAL BRUTO]]-tbldados[[#This Row],[VALOR PAGO]]","v":0},{"$f":"CHOOSE(MONTH(tbldados[[#This Row],[DATA]]),\"JANEIRO\",\"FEVEREIRO\",\"MARÇO\",\"ABRIL\",\"MAIO\",\"JUNHO\",\"JULHO\",\"AGOSTO\",\"SETEMBRO\",\"OUTUBRO\",\"NOVEMBRO\",\"DEZEMBRO\")","v":"MAIO"},{"$f":"YEAR(tbldados[[#This Row],[DATA]])","v":2022}]
[666,"PGTO","01 DE 01","NCARD","MAIO","CONTA","DÉBITO","DINHEIRO",{"$f":"VLOOKUP(tbldados[[#This Row],[APP]],tblbandeira[],3,0)","v":0},44687,44687,9.2200000000000006,{"$f":"tbldados[[#This Row],[VALOR PAGO]]+(tbldados[[#This Row],[VALOR PAGO]]*tbldados[[#This Row],[TAXA]])","v":9.2200000000000006},{"$f":"tbldados[[#This Row],[TOTAL BRUTO]]-tbldados[[#This Row],[VALOR PAGO]]","v":0},{"$f":"CHOOSE(MONTH(tbldados[[#This Row],[DATA]]),\"JANEIRO\",\"FEVEREIRO\",\"MARÇO\",\"ABRIL\",\"MAIO\",\"JUNHO\",\"JULHO\",\"AGOSTO\",\"SETEMBRO\",\"OUTUBRO\",\"NOVEMBRO\",\"DEZEMBRO\")","v":"MAIO"},{"$f":"YEAR(tbldados[[#This Row],[DATA]])","v":2022}]
[667,"PGTO","01 DE 01","NCARD","MAIO","RECARGAPAY","NCARD","CREDITO A VISTA",{"$f":"VLOOKUP(tbldados[[#This Row],[APP]],tblbandeira[],3,0)","v":3.49E-2},44687,44721,1010.31,{"$f":"tbldados[[#This Row],[VALOR PAGO]]+(tbldados[[#This Row],[VALOR PAGO]]*tbldados[[#This Row],[TAXA]])","v":1045.5698190000001},{"$f":"tbldados[[#This Row],[TOTAL BRUTO]]-tbldados[[#This Row],[VALOR PAGO]]","v":35.259819000000107},{"$f":"CHOOSE(MONTH(tbldados[[#This Row],[DATA]]),\"JANEIRO\",\"FEVEREIRO\",\"MARÇO\",\"ABRIL\",\"MAIO\",\"JUNHO\",\"JULHO\",\"AGOSTO\",\"SETEMBRO\",\"OUTUBRO\",\"NOVEMBRO\",\"DEZEMBRO\")","v":"JUNHO"},{"$f":"YEAR(tbldados[[#This Row],[DATA]])","v":2022}]
[668,"PGTO","01 DE 01","NCARD","MAIO","RECARGAPAY","NCARD","CREDITO A VISTA",{"$f":"VLOOKUP(tbldados[[#This Row],[APP]],tblbandeira[],3,0)","v":3.49E-2},44687,44721,589.69000000000005,{"$f":"tbldados[[#This Row],[VALOR PAGO]]+(tbldados[[#This Row],[VALOR PAGO]]*tbldados[[#This Row],[TAXA]])","v":610.27018100000009},{"$f":"tbldados[[#This Row],[TOTAL BRUTO]]-tbldados[[#This Row],[VALOR PAGO]]","v":20.580181000000039},{"$f":"CHOOSE(MONTH(tbldados[[#This Row],[DATA]]),\"JANEIRO\",\"FEVEREIRO\",\"MARÇO\",\"ABRIL\",\"MAIO\",\"JUNHO\",\"JULHO\",\"AGOSTO\",\"SETEMBRO\",\"OUTUBRO\",\"NOVEMBRO\",\"DEZEMBRO\")","v":"JUNHO"},{"$f":"YEAR(tbldados[[#This Row],[DATA]])","v":2022}]
[669,"GASTOS","01 DE 01","PGTONCARD","JUNIOR","RECARGAPAY","NCARD","CREDITO A VISTA",3.49E-2,44687,44721,589.69000000000005,{"$f":"tbldados[[#This Row],[VALOR PAGO]]+(tbldados[[#This Row],[VALOR PAGO]]*tbldados[[#This Row],[TAXA]])","v":610.27018100000009},{"$f":"tbldados[[#This Row],[TOTAL BRUTO]]-tbldados[[#This Row],[VALOR PAGO]]","v":20.580181000000039},{"$f":"CHOOSE(MONTH(tbldados[[#This Row],[DATA]]),\"JANEIRO\",\"FEVEREIRO\",\"MARÇO\",\"ABRIL\",\"MAIO\",\"JUNHO\",\"JULHO\",\"AGOSTO\",\"SETEMBRO\",\"OUTUBRO\",\"NOVEMBRO\",\"DEZEMBRO\")","v":"JUNHO"},{"$f":"YEAR(tbldados[[#This Row],[DATA]])","v":2022}]
[670,"PGTO","01 DE 01","NUBANK","MAIO","GERAL","PAGMAE","CREDITO A VISTA",{"$f":"VLOOKUP(tbldados[[#This Row],[APP]],tblbandeira[],3,0)","v":0},44692,44722,1080,{"$f":"tbldados[[#This Row],[VALOR PAGO]]+(tbldados[[#This Row],[VALOR PAGO]]*tbldados[[#This Row],[TAXA]])","v":1080},{"$f":"tbldados[[#This Row],[TOTAL BRUTO]]-tbldados[[#This Row],[VALOR PAGO]]","v":0},{"$f":"CHOOSE(MONTH(tbldados[[#This Row],[DATA]]),\"JANEIRO\",\"FEVEREIRO\",\"MARÇO\",\"ABRIL\",\"MAIO\",\"JUNHO\",\"JULHO\",\"AGOSTO\",\"SETEMBRO\",\"OUTUBRO\",\"NOVEMBRO\",\"DEZEMBRO\")","v":"JUNHO"},{"$f":"YEAR(tbldados[[#This Row],[DATA]])","v":2022}]
[671,"GASTOS","01 DE 01","PGTONUBANK","JUNIOR","GERAL","PAGMAE","CREDITO A VISTA",{"$f":"VLOOKUP(tbldados[[#This Row],[APP]],tblbandeira[],3,0)","v":0},44692,44722,1080,{"$f":"tbldados[[#This Row],[VALOR PAGO]]+(tbldados[[#This Row],[VALOR PAGO]]*tbldados[[#This Row],[TAXA]])","v":1080},{"$f":"tbldados[[#This Row],[TOTAL BRUTO]]-tbldados[[#This Row],[VALOR PAGO]]","v":0},{"$f":"CHOOSE(MONTH(tbldados[[#This Row],[DATA]]),\"JANEIRO\",\"FEVEREIRO\",\"MARÇO\",\"ABRIL\",\"MAIO\",\"JUNHO\",\"JULHO\",\"AGOSTO\",\"SETEMBRO\",\"OUTUBRO\",\"NOVEMBRO\",\"DEZEMBRO\")","v":"JUNHO"},{"$f":"YEAR(tbldados[[#This Row],[DATA]])","v":2022}]
[672,"PGTO","01 DE 01","NUBANK","MAIO","RECARGAPAY","PAGMAE","CREDITO A VISTA",3.49E-2,44693,44722,366.42,{"$f":"tbldados[[#This Row],[VALOR PAGO]]+(tbldados[[#This Row],[VALOR PAGO]]*tbldados[[#This Row],[TAXA]])","v":379.20805799999999},{"$f":"tbldados[[#This Row],[TOTAL BRUTO]]-tbldados[[#This Row],[VALOR PAGO]]","v":12.788057999999978},{"$f":"CHOOSE(MONTH(tbldados[[#This Row],[DATA]]),\"JANEIRO\",\"FEVEREIRO\",\"MARÇO\",\"ABRIL\",\"MAIO\",\"JUNHO\",\"JULHO\",\"AGOSTO\",\"SETEMBRO\",\"OUTUBRO\",\"NOVEMBRO\",\"DEZEMBRO\")","v":"JUNHO"},{"$f":"YEAR(tbldados[[#This Row],[DATA]])","v":2022}]
[673,"GASTOS","01 DE 01","PGTONUBANK","JUNIOR","RECARGAPAY","PAGMAE","CREDITO A VISTA",3.49E-2,44693,44722,366.42,{"$f":"tbldados[[#This Row],[VALOR PAGO]]+(tbldados[[#This Row],[VALOR PAGO]]*tbldados[[#This Row],[TAXA]])","v":379.20805799999999},{"$f":"tbldados[[#This Row],[TOTAL BRUTO]]-tbldados[[#This Row],[VALOR PAGO]]","v":12.788057999999978},{"$f":"CHOOSE(MONTH(tbldados[[#This Row],[DATA]]),\"JANEIRO\",\"FEVEREIRO\",\"MARÇO\",\"ABRIL\",\"MAIO\",\"JUNHO\",\"JULHO\",\"AGOSTO\",\"SETEMBRO\",\"OUTUBRO\",\"NOVEMBRO\",\"DEZEMBRO\")","v":"JUNHO"},{"$f":"YEAR(tbldados[[#This Row],[DATA]])","v":2022}]
[674,"PGTO","01 DE 01","NUBANK","MAIO","RECARGAPAY","NUBANK","CREDITO A VISTA",{"$f":"VLOOKUP(tbldados[[#This Row],[APP]],tblbandeira[],3,0)","v":3.49E-2},44693,44725,1993.84,{"$f":"tbldados[[#This Row],[VALOR PAGO]]+(tbldados[[#This Row],[VALOR PAGO]]*tbldados[[#This Row],[TAXA]])","v":2063.4250160000001},{"$f":"tbldados[[#This Row],[TOTAL BRUTO]]-tbldados[[#This Row],[VALOR PAGO]]","v":69.585016000000223},{"$f":"CHOOSE(MONTH(tbldados[[#This Row],[DATA]]),\"JANEIRO\",\"FEVEREIRO\",\"MARÇO\",\"ABRIL\",\"MAIO\",\"JUNHO\",\"JULHO\",\"AGOSTO\",\"SETEMBRO\",\"OUTUBRO\",\"NOVEMBRO\",\"DEZEMBRO\")","v":"JUNHO"},{"$f":"YEAR(tbldados[[#This Row],[DATA]])","v":2022}]
[675,"GASTOS","01 DE 01","PGTONUBANK","JUNIOR","RECARGAPAY","NUBANK","CREDITO A VISTA",{"$f":"VLOOKUP(tbldados[[#This Row],[APP]],tblbandeira[],3,0)","v":3.49E-2},44693,44721,2063.4299999999998,{"$f":"tbldados[[#This Row],[VALOR PAGO]]+(tbldados[[#This Row],[VALOR PAGO]]*tbldados[[#This Row],[TAXA]])","v":2135.4437069999999},{"$f":"tbldados[[#This Row],[TOTAL BRUTO]]-tbldados[[#This Row],[VALOR PAGO]]","v":72.013707000000068},{"$f":"CHOOSE(MONTH(tbldados[[#This Row],[DATA]]),\"JANEIRO\",\"FEVEREIRO\",\"MARÇO\",\"ABRIL\",\"MAIO\",\"JUNHO\",\"JULHO\",\"AGOSTO\",\"SETEMBRO\",\"OUTUBRO\",\"NOVEMBRO\",\"DEZEMBRO\")","v":"JUNHO"},{"$f":"YEAR(tbldados[[#This Row],[DATA]])","v":2022}]
[676,"PGTO","01 DE 01","NUBANK","MAIO","RECARGAPAY","NUBANK","CREDITO A VISTA",3.49E-2,44694,44725,259.73,{"$f":"tbldados[[#This Row],[VALOR PAGO]]+(tbldados[[#This Row],[VALOR PAGO]]*tbldados[[#This Row],[TAXA]])","v":268.794577},{"$f":"tbldados[[#This Row],[TOTAL BRUTO]]-tbldados[[#This Row],[VALOR PAGO]]","v":9.0645769999999857},{"$f":"CHOOSE(MONTH(tbldados[[#This Row],[DATA]]),\"JANEIRO\",\"FEVEREIRO\",\"MARÇO\",\"ABRIL\",\"MAIO\",\"JUNHO\",\"JULHO\",\"AGOSTO\",\"SETEMBRO\",\"OUTUBRO\",\"NOVEMBRO\",\"DEZEMBRO\")","v":"JUNHO"},{"$f":"YEAR(tbldados[[#This Row],[DATA]])","v":2022}]
[677,"GASTOS","01 DE 01","PGTONUBANK","JUNIOR","RECARGAPAY","NUBANK","CREDITO A VISTA",3.49E-2,44694,44725,259.73,{"$f":"tbldados[[#This Row],[VALOR PAGO]]+(tbldados[[#This Row],[VALOR PAGO]]*tbldados[[#This Row],[TAXA]])","v":268.794577},{"$f":"tbldados[[#This Row],[TOTAL BRUTO]]-tbldados[[#This Row],[VALOR PAGO]]","v":9.0645769999999857},{"$f":"CHOOSE(MONTH(tbldados[[#This Row],[DATA]]),\"JANEIRO\",\"FEVEREIRO\",\"MARÇO\",\"ABRIL\",\"MAIO\",\"JUNHO\",\"JULHO\",\"AGOSTO\",\"SETEMBRO\",\"OUTUBRO\",\"NOVEMBRO\",\"DEZEMBRO\")","v":"JUNHO"},{"$f":"YEAR(tbldados[[#This Row],[DATA]])","v":2022}]
[678,"GASTOS","01 DE 01","ATRASO","JUNIOR","GERAL","PAN","CREDITO A VISTA",{"$f":"VLOOKUP(tbldados[[#This Row],[APP]],tblbandeira[],3,0)","v":0},44664,44694,2.02,{"$f":"tbldados[[#This Row],[VALOR PAGO]]+(tbldados[[#This Row],[VALOR PAGO]]*tbldados[[#This Row],[TAXA]])","v":2.02},{"$f":"tbldados[[#This Row],[TOTAL BRUTO]]-tbldados[[#This Row],[VALOR PAGO]]","v":0},{"$f":"CHOOSE(MONTH(tbldados[[#This Row],[DATA]]),\"JANEIRO\",\"FEVEREIRO\",\"MARÇO\",\"ABRIL\",\"MAIO\",\"JUNHO\",\"JULHO\",\"AGOSTO\",\"SETEMBRO\",\"OUTUBRO\",\"NOVEMBRO\",\"DEZEMBRO\")","v":"MAIO"},{"$f":"YEAR(tbldados[[#This Row],[DATA]])","v":2022}]
[679,"PGTO","01 DE 01","PAN","MAIO","RECARGAPAY","NUBANK","CREDITO A VISTA",3.49E-2,44694,44725,680.02,{"$f":"tbldados[[#This Row],[VALOR PAGO]]+(tbldados[[#This Row],[VALOR PAGO]]*tbldados[[#This Row],[TAXA]])","v":703.75269800000001},{"$f":"tbldados[[#This Row],[TOTAL BRUTO]]-tbldados[[#This Row],[VALOR PAGO]]","v":23.732698000000028},{"$f":"CHOOSE(MONTH(tbldados[[#This Row],[DATA]]),\"JANEIRO\",\"FEVEREIRO\",\"MARÇO\",\"ABRIL\",\"MAIO\",\"JUNHO\",\"JULHO\",\"AGOSTO\",\"SETEMBRO\",\"OUTUBRO\",\"NOVEMBRO\",\"DEZEMBRO\")","v":"JUNHO"},{"$f":"YEAR(tbldados[[#This Row],[DATA]])","v":2022}]
[680,"GASTOS","01 DE 01","PGTOPAN","JUNIOR","RECARGAPAY","NUBANK","CREDITO A VISTA",3.49E-2,44694,44725,680.02,{"$f":"tbldados[[#This Row],[VALOR PAGO]]+(tbldados[[#This Row],[VALOR PAGO]]*tbldados[[#This Row],[TAXA]])","v":703.75269800000001},{"$f":"tbldados[[#This Row],[TOTAL BRUTO]]-tbldados[[#This Row],[VALOR PAGO]]","v":23.732698000000028},{"$f":"CHOOSE(MONTH(tbldados[[#This Row],[DATA]]),\"JANEIRO\",\"FEVEREIRO\",\"MARÇO\",\"ABRIL\",\"MAIO\",\"JUNHO\",\"JULHO\",\"AGOSTO\",\"SETEMBRO\",\"OUTUBRO\",\"NOVEMBRO\",\"DEZEMBRO\")","v":"JUNHO"},{"$f":"YEAR(tbldados[[#This Row],[DATA]])","v":2022}]
[681,"GASTOS","01 DE 03","SUPERMERCADO","JUNIOR","GERAL","ORIGINAL","CREDITO PARCELADO",{"$f":"VLOOKUP(tbldados[[#This Row],[APP]],tblbandeira[],3,0)","v":0},44612,44630,19.72,{"$f":"tbldados[[#This Row],[VALOR PAGO]]+(tbldados[[#This Row],[VALOR PAGO]]*tbldados[[#This Row],[TAXA]])","v":19.72},{"$f":"tbldados[[#This Row],[TOTAL BRUTO]]-tbldados[[#This Row],[VALOR PAGO]]","v":0},{"$f":"CHOOSE(MONTH(tbldados[[#This Row],[DATA]]),\"JANEIRO\",\"FEVEREIRO\",\"MARÇO\",\"ABRIL\",\"MAIO\",\"JUNHO\",\"JULHO\",\"AGOSTO\",\"SETEMBRO\",\"OUTUBRO\",\"NOVEMBRO\",\"DEZEMBRO\")","v":"MARÇO"},{"$f":"YEAR(tbldados[[#This Row],[DATA]])","v":2022}]
[682,"GASTOS","02 DE 03","SUPERMERCADO","JUNIOR","GERAL","ORIGINAL","CREDITO PARCELADO",{"$f":"VLOOKUP(tbldados[[#This Row],[APP]],tblbandeira[],3,0)","v":0},44612,44661,19.72,{"$f":"tbldados[[#This Row],[VALOR PAGO]]+(tbldados[[#This Row],[VALOR PAGO]]*tbldados[[#This Row],[TAXA]])","v":19.72},{"$f":"tbldados[[#This Row],[TOTAL BRUTO]]-tbldados[[#This Row],[VALOR PAGO]]","v":0},{"$f":"CHOOSE(MONTH(tbldados[[#This Row],[DATA]]),\"JANEIRO\",\"FEVEREIRO\",\"MARÇO\",\"ABRIL\",\"MAIO\",\"JUNHO\",\"JULHO\",\"AGOSTO\",\"SETEMBRO\",\"OUTUBRO\",\"NOVEMBRO\",\"DEZEMBRO\")","v":"ABRIL"},{"$f":"YEAR(tbldados[[#This Row],[DATA]])","v":2022}]
[683,"GASTOS","03 DE 03","SUPERMERCADO","JUNIOR","GERAL","ORIGINAL","CREDITO PARCELADO",{"$f":"VLOOKUP(tbldados[[#This Row],[APP]],tblbandeira[],3,0)","v":0},44612,44691,19.72,{"$f":"tbldados[[#This Row],[VALOR PAGO]]+(tbldados[[#This Row],[VALOR PAGO]]*tbldados[[#This Row],[TAXA]])","v":19.72},{"$f":"tbldados[[#This Row],[TOTAL BRUTO]]-tbldados[[#This Row],[VALOR PAGO]]","v":0},{"$f":"CHOOSE(MONTH(tbldados[[#This Row],[DATA]]),\"JANEIRO\",\"FEVEREIRO\",\"MARÇO\",\"ABRIL\",\"MAIO\",\"JUNHO\",\"JULHO\",\"AGOSTO\",\"SETEMBRO\",\"OUTUBRO\",\"NOVEMBRO\",\"DEZEMBRO\")","v":"MAIO"},{"$f":"YEAR(tbldados[[#This Row],[DATA]])","v":2022}]
[684,"GASTOS","01 DE 01","JUROS-ORIGINAL","JUNIOR","GERAL","ORIGINAL","CREDITO A VISTA",{"$f":"VLOOKUP(tbldados[[#This Row],[APP]],tblbandeira[],3,0)","v":0},44665,44691,15.77,{"$f":"tbldados[[#This Row],[VALOR PAGO]]+(tbldados[[#This Row],[VALOR PAGO]]*tbldados[[#This Row],[TAXA]])","v":15.77},{"$f":"tbldados[[#This Row],[TOTAL BRUTO]]-tbldados[[#This Row],[VALOR PAGO]]","v":0},{"$f":"CHOOSE(MONTH(tbldados[[#This Row],[DATA]]),\"JANEIRO\",\"FEVEREIRO\",\"MARÇO\",\"ABRIL\",\"MAIO\",\"JUNHO\",\"JULHO\",\"AGOSTO\",\"SETEMBRO\",\"OUTUBRO\",\"NOVEMBRO\",\"DEZEMBRO\")","v":"MAIO"},{"$f":"YEAR(tbldados[[#This Row],[DATA]])","v":2022}]
[685,"PGTO","01 DE 01","ORIGINAL","MAIO","RECARGAPAY","PAN","CREDITO A VISTA",{"$f":"VLOOKUP(tbldados[[#This Row],[APP]],tblbandeira[],3,0)","v":3.49E-2},44694,44725,543.49,{"$f":"tbldados[[#This Row],[VALOR PAGO]]+(tbldados[[#This Row],[VALOR PAGO]]*tbldados[[#This Row],[TAXA]])","v":562.45780100000002},{"$f":"tbldados[[#This Row],[TOTAL BRUTO]]-tbldados[[#This Row],[VALOR PAGO]]","v":18.967801000000009},{"$f":"CHOOSE(MONTH(tbldados[[#This Row],[DATA]]),\"JANEIRO\",\"FEVEREIRO\",\"MARÇO\",\"ABRIL\",\"MAIO\",\"JUNHO\",\"JULHO\",\"AGOSTO\",\"SETEMBRO\",\"OUTUBRO\",\"NOVEMBRO\",\"DEZEMBRO\")","v":"JUNHO"},{"$f":"YEAR(tbldados[[#This Row],[DATA]])","v":2022}]
[686,"GASTOS","01 DE 01","PGTORIGINAL","JUNIOR","RECARGAPAY","PAN","CREDITO A VISTA",{"$f":"VLOOKUP(tbldados[[#This Row],[APP]],tblbandeira[],3,0)","v":3.49E-2},44694,44725,543.49,{"$f":"tbldados[[#This Row],[VALOR PAGO]]+(tbldados[[#This Row],[VALOR PAGO]]*tbldados[[#This Row],[TAXA]])","v":562.45780100000002},{"$f":"tbldados[[#This Row],[TOTAL BRUTO]]-tbldados[[#This Row],[VALOR PAGO]]","v":18.967801000000009},{"$f":"CHOOSE(MONTH(tbldados[[#This Row],[DATA]]),\"JANEIRO\",\"FEVEREIRO\",\"MARÇO\",\"ABRIL\",\"MAIO\",\"JUNHO\",\"JULHO\",\"AGOSTO\",\"SETEMBRO\",\"OUTUBRO\",\"NOVEMBRO\",\"DEZEMBRO\")","v":"JUNHO"},{"$f":"YEAR(tbldados[[#This Row],[DATA]])","v":2022}]
[687,"GASTOS","01 DE 01","RECARCAPAY-JUROS","JUNIOR","GERAL","INTER","CREDITO A VISTA",{"$f":"VLOOKUP(tbldados[[#This Row],[APP]],tblbandeira[],3,0)","v":0},44664,44696,19.989999999999998,{"$f":"tbldados[[#This Row],[VALOR PAGO]]+(tbldados[[#This Row],[VALOR PAGO]]*tbldados[[#This Row],[TAXA]])","v":19.989999999999998},{"$f":"tbldados[[#This Row],[TOTAL BRUTO]]-tbldados[[#This Row],[VALOR PAGO]]","v":0},{"$f":"CHOOSE(MONTH(tbldados[[#This Row],[DATA]]),\"JANEIRO\",\"FEVEREIRO\",\"MARÇO\",\"ABRIL\",\"MAIO\",\"JUNHO\",\"JULHO\",\"AGOSTO\",\"SETEMBRO\",\"OUTUBRO\",\"NOVEMBRO\",\"DEZEMBRO\")","v":"MAIO"},{"$f":"YEAR(tbldados[[#This Row],[DATA]])","v":2022}]
[688,"GASTOS","01 DE 01","JANTA","JUNIOR","GERAL","INTER","CREDITO A VISTA",{"$f":"VLOOKUP(tbldados[[#This Row],[APP]],tblbandeira[],3,0)","v":0},44665,44696,34.950000000000003,{"$f":"tbldados[[#This Row],[VALOR PAGO]]+(tbldados[[#This Row],[VALOR PAGO]]*tbldados[[#This Row],[TAXA]])","v":34.950000000000003},{"$f":"tbldados[[#This Row],[TOTAL BRUTO]]-tbldados[[#This Row],[VALOR PAGO]]","v":0},{"$f":"CHOOSE(MONTH(tbldados[[#This Row],[DATA]]),\"JANEIRO\",\"FEVEREIRO\",\"MARÇO\",\"ABRIL\",\"MAIO\",\"JUNHO\",\"JULHO\",\"AGOSTO\",\"SETEMBRO\",\"OUTUBRO\",\"NOVEMBRO\",\"DEZEMBRO\")","v":"MAIO"},{"$f":"YEAR(tbldados[[#This Row],[DATA]])","v":2022}]
[689,"PGTO","01 DE 01","INTER","MAIO","GERAL","DÉBITO","DINHEIRO",{"$f":"VLOOKUP(tbldados[[#This Row],[APP]],tblbandeira[],3,0)","v":0},44695,44695,15.96,{"$f":"tbldados[[#This Row],[VALOR PAGO]]+(tbldados[[#This Row],[VALOR PAGO]]*tbldados[[#This Row],[TAXA]])","v":15.96},{"$f":"tbldados[[#This Row],[TOTAL BRUTO]]-tbldados[[#This Row],[VALOR PAGO]]","v":0},{"$f":"CHOOSE(MONTH(tbldados[[#This Row],[DATA]]),\"JANEIRO\",\"FEVEREIRO\",\"MARÇO\",\"ABRIL\",\"MAIO\",\"JUNHO\",\"JULHO\",\"AGOSTO\",\"SETEMBRO\",\"OUTUBRO\",\"NOVEMBRO\",\"DEZEMBRO\")","v":"MAIO"},{"$f":"YEAR(tbldados[[#This Row],[DATA]])","v":2022}]
[690,"PGTO","01 DE 01","INTER","MAIO","RECARGAPAY","NUBANK","CREDITO A VISTA",{"$f":"VLOOKUP(tbldados[[#This Row],[APP]],tblbandeira[],3,0)","v":3.49E-2},44695,44725,610.57000000000005,{"$f":"tbldados[[#This Row],[VALOR PAGO]]+(tbldados[[#This Row],[VALOR PAGO]]*tbldados[[#This Row],[TAXA]])","v":631.87889300000006},{"$f":"tbldados[[#This Row],[TOTAL BRUTO]]-tbldados[[#This Row],[VALOR PAGO]]","v":21.308893000000012},{"$f":"CHOOSE(MONTH(tbldados[[#This Row],[DATA]]),\"JANEIRO\",\"FEVEREIRO\",\"MARÇO\",\"ABRIL\",\"MAIO\",\"JUNHO\",\"JULHO\",\"AGOSTO\",\"SETEMBRO\",\"OUTUBRO\",\"NOVEMBRO\",\"DEZEMBRO\")","v":"JUNHO"},{"$f":"YEAR(tbldados[[#This Row],[DATA]])","v":2022}]
[691,"PGTO","01 DE 01","INTER","MAIO","RECARGAPAY","ORIGINAL","CREDITO A VISTA",{"$f":"VLOOKUP(tbldados[[#This Row],[APP]],tblbandeira[],3,0)","v":3.49E-2},44695,44722,611.65,{"$f":"tbldados[[#This Row],[VALOR PAGO]]+(tbldados[[#This Row],[VALOR PAGO]]*tbldados[[#This Row],[TAXA]])","v":632.99658499999998},{"$f":"tbldados[[#This Row],[TOTAL BRUTO]]-tbldados[[#This Row],[VALOR PAGO]]","v":21.346585000000005},{"$f":"CHOOSE(MONTH(tbldados[[#This Row],[DATA]]),\"JANEIRO\",\"FEVEREIRO\",\"MARÇO\",\"ABRIL\",\"MAIO\",\"JUNHO\",\"JULHO\",\"AGOSTO\",\"SETEMBRO\",\"OUTUBRO\",\"NOVEMBRO\",\"DEZEMBRO\")","v":"JUNHO"},{"$f":"YEAR(tbldados[[#This Row],[DATA]])","v":2022}]
[692,"GASTOS","01 DE 01","PGTOINTER","JUNIOR","RECARGAPAY","ORIGINAL","CREDITO A VISTA",{"$f":"VLOOKUP(tbldados[[#This Row],[APP]],tblbandeira[],3,0)","v":3.49E-2},44695,44722,611.57000000000005,{"$f":"tbldados[[#This Row],[VALOR PAGO]]+(tbldados[[#This Row],[VALOR PAGO]]*tbldados[[#This Row],[TAXA]])","v":632.91379300000006},{"$f":"tbldados[[#This Row],[TOTAL BRUTO]]-tbldados[[#This Row],[VALOR PAGO]]","v":21.343793000000005},{"$f":"CHOOSE(MONTH(tbldados[[#This Row],[DATA]]),\"JANEIRO\",\"FEVEREIRO\",\"MARÇO\",\"ABRIL\",\"MAIO\",\"JUNHO\",\"JULHO\",\"AGOSTO\",\"SETEMBRO\",\"OUTUBRO\",\"NOVEMBRO\",\"DEZEMBRO\")","v":"JUNHO"},{"$f":"YEAR(tbldados[[#This Row],[DATA]])","v":2022}]
[693,"GASTOS","01 DE 01","PGTOINTER","JUNIOR","RECARGAPAY","NUBANK","CREDITO A VISTA",3.49E-2,44695,44725,610.57000000000005,{"$f":"tbldados[[#This Row],[VALOR PAGO]]+(tbldados[[#This Row],[VALOR PAGO]]*tbldados[[#This Row],[TAXA]])","v":631.87889300000006},{"$f":"tbldados[[#This Row],[TOTAL BRUTO]]-tbldados[[#This Row],[VALOR PAGO]]","v":21.308893000000012},{"$f":"CHOOSE(MONTH(tbldados[[#This Row],[DATA]]),\"JANEIRO\",\"FEVEREIRO\",\"MARÇO\",\"ABRIL\",\"MAIO\",\"JUNHO\",\"JULHO\",\"AGOSTO\",\"SETEMBRO\",\"OUTUBRO\",\"NOVEMBRO\",\"DEZEMBRO\")","v":"JUNHO"},{"$f":"YEAR(tbldados[[#This Row],[DATA]])","v":2022}]
[694,"PGTO","01 DE 01","INTER","MAIO","RECARGAPAY","INTER","CREDITO A VISTA",{"$f":"VLOOKUP(tbldados[[#This Row],[APP]],tblbandeira[],3,0)","v":3.49E-2},44696,44727,2716.88,{"$f":"tbldados[[#This Row],[VALOR PAGO]]+(tbldados[[#This Row],[VALOR PAGO]]*tbldados[[#This Row],[TAXA]])","v":2811.6991120000002},{"$f":"tbldados[[#This Row],[TOTAL BRUTO]]-tbldados[[#This Row],[VALOR PAGO]]","v":94.819112000000132},{"$f":"CHOOSE(MONTH(tbldados[[#This Row],[DATA]]),\"JANEIRO\",\"FEVEREIRO\",\"MARÇO\",\"ABRIL\",\"MAIO\",\"JUNHO\",\"JULHO\",\"AGOSTO\",\"SETEMBRO\",\"OUTUBRO\",\"NOVEMBRO\",\"DEZEMBRO\")","v":"JUNHO"},{"$f":"YEAR(tbldados[[#This Row],[DATA]])","v":2022}]
[695,"GASTOS","01 DE 01","PGTOINTER","JUNIOR","RECARGAPAY","INTER","CREDITO A VISTA",{"$f":"VLOOKUP(tbldados[[#This Row],[APP]],tblbandeira[],3,0)","v":3.49E-2},44696,44727,2716.88,{"$f":"tbldados[[#This Row],[VALOR PAGO]]+(tbldados[[#This Row],[VALOR PAGO]]*tbldados[[#This Row],[TAXA]])","v":2811.6991120000002},{"$f":"tbldados[[#This Row],[TOTAL BRUTO]]-tbldados[[#This Row],[VALOR PAGO]]","v":94.819112000000132},{"$f":"CHOOSE(MONTH(tbldados[[#This Row],[DATA]]),\"JANEIRO\",\"FEVEREIRO\",\"MARÇO\",\"ABRIL\",\"MAIO\",\"JUNHO\",\"JULHO\",\"AGOSTO\",\"SETEMBRO\",\"OUTUBRO\",\"NOVEMBRO\",\"DEZEMBRO\")","v":"JUNHO"},{"$f":"YEAR(tbldados[[#This Row],[DATA]])","v":2022}]
[696,"GASTOS","01 DE 01","ALMOÇO","JUNIOR","GERAL","INTER","CREDITO A VISTA",{"$f":"VLOOKUP(tbldados[[#This Row],[APP]],tblbandeira[],3,0)","v":0},44696,44727,20,{"$f":"tbldados[[#This Row],[VALOR PAGO]]+(tbldados[[#This Row],[VALOR PAGO]]*tbldados[[#This Row],[TAXA]])","v":20},{"$f":"tbldados[[#This Row],[TOTAL BRUTO]]-tbldados[[#This Row],[VALOR PAGO]]","v":0},{"$f":"CHOOSE(MONTH(tbldados[[#This Row],[DATA]]),\"JANEIRO\",\"FEVEREIRO\",\"MARÇO\",\"ABRIL\",\"MAIO\",\"JUNHO\",\"JULHO\",\"AGOSTO\",\"SETEMBRO\",\"OUTUBRO\",\"NOVEMBRO\",\"DEZEMBRO\")","v":"JUNHO"},{"$f":"YEAR(tbldados[[#This Row],[DATA]])","v":2022}]
[697,"PGTO","01 DE 01","INTER","MAIO","RECARGAPAY","INTER","CREDITO A VISTA",{"$f":"VLOOKUP(tbldados[[#This Row],[APP]],tblbandeira[],3,0)","v":3.49E-2},44696,44727,827.02,{"$f":"tbldados[[#This Row],[VALOR PAGO]]+(tbldados[[#This Row],[VALOR PAGO]]*tbldados[[#This Row],[TAXA]])","v":855.88299799999993},{"$f":"tbldados[[#This Row],[TOTAL BRUTO]]-tbldados[[#This Row],[VALOR PAGO]]","v":28.862997999999948},{"$f":"CHOOSE(MONTH(tbldados[[#This Row],[DATA]]),\"JANEIRO\",\"FEVEREIRO\",\"MARÇO\",\"ABRIL\",\"MAIO\",\"JUNHO\",\"JULHO\",\"AGOSTO\",\"SETEMBRO\",\"OUTUBRO\",\"NOVEMBRO\",\"DEZEMBRO\")","v":"JUNHO"},{"$f":"YEAR(tbldados[[#This Row],[DATA]])","v":2022}]
[698,"GASTOS","01 DE 01","PGTOINTER","JUNIOR","RECARGAPAY","INTER","CREDITO A VISTA",{"$f":"VLOOKUP(tbldados[[#This Row],[APP]],tblbandeira[],3,0)","v":3.49E-2},44696,44727,827.02,{"$f":"tbldados[[#This Row],[VALOR PAGO]]+(tbldados[[#This Row],[VALOR PAGO]]*tbldados[[#This Row],[TAXA]])","v":855.88299799999993},{"$f":"tbldados[[#This Row],[TOTAL BRUTO]]-tbldados[[#This Row],[VALOR PAGO]]","v":28.862997999999948},{"$f":"CHOOSE(MONTH(tbldados[[#This Row],[DATA]]),\"JANEIRO\",\"FEVEREIRO\",\"MARÇO\",\"ABRIL\",\"MAIO\",\"JUNHO\",\"JULHO\",\"AGOSTO\",\"SETEMBRO\",\"OUTUBRO\",\"NOVEMBRO\",\"DEZEMBRO\")","v":"JUNHO"},{"$f":"YEAR(tbldados[[#This Row],[DATA]])","v":2022}]
[699,"PGTO","01 DE 01","DIGIO","MAIO","RECARGAPAY","PANMAE","CREDITO A VISTA",{"$f":"VLOOKUP(tbldados[[#This Row],[APP]],tblbandeira[],3,0)","v":3.49E-2},44696,44729,879.67,{"$f":"tbldados[[#This Row],[VALOR PAGO]]+(tbldados[[#This Row],[VALOR PAGO]]*tbldados[[#This Row],[TAXA]])","v":910.37048299999992},{"$f":"tbldados[[#This Row],[TOTAL BRUTO]]-tbldados[[#This Row],[VALOR PAGO]]","v":30.700482999999963},{"$f":"CHOOSE(MONTH(tbldados[[#This Row],[DATA]]),\"JANEIRO\",\"FEVEREIRO\",\"MARÇO\",\"ABRIL\",\"MAIO\",\"JUNHO\",\"JULHO\",\"AGOSTO\",\"SETEMBRO\",\"OUTUBRO\",\"NOVEMBRO\",\"DEZEMBRO\")","v":"JUNHO"},{"$f":"YEAR(tbldados[[#This Row],[DATA]])","v":2022}]
[700,"GASTOS","01 DE 01","PGTODIGIO","JUNIOR","RECARGAPAY","PANMAE","CREDITO A VISTA",3.49E-2,44696,44729,879.67,{"$f":"tbldados[[#This Row],[VALOR PAGO]]+(tbldados[[#This Row],[VALOR PAGO]]*tbldados[[#This Row],[TAXA]])","v":910.37048299999992},{"$f":"tbldados[[#This Row],[TOTAL BRUTO]]-tbldados[[#This Row],[VALOR PAGO]]","v":30.700482999999963},{"$f":"CHOOSE(MONTH(tbldados[[#This Row],[DATA]]),\"JANEIRO\",\"FEVEREIRO\",\"MARÇO\",\"ABRIL\",\"MAIO\",\"JUNHO\",\"JULHO\",\"AGOSTO\",\"SETEMBRO\",\"OUTUBRO\",\"NOVEMBRO\",\"DEZEMBRO\")","v":"JUNHO"},{"$f":"YEAR(tbldados[[#This Row],[DATA]])","v":2022}]
[701,"PGTO","01 DE 01","NEON","MAIO","RECARGAPAY","DIGIO","CREDITO A VISTA",{"$f":"VLOOKUP(tbldados[[#This Row],[APP]],tblbandeira[],3,0)","v":3.49E-2},44696,44727,850,{"$f":"tbldados[[#This Row],[VALOR PAGO]]+(tbldados[[#This Row],[VALOR PAGO]]*tbldados[[#This Row],[TAXA]])","v":879.66499999999996},{"$f":"tbldados[[#This Row],[TOTAL BRUTO]]-tbldados[[#This Row],[VALOR PAGO]]","v":29.664999999999964},{"$f":"CHOOSE(MONTH(tbldados[[#This Row],[DATA]]),\"JANEIRO\",\"FEVEREIRO\",\"MARÇO\",\"ABRIL\",\"MAIO\",\"JUNHO\",\"JULHO\",\"AGOSTO\",\"SETEMBRO\",\"OUTUBRO\",\"NOVEMBRO\",\"DEZEMBRO\")","v":"JUNHO"},{"$f":"YEAR(tbldados[[#This Row],[DATA]])","v":2022}]
[702,"GASTOS","01 DE 01","PGTONEON","JUNIOR","RECARGAPAY","DIGIO","CREDITO A VISTA",3.49E-2,44696,44727,850,{"$f":"tbldados[[#This Row],[VALOR PAGO]]+(tbldados[[#This Row],[VALOR PAGO]]*tbldados[[#This Row],[TAXA]])","v":879.66499999999996},{"$f":"tbldados[[#This Row],[TOTAL BRUTO]]-tbldados[[#This Row],[VALOR PAGO]]","v":29.664999999999964},{"$f":"CHOOSE(MONTH(tbldados[[#This Row],[DATA]]),\"JANEIRO\",\"FEVEREIRO\",\"MARÇO\",\"ABRIL\",\"MAIO\",\"JUNHO\",\"JULHO\",\"AGOSTO\",\"SETEMBRO\",\"OUTUBRO\",\"NOVEMBRO\",\"DEZEMBRO\")","v":"JUNHO"},{"$f":"YEAR(tbldados[[#This Row],[DATA]])","v":2022}]
[703,"PGTO","01 DE 01","PANMAE","MAIO","RECARGAPAY","NEON","CREDITO A VISTA",{"$f":"VLOOKUP(tbldados[[#This Row],[APP]],tblbandeira[],3,0)","v":3.49E-2},44697,44727,821.34,{"$f":"tbldados[[#This Row],[VALOR PAGO]]+(tbldados[[#This Row],[VALOR PAGO]]*tbldados[[#This Row],[TAXA]])","v":850.00476600000002},{"$f":"tbldados[[#This Row],[TOTAL BRUTO]]-tbldados[[#This Row],[VALOR PAGO]]","v":28.664765999999986},{"$f":"CHOOSE(MONTH(tbldados[[#This Row],[DATA]]),\"JANEIRO\",\"FEVEREIRO\",\"MARÇO\",\"ABRIL\",\"MAIO\",\"JUNHO\",\"JULHO\",\"AGOSTO\",\"SETEMBRO\",\"OUTUBRO\",\"NOVEMBRO\",\"DEZEMBRO\")","v":"JUNHO"},{"$f":"YEAR(tbldados[[#This Row],[DATA]])","v":2022}]
[704,"GASTOS","01 DE 01","PGTOPANMAE","JUNIOR","RECARGAPAY","NEON","CREDITO A VISTA",{"$f":"VLOOKUP(tbldados[[#This Row],[APP]],tblbandeira[],3,0)","v":3.49E-2},44697,44727,821.34,{"$f":"tbldados[[#This Row],[VALOR PAGO]]+(tbldados[[#This Row],[VALOR PAGO]]*tbldados[[#This Row],[TAXA]])","v":850.00476600000002},{"$f":"tbldados[[#This Row],[TOTAL BRUTO]]-tbldados[[#This Row],[VALOR PAGO]]","v":28.664765999999986},{"$f":"CHOOSE(MONTH(tbldados[[#This Row],[DATA]]),\"JANEIRO\",\"FEVEREIRO\",\"MARÇO\",\"ABRIL\",\"MAIO\",\"JUNHO\",\"JULHO\",\"AGOSTO\",\"SETEMBRO\",\"OUTUBRO\",\"NOVEMBRO\",\"DEZEMBRO\")","v":"JUNHO"},{"$f":"YEAR(tbldados[[#This Row],[DATA]])","v":2022}]
[705,"PGTO","01 DE 01","PANMAE","MAIO","RECARGAPAY","PANMAE","CREDITO A VISTA",{"$f":"VLOOKUP(tbldados[[#This Row],[APP]],tblbandeira[],3,0)","v":3.49E-2},44697,44729,946.95,{"$f":"tbldados[[#This Row],[VALOR PAGO]]+(tbldados[[#This Row],[VALOR PAGO]]*tbldados[[#This Row],[TAXA]])","v":979.99855500000001},{"$f":"tbldados[[#This Row],[TOTAL BRUTO]]-tbldados[[#This Row],[VALOR PAGO]]","v":33.048554999999965},{"$f":"CHOOSE(MONTH(tbldados[[#This Row],[DATA]]),\"JANEIRO\",\"FEVEREIRO\",\"MARÇO\",\"ABRIL\",\"MAIO\",\"JUNHO\",\"JULHO\",\"AGOSTO\",\"SETEMBRO\",\"OUTUBRO\",\"NOVEMBRO\",\"DEZEMBRO\")","v":"JUNHO"},{"$f":"YEAR(tbldados[[#This Row],[DATA]])","v":2022}]
[706,"GASTOS","01 DE 01","PGTOPANMAE","JUNIOR","RECARGAPAY","PANMAE","CREDITO A VISTA",3.49E-2,44697,44729,946.95,{"$f":"tbldados[[#This Row],[VALOR PAGO]]+(tbldados[[#This Row],[VALOR PAGO]]*tbldados[[#This Row],[TAXA]])","v":979.99855500000001},{"$f":"tbldados[[#This Row],[TOTAL BRUTO]]-tbldados[[#This Row],[VALOR PAGO]]","v":33.048554999999965},{"$f":"CHOOSE(MONTH(tbldados[[#This Row],[DATA]]),\"JANEIRO\",\"FEVEREIRO\",\"MARÇO\",\"ABRIL\",\"MAIO\",\"JUNHO\",\"JULHO\",\"AGOSTO\",\"SETEMBRO\",\"OUTUBRO\",\"NOVEMBRO\",\"DEZEMBRO\")","v":"JUNHO"},{"$f":"YEAR(tbldados[[#This Row],[DATA]])","v":2022}]
[707,"PGTO","01 DE 01","PANMAE","MAIO","CONTA","DÉBITO","DINHEIRO",{"$f":"VLOOKUP(tbldados[[#This Row],[APP]],tblbandeira[],3,0)","v":0},44697,44697,1.5,{"$f":"tbldados[[#This Row],[VALOR PAGO]]+(tbldados[[#This Row],[VALOR PAGO]]*tbldados[[#This Row],[TAXA]])","v":1.5},{"$f":"tbldados[[#This Row],[TOTAL BRUTO]]-tbldados[[#This Row],[VALOR PAGO]]","v":0},{"$f":"CHOOSE(MONTH(tbldados[[#This Row],[DATA]]),\"JANEIRO\",\"FEVEREIRO\",\"MARÇO\",\"ABRIL\",\"MAIO\",\"JUNHO\",\"JULHO\",\"AGOSTO\",\"SETEMBRO\",\"OUTUBRO\",\"NOVEMBRO\",\"DEZEMBRO\")","v":"MAIO"},{"$f":"YEAR(tbldados[[#This Row],[DATA]])","v":2022}]
[708,"PGTO","01 DE 01","PANMAE","JUNIOR","CONTA","DÉBITO","DINHEIRO",{"$f":"VLOOKUP(tbldados[[#This Row],[APP]],tblbandeira[],3,0)","v":0},44697,44697,3,{"$f":"tbldados[[#This Row],[VALOR PAGO]]+(tbldados[[#This Row],[VALOR PAGO]]*tbldados[[#This Row],[TAXA]])","v":3},{"$f":"tbldados[[#This Row],[TOTAL BRUTO]]-tbldados[[#This Row],[VALOR PAGO]]","v":0},{"$f":"CHOOSE(MONTH(tbldados[[#This Row],[DATA]]),\"JANEIRO\",\"FEVEREIRO\",\"MARÇO\",\"ABRIL\",\"MAIO\",\"JUNHO\",\"JULHO\",\"AGOSTO\",\"SETEMBRO\",\"OUTUBRO\",\"NOVEMBRO\",\"DEZEMBRO\")","v":"MAIO"},{"$f":"YEAR(tbldados[[#This Row],[DATA]])","v":2022}]
[709,"PGTO","01 DE 01","PANMAE","MAIO","RECARGAPAY","PANMAE","CREDITO A VISTA",{"$f":"VLOOKUP(tbldados[[#This Row],[APP]],tblbandeira[],3,0)","v":3.49E-2},44697,44729,919.9,{"$f":"tbldados[[#This Row],[VALOR PAGO]]+(tbldados[[#This Row],[VALOR PAGO]]*tbldados[[#This Row],[TAXA]])","v":952.00450999999998},{"$f":"tbldados[[#This Row],[TOTAL BRUTO]]-tbldados[[#This Row],[VALOR PAGO]]","v":32.104510000000005},{"$f":"CHOOSE(MONTH(tbldados[[#This Row],[DATA]]),\"JANEIRO\",\"FEVEREIRO\",\"MARÇO\",\"ABRIL\",\"MAIO\",\"JUNHO\",\"JULHO\",\"AGOSTO\",\"SETEMBRO\",\"OUTUBRO\",\"NOVEMBRO\",\"DEZEMBRO\")","v":"JUNHO"},{"$f":"YEAR(tbldados[[#This Row],[DATA]])","v":2022}]
[710,"GASTOS","01 DE 01","PGTOPANMAE","JUNIOR","RECARGAPAY","PANMAE","CREDITO A VISTA",3.49E-2,44697,44729,919.9,{"$f":"tbldados[[#This Row],[VALOR PAGO]]+(tbldados[[#This Row],[VALOR PAGO]]*tbldados[[#This Row],[TAXA]])","v":952.00450999999998},{"$f":"tbldados[[#This Row],[TOTAL BRUTO]]-tbldados[[#This Row],[VALOR PAGO]]","v":32.104510000000005},{"$f":"CHOOSE(MONTH(tbldados[[#This Row],[DATA]]),\"JANEIRO\",\"FEVEREIRO\",\"MARÇO\",\"ABRIL\",\"MAIO\",\"JUNHO\",\"JULHO\",\"AGOSTO\",\"SETEMBRO\",\"OUTUBRO\",\"NOVEMBRO\",\"DEZEMBRO\")","v":"JUNHO"},{"$f":"YEAR(tbldados[[#This Row],[DATA]])","v":2022}]
[711,"PGTO","01 DE 01","PANMAE","MAIO","CONTA","DÉBITO","DINHEIRO",{"$f":"VLOOKUP(tbldados[[#This Row],[APP]],tblbandeira[],3,0)","v":0},44697,44697,3,{"$f":"tbldados[[#This Row],[VALOR PAGO]]+(tbldados[[#This Row],[VALOR PAGO]]*tbldados[[#This Row],[TAXA]])","v":3},{"$f":"tbldados[[#This Row],[TOTAL BRUTO]]-tbldados[[#This Row],[VALOR PAGO]]","v":0},{"$f":"CHOOSE(MONTH(tbldados[[#This Row],[DATA]]),\"JANEIRO\",\"FEVEREIRO\",\"MARÇO\",\"ABRIL\",\"MAIO\",\"JUNHO\",\"JULHO\",\"AGOSTO\",\"SETEMBRO\",\"OUTUBRO\",\"NOVEMBRO\",\"DEZEMBRO\")","v":"MAIO"},{"$f":"YEAR(tbldados[[#This Row],[DATA]])","v":2022}]
[712,"PGTO","01 DE 01","PANMAE","MAIO","RECARGAPAY","PANMAE","CREDITO A VISTA",{"$f":"VLOOKUP(tbldados[[#This Row],[APP]],tblbandeira[],3,0)","v":3.49E-2},44697,44729,347.97,{"$f":"tbldados[[#This Row],[VALOR PAGO]]+(tbldados[[#This Row],[VALOR PAGO]]*tbldados[[#This Row],[TAXA]])","v":360.11415300000004},{"$f":"tbldados[[#This Row],[TOTAL BRUTO]]-tbldados[[#This Row],[VALOR PAGO]]","v":12.144153000000017},{"$f":"CHOOSE(MONTH(tbldados[[#This Row],[DATA]]),\"JANEIRO\",\"FEVEREIRO\",\"MARÇO\",\"ABRIL\",\"MAIO\",\"JUNHO\",\"JULHO\",\"AGOSTO\",\"SETEMBRO\",\"OUTUBRO\",\"NOVEMBRO\",\"DEZEMBRO\")","v":"JUNHO"},{"$f":"YEAR(tbldados[[#This Row],[DATA]])","v":2022}]
[713,"GASTOS","01 DE 01","PGTOPANMAE","JUNIOR","RECARGAPAY","PANMAE","CREDITO A VISTA",3.49E-2,44697,44729,347.97,{"$f":"tbldados[[#This Row],[VALOR PAGO]]+(tbldados[[#This Row],[VALOR PAGO]]*tbldados[[#This Row],[TAXA]])","v":360.11415300000004},{"$f":"tbldados[[#This Row],[TOTAL BRUTO]]-tbldados[[#This Row],[VALOR PAGO]]","v":12.144153000000017},{"$f":"CHOOSE(MONTH(tbldados[[#This Row],[DATA]]),\"JANEIRO\",\"FEVEREIRO\",\"MARÇO\",\"ABRIL\",\"MAIO\",\"JUNHO\",\"JULHO\",\"AGOSTO\",\"SETEMBRO\",\"OUTUBRO\",\"NOVEMBRO\",\"DEZEMBRO\")","v":"JUNHO"},{"$f":"YEAR(tbldados[[#This Row],[DATA]])","v":2022}]
[714,"PGTO","01 DE 01","CLICK","MAIO","RECARGAPAY","INTER","CREDITO A VISTA",{"$f":"VLOOKUP(tbldados[[#This Row],[APP]],tblbandeira[],3,0)","v":3.49E-2},44697,44727,1170,{"$f":"tbldados[[#This Row],[VALOR PAGO]]+(tbldados[[#This Row],[VALOR PAGO]]*tbldados[[#This Row],[TAXA]])","v":1210.8330000000001},{"$f":"tbldados[[#This Row],[TOTAL BRUTO]]-tbldados[[#This Row],[VALOR PAGO]]","v":40.833000000000084},{"$f":"CHOOSE(MONTH(tbldados[[#This Row],[DATA]]),\"JANEIRO\",\"FEVEREIRO\",\"MARÇO\",\"ABRIL\",\"MAIO\",\"JUNHO\",\"JULHO\",\"AGOSTO\",\"SETEMBRO\",\"OUTUBRO\",\"NOVEMBRO\",\"DEZEMBRO\")","v":"JUNHO"},{"$f":"YEAR(tbldados[[#This Row],[DATA]])","v":2022}]
[715,"GASTOS","01 DE 01","PGTOCLICK","JUNIOR","RECARGAPAY","INTER","CREDITO A VISTA",{"$f":"VLOOKUP(tbldados[[#This Row],[APP]],tblbandeira[],3,0)","v":3.49E-2},44697,44727,1170,{"$f":"tbldados[[#This Row],[VALOR PAGO]]+(tbldados[[#This Row],[VALOR PAGO]]*tbldados[[#This Row],[TAXA]])","v":1210.8330000000001},{"$f":"tbldados[[#This Row],[TOTAL BRUTO]]-tbldados[[#This Row],[VALOR PAGO]]","v":40.833000000000084},{"$f":"CHOOSE(MONTH(tbldados[[#This Row],[DATA]]),\"JANEIRO\",\"FEVEREIRO\",\"MARÇO\",\"ABRIL\",\"MAIO\",\"JUNHO\",\"JULHO\",\"AGOSTO\",\"SETEMBRO\",\"OUTUBRO\",\"NOVEMBRO\",\"DEZEMBRO\")","v":"JUNHO"},{"$f":"YEAR(tbldados[[#This Row],[DATA]])","v":2022}]
[716,"PGTO","01 DE 01","CLICK","MAIO","GERAL","INTER","CREDITO A VISTA",{"$f":"VLOOKUP(tbldados[[#This Row],[APP]],tblbandeira[],3,0)","v":0},44698,44727,1129.99,{"$f":"tbldados[[#This Row],[VALOR PAGO]]+(tbldados[[#This Row],[VALOR PAGO]]*tbldados[[#This Row],[TAXA]])","v":1129.99},{"$f":"tbldados[[#This Row],[TOTAL BRUTO]]-tbldados[[#This Row],[VALOR PAGO]]","v":0},{"$f":"CHOOSE(MONTH(tbldados[[#This Row],[DATA]]),\"JANEIRO\",\"FEVEREIRO\",\"MARÇO\",\"ABRIL\",\"MAIO\",\"JUNHO\",\"JULHO\",\"AGOSTO\",\"SETEMBRO\",\"OUTUBRO\",\"NOVEMBRO\",\"DEZEMBRO\")","v":"JUNHO"},{"$f":"YEAR(tbldados[[#This Row],[DATA]])","v":2022}]
[717,"GASTOS","01 DE 01","PGTOCLICK","JUNIOR","GERAL","INTER","CREDITO A VISTA",{"$f":"VLOOKUP(tbldados[[#This Row],[APP]],tblbandeira[],3,0)","v":0},44698,44727,1129.99,{"$f":"tbldados[[#This Row],[VALOR PAGO]]+(tbldados[[#This Row],[VALOR PAGO]]*tbldados[[#This Row],[TAXA]])","v":1129.99},{"$f":"tbldados[[#This Row],[TOTAL BRUTO]]-tbldados[[#This Row],[VALOR PAGO]]","v":0},{"$f":"CHOOSE(MONTH(tbldados[[#This Row],[DATA]]),\"JANEIRO\",\"FEVEREIRO\",\"MARÇO\",\"ABRIL\",\"MAIO\",\"JUNHO\",\"JULHO\",\"AGOSTO\",\"SETEMBRO\",\"OUTUBRO\",\"NOVEMBRO\",\"DEZEMBRO\")","v":"JUNHO"},{"$f":"YEAR(tbldados[[#This Row],[DATA]])","v":2022}]
[718,"GASTOS","01 DE 01","PGTOCLICKJUROS","JUNIOR","JUROS","INTER","CREDITO A VISTA",{"$f":"VLOOKUP(tbldados[[#This Row],[APP]],tblbandeira[],3,0)","v":0},44698,44727,8.07,{"$f":"tbldados[[#This Row],[VALOR PAGO]]+(tbldados[[#This Row],[VALOR PAGO]]*tbldados[[#This Row],[TAXA]])","v":8.07},{"$f":"tbldados[[#This Row],[TOTAL BRUTO]]-tbldados[[#This Row],[VALOR PAGO]]","v":0},{"$f":"CHOOSE(MONTH(tbldados[[#This Row],[DATA]]),\"JANEIRO\",\"FEVEREIRO\",\"MARÇO\",\"ABRIL\",\"MAIO\",\"JUNHO\",\"JULHO\",\"AGOSTO\",\"SETEMBRO\",\"OUTUBRO\",\"NOVEMBRO\",\"DEZEMBRO\")","v":"JUNHO"},{"$f":"YEAR(tbldados[[#This Row],[DATA]])","v":2022}]
[719,"GASTOS","01 DE 01","PGTO-DIVERSOS","JUNIOR","RECARGAPAY","CLICK","CREDITO A VISTA",{"$f":"VLOOKUP(tbldados[[#This Row],[APP]],tblbandeira[],3,0)","v":3.49E-2},44668,44698,1150,{"$f":"tbldados[[#This Row],[VALOR PAGO]]+(tbldados[[#This Row],[VALOR PAGO]]*tbldados[[#This Row],[TAXA]])","v":1190.135},{"$f":"tbldados[[#This Row],[TOTAL BRUTO]]-tbldados[[#This Row],[VALOR PAGO]]","v":40.134999999999991},{"$f":"CHOOSE(MONTH(tbldados[[#This Row],[DATA]]),\"JANEIRO\",\"FEVEREIRO\",\"MARÇO\",\"ABRIL\",\"MAIO\",\"JUNHO\",\"JULHO\",\"AGOSTO\",\"SETEMBRO\",\"OUTUBRO\",\"NOVEMBRO\",\"DEZEMBRO\")","v":"MAIO"},{"$f":"YEAR(tbldados[[#This Row],[DATA]])","v":2022}]
[720,"PGTO","01 DE 01","CLICK","MAIO","CONTA","DÉBITO","DINHEIRO",{"$f":"VLOOKUP(tbldados[[#This Row],[APP]],tblbandeira[],3,0)","v":0},44697,44697,18.98,{"$f":"tbldados[[#This Row],[VALOR PAGO]]+(tbldados[[#This Row],[VALOR PAGO]]*tbldados[[#This Row],[TAXA]])","v":18.98},{"$f":"tbldados[[#This Row],[TOTAL BRUTO]]-tbldados[[#This Row],[VALOR PAGO]]","v":0},{"$f":"CHOOSE(MONTH(tbldados[[#This Row],[DATA]]),\"JANEIRO\",\"FEVEREIRO\",\"MARÇO\",\"ABRIL\",\"MAIO\",\"JUNHO\",\"JULHO\",\"AGOSTO\",\"SETEMBRO\",\"OUTUBRO\",\"NOVEMBRO\",\"DEZEMBRO\")","v":"MAIO"},{"$f":"YEAR(tbldados[[#This Row],[DATA]])","v":2022}]
[721,"PGTO","01 DE 01","FREE","MAIO","RECARGAPAY","LATAM","CREDITO A VISTA",3.49E-2,44708,44737,43.8,{"$f":"tbldados[[#This Row],[VALOR PAGO]]+(tbldados[[#This Row],[VALOR PAGO]]*tbldados[[#This Row],[TAXA]])","v":45.328619999999994},{"$f":"tbldados[[#This Row],[TOTAL BRUTO]]-tbldados[[#This Row],[VALOR PAGO]]","v":1.5286199999999965},{"$f":"CHOOSE(MONTH(tbldados[[#This Row],[DATA]]),\"JANEIRO\",\"FEVEREIRO\",\"MARÇO\",\"ABRIL\",\"MAIO\",\"JUNHO\",\"JULHO\",\"AGOSTO\",\"SETEMBRO\",\"OUTUBRO\",\"NOVEMBRO\",\"DEZEMBRO\")","v":"JUNHO"},{"$f":"YEAR(tbldados[[#This Row],[DATA]])","v":2022}]
[722,"GASTOS","01 DE 01","PGTOFREE","JUNIOR","RECARGAPAY","LATAM","CREDITO A VISTA",3.49E-2,44708,44737,43.8,{"$f":"tbldados[[#This Row],[VALOR PAGO]]+(tbldados[[#This Row],[VALOR PAGO]]*tbldados[[#This Row],[TAXA]])","v":45.328619999999994},{"$f":"tbldados[[#This Row],[TOTAL BRUTO]]-tbldados[[#This Row],[VALOR PAGO]]","v":1.5286199999999965},{"$f":"CHOOSE(MONTH(tbldados[[#This Row],[DATA]]),\"JANEIRO\",\"FEVEREIRO\",\"MARÇO\",\"ABRIL\",\"MAIO\",\"JUNHO\",\"JULHO\",\"AGOSTO\",\"SETEMBRO\",\"OUTUBRO\",\"NOVEMBRO\",\"DEZEMBRO\")","v":"JUNHO"},{"$f":"YEAR(tbldados[[#This Row],[DATA]])","v":2022}]
[723,"PGTO","01 DE 01","ZERO","MAIO","RECARGAPAY","LATAM","CREDITO A VISTA",{"$f":"VLOOKUP(tbldados[[#This Row],[APP]],tblbandeira[],3,0)","v":3.49E-2},44707,44737,1645.16,{"$f":"tbldados[[#This Row],[VALOR PAGO]]+(tbldados[[#This Row],[VALOR PAGO]]*tbldados[[#This Row],[TAXA]])","v":1702.576084},{"$f":"tbldados[[#This Row],[TOTAL BRUTO]]-tbldados[[#This Row],[VALOR PAGO]]","v":57.416083999999955},{"$f":"CHOOSE(MONTH(tbldados[[#This Row],[DATA]]),\"JANEIRO\",\"FEVEREIRO\",\"MARÇO\",\"ABRIL\",\"MAIO\",\"JUNHO\",\"JULHO\",\"AGOSTO\",\"SETEMBRO\",\"OUTUBRO\",\"NOVEMBRO\",\"DEZEMBRO\")","v":"JUNHO"},{"$f":"YEAR(tbldados[[#This Row],[DATA]])","v":2022}]
[724,"GASTOS","01 DE 01","PGTOZERO","JUNIOR","RECARGAPAY","LATAM","CREDITO A VISTA",3.49E-2,44707,44737,1645.16,{"$f":"tbldados[[#This Row],[VALOR PAGO]]+(tbldados[[#This Row],[VALOR PAGO]]*tbldados[[#This Row],[TAXA]])","v":1702.576084},{"$f":"tbldados[[#This Row],[TOTAL BRUTO]]-tbldados[[#This Row],[VALOR PAGO]]","v":57.416083999999955},{"$f":"CHOOSE(MONTH(tbldados[[#This Row],[DATA]]),\"JANEIRO\",\"FEVEREIRO\",\"MARÇO\",\"ABRIL\",\"MAIO\",\"JUNHO\",\"JULHO\",\"AGOSTO\",\"SETEMBRO\",\"OUTUBRO\",\"NOVEMBRO\",\"DEZEMBRO\")","v":"JUNHO"},{"$f":"YEAR(tbldados[[#This Row],[DATA]])","v":2022}]
[725,"GASTOS","01 DE 01","WINDOWS","JUNIOR","GERAL","INTER","CREDITO A VISTA",{"$f":"VLOOKUP(tbldados[[#This Row],[APP]],tblbandeira[],3,0)","v":0},44707,44727,47.41,{"$f":"tbldados[[#This Row],[VALOR PAGO]]+(tbldados[[#This Row],[VALOR PAGO]]*tbldados[[#This Row],[TAXA]])","v":47.41},{"$f":"tbldados[[#This Row],[TOTAL BRUTO]]-tbldados[[#This Row],[VALOR PAGO]]","v":0},{"$f":"CHOOSE(MONTH(tbldados[[#This Row],[DATA]]),\"JANEIRO\",\"FEVEREIRO\",\"MARÇO\",\"ABRIL\",\"MAIO\",\"JUNHO\",\"JULHO\",\"AGOSTO\",\"SETEMBRO\",\"OUTUBRO\",\"NOVEMBRO\",\"DEZEMBRO\")","v":"JUNHO"},{"$f":"YEAR(tbldados[[#This Row],[DATA]])","v":2022}]
[726,"PGTO","01 DE 01","LATAM","MAIO","RECARGAPAY","LATAM","CREDITO A VISTA",{"$f":"VLOOKUP(tbldados[[#This Row],[APP]],tblbandeira[],3,0)","v":3.49E-2},44705,44737,1863.48,{"$f":"tbldados[[#This Row],[VALOR PAGO]]+(tbldados[[#This Row],[VALOR PAGO]]*tbldados[[#This Row],[TAXA]])","v":1928.5154520000001},{"$f":"tbldados[[#This Row],[TOTAL BRUTO]]-tbldados[[#This Row],[VALOR PAGO]]","v":65.035452000000078},{"$f":"CHOOSE(MONTH(tbldados[[#This Row],[DATA]]),\"JANEIRO\",\"FEVEREIRO\",\"MARÇO\",\"ABRIL\",\"MAIO\",\"JUNHO\",\"JULHO\",\"AGOSTO\",\"SETEMBRO\",\"OUTUBRO\",\"NOVEMBRO\",\"DEZEMBRO\")","v":"JUNHO"},{"$f":"YEAR(tbldados[[#This Row],[DATA]])","v":2022}]
[727,"GASTOS","01 DE 01","PGTOLATAM","JUNIOR","RECARGAPAY","LATAM","CREDITO A VISTA",3.49E-2,44705,44737,1863.48,{"$f":"tbldados[[#This Row],[VALOR PAGO]]+(tbldados[[#This Row],[VALOR PAGO]]*tbldados[[#This Row],[TAXA]])","v":1928.5154520000001},{"$f":"tbldados[[#This Row],[TOTAL BRUTO]]-tbldados[[#This Row],[VALOR PAGO]]","v":65.035452000000078},{"$f":"CHOOSE(MONTH(tbldados[[#This Row],[DATA]]),\"JANEIRO\",\"FEVEREIRO\",\"MARÇO\",\"ABRIL\",\"MAIO\",\"JUNHO\",\"JULHO\",\"AGOSTO\",\"SETEMBRO\",\"OUTUBRO\",\"NOVEMBRO\",\"DEZEMBRO\")","v":"JUNHO"},{"$f":"YEAR(tbldados[[#This Row],[DATA]])","v":2022}]
[728,"PGTO","01 DE 01","WILL","MAIO","PICPAY","WILL","CREDITO A VISTA",{"$f":"VLOOKUP(tbldados[[#This Row],[APP]],tblbandeira[],3,0)","v":4.99E-2},44700,44732,1567.77,{"$f":"tbldados[[#This Row],[VALOR PAGO]]+(tbldados[[#This Row],[VALOR PAGO]]*tbldados[[#This Row],[TAXA]])","v":1646.0017230000001},{"$f":"tbldados[[#This Row],[TOTAL BRUTO]]-tbldados[[#This Row],[VALOR PAGO]]","v":78.231723000000102},{"$f":"CHOOSE(MONTH(tbldados[[#This Row],[DATA]]),\"JANEIRO\",\"FEVEREIRO\",\"MARÇO\",\"ABRIL\",\"MAIO\",\"JUNHO\",\"JULHO\",\"AGOSTO\",\"SETEMBRO\",\"OUTUBRO\",\"NOVEMBRO\",\"DEZEMBRO\")","v":"JUNHO"},{"$f":"YEAR(tbldados[[#This Row],[DATA]])","v":2022}]
[729,"GASTOS","01 DE 01","PGTOWILL","JUNIOR","PICPAY","WILL","CREDITO A VISTA",{"$f":"VLOOKUP(tbldados[[#This Row],[APP]],tblbandeira[],3,0)","v":4.99E-2},44700,44732,1567.77,{"$f":"tbldados[[#This Row],[VALOR PAGO]]+(tbldados[[#This Row],[VALOR PAGO]]*tbldados[[#This Row],[TAXA]])","v":1646.0017230000001},{"$f":"tbldados[[#This Row],[TOTAL BRUTO]]-tbldados[[#This Row],[VALOR PAGO]]","v":78.231723000000102},{"$f":"CHOOSE(MONTH(tbldados[[#This Row],[DATA]]),\"JANEIRO\",\"FEVEREIRO\",\"MARÇO\",\"ABRIL\",\"MAIO\",\"JUNHO\",\"JULHO\",\"AGOSTO\",\"SETEMBRO\",\"OUTUBRO\",\"NOVEMBRO\",\"DEZEMBRO\")","v":"JUNHO"},{"$f":"YEAR(tbldados[[#This Row],[DATA]])","v":2022}]
[730,"GASTOS","01 DE 01","PGTOBMGWILL","JUNIOR","PICPAY","CLICK","CREDITO A VISTA",{"$f":"VLOOKUP(tbldados[[#This Row],[APP]],tblbandeira[],3,0)","v":4.99E-2},44701,44729,2190.6799999999998,{"$f":"tbldados[[#This Row],[VALOR PAGO]]+(tbldados[[#This Row],[VALOR PAGO]]*tbldados[[#This Row],[TAXA]])","v":2299.9949319999996},{"$f":"tbldados[[#This Row],[TOTAL BRUTO]]-tbldados[[#This Row],[VALOR PAGO]]","v":109.31493199999977},{"$f":"CHOOSE(MONTH(tbldados[[#This Row],[DATA]]),\"JANEIRO\",\"FEVEREIRO\",\"MARÇO\",\"ABRIL\",\"MAIO\",\"JUNHO\",\"JULHO\",\"AGOSTO\",\"SETEMBRO\",\"OUTUBRO\",\"NOVEMBRO\",\"DEZEMBRO\")","v":"JUNHO"},{"$f":"YEAR(tbldados[[#This Row],[DATA]])","v":2022}]
[731,"PGTO","01 DE 01","WILL","MAIO","PICPAY","CLICK","CREDITO A VISTA",{"$f":"VLOOKUP(tbldados[[#This Row],[APP]],tblbandeira[],3,0)","v":4.99E-2},44701,44729,1731.23,{"$f":"tbldados[[#This Row],[VALOR PAGO]]+(tbldados[[#This Row],[VALOR PAGO]]*tbldados[[#This Row],[TAXA]])","v":1817.618377},{"$f":"tbldados[[#This Row],[TOTAL BRUTO]]-tbldados[[#This Row],[VALOR PAGO]]","v":86.388376999999991},{"$f":"CHOOSE(MONTH(tbldados[[#This Row],[DATA]]),\"JANEIRO\",\"FEVEREIRO\",\"MARÇO\",\"ABRIL\",\"MAIO\",\"JUNHO\",\"JULHO\",\"AGOSTO\",\"SETEMBRO\",\"OUTUBRO\",\"NOVEMBRO\",\"DEZEMBRO\")","v":"JUNHO"},{"$f":"YEAR(tbldados[[#This Row],[DATA]])","v":2022}]
[732,"PGTO","01 DE 01","GOLD","ABRIL","RECARGAPAY","GOLD","CREDITO A VISTA",{"$f":"VLOOKUP(tbldados[[#This Row],[APP]],tblbandeira[],3,0)","v":3.49E-2},44673,44704,1206.3699999999999,{"$f":"tbldados[[#This Row],[VALOR PAGO]]+(tbldados[[#This Row],[VALOR PAGO]]*tbldados[[#This Row],[TAXA]])","v":1248.472313},{"$f":"tbldados[[#This Row],[TOTAL BRUTO]]-tbldados[[#This Row],[VALOR PAGO]]","v":42.102313000000095},{"$f":"CHOOSE(MONTH(tbldados[[#This Row],[DATA]]),\"JANEIRO\",\"FEVEREIRO\",\"MARÇO\",\"ABRIL\",\"MAIO\",\"JUNHO\",\"JULHO\",\"AGOSTO\",\"SETEMBRO\",\"OUTUBRO\",\"NOVEMBRO\",\"DEZEMBRO\")","v":"MAIO"},{"$f":"YEAR(tbldados[[#This Row],[DATA]])","v":2022}]
[733,"GASTOS","01 DE 01","PGTOGOLD","JUNIOR","RECARGAPAY","GOLD","CREDITO A VISTA",{"$f":"VLOOKUP(tbldados[[#This Row],[APP]],tblbandeira[],3,0)","v":3.49E-2},44673,44704,1206.3699999999999,{"$f":"tbldados[[#This Row],[VALOR PAGO]]+(tbldados[[#This Row],[VALOR PAGO]]*tbldados[[#This Row],[TAXA]])","v":1248.472313},{"$f":"tbldados[[#This Row],[TOTAL BRUTO]]-tbldados[[#This Row],[VALOR PAGO]]","v":42.102313000000095},{"$f":"CHOOSE(MONTH(tbldados[[#This Row],[DATA]]),\"JANEIRO\",\"FEVEREIRO\",\"MARÇO\",\"ABRIL\",\"MAIO\",\"JUNHO\",\"JULHO\",\"AGOSTO\",\"SETEMBRO\",\"OUTUBRO\",\"NOVEMBRO\",\"DEZEMBRO\")","v":"MAIO"},{"$f":"YEAR(tbldados[[#This Row],[DATA]])","v":2022}]
[734,"PGTO","01 DE 01","GOLD","MAIO","RECARGAPAY","WILL","CREDITO A VISTA",3.49E-2,44701,44732,2040.55,{"$f":"tbldados[[#This Row],[VALOR PAGO]]+(tbldados[[#This Row],[VALOR PAGO]]*tbldados[[#This Row],[TAXA]])","v":2111.7651949999999},{"$f":"tbldados[[#This Row],[TOTAL BRUTO]]-tbldados[[#This Row],[VALOR PAGO]]","v":71.215194999999994},{"$f":"CHOOSE(MONTH(tbldados[[#This Row],[DATA]]),\"JANEIRO\",\"FEVEREIRO\",\"MARÇO\",\"ABRIL\",\"MAIO\",\"JUNHO\",\"JULHO\",\"AGOSTO\",\"SETEMBRO\",\"OUTUBRO\",\"NOVEMBRO\",\"DEZEMBRO\")","v":"JUNHO"},{"$f":"YEAR(tbldados[[#This Row],[DATA]])","v":2022}]
[735,"GASTOS","01 DE 01","PGTOGOLD","JUNIOR","RECARGAPAY","WILL","CREDITO A VISTA",3.49E-2,44701,44732,2040.55,{"$f":"tbldados[[#This Row],[VALOR PAGO]]+(tbldados[[#This Row],[VALOR PAGO]]*tbldados[[#This Row],[TAXA]])","v":2111.7651949999999},{"$f":"tbldados[[#This Row],[TOTAL BRUTO]]-tbldados[[#This Row],[VALOR PAGO]]","v":71.215194999999994},{"$f":"CHOOSE(MONTH(tbldados[[#This Row],[DATA]]),\"JANEIRO\",\"FEVEREIRO\",\"MARÇO\",\"ABRIL\",\"MAIO\",\"JUNHO\",\"JULHO\",\"AGOSTO\",\"SETEMBRO\",\"OUTUBRO\",\"NOVEMBRO\",\"DEZEMBRO\")","v":"JUNHO"},{"$f":"YEAR(tbldados[[#This Row],[DATA]])","v":2022}]
[736,"PGTO","01 DE 01","GOLD","MAIO","RECARGAPAY","CLICK","CREDITO A VISTA",{"$f":"VLOOKUP(tbldados[[#This Row],[APP]],tblbandeira[],3,0)","v":3.49E-2},44704,44729,459.45,{"$f":"tbldados[[#This Row],[VALOR PAGO]]+(tbldados[[#This Row],[VALOR PAGO]]*tbldados[[#This Row],[TAXA]])","v":475.48480499999999},{"$f":"tbldados[[#This Row],[TOTAL BRUTO]]-tbldados[[#This Row],[VALOR PAGO]]","v":16.034805000000006},{"$f":"CHOOSE(MONTH(tbldados[[#This Row],[DATA]]),\"JANEIRO\",\"FEVEREIRO\",\"MARÇO\",\"ABRIL\",\"MAIO\",\"JUNHO\",\"JULHO\",\"AGOSTO\",\"SETEMBRO\",\"OUTUBRO\",\"NOVEMBRO\",\"DEZEMBRO\")","v":"JUNHO"},{"$f":"YEAR(tbldados[[#This Row],[DATA]])","v":2022}]
[737,"PGTO","01 DE 01","LATAM","MAIO","PICPAY","LATAM","CREDITO A VISTA",{"$f":"VLOOKUP(tbldados[[#This Row],[APP]],tblbandeira[],3,0)","v":4.99E-2},44705,44737,1928.52,{"$f":"tbldados[[#This Row],[VALOR PAGO]]+(tbldados[[#This Row],[VALOR PAGO]]*tbldados[[#This Row],[TAXA]])","v":2024.753148},{"$f":"tbldados[[#This Row],[TOTAL BRUTO]]-tbldados[[#This Row],[VALOR PAGO]]","v":96.233148000000028},{"$f":"CHOOSE(MONTH(tbldados[[#This Row],[DATA]]),\"JANEIRO\",\"FEVEREIRO\",\"MARÇO\",\"ABRIL\",\"MAIO\",\"JUNHO\",\"JULHO\",\"AGOSTO\",\"SETEMBRO\",\"OUTUBRO\",\"NOVEMBRO\",\"DEZEMBRO\")","v":"JUNHO"},{"$f":"YEAR(tbldados[[#This Row],[DATA]])","v":2022}]
[738,"PGTO","01 DE 01","BMG","MAIO","PICPAY","GOLD","CREDITO A VISTA",{"$f":"VLOOKUP(tbldados[[#This Row],[APP]],tblbandeira[],3,0)","v":4.99E-2},44705,44735,452.58,{"$f":"tbldados[[#This Row],[VALOR PAGO]]+(tbldados[[#This Row],[VALOR PAGO]]*tbldados[[#This Row],[TAXA]])","v":475.16374199999996},{"$f":"tbldados[[#This Row],[TOTAL BRUTO]]-tbldados[[#This Row],[VALOR PAGO]]","v":22.583741999999972},{"$f":"CHOOSE(MONTH(tbldados[[#This Row],[DATA]]),\"JANEIRO\",\"FEVEREIRO\",\"MARÇO\",\"ABRIL\",\"MAIO\",\"JUNHO\",\"JULHO\",\"AGOSTO\",\"SETEMBRO\",\"OUTUBRO\",\"NOVEMBRO\",\"DEZEMBRO\")","v":"JUNHO"},{"$f":"YEAR(tbldados[[#This Row],[DATA]])","v":2022}]
[739,"GASTOS","01 DE 01","PGTO-DOISCARDS","JUNIOR","PICPAY","GOLD","CREDITO A VISTA",{"$f":"VLOOKUP(tbldados[[#This Row],[APP]],tblbandeira[],3,0)","v":4.99E-2},44705,44735,2381.1799999999998,{"$f":"tbldados[[#This Row],[VALOR PAGO]]+(tbldados[[#This Row],[VALOR PAGO]]*tbldados[[#This Row],[TAXA]])","v":2500.0008819999998},{"$f":"tbldados[[#This Row],[TOTAL BRUTO]]-tbldados[[#This Row],[VALOR PAGO]]","v":118.82088199999998},{"$f":"CHOOSE(MONTH(tbldados[[#This Row],[DATA]]),\"JANEIRO\",\"FEVEREIRO\",\"MARÇO\",\"ABRIL\",\"MAIO\",\"JUNHO\",\"JULHO\",\"AGOSTO\",\"SETEMBRO\",\"OUTUBRO\",\"NOVEMBRO\",\"DEZEMBRO\")","v":"JUNHO"},{"$f":"YEAR(tbldados[[#This Row],[DATA]])","v":2022}]
[740,"GASTOS","01 DE 01","PGTO-DIVERSOS","JUNIOR","RECARGAPAY","BMG","CREDITO A VISTA",{"$f":"VLOOKUP(tbldados[[#This Row],[APP]],tblbandeira[],3,0)","v":3.49E-2},44685,44706,410.4,{"$f":"tbldados[[#This Row],[VALOR PAGO]]+(tbldados[[#This Row],[VALOR PAGO]]*tbldados[[#This Row],[TAXA]])","v":424.72296},{"$f":"tbldados[[#This Row],[TOTAL BRUTO]]-tbldados[[#This Row],[VALOR PAGO]]","v":14.322960000000023},{"$f":"CHOOSE(MONTH(tbldados[[#This Row],[DATA]]),\"JANEIRO\",\"FEVEREIRO\",\"MARÇO\",\"ABRIL\",\"MAIO\",\"JUNHO\",\"JULHO\",\"AGOSTO\",\"SETEMBRO\",\"OUTUBRO\",\"NOVEMBRO\",\"DEZEMBRO\")","v":"MAIO"},{"$f":"YEAR(tbldados[[#This Row],[DATA]])","v":2022}]
[741,"PGTO","01 DE 01","BMG","MAIO","CONTA","DÉBITO","DINHEIRO",{"$f":"VLOOKUP(tbldados[[#This Row],[APP]],tblbandeira[],3,0)","v":0},44706,44706,1.47,{"$f":"tbldados[[#This Row],[VALOR PAGO]]+(tbldados[[#This Row],[VALOR PAGO]]*tbldados[[#This Row],[TAXA]])","v":1.47},{"$f":"tbldados[[#This Row],[TOTAL BRUTO]]-tbldados[[#This Row],[VALOR PAGO]]","v":0},{"$f":"CHOOSE(MONTH(tbldados[[#This Row],[DATA]]),\"JANEIRO\",\"FEVEREIRO\",\"MARÇO\",\"ABRIL\",\"MAIO\",\"JUNHO\",\"JULHO\",\"AGOSTO\",\"SETEMBRO\",\"OUTUBRO\",\"NOVEMBRO\",\"DEZEMBRO\")","v":"MAIO"},{"$f":"YEAR(tbldados[[#This Row],[DATA]])","v":2022}]
[742,"GASTOS","01 DE 12","AMAZON DIVERSOS","JUNIOR","GERAL","C6","CREDITO PARCELADO",{"$f":"VLOOKUP(tbldados[[#This Row],[APP]],tblbandeira[],3,0)","v":0},44700,44713,45.22,{"$f":"tbldados[[#This Row],[VALOR PAGO]]+(tbldados[[#This Row],[VALOR PAGO]]*tbldados[[#This Row],[TAXA]])","v":45.22},{"$f":"tbldados[[#This Row],[TOTAL BRUTO]]-tbldados[[#This Row],[VALOR PAGO]]","v":0},{"$f":"CHOOSE(MONTH(tbldados[[#This Row],[DATA]]),\"JANEIRO\",\"FEVEREIRO\",\"MARÇO\",\"ABRIL\",\"MAIO\",\"JUNHO\",\"JULHO\",\"AGOSTO\",\"SETEMBRO\",\"OUTUBRO\",\"NOVEMBRO\",\"DEZEMBRO\")","v":"JUNHO"},{"$f":"YEAR(tbldados[[#This Row],[DATA]])","v":2022}]
[743,"GASTOS","02 DE 12","AMAZON DIVERSOS","JUNIOR","GERAL","C6","CREDITO PARCELADO",{"$f":"VLOOKUP(tbldados[[#This Row],[APP]],tblbandeira[],3,0)","v":0},44700,44743,45.22,{"$f":"tbldados[[#This Row],[VALOR PAGO]]+(tbldados[[#This Row],[VALOR PAGO]]*tbldados[[#This Row],[TAXA]])","v":45.22},{"$f":"tbldados[[#This Row],[TOTAL BRUTO]]-tbldados[[#This Row],[VALOR PAGO]]","v":0},{"$f":"CHOOSE(MONTH(tbldados[[#This Row],[DATA]]),\"JANEIRO\",\"FEVEREIRO\",\"MARÇO\",\"ABRIL\",\"MAIO\",\"JUNHO\",\"JULHO\",\"AGOSTO\",\"SETEMBRO\",\"OUTUBRO\",\"NOVEMBRO\",\"DEZEMBRO\")","v":"JULHO"},{"$f":"YEAR(tbldados[[#This Row],[DATA]])","v":2022}]
[744,"GASTOS","03 DE 12","AMAZON DIVERSOS","JUNIOR","GERAL","C6","CREDITO PARCELADO",{"$f":"VLOOKUP(tbldados[[#This Row],[APP]],tblbandeira[],3,0)","v":0},44700,44774,45.22,{"$f":"tbldados[[#This Row],[VALOR PAGO]]+(tbldados[[#This Row],[VALOR PAGO]]*tbldados[[#This Row],[TAXA]])","v":45.22},{"$f":"tbldados[[#This Row],[TOTAL BRUTO]]-tbldados[[#This Row],[VALOR PAGO]]","v":0},{"$f":"CHOOSE(MONTH(tbldados[[#This Row],[DATA]]),\"JANEIRO\",\"FEVEREIRO\",\"MARÇO\",\"ABRIL\",\"MAIO\",\"JUNHO\",\"JULHO\",\"AGOSTO\",\"SETEMBRO\",\"OUTUBRO\",\"NOVEMBRO\",\"DEZEMBRO\")","v":"AGOSTO"},{"$f":"YEAR(tbldados[[#This Row],[DATA]])","v":2022}]
[745,"GASTOS","04 DE 12","AMAZON DIVERSOS","JUNIOR","GERAL","C6","CREDITO PARCELADO",{"$f":"VLOOKUP(tbldados[[#This Row],[APP]],tblbandeira[],3,0)","v":0},44700,44805,45.22,{"$f":"tbldados[[#This Row],[VALOR PAGO]]+(tbldados[[#This Row],[VALOR PAGO]]*tbldados[[#This Row],[TAXA]])","v":45.22},{"$f":"tbldados[[#This Row],[TOTAL BRUTO]]-tbldados[[#This Row],[VALOR PAGO]]","v":0},{"$f":"CHOOSE(MONTH(tbldados[[#This Row],[DATA]]),\"JANEIRO\",\"FEVEREIRO\",\"MARÇO\",\"ABRIL\",\"MAIO\",\"JUNHO\",\"JULHO\",\"AGOSTO\",\"SETEMBRO\",\"OUTUBRO\",\"NOVEMBRO\",\"DEZEMBRO\")","v":"SETEMBRO"},{"$f":"YEAR(tbldados[[#This Row],[DATA]])","v":2022}]
[746,"GASTOS","05 DE 12","AMAZON DIVERSOS","JUNIOR","GERAL","C6","CREDITO PARCELADO",{"$f":"VLOOKUP(tbldados[[#This Row],[APP]],tblbandeira[],3,0)","v":0},44700,44835,45.22,{"$f":"tbldados[[#This Row],[VALOR PAGO]]+(tbldados[[#This Row],[VALOR PAGO]]*tbldados[[#This Row],[TAXA]])","v":45.22},{"$f":"tbldados[[#This Row],[TOTAL BRUTO]]-tbldados[[#This Row],[VALOR PAGO]]","v":0},{"$f":"CHOOSE(MONTH(tbldados[[#This Row],[DATA]]),\"JANEIRO\",\"FEVEREIRO\",\"MARÇO\",\"ABRIL\",\"MAIO\",\"JUNHO\",\"JULHO\",\"AGOSTO\",\"SETEMBRO\",\"OUTUBRO\",\"NOVEMBRO\",\"DEZEMBRO\")","v":"OUTUBRO"},{"$f":"YEAR(tbldados[[#This Row],[DATA]])","v":2022}]
[747,"GASTOS","06 DE 12","AMAZON DIVERSOS","JUNIOR","GERAL","C6","CREDITO PARCELADO",{"$f":"VLOOKUP(tbldados[[#This Row],[APP]],tblbandeira[],3,0)","v":0},44700,44866,45.22,{"$f":"tbldados[[#This Row],[VALOR PAGO]]+(tbldados[[#This Row],[VALOR PAGO]]*tbldados[[#This Row],[TAXA]])","v":45.22},{"$f":"tbldados[[#This Row],[TOTAL BRUTO]]-tbldados[[#This Row],[VALOR PAGO]]","v":0},{"$f":"CHOOSE(MONTH(tbldados[[#This Row],[DATA]]),\"JANEIRO\",\"FEVEREIRO\",\"MARÇO\",\"ABRIL\",\"MAIO\",\"JUNHO\",\"JULHO\",\"AGOSTO\",\"SETEMBRO\",\"OUTUBRO\",\"NOVEMBRO\",\"DEZEMBRO\")","v":"NOVEMBRO"},{"$f":"YEAR(tbldados[[#This Row],[DATA]])","v":2022}]
[748,"GASTOS","07 DE 12","AMAZON DIVERSOS","JUNIOR","GERAL","C6","CREDITO PARCELADO",{"$f":"VLOOKUP(tbldados[[#This Row],[APP]],tblbandeira[],3,0)","v":0},44700,44896,45.22,{"$f":"tbldados[[#This Row],[VALOR PAGO]]+(tbldados[[#This Row],[VALOR PAGO]]*tbldados[[#This Row],[TAXA]])","v":45.22},{"$f":"tbldados[[#This Row],[TOTAL BRUTO]]-tbldados[[#This Row],[VALOR PAGO]]","v":0},{"$f":"CHOOSE(MONTH(tbldados[[#This Row],[DATA]]),\"JANEIRO\",\"FEVEREIRO\",\"MARÇO\",\"ABRIL\",\"MAIO\",\"JUNHO\",\"JULHO\",\"AGOSTO\",\"SETEMBRO\",\"OUTUBRO\",\"NOVEMBRO\",\"DEZEMBRO\")","v":"DEZEMBRO"},{"$f":"YEAR(tbldados[[#This Row],[DATA]])","v":2022}]
[749,"GASTOS","08 DE 12","AMAZON DIVERSOS","JUNIOR","GERAL","C6","CREDITO PARCELADO",{"$f":"VLOOKUP(tbldados[[#This Row],[APP]],tblbandeira[],3,0)","v":0},44700,44927,45.22,{"$f":"tbldados[[#This Row],[VALOR PAGO]]+(tbldados[[#This Row],[VALOR PAGO]]*tbldados[[#This Row],[TAXA]])","v":45.22},{"$f":"tbldados[[#This Row],[TOTAL BRUTO]]-tbldados[[#This Row],[VALOR PAGO]]","v":0},{"$f":"CHOOSE(MONTH(tbldados[[#This Row],[DATA]]),\"JANEIRO\",\"FEVEREIRO\",\"MARÇO\",\"ABRIL\",\"MAIO\",\"JUNHO\",\"JULHO\",\"AGOSTO\",\"SETEMBRO\",\"OUTUBRO\",\"NOVEMBRO\",\"DEZEMBRO\")","v":"JANEIRO"},{"$f":"YEAR(tbldados[[#This Row],[DATA]])","v":2023}]
[750,"GASTOS","09 DE 12","AMAZON DIVERSOS","JUNIOR","GERAL","C6","CREDITO PARCELADO",{"$f":"VLOOKUP(tbldados[[#This Row],[APP]],tblbandeira[],3,0)","v":0},44700,44958,45.22,{"$f":"tbldados[[#This Row],[VALOR PAGO]]+(tbldados[[#This Row],[VALOR PAGO]]*tbldados[[#This Row],[TAXA]])","v":45.22},{"$f":"tbldados[[#This Row],[TOTAL BRUTO]]-tbldados[[#This Row],[VALOR PAGO]]","v":0},{"$f":"CHOOSE(MONTH(tbldados[[#This Row],[DATA]]),\"JANEIRO\",\"FEVEREIRO\",\"MARÇO\",\"ABRIL\",\"MAIO\",\"JUNHO\",\"JULHO\",\"AGOSTO\",\"SETEMBRO\",\"OUTUBRO\",\"NOVEMBRO\",\"DEZEMBRO\")","v":"FEVEREIRO"},{"$f":"YEAR(tbldados[[#This Row],[DATA]])","v":2023}]
[751,"GASTOS","10 DE 12","AMAZON DIVERSOS","JUNIOR","GERAL","C6","CREDITO PARCELADO",{"$f":"VLOOKUP(tbldados[[#This Row],[APP]],tblbandeira[],3,0)","v":0},44700,44986,45.22,{"$f":"tbldados[[#This Row],[VALOR PAGO]]+(tbldados[[#This Row],[VALOR PAGO]]*tbldados[[#This Row],[TAXA]])","v":45.22},{"$f":"tbldados[[#This Row],[TOTAL BRUTO]]-tbldados[[#This Row],[VALOR PAGO]]","v":0},{"$f":"CHOOSE(MONTH(tbldados[[#This Row],[DATA]]),\"JANEIRO\",\"FEVEREIRO\",\"MARÇO\",\"ABRIL\",\"MAIO\",\"JUNHO\",\"JULHO\",\"AGOSTO\",\"SETEMBRO\",\"OUTUBRO\",\"NOVEMBRO\",\"DEZEMBRO\")","v":"MARÇO"},{"$f":"YEAR(tbldados[[#This Row],[DATA]])","v":2023}]
[752,"GASTOS","11 DE 12","AMAZON DIVERSOS","JUNIOR","GERAL","C6","CREDITO PARCELADO",{"$f":"VLOOKUP(tbldados[[#This Row],[APP]],tblbandeira[],3,0)","v":0},44700,45017,45.22,{"$f":"tbldados[[#This Row],[VALOR PAGO]]+(tbldados[[#This Row],[VALOR PAGO]]*tbldados[[#This Row],[TAXA]])","v":45.22},{"$f":"tbldados[[#This Row],[TOTAL BRUTO]]-tbldados[[#This Row],[VALOR PAGO]]","v":0},{"$f":"CHOOSE(MONTH(tbldados[[#This Row],[DATA]]),\"JANEIRO\",\"FEVEREIRO\",\"MARÇO\",\"ABRIL\",\"MAIO\",\"JUNHO\",\"JULHO\",\"AGOSTO\",\"SETEMBRO\",\"OUTUBRO\",\"NOVEMBRO\",\"DEZEMBRO\")","v":"ABRIL"},{"$f":"YEAR(tbldados[[#This Row],[DATA]])","v":2023}]
[753,"GASTOS","12 DE 12","AMAZON DIVERSOS","JUNIOR","GERAL","C6","CREDITO PARCELADO",{"$f":"VLOOKUP(tbldados[[#This Row],[APP]],tblbandeira[],3,0)","v":0},44700,45047,45.22,{"$f":"tbldados[[#This Row],[VALOR PAGO]]+(tbldados[[#This Row],[VALOR PAGO]]*tbldados[[#This Row],[TAXA]])","v":45.22},{"$f":"tbldados[[#This Row],[TOTAL BRUTO]]-tbldados[[#This Row],[VALOR PAGO]]","v":0},{"$f":"CHOOSE(MONTH(tbldados[[#This Row],[DATA]]),\"JANEIRO\",\"FEVEREIRO\",\"MARÇO\",\"ABRIL\",\"MAIO\",\"JUNHO\",\"JULHO\",\"AGOSTO\",\"SETEMBRO\",\"OUTUBRO\",\"NOVEMBRO\",\"DEZEMBRO\")","v":"MAIO"},{"$f":"YEAR(tbldados[[#This Row],[DATA]])","v":2023}]
[754,"GASTOS","01 DE 01","PGTO-DIVERSOS","JUNIOR","RECARGAPAY","C6","CREDITO A VISTA",{"$f":"VLOOKUP(tbldados[[#This Row],[APP]],tblbandeira[],3,0)","v":3.49E-2},44683,44713,1200,{"$f":"tbldados[[#This Row],[VALOR PAGO]]+(tbldados[[#This Row],[VALOR PAGO]]*tbldados[[#This Row],[TAXA]])","v":1241.8800000000001},{"$f":"tbldados[[#This Row],[TOTAL BRUTO]]-tbldados[[#This Row],[VALOR PAGO]]","v":41.880000000000109},{"$f":"CHOOSE(MONTH(tbldados[[#This Row],[DATA]]),\"JANEIRO\",\"FEVEREIRO\",\"MARÇO\",\"ABRIL\",\"MAIO\",\"JUNHO\",\"JULHO\",\"AGOSTO\",\"SETEMBRO\",\"OUTUBRO\",\"NOVEMBRO\",\"DEZEMBRO\")","v":"JUNHO"},{"$f":"YEAR(tbldados[[#This Row],[DATA]])","v":2022}]
[755,"PGTO","01 DE 01","C6","JUNHO","CONTA","DÉBITO","DINHEIRO",{"$f":"VLOOKUP(tbldados[[#This Row],[APP]],tblbandeira[],3,0)","v":0},44708,44708,100,{"$f":"tbldados[[#This Row],[VALOR PAGO]]+(tbldados[[#This Row],[VALOR PAGO]]*tbldados[[#This Row],[TAXA]])","v":100},{"$f":"tbldados[[#This Row],[TOTAL BRUTO]]-tbldados[[#This Row],[VALOR PAGO]]","v":0},{"$f":"CHOOSE(MONTH(tbldados[[#This Row],[DATA]]),\"JANEIRO\",\"FEVEREIRO\",\"MARÇO\",\"ABRIL\",\"MAIO\",\"JUNHO\",\"JULHO\",\"AGOSTO\",\"SETEMBRO\",\"OUTUBRO\",\"NOVEMBRO\",\"DEZEMBRO\")","v":"MAIO"},{"$f":"YEAR(tbldados[[#This Row],[DATA]])","v":2022}]
[756,"PGTO","01 DE 01","C6","JUNHO","CONTA","DÉBITO","DINHEIRO",{"$f":"VLOOKUP(tbldados[[#This Row],[APP]],tblbandeira[],3,0)","v":0},44704,44704,220,{"$f":"tbldados[[#This Row],[VALOR PAGO]]+(tbldados[[#This Row],[VALOR PAGO]]*tbldados[[#This Row],[TAXA]])","v":220},{"$f":"tbldados[[#This Row],[TOTAL BRUTO]]-tbldados[[#This Row],[VALOR PAGO]]","v":0},{"$f":"CHOOSE(MONTH(tbldados[[#This Row],[DATA]]),\"JANEIRO\",\"FEVEREIRO\",\"MARÇO\",\"ABRIL\",\"MAIO\",\"JUNHO\",\"JULHO\",\"AGOSTO\",\"SETEMBRO\",\"OUTUBRO\",\"NOVEMBRO\",\"DEZEMBRO\")","v":"MAIO"},{"$f":"YEAR(tbldados[[#This Row],[DATA]])","v":2022}]
[757,"PGTO","01 DE 01","C6","JUNHO","RECARGAPAY","ZERO","CREDITO A VISTA",{"$f":"VLOOKUP(tbldados[[#This Row],[APP]],tblbandeira[],3,0)","v":3.49E-2},44710,44745,1546.04,{"$f":"tbldados[[#This Row],[VALOR PAGO]]+(tbldados[[#This Row],[VALOR PAGO]]*tbldados[[#This Row],[TAXA]])","v":1599.9967959999999},{"$f":"tbldados[[#This Row],[TOTAL BRUTO]]-tbldados[[#This Row],[VALOR PAGO]]","v":53.95679599999994},{"$f":"CHOOSE(MONTH(tbldados[[#This Row],[DATA]]),\"JANEIRO\",\"FEVEREIRO\",\"MARÇO\",\"ABRIL\",\"MAIO\",\"JUNHO\",\"JULHO\",\"AGOSTO\",\"SETEMBRO\",\"OUTUBRO\",\"NOVEMBRO\",\"DEZEMBRO\")","v":"JULHO"},{"$f":"YEAR(tbldados[[#This Row],[DATA]])","v":2022}]
[758,"GASTOS","01 DE 01","PGTOC6","JUNIOR","RECARGAPAY","ZERO","CREDITO A VISTA",{"$f":"VLOOKUP(tbldados[[#This Row],[APP]],tblbandeira[],3,0)","v":3.49E-2},44710,44745,1546.04,{"$f":"tbldados[[#This Row],[VALOR PAGO]]+(tbldados[[#This Row],[VALOR PAGO]]*tbldados[[#This Row],[TAXA]])","v":1599.9967959999999},{"$f":"tbldados[[#This Row],[TOTAL BRUTO]]-tbldados[[#This Row],[VALOR PAGO]]","v":53.95679599999994},{"$f":"CHOOSE(MONTH(tbldados[[#This Row],[DATA]]),\"JANEIRO\",\"FEVEREIRO\",\"MARÇO\",\"ABRIL\",\"MAIO\",\"JUNHO\",\"JULHO\",\"AGOSTO\",\"SETEMBRO\",\"OUTUBRO\",\"NOVEMBRO\",\"DEZEMBRO\")","v":"JULHO"},{"$f":"YEAR(tbldados[[#This Row],[DATA]])","v":2022}]
[759,"PGTO","01 DE 01","C6","JUNHO","CONTA","DÉBITO","DINHEIRO",{"$f":"VLOOKUP(tbldados[[#This Row],[APP]],tblbandeira[],3,0)","v":0},44711,44711,531.09,{"$f":"tbldados[[#This Row],[VALOR PAGO]]+(tbldados[[#This Row],[VALOR PAGO]]*tbldados[[#This Row],[TAXA]])","v":531.09},{"$f":"tbldados[[#This Row],[TOTAL BRUTO]]-tbldados[[#This Row],[VALOR PAGO]]","v":0},{"$f":"CHOOSE(MONTH(tbldados[[#This Row],[DATA]]),\"JANEIRO\",\"FEVEREIRO\",\"MARÇO\",\"ABRIL\",\"MAIO\",\"JUNHO\",\"JULHO\",\"AGOSTO\",\"SETEMBRO\",\"OUTUBRO\",\"NOVEMBRO\",\"DEZEMBRO\")","v":"MAIO"},{"$f":"YEAR(tbldados[[#This Row],[DATA]])","v":2022}]
[760,"PGTO","01 DE 01","C6","JUNHO","CONTA","DÉBITO","DINHEIRO",{"$f":"VLOOKUP(tbldados[[#This Row],[APP]],tblbandeira[],3,0)","v":0},44712,44712,343,{"$f":"tbldados[[#This Row],[VALOR PAGO]]+(tbldados[[#This Row],[VALOR PAGO]]*tbldados[[#This Row],[TAXA]])","v":343},{"$f":"tbldados[[#This Row],[TOTAL BRUTO]]-tbldados[[#This Row],[VALOR PAGO]]","v":0},{"$f":"CHOOSE(MONTH(tbldados[[#This Row],[DATA]]),\"JANEIRO\",\"FEVEREIRO\",\"MARÇO\",\"ABRIL\",\"MAIO\",\"JUNHO\",\"JULHO\",\"AGOSTO\",\"SETEMBRO\",\"OUTUBRO\",\"NOVEMBRO\",\"DEZEMBRO\")","v":"MAIO"},{"$f":"YEAR(tbldados[[#This Row],[DATA]])","v":2022}]
[761,"GASTOS","01 DE 01","PGTO-DIVERSOS","JUNIOR","RECARGAPAY","MELIUZ","CREDITO A VISTA",{"$f":"VLOOKUP(tbldados[[#This Row],[APP]],tblbandeira[],3,0)","v":3.49E-2},44683,44713,669.89,{"$f":"tbldados[[#This Row],[VALOR PAGO]]+(tbldados[[#This Row],[VALOR PAGO]]*tbldados[[#This Row],[TAXA]])","v":693.26916099999994},{"$f":"tbldados[[#This Row],[TOTAL BRUTO]]-tbldados[[#This Row],[VALOR PAGO]]","v":23.379160999999954},{"$f":"CHOOSE(MONTH(tbldados[[#This Row],[DATA]]),\"JANEIRO\",\"FEVEREIRO\",\"MARÇO\",\"ABRIL\",\"MAIO\",\"JUNHO\",\"JULHO\",\"AGOSTO\",\"SETEMBRO\",\"OUTUBRO\",\"NOVEMBRO\",\"DEZEMBRO\")","v":"JUNHO"},{"$f":"YEAR(tbldados[[#This Row],[DATA]])","v":2022}]
[762,"GASTOS","01 DE 12","ASS. GLOBO","JUNIOR","GERAL","C6","CREDITO PARCELADO",{"$f":"VLOOKUP(tbldados[[#This Row],[APP]],tblbandeira[],3,0)","v":0},44712,44743,42.9,{"$f":"tbldados[[#This Row],[VALOR PAGO]]+(tbldados[[#This Row],[VALOR PAGO]]*tbldados[[#This Row],[TAXA]])","v":42.9},{"$f":"tbldados[[#This Row],[TOTAL BRUTO]]-tbldados[[#This Row],[VALOR PAGO]]","v":0},{"$f":"CHOOSE(MONTH(tbldados[[#This Row],[DATA]]),\"JANEIRO\",\"FEVEREIRO\",\"MARÇO\",\"ABRIL\",\"MAIO\",\"JUNHO\",\"JULHO\",\"AGOSTO\",\"SETEMBRO\",\"OUTUBRO\",\"NOVEMBRO\",\"DEZEMBRO\")","v":"JULHO"},{"$f":"YEAR(tbldados[[#This Row],[DATA]])","v":2022}]
[763,"GASTOS","02 DE 12","ASS. GLOBO","JUNIOR","GERAL","C6","CREDITO PARCELADO",{"$f":"VLOOKUP(tbldados[[#This Row],[APP]],tblbandeira[],3,0)","v":0},44712,44774,42.9,{"$f":"tbldados[[#This Row],[VALOR PAGO]]+(tbldados[[#This Row],[VALOR PAGO]]*tbldados[[#This Row],[TAXA]])","v":42.9},{"$f":"tbldados[[#This Row],[TOTAL BRUTO]]-tbldados[[#This Row],[VALOR PAGO]]","v":0},{"$f":"CHOOSE(MONTH(tbldados[[#This Row],[DATA]]),\"JANEIRO\",\"FEVEREIRO\",\"MARÇO\",\"ABRIL\",\"MAIO\",\"JUNHO\",\"JULHO\",\"AGOSTO\",\"SETEMBRO\",\"OUTUBRO\",\"NOVEMBRO\",\"DEZEMBRO\")","v":"AGOSTO"},{"$f":"YEAR(tbldados[[#This Row],[DATA]])","v":2022}]
[764,"GASTOS","03 DE 12","ASS. GLOBO","JUNIOR","GERAL","C6","CREDITO PARCELADO",{"$f":"VLOOKUP(tbldados[[#This Row],[APP]],tblbandeira[],3,0)","v":0},44712,44805,42.9,{"$f":"tbldados[[#This Row],[VALOR PAGO]]+(tbldados[[#This Row],[VALOR PAGO]]*tbldados[[#This Row],[TAXA]])","v":42.9},{"$f":"tbldados[[#This Row],[TOTAL BRUTO]]-tbldados[[#This Row],[VALOR PAGO]]","v":0},{"$f":"CHOOSE(MONTH(tbldados[[#This Row],[DATA]]),\"JANEIRO\",\"FEVEREIRO\",\"MARÇO\",\"ABRIL\",\"MAIO\",\"JUNHO\",\"JULHO\",\"AGOSTO\",\"SETEMBRO\",\"OUTUBRO\",\"NOVEMBRO\",\"DEZEMBRO\")","v":"SETEMBRO"},{"$f":"YEAR(tbldados[[#This Row],[DATA]])","v":2022}]
[765,"GASTOS","04 DE 12","ASS. GLOBO","JUNIOR","GERAL","C6","CREDITO PARCELADO",{"$f":"VLOOKUP(tbldados[[#This Row],[APP]],tblbandeira[],3,0)","v":0},44712,44835,42.9,{"$f":"tbldados[[#This Row],[VALOR PAGO]]+(tbldados[[#This Row],[VALOR PAGO]]*tbldados[[#This Row],[TAXA]])","v":42.9},{"$f":"tbldados[[#This Row],[TOTAL BRUTO]]-tbldados[[#This Row],[VALOR PAGO]]","v":0},{"$f":"CHOOSE(MONTH(tbldados[[#This Row],[DATA]]),\"JANEIRO\",\"FEVEREIRO\",\"MARÇO\",\"ABRIL\",\"MAIO\",\"JUNHO\",\"JULHO\",\"AGOSTO\",\"SETEMBRO\",\"OUTUBRO\",\"NOVEMBRO\",\"DEZEMBRO\")","v":"OUTUBRO"},{"$f":"YEAR(tbldados[[#This Row],[DATA]])","v":2022}]
[766,"GASTOS","05 DE 12","ASS. GLOBO","JUNIOR","GERAL","C6","CREDITO PARCELADO",{"$f":"VLOOKUP(tbldados[[#This Row],[APP]],tblbandeira[],3,0)","v":0},44712,44866,42.9,{"$f":"tbldados[[#This Row],[VALOR PAGO]]+(tbldados[[#This Row],[VALOR PAGO]]*tbldados[[#This Row],[TAXA]])","v":42.9},{"$f":"tbldados[[#This Row],[TOTAL BRUTO]]-tbldados[[#This Row],[VALOR PAGO]]","v":0},{"$f":"CHOOSE(MONTH(tbldados[[#This Row],[DATA]]),\"JANEIRO\",\"FEVEREIRO\",\"MARÇO\",\"ABRIL\",\"MAIO\",\"JUNHO\",\"JULHO\",\"AGOSTO\",\"SETEMBRO\",\"OUTUBRO\",\"NOVEMBRO\",\"DEZEMBRO\")","v":"NOVEMBRO"},{"$f":"YEAR(tbldados[[#This Row],[DATA]])","v":2022}]
[767,"GASTOS","06 DE 12","ASS. GLOBO","JUNIOR","GERAL","C6","CREDITO PARCELADO",{"$f":"VLOOKUP(tbldados[[#This Row],[APP]],tblbandeira[],3,0)","v":0},44712,44896,42.9,{"$f":"tbldados[[#This Row],[VALOR PAGO]]+(tbldados[[#This Row],[VALOR PAGO]]*tbldados[[#This Row],[TAXA]])","v":42.9},{"$f":"tbldados[[#This Row],[TOTAL BRUTO]]-tbldados[[#This Row],[VALOR PAGO]]","v":0},{"$f":"CHOOSE(MONTH(tbldados[[#This Row],[DATA]]),\"JANEIRO\",\"FEVEREIRO\",\"MARÇO\",\"ABRIL\",\"MAIO\",\"JUNHO\",\"JULHO\",\"AGOSTO\",\"SETEMBRO\",\"OUTUBRO\",\"NOVEMBRO\",\"DEZEMBRO\")","v":"DEZEMBRO"},{"$f":"YEAR(tbldados[[#This Row],[DATA]])","v":2022}]
[768,"GASTOS","07 DE 12","ASS. GLOBO","JUNIOR","GERAL","C6","CREDITO PARCELADO",{"$f":"VLOOKUP(tbldados[[#This Row],[APP]],tblbandeira[],3,0)","v":0},44712,44927,42.9,{"$f":"tbldados[[#This Row],[VALOR PAGO]]+(tbldados[[#This Row],[VALOR PAGO]]*tbldados[[#This Row],[TAXA]])","v":42.9},{"$f":"tbldados[[#This Row],[TOTAL BRUTO]]-tbldados[[#This Row],[VALOR PAGO]]","v":0},{"$f":"CHOOSE(MONTH(tbldados[[#This Row],[DATA]]),\"JANEIRO\",\"FEVEREIRO\",\"MARÇO\",\"ABRIL\",\"MAIO\",\"JUNHO\",\"JULHO\",\"AGOSTO\",\"SETEMBRO\",\"OUTUBRO\",\"NOVEMBRO\",\"DEZEMBRO\")","v":"JANEIRO"},{"$f":"YEAR(tbldados[[#This Row],[DATA]])","v":2023}]
[769,"GASTOS","08 DE 12","ASS. GLOBO","JUNIOR","GERAL","C6","CREDITO PARCELADO",{"$f":"VLOOKUP(tbldados[[#This Row],[APP]],tblbandeira[],3,0)","v":0},44712,44958,42.9,{"$f":"tbldados[[#This Row],[VALOR PAGO]]+(tbldados[[#This Row],[VALOR PAGO]]*tbldados[[#This Row],[TAXA]])","v":42.9},{"$f":"tbldados[[#This Row],[TOTAL BRUTO]]-tbldados[[#This Row],[VALOR PAGO]]","v":0},{"$f":"CHOOSE(MONTH(tbldados[[#This Row],[DATA]]),\"JANEIRO\",\"FEVEREIRO\",\"MARÇO\",\"ABRIL\",\"MAIO\",\"JUNHO\",\"JULHO\",\"AGOSTO\",\"SETEMBRO\",\"OUTUBRO\",\"NOVEMBRO\",\"DEZEMBRO\")","v":"FEVEREIRO"},{"$f":"YEAR(tbldados[[#This Row],[DATA]])","v":2023}]
[770,"GASTOS","09 DE 12","ASS. GLOBO","JUNIOR","GERAL","C6","CREDITO PARCELADO",{"$f":"VLOOKUP(tbldados[[#This Row],[APP]],tblbandeira[],3,0)","v":0},44712,44986,42.9,{"$f":"tbldados[[#This Row],[VALOR PAGO]]+(tbldados[[#This Row],[VALOR PAGO]]*tbldados[[#This Row],[TAXA]])","v":42.9},{"$f":"tbldados[[#This Row],[TOTAL BRUTO]]-tbldados[[#This Row],[VALOR PAGO]]","v":0},{"$f":"CHOOSE(MONTH(tbldados[[#This Row],[DATA]]),\"JANEIRO\",\"FEVEREIRO\",\"MARÇO\",\"ABRIL\",\"MAIO\",\"JUNHO\",\"JULHO\",\"AGOSTO\",\"SETEMBRO\",\"OUTUBRO\",\"NOVEMBRO\",\"DEZEMBRO\")","v":"MARÇO"},{"$f":"YEAR(tbldados[[#This Row],[DATA]])","v":2023}]
[771,"GASTOS","10 DE 12","ASS. GLOBO","JUNIOR","GERAL","C6","CREDITO PARCELADO",{"$f":"VLOOKUP(tbldados[[#This Row],[APP]],tblbandeira[],3,0)","v":0},44712,45017,42.9,{"$f":"tbldados[[#This Row],[VALOR PAGO]]+(tbldados[[#This Row],[VALOR PAGO]]*tbldados[[#This Row],[TAXA]])","v":42.9},{"$f":"tbldados[[#This Row],[TOTAL BRUTO]]-tbldados[[#This Row],[VALOR PAGO]]","v":0},{"$f":"CHOOSE(MONTH(tbldados[[#This Row],[DATA]]),\"JANEIRO\",\"FEVEREIRO\",\"MARÇO\",\"ABRIL\",\"MAIO\",\"JUNHO\",\"JULHO\",\"AGOSTO\",\"SETEMBRO\",\"OUTUBRO\",\"NOVEMBRO\",\"DEZEMBRO\")","v":"ABRIL"},{"$f":"YEAR(tbldados[[#This Row],[DATA]])","v":2023}]
[772,"GASTOS","11 DE 12","ASS. GLOBO","JUNIOR","GERAL","C6","CREDITO PARCELADO",{"$f":"VLOOKUP(tbldados[[#This Row],[APP]],tblbandeira[],3,0)","v":0},44712,45047,42.9,{"$f":"tbldados[[#This Row],[VALOR PAGO]]+(tbldados[[#This Row],[VALOR PAGO]]*tbldados[[#This Row],[TAXA]])","v":42.9},{"$f":"tbldados[[#This Row],[TOTAL BRUTO]]-tbldados[[#This Row],[VALOR PAGO]]","v":0},{"$f":"CHOOSE(MONTH(tbldados[[#This Row],[DATA]]),\"JANEIRO\",\"FEVEREIRO\",\"MARÇO\",\"ABRIL\",\"MAIO\",\"JUNHO\",\"JULHO\",\"AGOSTO\",\"SETEMBRO\",\"OUTUBRO\",\"NOVEMBRO\",\"DEZEMBRO\")","v":"MAIO"},{"$f":"YEAR(tbldados[[#This Row],[DATA]])","v":2023}]
[773,"GASTOS","12 DE 12","ASS. GLOBO","JUNIOR","GERAL","C6","CREDITO PARCELADO",{"$f":"VLOOKUP(tbldados[[#This Row],[APP]],tblbandeira[],3,0)","v":0},44712,45078,42.9,{"$f":"tbldados[[#This Row],[VALOR PAGO]]+(tbldados[[#This Row],[VALOR PAGO]]*tbldados[[#This Row],[TAXA]])","v":42.9},{"$f":"tbldados[[#This Row],[TOTAL BRUTO]]-tbldados[[#This Row],[VALOR PAGO]]","v":0},{"$f":"CHOOSE(MONTH(tbldados[[#This Row],[DATA]]),\"JANEIRO\",\"FEVEREIRO\",\"MARÇO\",\"ABRIL\",\"MAIO\",\"JUNHO\",\"JULHO\",\"AGOSTO\",\"SETEMBRO\",\"OUTUBRO\",\"NOVEMBRO\",\"DEZEMBRO\")","v":"JUNHO"},{"$f":"YEAR(tbldados[[#This Row],[DATA]])","v":2023}]
[774,"PGTO","01 DE 01","MELIUZ","JUNHO","RECARGAPAY","C6","CREDITO A VISTA",{"$f":"VLOOKUP(tbldados[[#This Row],[APP]],tblbandeira[],3,0)","v":3.49E-2},44713,44743,1455.67,{"$f":"tbldados[[#This Row],[VALOR PAGO]]+(tbldados[[#This Row],[VALOR PAGO]]*tbldados[[#This Row],[TAXA]])","v":1506.4728830000001},{"$f":"tbldados[[#This Row],[TOTAL BRUTO]]-tbldados[[#This Row],[VALOR PAGO]]","v":50.802883000000065},{"$f":"CHOOSE(MONTH(tbldados[[#This Row],[DATA]]),\"JANEIRO\",\"FEVEREIRO\",\"MARÇO\",\"ABRIL\",\"MAIO\",\"JUNHO\",\"JULHO\",\"AGOSTO\",\"SETEMBRO\",\"OUTUBRO\",\"NOVEMBRO\",\"DEZEMBRO\")","v":"JULHO"},{"$f":"YEAR(tbldados[[#This Row],[DATA]])","v":2022}]
[775,"GASTOS","01 DE 01","PGTOMELIUZ","JUNIOR","RECARGAPAY","C6","CREDITO A VISTA",3.49E-2,44713,44743,1455.67,{"$f":"tbldados[[#This Row],[VALOR PAGO]]+(tbldados[[#This Row],[VALOR PAGO]]*tbldados[[#This Row],[TAXA]])","v":1506.4728830000001},{"$f":"tbldados[[#This Row],[TOTAL BRUTO]]-tbldados[[#This Row],[VALOR PAGO]]","v":50.802883000000065},{"$f":"CHOOSE(MONTH(tbldados[[#This Row],[DATA]]),\"JANEIRO\",\"FEVEREIRO\",\"MARÇO\",\"ABRIL\",\"MAIO\",\"JUNHO\",\"JULHO\",\"AGOSTO\",\"SETEMBRO\",\"OUTUBRO\",\"NOVEMBRO\",\"DEZEMBRO\")","v":"JULHO"},{"$f":"YEAR(tbldados[[#This Row],[DATA]])","v":2022}]
[776,"PGTO","01 DE 01","MELIUZ","JUNHO","GERAL","BMG","CREDITO A VISTA",{"$f":"VLOOKUP(tbldados[[#This Row],[APP]],tblbandeira[],3,0)","v":0},44714,44737,414.59,{"$f":"tbldados[[#This Row],[VALOR PAGO]]+(tbldados[[#This Row],[VALOR PAGO]]*tbldados[[#This Row],[TAXA]])","v":414.59},{"$f":"tbldados[[#This Row],[TOTAL BRUTO]]-tbldados[[#This Row],[VALOR PAGO]]","v":0},{"$f":"CHOOSE(MONTH(tbldados[[#This Row],[DATA]]),\"JANEIRO\",\"FEVEREIRO\",\"MARÇO\",\"ABRIL\",\"MAIO\",\"JUNHO\",\"JULHO\",\"AGOSTO\",\"SETEMBRO\",\"OUTUBRO\",\"NOVEMBRO\",\"DEZEMBRO\")","v":"JUNHO"},{"$f":"YEAR(tbldados[[#This Row],[DATA]])","v":2022}]
[777,"GASTOS","01 DE 01","PGTOMELIUZ","JUNIOR","GERAL","BMG","CREDITO A VISTA",{"$f":"VLOOKUP(tbldados[[#This Row],[APP]],tblbandeira[],3,0)","v":0},44714,44737,414.59,{"$f":"tbldados[[#This Row],[VALOR PAGO]]+(tbldados[[#This Row],[VALOR PAGO]]*tbldados[[#This Row],[TAXA]])","v":414.59},{"$f":"tbldados[[#This Row],[TOTAL BRUTO]]-tbldados[[#This Row],[VALOR PAGO]]","v":0},{"$f":"CHOOSE(MONTH(tbldados[[#This Row],[DATA]]),\"JANEIRO\",\"FEVEREIRO\",\"MARÇO\",\"ABRIL\",\"MAIO\",\"JUNHO\",\"JULHO\",\"AGOSTO\",\"SETEMBRO\",\"OUTUBRO\",\"NOVEMBRO\",\"DEZEMBRO\")","v":"JUNHO"},{"$f":"YEAR(tbldados[[#This Row],[DATA]])","v":2022}]
[778,"PGTO","01 DE 01","C6MAE","JUNHO","GERAL","TRIGMAE","CREDITO A VISTA",{"$f":"VLOOKUP(tbldados[[#This Row],[APP]],tblbandeira[],3,0)","v":0},44714,44732,210,{"$f":"tbldados[[#This Row],[VALOR PAGO]]+(tbldados[[#This Row],[VALOR PAGO]]*tbldados[[#This Row],[TAXA]])","v":210},{"$f":"tbldados[[#This Row],[TOTAL BRUTO]]-tbldados[[#This Row],[VALOR PAGO]]","v":0},{"$f":"CHOOSE(MONTH(tbldados[[#This Row],[DATA]]),\"JANEIRO\",\"FEVEREIRO\",\"MARÇO\",\"ABRIL\",\"MAIO\",\"JUNHO\",\"JULHO\",\"AGOSTO\",\"SETEMBRO\",\"OUTUBRO\",\"NOVEMBRO\",\"DEZEMBRO\")","v":"JUNHO"},{"$f":"YEAR(tbldados[[#This Row],[DATA]])","v":2022}]
[779,"GASTOS","01 DE 01","PGTOC6MAE","JUNIOR","GERAL","TRIGMAE","CREDITO A VISTA",{"$f":"VLOOKUP(tbldados[[#This Row],[APP]],tblbandeira[],3,0)","v":0},44714,44732,210,{"$f":"tbldados[[#This Row],[VALOR PAGO]]+(tbldados[[#This Row],[VALOR PAGO]]*tbldados[[#This Row],[TAXA]])","v":210},{"$f":"tbldados[[#This Row],[TOTAL BRUTO]]-tbldados[[#This Row],[VALOR PAGO]]","v":0},{"$f":"CHOOSE(MONTH(tbldados[[#This Row],[DATA]]),\"JANEIRO\",\"FEVEREIRO\",\"MARÇO\",\"ABRIL\",\"MAIO\",\"JUNHO\",\"JULHO\",\"AGOSTO\",\"SETEMBRO\",\"OUTUBRO\",\"NOVEMBRO\",\"DEZEMBRO\")","v":"JUNHO"},{"$f":"YEAR(tbldados[[#This Row],[DATA]])","v":2022}]
[780,"GASTOS","01 DE 01","PGTO-DIVERSOS","JUNIOR","RECARGAPAY","AZUL","CREDITO A VISTA",{"$f":"VLOOKUP(tbldados[[#This Row],[APP]],tblbandeira[],3,0)","v":3.49E-2},44686,44718,994.95,{"$f":"tbldados[[#This Row],[VALOR PAGO]]+(tbldados[[#This Row],[VALOR PAGO]]*tbldados[[#This Row],[TAXA]])","v":1029.673755},{"$f":"tbldados[[#This Row],[TOTAL BRUTO]]-tbldados[[#This Row],[VALOR PAGO]]","v":34.723754999999983},{"$f":"CHOOSE(MONTH(tbldados[[#This Row],[DATA]]),\"JANEIRO\",\"FEVEREIRO\",\"MARÇO\",\"ABRIL\",\"MAIO\",\"JUNHO\",\"JULHO\",\"AGOSTO\",\"SETEMBRO\",\"OUTUBRO\",\"NOVEMBRO\",\"DEZEMBRO\")","v":"JUNHO"},{"$f":"YEAR(tbldados[[#This Row],[DATA]])","v":2022}]
[781,"PGTO","01 DE 01","AZUL","JUNHO","RECARGAPAY","MELIUZ","CREDITO A VISTA",{"$f":"VLOOKUP(tbldados[[#This Row],[APP]],tblbandeira[],3,0)","v":3.49E-2},44717,44743,1798.25,{"$f":"tbldados[[#This Row],[VALOR PAGO]]+(tbldados[[#This Row],[VALOR PAGO]]*tbldados[[#This Row],[TAXA]])","v":1861.0089250000001},{"$f":"tbldados[[#This Row],[TOTAL BRUTO]]-tbldados[[#This Row],[VALOR PAGO]]","v":62.75892500000009},{"$f":"CHOOSE(MONTH(tbldados[[#This Row],[DATA]]),\"JANEIRO\",\"FEVEREIRO\",\"MARÇO\",\"ABRIL\",\"MAIO\",\"JUNHO\",\"JULHO\",\"AGOSTO\",\"SETEMBRO\",\"OUTUBRO\",\"NOVEMBRO\",\"DEZEMBRO\")","v":"JULHO"},{"$f":"YEAR(tbldados[[#This Row],[DATA]])","v":2022}]
[782,"GASTOS","01 DE 01","PGTOAZUL","JUNIOR","RECARGAPAY","MELIUZ","CREDITO A VISTA",{"$f":"VLOOKUP(tbldados[[#This Row],[APP]],tblbandeira[],3,0)","v":3.49E-2},44717,44743,1798.25,{"$f":"tbldados[[#This Row],[VALOR PAGO]]+(tbldados[[#This Row],[VALOR PAGO]]*tbldados[[#This Row],[TAXA]])","v":1861.0089250000001},{"$f":"tbldados[[#This Row],[TOTAL BRUTO]]-tbldados[[#This Row],[VALOR PAGO]]","v":62.75892500000009},{"$f":"CHOOSE(MONTH(tbldados[[#This Row],[DATA]]),\"JANEIRO\",\"FEVEREIRO\",\"MARÇO\",\"ABRIL\",\"MAIO\",\"JUNHO\",\"JULHO\",\"AGOSTO\",\"SETEMBRO\",\"OUTUBRO\",\"NOVEMBRO\",\"DEZEMBRO\")","v":"JULHO"},{"$f":"YEAR(tbldados[[#This Row],[DATA]])","v":2022}]
[783,"PGTO","01 DE 01","AZUL","JUNHO","RECARGAPAY","AZUL","CREDITO A VISTA",{"$f":"VLOOKUP(tbldados[[#This Row],[APP]],tblbandeira[],3,0)","v":3.49E-2},44717,44748,362.14,{"$f":"tbldados[[#This Row],[VALOR PAGO]]+(tbldados[[#This Row],[VALOR PAGO]]*tbldados[[#This Row],[TAXA]])","v":374.77868599999999},{"$f":"tbldados[[#This Row],[TOTAL BRUTO]]-tbldados[[#This Row],[VALOR PAGO]]","v":12.638686000000007},{"$f":"CHOOSE(MONTH(tbldados[[#This Row],[DATA]]),\"JANEIRO\",\"FEVEREIRO\",\"MARÇO\",\"ABRIL\",\"MAIO\",\"JUNHO\",\"JULHO\",\"AGOSTO\",\"SETEMBRO\",\"OUTUBRO\",\"NOVEMBRO\",\"DEZEMBRO\")","v":"JULHO"},{"$f":"YEAR(tbldados[[#This Row],[DATA]])","v":2022}]
[784,"GASTOS","01 DE 01","PGTOAZUL","JUNIOR","RECARGAPAY","AZUL","CREDITO A VISTA",{"$f":"VLOOKUP(tbldados[[#This Row],[APP]],tblbandeira[],3,0)","v":3.49E-2},44717,44748,362.14,{"$f":"tbldados[[#This Row],[VALOR PAGO]]+(tbldados[[#This Row],[VALOR PAGO]]*tbldados[[#This Row],[TAXA]])","v":374.77868599999999},{"$f":"tbldados[[#This Row],[TOTAL BRUTO]]-tbldados[[#This Row],[VALOR PAGO]]","v":12.638686000000007},{"$f":"CHOOSE(MONTH(tbldados[[#This Row],[DATA]]),\"JANEIRO\",\"FEVEREIRO\",\"MARÇO\",\"ABRIL\",\"MAIO\",\"JUNHO\",\"JULHO\",\"AGOSTO\",\"SETEMBRO\",\"OUTUBRO\",\"NOVEMBRO\",\"DEZEMBRO\")","v":"JULHO"},{"$f":"YEAR(tbldados[[#This Row],[DATA]])","v":2022}]
[785,"GASTOS","01 DE 01","PGTO-DIVERSOS","JUNIOR","RECARGAPAY","NCARD","CREDITO A VISTA",3.49E-2,44690,44721,947.65,{"$f":"tbldados[[#This Row],[VALOR PAGO]]+(tbldados[[#This Row],[VALOR PAGO]]*tbldados[[#This Row],[TAXA]])","v":980.72298499999999},{"$f":"tbldados[[#This Row],[TOTAL BRUTO]]-tbldados[[#This Row],[VALOR PAGO]]","v":33.072985000000017},{"$f":"CHOOSE(MONTH(tbldados[[#This Row],[DATA]]),\"JANEIRO\",\"FEVEREIRO\",\"MARÇO\",\"ABRIL\",\"MAIO\",\"JUNHO\",\"JULHO\",\"AGOSTO\",\"SETEMBRO\",\"OUTUBRO\",\"NOVEMBRO\",\"DEZEMBRO\")","v":"JUNHO"},{"$f":"YEAR(tbldados[[#This Row],[DATA]])","v":2022}]
[786,"PGTO","01 DE 01","NCARD","JUNHO","RECARGAPAY","AZUL","CREDITO A VISTA",{"$f":"VLOOKUP(tbldados[[#This Row],[APP]],tblbandeira[],3,0)","v":3.49E-2},44719,44748,1599.99,{"$f":"tbldados[[#This Row],[VALOR PAGO]]+(tbldados[[#This Row],[VALOR PAGO]]*tbldados[[#This Row],[TAXA]])","v":1655.829651},{"$f":"tbldados[[#This Row],[TOTAL BRUTO]]-tbldados[[#This Row],[VALOR PAGO]]","v":55.839651000000003},{"$f":"CHOOSE(MONTH(tbldados[[#This Row],[DATA]]),\"JANEIRO\",\"FEVEREIRO\",\"MARÇO\",\"ABRIL\",\"MAIO\",\"JUNHO\",\"JULHO\",\"AGOSTO\",\"SETEMBRO\",\"OUTUBRO\",\"NOVEMBRO\",\"DEZEMBRO\")","v":"JULHO"},{"$f":"YEAR(tbldados[[#This Row],[DATA]])","v":2022}]
[787,"GASTOS","01 DE 01","PGTONCARD","JUNIOR","RECARGAPAY","AZUL","CREDITO A VISTA",{"$f":"VLOOKUP(tbldados[[#This Row],[APP]],tblbandeira[],3,0)","v":3.49E-2},44719,44748,1599.99,{"$f":"tbldados[[#This Row],[VALOR PAGO]]+(tbldados[[#This Row],[VALOR PAGO]]*tbldados[[#This Row],[TAXA]])","v":1655.829651},{"$f":"tbldados[[#This Row],[TOTAL BRUTO]]-tbldados[[#This Row],[VALOR PAGO]]","v":55.839651000000003},{"$f":"CHOOSE(MONTH(tbldados[[#This Row],[DATA]]),\"JANEIRO\",\"FEVEREIRO\",\"MARÇO\",\"ABRIL\",\"MAIO\",\"JUNHO\",\"JULHO\",\"AGOSTO\",\"SETEMBRO\",\"OUTUBRO\",\"NOVEMBRO\",\"DEZEMBRO\")","v":"JULHO"},{"$f":"YEAR(tbldados[[#This Row],[DATA]])","v":2022}]
[788,"GASTOS","01 DE 01","JUROS ANUIDADE","JUNIOR","GERAL","NCARD","CREDITO A VISTA",{"$f":"VLOOKUP(tbldados[[#This Row],[APP]],tblbandeira[],3,0)","v":0},44690,44721,8.9600000000000009,{"$f":"tbldados[[#This Row],[VALOR PAGO]]+(tbldados[[#This Row],[VALOR PAGO]]*tbldados[[#This Row],[TAXA]])","v":8.9600000000000009},{"$f":"tbldados[[#This Row],[TOTAL BRUTO]]-tbldados[[#This Row],[VALOR PAGO]]","v":0},{"$f":"CHOOSE(MONTH(tbldados[[#This Row],[DATA]]),\"JANEIRO\",\"FEVEREIRO\",\"MARÇO\",\"ABRIL\",\"MAIO\",\"JUNHO\",\"JULHO\",\"AGOSTO\",\"SETEMBRO\",\"OUTUBRO\",\"NOVEMBRO\",\"DEZEMBRO\")","v":"JUNHO"},{"$f":"YEAR(tbldados[[#This Row],[DATA]])","v":2022}]
[789,"GASTOS","01 DE 01","PGTOC6","JUNIOR","GERAL","PAGMAE","CREDITO A VISTA",{"$f":"VLOOKUP(tbldados[[#This Row],[APP]],tblbandeira[],3,0)","v":0},44685,44722,210,{"$f":"tbldados[[#This Row],[VALOR PAGO]]+(tbldados[[#This Row],[VALOR PAGO]]*tbldados[[#This Row],[TAXA]])","v":210},{"$f":"tbldados[[#This Row],[TOTAL BRUTO]]-tbldados[[#This Row],[VALOR PAGO]]","v":0},{"$f":"CHOOSE(MONTH(tbldados[[#This Row],[DATA]]),\"JANEIRO\",\"FEVEREIRO\",\"MARÇO\",\"ABRIL\",\"MAIO\",\"JUNHO\",\"JULHO\",\"AGOSTO\",\"SETEMBRO\",\"OUTUBRO\",\"NOVEMBRO\",\"DEZEMBRO\")","v":"JUNHO"},{"$f":"YEAR(tbldados[[#This Row],[DATA]])","v":2022}]
[790,"GASTOS","01 DE 01","CLARO","JUNIOR","GERAL","PAGMAE","CREDITO A VISTA",{"$f":"VLOOKUP(tbldados[[#This Row],[APP]],tblbandeira[],3,0)","v":0},44711,44722,46.27,{"$f":"tbldados[[#This Row],[VALOR PAGO]]+(tbldados[[#This Row],[VALOR PAGO]]*tbldados[[#This Row],[TAXA]])","v":46.27},{"$f":"tbldados[[#This Row],[TOTAL BRUTO]]-tbldados[[#This Row],[VALOR PAGO]]","v":0},{"$f":"CHOOSE(MONTH(tbldados[[#This Row],[DATA]]),\"JANEIRO\",\"FEVEREIRO\",\"MARÇO\",\"ABRIL\",\"MAIO\",\"JUNHO\",\"JULHO\",\"AGOSTO\",\"SETEMBRO\",\"OUTUBRO\",\"NOVEMBRO\",\"DEZEMBRO\")","v":"JUNHO"},{"$f":"YEAR(tbldados[[#This Row],[DATA]])","v":2022}]
[791,"GASTOS","01 DE 01","JUROS","JUNIOR","GERAL","PAGMAE","CREDITO A VISTA",{"$f":"VLOOKUP(tbldados[[#This Row],[APP]],tblbandeira[],3,0)","v":0},44705,44722,19.989999999999998,{"$f":"tbldados[[#This Row],[VALOR PAGO]]+(tbldados[[#This Row],[VALOR PAGO]]*tbldados[[#This Row],[TAXA]])","v":19.989999999999998},{"$f":"tbldados[[#This Row],[TOTAL BRUTO]]-tbldados[[#This Row],[VALOR PAGO]]","v":0},{"$f":"CHOOSE(MONTH(tbldados[[#This Row],[DATA]]),\"JANEIRO\",\"FEVEREIRO\",\"MARÇO\",\"ABRIL\",\"MAIO\",\"JUNHO\",\"JULHO\",\"AGOSTO\",\"SETEMBRO\",\"OUTUBRO\",\"NOVEMBRO\",\"DEZEMBRO\")","v":"JUNHO"},{"$f":"YEAR(tbldados[[#This Row],[DATA]])","v":2022}]
[792,"GASTOS","01 DE 01","PGTOPAGMAE","JUNIOR","RECARGAPAY","PAGMAE","CREDITO A VISTA",3.49E-2,44690,44722,2379.4699999999998,{"$f":"tbldados[[#This Row],[VALOR PAGO]]+(tbldados[[#This Row],[VALOR PAGO]]*tbldados[[#This Row],[TAXA]])","v":2462.5135029999997},{"$f":"tbldados[[#This Row],[TOTAL BRUTO]]-tbldados[[#This Row],[VALOR PAGO]]","v":83.043502999999873},{"$f":"CHOOSE(MONTH(tbldados[[#This Row],[DATA]]),\"JANEIRO\",\"FEVEREIRO\",\"MARÇO\",\"ABRIL\",\"MAIO\",\"JUNHO\",\"JULHO\",\"AGOSTO\",\"SETEMBRO\",\"OUTUBRO\",\"NOVEMBRO\",\"DEZEMBRO\")","v":"JUNHO"},{"$f":"YEAR(tbldados[[#This Row],[DATA]])","v":2022}]
[793,"GASTOS","01 DE 01","PGTOPAGMAE","JUNIOR","RECARGAPAY","PAGMAE","CREDITO A VISTA",3.49E-2,44690,44722,1711.38,{"$f":"tbldados[[#This Row],[VALOR PAGO]]+(tbldados[[#This Row],[VALOR PAGO]]*tbldados[[#This Row],[TAXA]])","v":1771.107162},{"$f":"tbldados[[#This Row],[TOTAL BRUTO]]-tbldados[[#This Row],[VALOR PAGO]]","v":59.727161999999907},{"$f":"CHOOSE(MONTH(tbldados[[#This Row],[DATA]]),\"JANEIRO\",\"FEVEREIRO\",\"MARÇO\",\"ABRIL\",\"MAIO\",\"JUNHO\",\"JULHO\",\"AGOSTO\",\"SETEMBRO\",\"OUTUBRO\",\"NOVEMBRO\",\"DEZEMBRO\")","v":"JUNHO"},{"$f":"YEAR(tbldados[[#This Row],[DATA]])","v":2022}]
[794,"GASTOS","01 DE 01","PGTO-DIVERSOS","JUNIOR","RECARGAPAY","PAGMAE","CREDITO A VISTA",3.49E-2,44690,44722,823.46,{"$f":"tbldados[[#This Row],[VALOR PAGO]]+(tbldados[[#This Row],[VALOR PAGO]]*tbldados[[#This Row],[TAXA]])","v":852.19875400000001},{"$f":"tbldados[[#This Row],[TOTAL BRUTO]]-tbldados[[#This Row],[VALOR PAGO]]","v":28.738753999999972},{"$f":"CHOOSE(MONTH(tbldados[[#This Row],[DATA]]),\"JANEIRO\",\"FEVEREIRO\",\"MARÇO\",\"ABRIL\",\"MAIO\",\"JUNHO\",\"JULHO\",\"AGOSTO\",\"SETEMBRO\",\"OUTUBRO\",\"NOVEMBRO\",\"DEZEMBRO\")","v":"JUNHO"},{"$f":"YEAR(tbldados[[#This Row],[DATA]])","v":2022}]
[795,"GASTOS","01 DE 01","PGTOTRIGMAE","JUNIOR","RECARGAPAY","PAGMAE","CREDITO A VISTA",3.49E-2,44701,44722,903,{"$f":"tbldados[[#This Row],[VALOR PAGO]]+(tbldados[[#This Row],[VALOR PAGO]]*tbldados[[#This Row],[TAXA]])","v":934.51469999999995},{"$f":"tbldados[[#This Row],[TOTAL BRUTO]]-tbldados[[#This Row],[VALOR PAGO]]","v":31.514699999999948},{"$f":"CHOOSE(MONTH(tbldados[[#This Row],[DATA]]),\"JANEIRO\",\"FEVEREIRO\",\"MARÇO\",\"ABRIL\",\"MAIO\",\"JUNHO\",\"JULHO\",\"AGOSTO\",\"SETEMBRO\",\"OUTUBRO\",\"NOVEMBRO\",\"DEZEMBRO\")","v":"JUNHO"},{"$f":"YEAR(tbldados[[#This Row],[DATA]])","v":2022}]
[796,"GASTOS","01 DE 01","PGTOORIGINAL","JUNIOR","RECARGAPAY","PAGMAE","CREDITO A VISTA",3.49E-2,44690,44722,580.74,{"$f":"tbldados[[#This Row],[VALOR PAGO]]+(tbldados[[#This Row],[VALOR PAGO]]*tbldados[[#This Row],[TAXA]])","v":601.00782600000002},{"$f":"tbldados[[#This Row],[TOTAL BRUTO]]-tbldados[[#This Row],[VALOR PAGO]]","v":20.267826000000014},{"$f":"CHOOSE(MONTH(tbldados[[#This Row],[DATA]]),\"JANEIRO\",\"FEVEREIRO\",\"MARÇO\",\"ABRIL\",\"MAIO\",\"JUNHO\",\"JULHO\",\"AGOSTO\",\"SETEMBRO\",\"OUTUBRO\",\"NOVEMBRO\",\"DEZEMBRO\")","v":"JUNHO"},{"$f":"YEAR(tbldados[[#This Row],[DATA]])","v":2022}]
[797,"PGTO","01 DE 01","PAGMAE","JUNHO","RECARGAPAY","MNEXT","CREDITO A VISTA",{"$f":"VLOOKUP(tbldados[[#This Row],[APP]],tblbandeira[],3,0)","v":3.49E-2},44720,44746,1041,{"$f":"tbldados[[#This Row],[VALOR PAGO]]+(tbldados[[#This Row],[VALOR PAGO]]*tbldados[[#This Row],[TAXA]])","v":1077.3308999999999},{"$f":"tbldados[[#This Row],[TOTAL BRUTO]]-tbldados[[#This Row],[VALOR PAGO]]","v":36.330899999999929},{"$f":"CHOOSE(MONTH(tbldados[[#This Row],[DATA]]),\"JANEIRO\",\"FEVEREIRO\",\"MARÇO\",\"ABRIL\",\"MAIO\",\"JUNHO\",\"JULHO\",\"AGOSTO\",\"SETEMBRO\",\"OUTUBRO\",\"NOVEMBRO\",\"DEZEMBRO\")","v":"JULHO"},{"$f":"YEAR(tbldados[[#This Row],[DATA]])","v":2022}]
[798,"GASTOS","01 DE 01","PGTOPAGMAE","JUNIOR","RECARGAPAY","MNEXT","CREDITO A VISTA",{"$f":"VLOOKUP(tbldados[[#This Row],[APP]],tblbandeira[],3,0)","v":3.49E-2},44720,44746,1041,{"$f":"tbldados[[#This Row],[VALOR PAGO]]+(tbldados[[#This Row],[VALOR PAGO]]*tbldados[[#This Row],[TAXA]])","v":1077.3308999999999},{"$f":"tbldados[[#This Row],[TOTAL BRUTO]]-tbldados[[#This Row],[VALOR PAGO]]","v":36.330899999999929},{"$f":"CHOOSE(MONTH(tbldados[[#This Row],[DATA]]),\"JANEIRO\",\"FEVEREIRO\",\"MARÇO\",\"ABRIL\",\"MAIO\",\"JUNHO\",\"JULHO\",\"AGOSTO\",\"SETEMBRO\",\"OUTUBRO\",\"NOVEMBRO\",\"DEZEMBRO\")","v":"JULHO"},{"$f":"YEAR(tbldados[[#This Row],[DATA]])","v":2022}]
[799,"PGTO","01 DE 01","PAGMAE","JUNHO","RECARGAPAY","PANMAE","CREDITO A VISTA",{"$f":"VLOOKUP(tbldados[[#This Row],[APP]],tblbandeira[],3,0)","v":3.49E-2},44720,44759,438.5,{"$f":"tbldados[[#This Row],[VALOR PAGO]]+(tbldados[[#This Row],[VALOR PAGO]]*tbldados[[#This Row],[TAXA]])","v":453.80365},{"$f":"tbldados[[#This Row],[TOTAL BRUTO]]-tbldados[[#This Row],[VALOR PAGO]]","v":15.303650000000005},{"$f":"CHOOSE(MONTH(tbldados[[#This Row],[DATA]]),\"JANEIRO\",\"FEVEREIRO\",\"MARÇO\",\"ABRIL\",\"MAIO\",\"JUNHO\",\"JULHO\",\"AGOSTO\",\"SETEMBRO\",\"OUTUBRO\",\"NOVEMBRO\",\"DEZEMBRO\")","v":"JULHO"},{"$f":"YEAR(tbldados[[#This Row],[DATA]])","v":2022}]
[800,"GASTOS","01 DE 01","PGTOPAGMAE","JUNIOR","RECARGAPAY","PANMAE","CREDITO A VISTA",{"$f":"VLOOKUP(tbldados[[#This Row],[APP]],tblbandeira[],3,0)","v":3.49E-2},44720,44759,438.5,{"$f":"tbldados[[#This Row],[VALOR PAGO]]+(tbldados[[#This Row],[VALOR PAGO]]*tbldados[[#This Row],[TAXA]])","v":453.80365},{"$f":"tbldados[[#This Row],[TOTAL BRUTO]]-tbldados[[#This Row],[VALOR PAGO]]","v":15.303650000000005},{"$f":"CHOOSE(MONTH(tbldados[[#This Row],[DATA]]),\"JANEIRO\",\"FEVEREIRO\",\"MARÇO\",\"ABRIL\",\"MAIO\",\"JUNHO\",\"JULHO\",\"AGOSTO\",\"SETEMBRO\",\"OUTUBRO\",\"NOVEMBRO\",\"DEZEMBRO\")","v":"JULHO"},{"$f":"YEAR(tbldados[[#This Row],[DATA]])","v":2022}]
[801,"PGTO","01 DE 01","PAGMAE","JUNHO","RECARGAPAY","NCARD","CREDITO A VISTA",{"$f":"VLOOKUP(tbldados[[#This Row],[APP]],tblbandeira[],3,0)","v":3.49E-2},44720,44751,1529.99,{"$f":"tbldados[[#This Row],[VALOR PAGO]]+(tbldados[[#This Row],[VALOR PAGO]]*tbldados[[#This Row],[TAXA]])","v":1583.386651},{"$f":"tbldados[[#This Row],[TOTAL BRUTO]]-tbldados[[#This Row],[VALOR PAGO]]","v":53.39665100000002},{"$f":"CHOOSE(MONTH(tbldados[[#This Row],[DATA]]),\"JANEIRO\",\"FEVEREIRO\",\"MARÇO\",\"ABRIL\",\"MAIO\",\"JUNHO\",\"JULHO\",\"AGOSTO\",\"SETEMBRO\",\"OUTUBRO\",\"NOVEMBRO\",\"DEZEMBRO\")","v":"JULHO"},{"$f":"YEAR(tbldados[[#This Row],[DATA]])","v":2022}]
[802,"GASTOS","01 DE 01","PGTOPAGMAE","JUNIOR","RECARGAPAY","NCARD","CREDITO A VISTA",{"$f":"VLOOKUP(tbldados[[#This Row],[APP]],tblbandeira[],3,0)","v":3.49E-2},44720,44751,1529.99,{"$f":"tbldados[[#This Row],[VALOR PAGO]]+(tbldados[[#This Row],[VALOR PAGO]]*tbldados[[#This Row],[TAXA]])","v":1583.386651},{"$f":"tbldados[[#This Row],[TOTAL BRUTO]]-tbldados[[#This Row],[VALOR PAGO]]","v":53.39665100000002},{"$f":"CHOOSE(MONTH(tbldados[[#This Row],[DATA]]),\"JANEIRO\",\"FEVEREIRO\",\"MARÇO\",\"ABRIL\",\"MAIO\",\"JUNHO\",\"JULHO\",\"AGOSTO\",\"SETEMBRO\",\"OUTUBRO\",\"NOVEMBRO\",\"DEZEMBRO\")","v":"JULHO"},{"$f":"YEAR(tbldados[[#This Row],[DATA]])","v":2022}]
[803,"PGTO","01 DE 01","PAGMAE","JUNHO","RECARGAPAY","C6","CREDITO A VISTA",{"$f":"VLOOKUP(tbldados[[#This Row],[APP]],tblbandeira[],3,0)","v":3.49E-2},44722,44743,5391.28,{"$f":"tbldados[[#This Row],[VALOR PAGO]]+(tbldados[[#This Row],[VALOR PAGO]]*tbldados[[#This Row],[TAXA]])","v":5579.4356719999996},{"$f":"tbldados[[#This Row],[TOTAL BRUTO]]-tbldados[[#This Row],[VALOR PAGO]]","v":188.15567199999987},{"$f":"CHOOSE(MONTH(tbldados[[#This Row],[DATA]]),\"JANEIRO\",\"FEVEREIRO\",\"MARÇO\",\"ABRIL\",\"MAIO\",\"JUNHO\",\"JULHO\",\"AGOSTO\",\"SETEMBRO\",\"OUTUBRO\",\"NOVEMBRO\",\"DEZEMBRO\")","v":"JULHO"},{"$f":"YEAR(tbldados[[#This Row],[DATA]])","v":2022}]
[804,"GASTOS","01 DE 01","PGTOPAGMAE","JUNIOR","RECARGAPAY","C6","CREDITO A VISTA",{"$f":"VLOOKUP(tbldados[[#This Row],[APP]],tblbandeira[],3,0)","v":3.49E-2},44722,44743,5391.28,{"$f":"tbldados[[#This Row],[VALOR PAGO]]+(tbldados[[#This Row],[VALOR PAGO]]*tbldados[[#This Row],[TAXA]])","v":5579.4356719999996},{"$f":"tbldados[[#This Row],[TOTAL BRUTO]]-tbldados[[#This Row],[VALOR PAGO]]","v":188.15567199999987},{"$f":"CHOOSE(MONTH(tbldados[[#This Row],[DATA]]),\"JANEIRO\",\"FEVEREIRO\",\"MARÇO\",\"ABRIL\",\"MAIO\",\"JUNHO\",\"JULHO\",\"AGOSTO\",\"SETEMBRO\",\"OUTUBRO\",\"NOVEMBRO\",\"DEZEMBRO\")","v":"JULHO"},{"$f":"YEAR(tbldados[[#This Row],[DATA]])","v":2022}]
[805,"PGTO","01 DE 01","ORIGINAL","JUNHO","GERAL","PAGMAE","CREDITO A VISTA",{"$f":"VLOOKUP(tbldados[[#This Row],[APP]],tblbandeira[],3,0)","v":0},44723,44752,718.82,{"$f":"tbldados[[#This Row],[VALOR PAGO]]+(tbldados[[#This Row],[VALOR PAGO]]*tbldados[[#This Row],[TAXA]])","v":718.82},{"$f":"tbldados[[#This Row],[TOTAL BRUTO]]-tbldados[[#This Row],[VALOR PAGO]]","v":0},{"$f":"CHOOSE(MONTH(tbldados[[#This Row],[DATA]]),\"JANEIRO\",\"FEVEREIRO\",\"MARÇO\",\"ABRIL\",\"MAIO\",\"JUNHO\",\"JULHO\",\"AGOSTO\",\"SETEMBRO\",\"OUTUBRO\",\"NOVEMBRO\",\"DEZEMBRO\")","v":"JULHO"},{"$f":"YEAR(tbldados[[#This Row],[DATA]])","v":2022}]
[806,"GASTOS","01 DE 01","PGTOORIGINAL","JUNIOR","GERAL","PAGMAE","CREDITO A VISTA",{"$f":"VLOOKUP(tbldados[[#This Row],[APP]],tblbandeira[],3,0)","v":0},44723,44752,718.82,{"$f":"tbldados[[#This Row],[VALOR PAGO]]+(tbldados[[#This Row],[VALOR PAGO]]*tbldados[[#This Row],[TAXA]])","v":718.82},{"$f":"tbldados[[#This Row],[TOTAL BRUTO]]-tbldados[[#This Row],[VALOR PAGO]]","v":0},{"$f":"CHOOSE(MONTH(tbldados[[#This Row],[DATA]]),\"JANEIRO\",\"FEVEREIRO\",\"MARÇO\",\"ABRIL\",\"MAIO\",\"JUNHO\",\"JULHO\",\"AGOSTO\",\"SETEMBRO\",\"OUTUBRO\",\"NOVEMBRO\",\"DEZEMBRO\")","v":"JULHO"},{"$f":"YEAR(tbldados[[#This Row],[DATA]])","v":2022}]
[807,"GASTOS","01 DE 01","JANTA","JUNIOR","GERAL","NUBANK","CREDITO A VISTA",{"$f":"VLOOKUP(tbldados[[#This Row],[APP]],tblbandeira[],3,0)","v":0},44690,44725,33,{"$f":"tbldados[[#This Row],[VALOR PAGO]]+(tbldados[[#This Row],[VALOR PAGO]]*tbldados[[#This Row],[TAXA]])","v":33},{"$f":"tbldados[[#This Row],[TOTAL BRUTO]]-tbldados[[#This Row],[VALOR PAGO]]","v":0},{"$f":"CHOOSE(MONTH(tbldados[[#This Row],[DATA]]),\"JANEIRO\",\"FEVEREIRO\",\"MARÇO\",\"ABRIL\",\"MAIO\",\"JUNHO\",\"JULHO\",\"AGOSTO\",\"SETEMBRO\",\"OUTUBRO\",\"NOVEMBRO\",\"DEZEMBRO\")","v":"JUNHO"},{"$f":"YEAR(tbldados[[#This Row],[DATA]])","v":2022}]
[808,"GASTOS","01 DE 01","PGTO-DIVERSOS","JUNIOR","RECARGAPAY","NUBANK","CREDITO A VISTA",3.49E-2,44693,44725,1993.84,{"$f":"tbldados[[#This Row],[VALOR PAGO]]+(tbldados[[#This Row],[VALOR PAGO]]*tbldados[[#This Row],[TAXA]])","v":2063.4250160000001},{"$f":"tbldados[[#This Row],[TOTAL BRUTO]]-tbldados[[#This Row],[VALOR PAGO]]","v":69.585016000000223},{"$f":"CHOOSE(MONTH(tbldados[[#This Row],[DATA]]),\"JANEIRO\",\"FEVEREIRO\",\"MARÇO\",\"ABRIL\",\"MAIO\",\"JUNHO\",\"JULHO\",\"AGOSTO\",\"SETEMBRO\",\"OUTUBRO\",\"NOVEMBRO\",\"DEZEMBRO\")","v":"JUNHO"},{"$f":"YEAR(tbldados[[#This Row],[DATA]])","v":2022}]
[809,"GASTOS","01 DE 01","JANTA","JUNIOR","GERAL","NUBANK","CREDITO A VISTA",{"$f":"VLOOKUP(tbldados[[#This Row],[APP]],tblbandeira[],3,0)","v":0},44696,44725,40,{"$f":"tbldados[[#This Row],[VALOR PAGO]]+(tbldados[[#This Row],[VALOR PAGO]]*tbldados[[#This Row],[TAXA]])","v":40},{"$f":"tbldados[[#This Row],[TOTAL BRUTO]]-tbldados[[#This Row],[VALOR PAGO]]","v":0},{"$f":"CHOOSE(MONTH(tbldados[[#This Row],[DATA]]),\"JANEIRO\",\"FEVEREIRO\",\"MARÇO\",\"ABRIL\",\"MAIO\",\"JUNHO\",\"JULHO\",\"AGOSTO\",\"SETEMBRO\",\"OUTUBRO\",\"NOVEMBRO\",\"DEZEMBRO\")","v":"JUNHO"},{"$f":"YEAR(tbldados[[#This Row],[DATA]])","v":2022}]
[810,"GASTOS","01 DE 02","SUPERMERCADO","JUNIOR","GERAL","NUBANK","CREDITO PARCELADO",{"$f":"VLOOKUP(tbldados[[#This Row],[APP]],tblbandeira[],3,0)","v":0},44697,44725,86.4,{"$f":"tbldados[[#This Row],[VALOR PAGO]]+(tbldados[[#This Row],[VALOR PAGO]]*tbldados[[#This Row],[TAXA]])","v":86.4},{"$f":"tbldados[[#This Row],[TOTAL BRUTO]]-tbldados[[#This Row],[VALOR PAGO]]","v":0},{"$f":"CHOOSE(MONTH(tbldados[[#This Row],[DATA]]),\"JANEIRO\",\"FEVEREIRO\",\"MARÇO\",\"ABRIL\",\"MAIO\",\"JUNHO\",\"JULHO\",\"AGOSTO\",\"SETEMBRO\",\"OUTUBRO\",\"NOVEMBRO\",\"DEZEMBRO\")","v":"JUNHO"},{"$f":"YEAR(tbldados[[#This Row],[DATA]])","v":2022}]
[811,"GASTOS","02 DE 02","SUPERMERCADO","JUNIOR","GERAL","NUBANK","CREDITO PARCELADO",{"$f":"VLOOKUP(tbldados[[#This Row],[APP]],tblbandeira[],3,0)","v":0},44697,44755,86.4,{"$f":"tbldados[[#This Row],[VALOR PAGO]]+(tbldados[[#This Row],[VALOR PAGO]]*tbldados[[#This Row],[TAXA]])","v":86.4},{"$f":"tbldados[[#This Row],[TOTAL BRUTO]]-tbldados[[#This Row],[VALOR PAGO]]","v":0},{"$f":"CHOOSE(MONTH(tbldados[[#This Row],[DATA]]),\"JANEIRO\",\"FEVEREIRO\",\"MARÇO\",\"ABRIL\",\"MAIO\",\"JUNHO\",\"JULHO\",\"AGOSTO\",\"SETEMBRO\",\"OUTUBRO\",\"NOVEMBRO\",\"DEZEMBRO\")","v":"JULHO"},{"$f":"YEAR(tbldados[[#This Row],[DATA]])","v":2022}]
[812,"GASTOS","01 DE 01","ALMOÇO","JUNIOR","GERAL","NUBANK","CREDITO A VISTA",{"$f":"VLOOKUP(tbldados[[#This Row],[APP]],tblbandeira[],3,0)","v":0},44703,44725,33,{"$f":"tbldados[[#This Row],[VALOR PAGO]]+(tbldados[[#This Row],[VALOR PAGO]]*tbldados[[#This Row],[TAXA]])","v":33},{"$f":"tbldados[[#This Row],[TOTAL BRUTO]]-tbldados[[#This Row],[VALOR PAGO]]","v":0},{"$f":"CHOOSE(MONTH(tbldados[[#This Row],[DATA]]),\"JANEIRO\",\"FEVEREIRO\",\"MARÇO\",\"ABRIL\",\"MAIO\",\"JUNHO\",\"JULHO\",\"AGOSTO\",\"SETEMBRO\",\"OUTUBRO\",\"NOVEMBRO\",\"DEZEMBRO\")","v":"JUNHO"},{"$f":"YEAR(tbldados[[#This Row],[DATA]])","v":2022}]
[813,"GASTOS","01 DE 01","SUPERMERCADO","JUNIOR","GERAL","NUBANK","CREDITO A VISTA",{"$f":"VLOOKUP(tbldados[[#This Row],[APP]],tblbandeira[],3,0)","v":0},44704,44725,64.040000000000006,{"$f":"tbldados[[#This Row],[VALOR PAGO]]+(tbldados[[#This Row],[VALOR PAGO]]*tbldados[[#This Row],[TAXA]])","v":64.040000000000006},{"$f":"tbldados[[#This Row],[TOTAL BRUTO]]-tbldados[[#This Row],[VALOR PAGO]]","v":0},{"$f":"CHOOSE(MONTH(tbldados[[#This Row],[DATA]]),\"JANEIRO\",\"FEVEREIRO\",\"MARÇO\",\"ABRIL\",\"MAIO\",\"JUNHO\",\"JULHO\",\"AGOSTO\",\"SETEMBRO\",\"OUTUBRO\",\"NOVEMBRO\",\"DEZEMBRO\")","v":"JUNHO"},{"$f":"YEAR(tbldados[[#This Row],[DATA]])","v":2022}]
[814,"PGTO","01 DE 01","NUBANK","JUNHO","RECARGAPAY","PAGMAE","CREDITO A VISTA",{"$f":"VLOOKUP(tbldados[[#This Row],[APP]],tblbandeira[],3,0)","v":3.49E-2},44723,44752,3924.29,{"$f":"tbldados[[#This Row],[VALOR PAGO]]+(tbldados[[#This Row],[VALOR PAGO]]*tbldados[[#This Row],[TAXA]])","v":4061.2477209999997},{"$f":"tbldados[[#This Row],[TOTAL BRUTO]]-tbldados[[#This Row],[VALOR PAGO]]","v":136.95772099999976},{"$f":"CHOOSE(MONTH(tbldados[[#This Row],[DATA]]),\"JANEIRO\",\"FEVEREIRO\",\"MARÇO\",\"ABRIL\",\"MAIO\",\"JUNHO\",\"JULHO\",\"AGOSTO\",\"SETEMBRO\",\"OUTUBRO\",\"NOVEMBRO\",\"DEZEMBRO\")","v":"JULHO"},{"$f":"YEAR(tbldados[[#This Row],[DATA]])","v":2022}]
[815,"GASTOS","01 DE 01","INTERNET","JUNIOR","RECARGAPAY","INTER","CREDITO A VISTA",{"$f":"VLOOKUP(tbldados[[#This Row],[APP]],tblbandeira[],3,0)","v":3.49E-2},44692,44727,118.4,{"$f":"tbldados[[#This Row],[VALOR PAGO]]+(tbldados[[#This Row],[VALOR PAGO]]*tbldados[[#This Row],[TAXA]])","v":122.53216},{"$f":"tbldados[[#This Row],[TOTAL BRUTO]]-tbldados[[#This Row],[VALOR PAGO]]","v":4.1321599999999989},{"$f":"CHOOSE(MONTH(tbldados[[#This Row],[DATA]]),\"JANEIRO\",\"FEVEREIRO\",\"MARÇO\",\"ABRIL\",\"MAIO\",\"JUNHO\",\"JULHO\",\"AGOSTO\",\"SETEMBRO\",\"OUTUBRO\",\"NOVEMBRO\",\"DEZEMBRO\")","v":"JUNHO"},{"$f":"YEAR(tbldados[[#This Row],[DATA]])","v":2022}]
[816,"GASTOS","01 DE 01","DIVERSOS","JUNIOR","GERAL","INTER","CREDITO A VISTA",{"$f":"VLOOKUP(tbldados[[#This Row],[APP]],tblbandeira[],3,0)","v":0},44693,44727,155.19,{"$f":"tbldados[[#This Row],[VALOR PAGO]]+(tbldados[[#This Row],[VALOR PAGO]]*tbldados[[#This Row],[TAXA]])","v":155.19},{"$f":"tbldados[[#This Row],[TOTAL BRUTO]]-tbldados[[#This Row],[VALOR PAGO]]","v":0},{"$f":"CHOOSE(MONTH(tbldados[[#This Row],[DATA]]),\"JANEIRO\",\"FEVEREIRO\",\"MARÇO\",\"ABRIL\",\"MAIO\",\"JUNHO\",\"JULHO\",\"AGOSTO\",\"SETEMBRO\",\"OUTUBRO\",\"NOVEMBRO\",\"DEZEMBRO\")","v":"JUNHO"},{"$f":"YEAR(tbldados[[#This Row],[DATA]])","v":2022}]
[817,"GASTOS","01 DE 01","DIVERSOS","JUNIOR","GERAL","NUBANK","CREDITO A VISTA",{"$f":"VLOOKUP(tbldados[[#This Row],[APP]],tblbandeira[],3,0)","v":0},44721,44755,43.07,{"$f":"tbldados[[#This Row],[VALOR PAGO]]+(tbldados[[#This Row],[VALOR PAGO]]*tbldados[[#This Row],[TAXA]])","v":43.07},{"$f":"tbldados[[#This Row],[TOTAL BRUTO]]-tbldados[[#This Row],[VALOR PAGO]]","v":0},{"$f":"CHOOSE(MONTH(tbldados[[#This Row],[DATA]]),\"JANEIRO\",\"FEVEREIRO\",\"MARÇO\",\"ABRIL\",\"MAIO\",\"JUNHO\",\"JULHO\",\"AGOSTO\",\"SETEMBRO\",\"OUTUBRO\",\"NOVEMBRO\",\"DEZEMBRO\")","v":"JULHO"},{"$f":"YEAR(tbldados[[#This Row],[DATA]])","v":2022}]
[818,"PGTO","01 DE 01","INTER","JUNHO","RECARGAPAY","NUBANK","CREDITO A VISTA",{"$f":"VLOOKUP(tbldados[[#This Row],[APP]],tblbandeira[],3,0)","v":3.49E-2},44724,44755,3722,{"$f":"tbldados[[#This Row],[VALOR PAGO]]+(tbldados[[#This Row],[VALOR PAGO]]*tbldados[[#This Row],[TAXA]])","v":3851.8978000000002},{"$f":"tbldados[[#This Row],[TOTAL BRUTO]]-tbldados[[#This Row],[VALOR PAGO]]","v":129.89780000000019},{"$f":"CHOOSE(MONTH(tbldados[[#This Row],[DATA]]),\"JANEIRO\",\"FEVEREIRO\",\"MARÇO\",\"ABRIL\",\"MAIO\",\"JUNHO\",\"JULHO\",\"AGOSTO\",\"SETEMBRO\",\"OUTUBRO\",\"NOVEMBRO\",\"DEZEMBRO\")","v":"JULHO"},{"$f":"YEAR(tbldados[[#This Row],[DATA]])","v":2022}]
[819,"GASTOS","01 DE 01","PGTOINTER","JUNIOR","RECARGAPAY","NUBANK","DINHEIRO",{"$f":"VLOOKUP(tbldados[[#This Row],[APP]],tblbandeira[],3,0)","v":3.49E-2},44724,44755,3722,{"$f":"tbldados[[#This Row],[VALOR PAGO]]+(tbldados[[#This Row],[VALOR PAGO]]*tbldados[[#This Row],[TAXA]])","v":3851.8978000000002},{"$f":"tbldados[[#This Row],[TOTAL BRUTO]]-tbldados[[#This Row],[VALOR PAGO]]","v":129.89780000000019},{"$f":"CHOOSE(MONTH(tbldados[[#This Row],[DATA]]),\"JANEIRO\",\"FEVEREIRO\",\"MARÇO\",\"ABRIL\",\"MAIO\",\"JUNHO\",\"JULHO\",\"AGOSTO\",\"SETEMBRO\",\"OUTUBRO\",\"NOVEMBRO\",\"DEZEMBRO\")","v":"JULHO"},{"$f":"YEAR(tbldados[[#This Row],[DATA]])","v":2022}]
[820,"PGTO","01 DE 01","INTER","JUNHO","RECARGAPAY","INTER","CREDITO A VISTA",{"$f":"VLOOKUP(tbldados[[#This Row],[APP]],tblbandeira[],3,0)","v":3.49E-2},44725,44757,2716.6,{"$f":"tbldados[[#This Row],[VALOR PAGO]]+(tbldados[[#This Row],[VALOR PAGO]]*tbldados[[#This Row],[TAXA]])","v":2811.4093399999997},{"$f":"tbldados[[#This Row],[TOTAL BRUTO]]-tbldados[[#This Row],[VALOR PAGO]]","v":94.809339999999793},{"$f":"CHOOSE(MONTH(tbldados[[#This Row],[DATA]]),\"JANEIRO\",\"FEVEREIRO\",\"MARÇO\",\"ABRIL\",\"MAIO\",\"JUNHO\",\"JULHO\",\"AGOSTO\",\"SETEMBRO\",\"OUTUBRO\",\"NOVEMBRO\",\"DEZEMBRO\")","v":"JULHO"},{"$f":"YEAR(tbldados[[#This Row],[DATA]])","v":2022}]
[821,"GASTOS","01 DE 01","PGTOINTER","JUNIOR","RECARGAPAY","INTER","CREDITO A VISTA",{"$f":"VLOOKUP(tbldados[[#This Row],[APP]],tblbandeira[],3,0)","v":3.49E-2},44725,44757,2716.6,{"$f":"tbldados[[#This Row],[VALOR PAGO]]+(tbldados[[#This Row],[VALOR PAGO]]*tbldados[[#This Row],[TAXA]])","v":2811.4093399999997},{"$f":"tbldados[[#This Row],[TOTAL BRUTO]]-tbldados[[#This Row],[VALOR PAGO]]","v":94.809339999999793},{"$f":"CHOOSE(MONTH(tbldados[[#This Row],[DATA]]),\"JANEIRO\",\"FEVEREIRO\",\"MARÇO\",\"ABRIL\",\"MAIO\",\"JUNHO\",\"JULHO\",\"AGOSTO\",\"SETEMBRO\",\"OUTUBRO\",\"NOVEMBRO\",\"DEZEMBRO\")","v":"JULHO"},{"$f":"YEAR(tbldados[[#This Row],[DATA]])","v":2022}]
[822,"PGTO","01 DE 01","PAN","JUNHO","RECARGAPAY","INTER","CREDITO A VISTA",{"$f":"VLOOKUP(tbldados[[#This Row],[APP]],tblbandeira[],3,0)","v":3.49E-2},44725,44757,679.46,{"$f":"tbldados[[#This Row],[VALOR PAGO]]+(tbldados[[#This Row],[VALOR PAGO]]*tbldados[[#This Row],[TAXA]])","v":703.17315400000007},{"$f":"tbldados[[#This Row],[TOTAL BRUTO]]-tbldados[[#This Row],[VALOR PAGO]]","v":23.713154000000031},{"$f":"CHOOSE(MONTH(tbldados[[#This Row],[DATA]]),\"JANEIRO\",\"FEVEREIRO\",\"MARÇO\",\"ABRIL\",\"MAIO\",\"JUNHO\",\"JULHO\",\"AGOSTO\",\"SETEMBRO\",\"OUTUBRO\",\"NOVEMBRO\",\"DEZEMBRO\")","v":"JULHO"},{"$f":"YEAR(tbldados[[#This Row],[DATA]])","v":2022}]
[823,"GASTOS","01 DE 01","PGTOPAN","JUNIOR","RECARGAPAY","INTER","CREDITO A VISTA",{"$f":"VLOOKUP(tbldados[[#This Row],[APP]],tblbandeira[],3,0)","v":3.49E-2},44725,44757,679.46,{"$f":"tbldados[[#This Row],[VALOR PAGO]]+(tbldados[[#This Row],[VALOR PAGO]]*tbldados[[#This Row],[TAXA]])","v":703.17315400000007},{"$f":"tbldados[[#This Row],[TOTAL BRUTO]]-tbldados[[#This Row],[VALOR PAGO]]","v":23.713154000000031},{"$f":"CHOOSE(MONTH(tbldados[[#This Row],[DATA]]),\"JANEIRO\",\"FEVEREIRO\",\"MARÇO\",\"ABRIL\",\"MAIO\",\"JUNHO\",\"JULHO\",\"AGOSTO\",\"SETEMBRO\",\"OUTUBRO\",\"NOVEMBRO\",\"DEZEMBRO\")","v":"JULHO"},{"$f":"YEAR(tbldados[[#This Row],[DATA]])","v":2022}]
[824,"GASTOS","01 DE 01","CERVEJAS","JUNIOR","RECARGAPAY","C6","CREDITO A VISTA",{"$f":"VLOOKUP(tbldados[[#This Row],[APP]],tblbandeira[],3,0)","v":3.49E-2},44725,44743,80,{"$f":"tbldados[[#This Row],[VALOR PAGO]]+(tbldados[[#This Row],[VALOR PAGO]]*tbldados[[#This Row],[TAXA]])","v":82.792000000000002},{"$f":"tbldados[[#This Row],[TOTAL BRUTO]]-tbldados[[#This Row],[VALOR PAGO]]","v":2.7920000000000016},{"$f":"CHOOSE(MONTH(tbldados[[#This Row],[DATA]]),\"JANEIRO\",\"FEVEREIRO\",\"MARÇO\",\"ABRIL\",\"MAIO\",\"JUNHO\",\"JULHO\",\"AGOSTO\",\"SETEMBRO\",\"OUTUBRO\",\"NOVEMBRO\",\"DEZEMBRO\")","v":"JULHO"},{"$f":"YEAR(tbldados[[#This Row],[DATA]])","v":2022}]
[825,"PGTO","01 DE 01","DIGIO","JUNHO","RECARGAPAY","PAN","CREDITO A VISTA",{"$f":"VLOOKUP(tbldados[[#This Row],[APP]],tblbandeira[],3,0)","v":3.49E-2},44726,44755,653.91,{"$f":"tbldados[[#This Row],[VALOR PAGO]]+(tbldados[[#This Row],[VALOR PAGO]]*tbldados[[#This Row],[TAXA]])","v":676.73145899999997},{"$f":"tbldados[[#This Row],[TOTAL BRUTO]]-tbldados[[#This Row],[VALOR PAGO]]","v":22.821459000000004},{"$f":"CHOOSE(MONTH(tbldados[[#This Row],[DATA]]),\"JANEIRO\",\"FEVEREIRO\",\"MARÇO\",\"ABRIL\",\"MAIO\",\"JUNHO\",\"JULHO\",\"AGOSTO\",\"SETEMBRO\",\"OUTUBRO\",\"NOVEMBRO\",\"DEZEMBRO\")","v":"JULHO"},{"$f":"YEAR(tbldados[[#This Row],[DATA]])","v":2022}]
[826,"PGTO","01 DE 01","DIGIO","JUNHO","RECARGAPAY","NEON","CREDITO A VISTA",{"$f":"VLOOKUP(tbldados[[#This Row],[APP]],tblbandeira[],3,0)","v":3.49E-2},44726,44757,207.47,{"$f":"tbldados[[#This Row],[VALOR PAGO]]+(tbldados[[#This Row],[VALOR PAGO]]*tbldados[[#This Row],[TAXA]])","v":214.710703},{"$f":"tbldados[[#This Row],[TOTAL BRUTO]]-tbldados[[#This Row],[VALOR PAGO]]","v":7.2407029999999963},{"$f":"CHOOSE(MONTH(tbldados[[#This Row],[DATA]]),\"JANEIRO\",\"FEVEREIRO\",\"MARÇO\",\"ABRIL\",\"MAIO\",\"JUNHO\",\"JULHO\",\"AGOSTO\",\"SETEMBRO\",\"OUTUBRO\",\"NOVEMBRO\",\"DEZEMBRO\")","v":"JULHO"},{"$f":"YEAR(tbldados[[#This Row],[DATA]])","v":2022}]
[827,"GASTOS","01 DE 01","PGTODIGIO","JUNIOR","RECARGAPAY","PAN","CREDITO A VISTA",{"$f":"VLOOKUP(tbldados[[#This Row],[APP]],tblbandeira[],3,0)","v":3.49E-2},44726,44755,653.91,{"$f":"tbldados[[#This Row],[VALOR PAGO]]+(tbldados[[#This Row],[VALOR PAGO]]*tbldados[[#This Row],[TAXA]])","v":676.73145899999997},{"$f":"tbldados[[#This Row],[TOTAL BRUTO]]-tbldados[[#This Row],[VALOR PAGO]]","v":22.821459000000004},{"$f":"CHOOSE(MONTH(tbldados[[#This Row],[DATA]]),\"JANEIRO\",\"FEVEREIRO\",\"MARÇO\",\"ABRIL\",\"MAIO\",\"JUNHO\",\"JULHO\",\"AGOSTO\",\"SETEMBRO\",\"OUTUBRO\",\"NOVEMBRO\",\"DEZEMBRO\")","v":"JULHO"},{"$f":"YEAR(tbldados[[#This Row],[DATA]])","v":2022}]
[828,"GASTOS","01 DE 01","PGTODIGIO","JUNIOR","RECARGAPAY","NEON","CREDITO A VISTA",{"$f":"VLOOKUP(tbldados[[#This Row],[APP]],tblbandeira[],3,0)","v":3.49E-2},44726,44757,207.47,{"$f":"tbldados[[#This Row],[VALOR PAGO]]+(tbldados[[#This Row],[VALOR PAGO]]*tbldados[[#This Row],[TAXA]])","v":214.710703},{"$f":"tbldados[[#This Row],[TOTAL BRUTO]]-tbldados[[#This Row],[VALOR PAGO]]","v":7.2407029999999963},{"$f":"CHOOSE(MONTH(tbldados[[#This Row],[DATA]]),\"JANEIRO\",\"FEVEREIRO\",\"MARÇO\",\"ABRIL\",\"MAIO\",\"JUNHO\",\"JULHO\",\"AGOSTO\",\"SETEMBRO\",\"OUTUBRO\",\"NOVEMBRO\",\"DEZEMBRO\")","v":"JULHO"},{"$f":"YEAR(tbldados[[#This Row],[DATA]])","v":2022}]
[829,"PGTO","01 DE 01","DIGIO","JUNHO","RECARGAPAY","PAGMAE","CREDITO A VISTA",{"$f":"VLOOKUP(tbldados[[#This Row],[APP]],tblbandeira[],3,0)","v":3.49E-2},44726,44752,18.79,{"$f":"tbldados[[#This Row],[VALOR PAGO]]+(tbldados[[#This Row],[VALOR PAGO]]*tbldados[[#This Row],[TAXA]])","v":19.445771000000001},{"$f":"tbldados[[#This Row],[TOTAL BRUTO]]-tbldados[[#This Row],[VALOR PAGO]]","v":0.65577100000000144},{"$f":"CHOOSE(MONTH(tbldados[[#This Row],[DATA]]),\"JANEIRO\",\"FEVEREIRO\",\"MARÇO\",\"ABRIL\",\"MAIO\",\"JUNHO\",\"JULHO\",\"AGOSTO\",\"SETEMBRO\",\"OUTUBRO\",\"NOVEMBRO\",\"DEZEMBRO\")","v":"JULHO"},{"$f":"YEAR(tbldados[[#This Row],[DATA]])","v":2022}]
[830,"GASTOS","01 DE 01","PGTO-DIVERSOS","JUNIOR","RECARGAPAY","PANMAE","CREDITO A VISTA",{"$f":"VLOOKUP(tbldados[[#This Row],[APP]],tblbandeira[],3,0)","v":3.49E-2},44717,44729,434.17,{"$f":"tbldados[[#This Row],[VALOR PAGO]]+(tbldados[[#This Row],[VALOR PAGO]]*tbldados[[#This Row],[TAXA]])","v":449.32253300000002},{"$f":"tbldados[[#This Row],[TOTAL BRUTO]]-tbldados[[#This Row],[VALOR PAGO]]","v":15.152533000000005},{"$f":"CHOOSE(MONTH(tbldados[[#This Row],[DATA]]),\"JANEIRO\",\"FEVEREIRO\",\"MARÇO\",\"ABRIL\",\"MAIO\",\"JUNHO\",\"JULHO\",\"AGOSTO\",\"SETEMBRO\",\"OUTUBRO\",\"NOVEMBRO\",\"DEZEMBRO\")","v":"JUNHO"},{"$f":"YEAR(tbldados[[#This Row],[DATA]])","v":2022}]
[831,"PGTO","01 DE 01","PANMAE","JUNHO","RECARGAPAY","ORIGINAL","CREDITO A VISTA",{"$f":"VLOOKUP(tbldados[[#This Row],[APP]],tblbandeira[],3,0)","v":3.49E-2},44728,44752,672.89,{"$f":"tbldados[[#This Row],[VALOR PAGO]]+(tbldados[[#This Row],[VALOR PAGO]]*tbldados[[#This Row],[TAXA]])","v":696.37386100000003},{"$f":"tbldados[[#This Row],[TOTAL BRUTO]]-tbldados[[#This Row],[VALOR PAGO]]","v":23.483861000000047},{"$f":"CHOOSE(MONTH(tbldados[[#This Row],[DATA]]),\"JANEIRO\",\"FEVEREIRO\",\"MARÇO\",\"ABRIL\",\"MAIO\",\"JUNHO\",\"JULHO\",\"AGOSTO\",\"SETEMBRO\",\"OUTUBRO\",\"NOVEMBRO\",\"DEZEMBRO\")","v":"JULHO"},{"$f":"YEAR(tbldados[[#This Row],[DATA]])","v":2022}]
[832,"GASTOS","01 DE 01","JUROS","JUNIOR","GERAL","INTER","CREDITO A VISTA",{"$f":"VLOOKUP(tbldados[[#This Row],[APP]],tblbandeira[],3,0)","v":0},44716,44757,19.989999999999998,{"$f":"tbldados[[#This Row],[VALOR PAGO]]+(tbldados[[#This Row],[VALOR PAGO]]*tbldados[[#This Row],[TAXA]])","v":19.989999999999998},{"$f":"tbldados[[#This Row],[TOTAL BRUTO]]-tbldados[[#This Row],[VALOR PAGO]]","v":0},{"$f":"CHOOSE(MONTH(tbldados[[#This Row],[DATA]]),\"JANEIRO\",\"FEVEREIRO\",\"MARÇO\",\"ABRIL\",\"MAIO\",\"JUNHO\",\"JULHO\",\"AGOSTO\",\"SETEMBRO\",\"OUTUBRO\",\"NOVEMBRO\",\"DEZEMBRO\")","v":"JULHO"},{"$f":"YEAR(tbldados[[#This Row],[DATA]])","v":2022}]
[833,"GASTOS","01 DE 01","JANTA","JUNIOR","GERAL","INTER","CREDITO A VISTA",{"$f":"VLOOKUP(tbldados[[#This Row],[APP]],tblbandeira[],3,0)","v":0},44723,44757,35,{"$f":"tbldados[[#This Row],[VALOR PAGO]]+(tbldados[[#This Row],[VALOR PAGO]]*tbldados[[#This Row],[TAXA]])","v":35},{"$f":"tbldados[[#This Row],[TOTAL BRUTO]]-tbldados[[#This Row],[VALOR PAGO]]","v":0},{"$f":"CHOOSE(MONTH(tbldados[[#This Row],[DATA]]),\"JANEIRO\",\"FEVEREIRO\",\"MARÇO\",\"ABRIL\",\"MAIO\",\"JUNHO\",\"JULHO\",\"AGOSTO\",\"SETEMBRO\",\"OUTUBRO\",\"NOVEMBRO\",\"DEZEMBRO\")","v":"JULHO"},{"$f":"YEAR(tbldados[[#This Row],[DATA]])","v":2022}]
[834,"GASTOS","01 DE 01","CERVEJAS","JUNIOR","GERAL","INTER","CREDITO A VISTA",{"$f":"VLOOKUP(tbldados[[#This Row],[APP]],tblbandeira[],3,0)","v":0},44715,44757,80,{"$f":"tbldados[[#This Row],[VALOR PAGO]]+(tbldados[[#This Row],[VALOR PAGO]]*tbldados[[#This Row],[TAXA]])","v":80},{"$f":"tbldados[[#This Row],[TOTAL BRUTO]]-tbldados[[#This Row],[VALOR PAGO]]","v":0},{"$f":"CHOOSE(MONTH(tbldados[[#This Row],[DATA]]),\"JANEIRO\",\"FEVEREIRO\",\"MARÇO\",\"ABRIL\",\"MAIO\",\"JUNHO\",\"JULHO\",\"AGOSTO\",\"SETEMBRO\",\"OUTUBRO\",\"NOVEMBRO\",\"DEZEMBRO\")","v":"JULHO"},{"$f":"YEAR(tbldados[[#This Row],[DATA]])","v":2022}]
[835,"GASTOS","01 DE 12","ALGO INTERESSANTE","JUNIOR","GERAL","INTER","CREDITO PARCELADO",{"$f":"VLOOKUP(tbldados[[#This Row],[APP]],tblbandeira[],3,0)","v":0},44688,44727,32.83,{"$f":"tbldados[[#This Row],[VALOR PAGO]]+(tbldados[[#This Row],[VALOR PAGO]]*tbldados[[#This Row],[TAXA]])","v":32.83},{"$f":"tbldados[[#This Row],[TOTAL BRUTO]]-tbldados[[#This Row],[VALOR PAGO]]","v":0},{"$f":"CHOOSE(MONTH(tbldados[[#This Row],[DATA]]),\"JANEIRO\",\"FEVEREIRO\",\"MARÇO\",\"ABRIL\",\"MAIO\",\"JUNHO\",\"JULHO\",\"AGOSTO\",\"SETEMBRO\",\"OUTUBRO\",\"NOVEMBRO\",\"DEZEMBRO\")","v":"JUNHO"},{"$f":"YEAR(tbldados[[#This Row],[DATA]])","v":2022}]
[836,"GASTOS","02 DE 12","ALGO INTERESSANTE","JUNIOR","GERAL","INTER","CREDITO PARCELADO",{"$f":"VLOOKUP(tbldados[[#This Row],[APP]],tblbandeira[],3,0)","v":0},44688,44757,32.83,{"$f":"tbldados[[#This Row],[VALOR PAGO]]+(tbldados[[#This Row],[VALOR PAGO]]*tbldados[[#This Row],[TAXA]])","v":32.83},{"$f":"tbldados[[#This Row],[TOTAL BRUTO]]-tbldados[[#This Row],[VALOR PAGO]]","v":0},{"$f":"CHOOSE(MONTH(tbldados[[#This Row],[DATA]]),\"JANEIRO\",\"FEVEREIRO\",\"MARÇO\",\"ABRIL\",\"MAIO\",\"JUNHO\",\"JULHO\",\"AGOSTO\",\"SETEMBRO\",\"OUTUBRO\",\"NOVEMBRO\",\"DEZEMBRO\")","v":"JULHO"},{"$f":"YEAR(tbldados[[#This Row],[DATA]])","v":2022}]
[837,"GASTOS","03 DE 12","ALGO INTERESSANTE","JUNIOR","GERAL","INTER","CREDITO PARCELADO",{"$f":"VLOOKUP(tbldados[[#This Row],[APP]],tblbandeira[],3,0)","v":0},44688,44788,32.83,{"$f":"tbldados[[#This Row],[VALOR PAGO]]+(tbldados[[#This Row],[VALOR PAGO]]*tbldados[[#This Row],[TAXA]])","v":32.83},{"$f":"tbldados[[#This Row],[TOTAL BRUTO]]-tbldados[[#This Row],[VALOR PAGO]]","v":0},{"$f":"CHOOSE(MONTH(tbldados[[#This Row],[DATA]]),\"JANEIRO\",\"FEVEREIRO\",\"MARÇO\",\"ABRIL\",\"MAIO\",\"JUNHO\",\"JULHO\",\"AGOSTO\",\"SETEMBRO\",\"OUTUBRO\",\"NOVEMBRO\",\"DEZEMBRO\")","v":"AGOSTO"},{"$f":"YEAR(tbldados[[#This Row],[DATA]])","v":2022}]
[838,"GASTOS","04 DE 12","ALGO INTERESSANTE","JUNIOR","GERAL","INTER","CREDITO PARCELADO",{"$f":"VLOOKUP(tbldados[[#This Row],[APP]],tblbandeira[],3,0)","v":0},44688,44819,32.83,{"$f":"tbldados[[#This Row],[VALOR PAGO]]+(tbldados[[#This Row],[VALOR PAGO]]*tbldados[[#This Row],[TAXA]])","v":32.83},{"$f":"tbldados[[#This Row],[TOTAL BRUTO]]-tbldados[[#This Row],[VALOR PAGO]]","v":0},{"$f":"CHOOSE(MONTH(tbldados[[#This Row],[DATA]]),\"JANEIRO\",\"FEVEREIRO\",\"MARÇO\",\"ABRIL\",\"MAIO\",\"JUNHO\",\"JULHO\",\"AGOSTO\",\"SETEMBRO\",\"OUTUBRO\",\"NOVEMBRO\",\"DEZEMBRO\")","v":"SETEMBRO"},{"$f":"YEAR(tbldados[[#This Row],[DATA]])","v":2022}]
[839,"GASTOS","05 DE 12","ALGO INTERESSANTE","JUNIOR","GERAL","INTER","CREDITO PARCELADO",{"$f":"VLOOKUP(tbldados[[#This Row],[APP]],tblbandeira[],3,0)","v":0},44688,44849,32.83,{"$f":"tbldados[[#This Row],[VALOR PAGO]]+(tbldados[[#This Row],[VALOR PAGO]]*tbldados[[#This Row],[TAXA]])","v":32.83},{"$f":"tbldados[[#This Row],[TOTAL BRUTO]]-tbldados[[#This Row],[VALOR PAGO]]","v":0},{"$f":"CHOOSE(MONTH(tbldados[[#This Row],[DATA]]),\"JANEIRO\",\"FEVEREIRO\",\"MARÇO\",\"ABRIL\",\"MAIO\",\"JUNHO\",\"JULHO\",\"AGOSTO\",\"SETEMBRO\",\"OUTUBRO\",\"NOVEMBRO\",\"DEZEMBRO\")","v":"OUTUBRO"},{"$f":"YEAR(tbldados[[#This Row],[DATA]])","v":2022}]
[840,"GASTOS","06 DE 12","ALGO INTERESSANTE","JUNIOR","GERAL","INTER","CREDITO PARCELADO",{"$f":"VLOOKUP(tbldados[[#This Row],[APP]],tblbandeira[],3,0)","v":0},44688,44880,32.83,{"$f":"tbldados[[#This Row],[VALOR PAGO]]+(tbldados[[#This Row],[VALOR PAGO]]*tbldados[[#This Row],[TAXA]])","v":32.83},{"$f":"tbldados[[#This Row],[TOTAL BRUTO]]-tbldados[[#This Row],[VALOR PAGO]]","v":0},{"$f":"CHOOSE(MONTH(tbldados[[#This Row],[DATA]]),\"JANEIRO\",\"FEVEREIRO\",\"MARÇO\",\"ABRIL\",\"MAIO\",\"JUNHO\",\"JULHO\",\"AGOSTO\",\"SETEMBRO\",\"OUTUBRO\",\"NOVEMBRO\",\"DEZEMBRO\")","v":"NOVEMBRO"},{"$f":"YEAR(tbldados[[#This Row],[DATA]])","v":2022}]
[841,"GASTOS","07 DE 12","ALGO INTERESSANTE","JUNIOR","GERAL","INTER","CREDITO PARCELADO",{"$f":"VLOOKUP(tbldados[[#This Row],[APP]],tblbandeira[],3,0)","v":0},44688,44910,32.83,{"$f":"tbldados[[#This Row],[VALOR PAGO]]+(tbldados[[#This Row],[VALOR PAGO]]*tbldados[[#This Row],[TAXA]])","v":32.83},{"$f":"tbldados[[#This Row],[TOTAL BRUTO]]-tbldados[[#This Row],[VALOR PAGO]]","v":0},{"$f":"CHOOSE(MONTH(tbldados[[#This Row],[DATA]]),\"JANEIRO\",\"FEVEREIRO\",\"MARÇO\",\"ABRIL\",\"MAIO\",\"JUNHO\",\"JULHO\",\"AGOSTO\",\"SETEMBRO\",\"OUTUBRO\",\"NOVEMBRO\",\"DEZEMBRO\")","v":"DEZEMBRO"},{"$f":"YEAR(tbldados[[#This Row],[DATA]])","v":2022}]
[842,"GASTOS","08 DE 12","ALGO INTERESSANTE","JUNIOR","GERAL","INTER","CREDITO PARCELADO",{"$f":"VLOOKUP(tbldados[[#This Row],[APP]],tblbandeira[],3,0)","v":0},44688,44941,32.83,{"$f":"tbldados[[#This Row],[VALOR PAGO]]+(tbldados[[#This Row],[VALOR PAGO]]*tbldados[[#This Row],[TAXA]])","v":32.83},{"$f":"tbldados[[#This Row],[TOTAL BRUTO]]-tbldados[[#This Row],[VALOR PAGO]]","v":0},{"$f":"CHOOSE(MONTH(tbldados[[#This Row],[DATA]]),\"JANEIRO\",\"FEVEREIRO\",\"MARÇO\",\"ABRIL\",\"MAIO\",\"JUNHO\",\"JULHO\",\"AGOSTO\",\"SETEMBRO\",\"OUTUBRO\",\"NOVEMBRO\",\"DEZEMBRO\")","v":"JANEIRO"},{"$f":"YEAR(tbldados[[#This Row],[DATA]])","v":2023}]
[843,"GASTOS","09 DE 12","ALGO INTERESSANTE","JUNIOR","GERAL","INTER","CREDITO PARCELADO",{"$f":"VLOOKUP(tbldados[[#This Row],[APP]],tblbandeira[],3,0)","v":0},44688,44972,32.83,{"$f":"tbldados[[#This Row],[VALOR PAGO]]+(tbldados[[#This Row],[VALOR PAGO]]*tbldados[[#This Row],[TAXA]])","v":32.83},{"$f":"tbldados[[#This Row],[TOTAL BRUTO]]-tbldados[[#This Row],[VALOR PAGO]]","v":0},{"$f":"CHOOSE(MONTH(tbldados[[#This Row],[DATA]]),\"JANEIRO\",\"FEVEREIRO\",\"MARÇO\",\"ABRIL\",\"MAIO\",\"JUNHO\",\"JULHO\",\"AGOSTO\",\"SETEMBRO\",\"OUTUBRO\",\"NOVEMBRO\",\"DEZEMBRO\")","v":"FEVEREIRO"},{"$f":"YEAR(tbldados[[#This Row],[DATA]])","v":2023}]
[844,"GASTOS","10 DE 12","ALGO INTERESSANTE","JUNIOR","GERAL","INTER","CREDITO PARCELADO",{"$f":"VLOOKUP(tbldados[[#This Row],[APP]],tblbandeira[],3,0)","v":0},44688,45000,32.83,{"$f":"tbldados[[#This Row],[VALOR PAGO]]+(tbldados[[#This Row],[VALOR PAGO]]*tbldados[[#This Row],[TAXA]])","v":32.83},{"$f":"tbldados[[#This Row],[TOTAL BRUTO]]-tbldados[[#This Row],[VALOR PAGO]]","v":0},{"$f":"CHOOSE(MONTH(tbldados[[#This Row],[DATA]]),\"JANEIRO\",\"FEVEREIRO\",\"MARÇO\",\"ABRIL\",\"MAIO\",\"JUNHO\",\"JULHO\",\"AGOSTO\",\"SETEMBRO\",\"OUTUBRO\",\"NOVEMBRO\",\"DEZEMBRO\")","v":"MARÇO"},{"$f":"YEAR(tbldados[[#This Row],[DATA]])","v":2023}]
[845,"GASTOS","11 DE 12","ALGO INTERESSANTE","JUNIOR","GERAL","INTER","CREDITO PARCELADO",{"$f":"VLOOKUP(tbldados[[#This Row],[APP]],tblbandeira[],3,0)","v":0},44688,45031,32.83,{"$f":"tbldados[[#This Row],[VALOR PAGO]]+(tbldados[[#This Row],[VALOR PAGO]]*tbldados[[#This Row],[TAXA]])","v":32.83},{"$f":"tbldados[[#This Row],[TOTAL BRUTO]]-tbldados[[#This Row],[VALOR PAGO]]","v":0},{"$f":"CHOOSE(MONTH(tbldados[[#This Row],[DATA]]),\"JANEIRO\",\"FEVEREIRO\",\"MARÇO\",\"ABRIL\",\"MAIO\",\"JUNHO\",\"JULHO\",\"AGOSTO\",\"SETEMBRO\",\"OUTUBRO\",\"NOVEMBRO\",\"DEZEMBRO\")","v":"ABRIL"},{"$f":"YEAR(tbldados[[#This Row],[DATA]])","v":2023}]
[846,"GASTOS","12 DE 12","ALGO INTERESSANTE","JUNIOR","GERAL","INTER","CREDITO PARCELADO",{"$f":"VLOOKUP(tbldados[[#This Row],[APP]],tblbandeira[],3,0)","v":0},44688,45061,32.83,{"$f":"tbldados[[#This Row],[VALOR PAGO]]+(tbldados[[#This Row],[VALOR PAGO]]*tbldados[[#This Row],[TAXA]])","v":32.83},{"$f":"tbldados[[#This Row],[TOTAL BRUTO]]-tbldados[[#This Row],[VALOR PAGO]]","v":0},{"$f":"CHOOSE(MONTH(tbldados[[#This Row],[DATA]]),\"JANEIRO\",\"FEVEREIRO\",\"MARÇO\",\"ABRIL\",\"MAIO\",\"JUNHO\",\"JULHO\",\"AGOSTO\",\"SETEMBRO\",\"OUTUBRO\",\"NOVEMBRO\",\"DEZEMBRO\")","v":"MAIO"},{"$f":"YEAR(tbldados[[#This Row],[DATA]])","v":2023}]
[847,"PGTO","01 DE 01","PANMAE","JUNHO","RECARGAPAY","INTER","CREDITO A VISTA",{"$f":"VLOOKUP(tbldados[[#This Row],[APP]],tblbandeira[],3,0)","v":3.49E-2},44728,44757,1153.96,{"$f":"tbldados[[#This Row],[VALOR PAGO]]+(tbldados[[#This Row],[VALOR PAGO]]*tbldados[[#This Row],[TAXA]])","v":1194.2332040000001},{"$f":"tbldados[[#This Row],[TOTAL BRUTO]]-tbldados[[#This Row],[VALOR PAGO]]","v":40.273204000000078},{"$f":"CHOOSE(MONTH(tbldados[[#This Row],[DATA]]),\"JANEIRO\",\"FEVEREIRO\",\"MARÇO\",\"ABRIL\",\"MAIO\",\"JUNHO\",\"JULHO\",\"AGOSTO\",\"SETEMBRO\",\"OUTUBRO\",\"NOVEMBRO\",\"DEZEMBRO\")","v":"JULHO"},{"$f":"YEAR(tbldados[[#This Row],[DATA]])","v":2022}]
[848,"GASTOS","01 DE 01","PGTOPANMAE","JUNIOR","RECARGAPAY","INTER","CREDITO A VISTA",{"$f":"VLOOKUP(tbldados[[#This Row],[APP]],tblbandeira[],3,0)","v":3.49E-2},44728,44757,1153.96,{"$f":"tbldados[[#This Row],[VALOR PAGO]]+(tbldados[[#This Row],[VALOR PAGO]]*tbldados[[#This Row],[TAXA]])","v":1194.2332040000001},{"$f":"tbldados[[#This Row],[TOTAL BRUTO]]-tbldados[[#This Row],[VALOR PAGO]]","v":40.273204000000078},{"$f":"CHOOSE(MONTH(tbldados[[#This Row],[DATA]]),\"JANEIRO\",\"FEVEREIRO\",\"MARÇO\",\"ABRIL\",\"MAIO\",\"JUNHO\",\"JULHO\",\"AGOSTO\",\"SETEMBRO\",\"OUTUBRO\",\"NOVEMBRO\",\"DEZEMBRO\")","v":"JULHO"},{"$f":"YEAR(tbldados[[#This Row],[DATA]])","v":2022}]
[849,"PGTO","01 DE 01","PANMAE","JUNHO","RECARGAPAY","PANMAE","CREDITO A VISTA",{"$f":"VLOOKUP(tbldados[[#This Row],[APP]],tblbandeira[],3,0)","v":3.49E-2},44728,44759,1756.9,{"$f":"tbldados[[#This Row],[VALOR PAGO]]+(tbldados[[#This Row],[VALOR PAGO]]*tbldados[[#This Row],[TAXA]])","v":1818.2158100000001},{"$f":"tbldados[[#This Row],[TOTAL BRUTO]]-tbldados[[#This Row],[VALOR PAGO]]","v":61.315810000000056},{"$f":"CHOOSE(MONTH(tbldados[[#This Row],[DATA]]),\"JANEIRO\",\"FEVEREIRO\",\"MARÇO\",\"ABRIL\",\"MAIO\",\"JUNHO\",\"JULHO\",\"AGOSTO\",\"SETEMBRO\",\"OUTUBRO\",\"NOVEMBRO\",\"DEZEMBRO\")","v":"JULHO"},{"$f":"YEAR(tbldados[[#This Row],[DATA]])","v":2022}]
[850,"GASTOS","01 DE 01","PGTOPANMAE","JUNIOR","RECARGAPAY","PANMAE","CREDITO A VISTA",{"$f":"VLOOKUP(tbldados[[#This Row],[APP]],tblbandeira[],3,0)","v":3.49E-2},44728,44759,1756.9,{"$f":"tbldados[[#This Row],[VALOR PAGO]]+(tbldados[[#This Row],[VALOR PAGO]]*tbldados[[#This Row],[TAXA]])","v":1818.2158100000001},{"$f":"tbldados[[#This Row],[TOTAL BRUTO]]-tbldados[[#This Row],[VALOR PAGO]]","v":61.315810000000056},{"$f":"CHOOSE(MONTH(tbldados[[#This Row],[DATA]]),\"JANEIRO\",\"FEVEREIRO\",\"MARÇO\",\"ABRIL\",\"MAIO\",\"JUNHO\",\"JULHO\",\"AGOSTO\",\"SETEMBRO\",\"OUTUBRO\",\"NOVEMBRO\",\"DEZEMBRO\")","v":"JULHO"},{"$f":"YEAR(tbldados[[#This Row],[DATA]])","v":2022}]
[851,"PGTO","01 DE 01","PANMAE","JUNHO","RECARGAPAY","PANMAE","CREDITO A VISTA",{"$f":"VLOOKUP(tbldados[[#This Row],[APP]],tblbandeira[],3,0)","v":3.49E-2},44728,44759,70.22,{"$f":"tbldados[[#This Row],[VALOR PAGO]]+(tbldados[[#This Row],[VALOR PAGO]]*tbldados[[#This Row],[TAXA]])","v":72.670677999999995},{"$f":"tbldados[[#This Row],[TOTAL BRUTO]]-tbldados[[#This Row],[VALOR PAGO]]","v":2.4506779999999964},{"$f":"CHOOSE(MONTH(tbldados[[#This Row],[DATA]]),\"JANEIRO\",\"FEVEREIRO\",\"MARÇO\",\"ABRIL\",\"MAIO\",\"JUNHO\",\"JULHO\",\"AGOSTO\",\"SETEMBRO\",\"OUTUBRO\",\"NOVEMBRO\",\"DEZEMBRO\")","v":"JULHO"},{"$f":"YEAR(tbldados[[#This Row],[DATA]])","v":2022}]
[852,"GASTOS","01 DE 01","PGTO-DIVERSOS","JUNIOR","RECARGAPAY","PANMAE","CREDITO A VISTA",{"$f":"VLOOKUP(tbldados[[#This Row],[APP]],tblbandeira[],3,0)","v":3.49E-2},44728,44759,1689.59,{"$f":"tbldados[[#This Row],[VALOR PAGO]]+(tbldados[[#This Row],[VALOR PAGO]]*tbldados[[#This Row],[TAXA]])","v":1748.556691},{"$f":"tbldados[[#This Row],[TOTAL BRUTO]]-tbldados[[#This Row],[VALOR PAGO]]","v":58.966691000000083},{"$f":"CHOOSE(MONTH(tbldados[[#This Row],[DATA]]),\"JANEIRO\",\"FEVEREIRO\",\"MARÇO\",\"ABRIL\",\"MAIO\",\"JUNHO\",\"JULHO\",\"AGOSTO\",\"SETEMBRO\",\"OUTUBRO\",\"NOVEMBRO\",\"DEZEMBRO\")","v":"JULHO"},{"$f":"YEAR(tbldados[[#This Row],[DATA]])","v":2022}]
[853,"PGTO","01 DE 01","CLICK","JUNHO","RECARGAPAY","PANMAE","CREDITO A VISTA",{"$f":"VLOOKUP(tbldados[[#This Row],[APP]],tblbandeira[],3,0)","v":3.49E-2},44728,44759,1589.67,{"$f":"tbldados[[#This Row],[VALOR PAGO]]+(tbldados[[#This Row],[VALOR PAGO]]*tbldados[[#This Row],[TAXA]])","v":1645.1494830000001},{"$f":"tbldados[[#This Row],[TOTAL BRUTO]]-tbldados[[#This Row],[VALOR PAGO]]","v":55.479483000000073},{"$f":"CHOOSE(MONTH(tbldados[[#This Row],[DATA]]),\"JANEIRO\",\"FEVEREIRO\",\"MARÇO\",\"ABRIL\",\"MAIO\",\"JUNHO\",\"JULHO\",\"AGOSTO\",\"SETEMBRO\",\"OUTUBRO\",\"NOVEMBRO\",\"DEZEMBRO\")","v":"JULHO"},{"$f":"YEAR(tbldados[[#This Row],[DATA]])","v":2022}]
[854,"PGTO","01 DE 01","CLICK","JUNHO","GERAL","CLICK","CREDITO A VISTA",{"$f":"VLOOKUP(tbldados[[#This Row],[APP]],tblbandeira[],3,0)","v":0},44729,44759,710.32,{"$f":"tbldados[[#This Row],[VALOR PAGO]]+(tbldados[[#This Row],[VALOR PAGO]]*tbldados[[#This Row],[TAXA]])","v":710.32},{"$f":"tbldados[[#This Row],[TOTAL BRUTO]]-tbldados[[#This Row],[VALOR PAGO]]","v":0},{"$f":"CHOOSE(MONTH(tbldados[[#This Row],[DATA]]),\"JANEIRO\",\"FEVEREIRO\",\"MARÇO\",\"ABRIL\",\"MAIO\",\"JUNHO\",\"JULHO\",\"AGOSTO\",\"SETEMBRO\",\"OUTUBRO\",\"NOVEMBRO\",\"DEZEMBRO\")","v":"JULHO"},{"$f":"YEAR(tbldados[[#This Row],[DATA]])","v":2022}]
[855,"GASTOS","01 DE 01","PGTOCLICK","JUNIOR","GERAL","CLICK","CREDITO A VISTA",{"$f":"VLOOKUP(tbldados[[#This Row],[APP]],tblbandeira[],3,0)","v":0},44729,44759,710.32,{"$f":"tbldados[[#This Row],[VALOR PAGO]]+(tbldados[[#This Row],[VALOR PAGO]]*tbldados[[#This Row],[TAXA]])","v":710.32},{"$f":"tbldados[[#This Row],[TOTAL BRUTO]]-tbldados[[#This Row],[VALOR PAGO]]","v":0},{"$f":"CHOOSE(MONTH(tbldados[[#This Row],[DATA]]),\"JANEIRO\",\"FEVEREIRO\",\"MARÇO\",\"ABRIL\",\"MAIO\",\"JUNHO\",\"JULHO\",\"AGOSTO\",\"SETEMBRO\",\"OUTUBRO\",\"NOVEMBRO\",\"DEZEMBRO\")","v":"JULHO"},{"$f":"YEAR(tbldados[[#This Row],[DATA]])","v":2022}]
[856,"GASTOS","01 DE 01","JUROS","JUNIOR","GERAL","CLICK","CREDITO A VISTA",{"$f":"VLOOKUP(tbldados[[#This Row],[APP]],tblbandeira[],3,0)","v":0},44729,44759,6.7,{"$f":"tbldados[[#This Row],[VALOR PAGO]]+(tbldados[[#This Row],[VALOR PAGO]]*tbldados[[#This Row],[TAXA]])","v":6.7},{"$f":"tbldados[[#This Row],[TOTAL BRUTO]]-tbldados[[#This Row],[VALOR PAGO]]","v":0},{"$f":"CHOOSE(MONTH(tbldados[[#This Row],[DATA]]),\"JANEIRO\",\"FEVEREIRO\",\"MARÇO\",\"ABRIL\",\"MAIO\",\"JUNHO\",\"JULHO\",\"AGOSTO\",\"SETEMBRO\",\"OUTUBRO\",\"NOVEMBRO\",\"DEZEMBRO\")","v":"JULHO"},{"$f":"YEAR(tbldados[[#This Row],[DATA]])","v":2022}]
[857,"GASTOS","01 DE 01","PGTO-DIVERSOS","JUNIOR","RECARGAPAY","TRIGMAE","CREDITO A VISTA",{"$f":"VLOOKUP(tbldados[[#This Row],[APP]],tblbandeira[],3,0)","v":3.49E-2},44717,44732,605.83000000000004,{"$f":"tbldados[[#This Row],[VALOR PAGO]]+(tbldados[[#This Row],[VALOR PAGO]]*tbldados[[#This Row],[TAXA]])","v":626.97346700000003},{"$f":"tbldados[[#This Row],[TOTAL BRUTO]]-tbldados[[#This Row],[VALOR PAGO]]","v":21.143466999999987},{"$f":"CHOOSE(MONTH(tbldados[[#This Row],[DATA]]),\"JANEIRO\",\"FEVEREIRO\",\"MARÇO\",\"ABRIL\",\"MAIO\",\"JUNHO\",\"JULHO\",\"AGOSTO\",\"SETEMBRO\",\"OUTUBRO\",\"NOVEMBRO\",\"DEZEMBRO\")","v":"JUNHO"},{"$f":"YEAR(tbldados[[#This Row],[DATA]])","v":2022}]
[858,"GASTOS","01 DE 01","ANUIDADE","JUNIOR","GERAL","TRIGMAE","CREDITO A VISTA",{"$f":"VLOOKUP(tbldados[[#This Row],[APP]],tblbandeira[],3,0)","v":0},44717,44732,13.9,{"$f":"tbldados[[#This Row],[VALOR PAGO]]+(tbldados[[#This Row],[VALOR PAGO]]*tbldados[[#This Row],[TAXA]])","v":13.9},{"$f":"tbldados[[#This Row],[TOTAL BRUTO]]-tbldados[[#This Row],[VALOR PAGO]]","v":0},{"$f":"CHOOSE(MONTH(tbldados[[#This Row],[DATA]]),\"JANEIRO\",\"FEVEREIRO\",\"MARÇO\",\"ABRIL\",\"MAIO\",\"JUNHO\",\"JULHO\",\"AGOSTO\",\"SETEMBRO\",\"OUTUBRO\",\"NOVEMBRO\",\"DEZEMBRO\")","v":"JUNHO"},{"$f":"YEAR(tbldados[[#This Row],[DATA]])","v":2022}]
[859,"PGTO","01 DE 01","TRIGMAE","JUNHO","RECARGAPAY","CLICK","CREDITO A VISTA",{"$f":"VLOOKUP(tbldados[[#This Row],[APP]],tblbandeira[],3,0)","v":3.49E-2},44732,44759,853.9,{"$f":"tbldados[[#This Row],[VALOR PAGO]]+(tbldados[[#This Row],[VALOR PAGO]]*tbldados[[#This Row],[TAXA]])","v":883.70110999999997},{"$f":"tbldados[[#This Row],[TOTAL BRUTO]]-tbldados[[#This Row],[VALOR PAGO]]","v":29.801109999999994},{"$f":"CHOOSE(MONTH(tbldados[[#This Row],[DATA]]),\"JANEIRO\",\"FEVEREIRO\",\"MARÇO\",\"ABRIL\",\"MAIO\",\"JUNHO\",\"JULHO\",\"AGOSTO\",\"SETEMBRO\",\"OUTUBRO\",\"NOVEMBRO\",\"DEZEMBRO\")","v":"JULHO"},{"$f":"YEAR(tbldados[[#This Row],[DATA]])","v":2022}]
[860,"GASTOS","01 DE 01","PGTOTRIGMAE","JUNIOR","RECARGAPAY","CLICK","CREDITO A VISTA",{"$f":"VLOOKUP(tbldados[[#This Row],[APP]],tblbandeira[],3,0)","v":3.49E-2},44732,44759,853.9,{"$f":"tbldados[[#This Row],[VALOR PAGO]]+(tbldados[[#This Row],[VALOR PAGO]]*tbldados[[#This Row],[TAXA]])","v":883.70110999999997},{"$f":"tbldados[[#This Row],[TOTAL BRUTO]]-tbldados[[#This Row],[VALOR PAGO]]","v":29.801109999999994},{"$f":"CHOOSE(MONTH(tbldados[[#This Row],[DATA]]),\"JANEIRO\",\"FEVEREIRO\",\"MARÇO\",\"ABRIL\",\"MAIO\",\"JUNHO\",\"JULHO\",\"AGOSTO\",\"SETEMBRO\",\"OUTUBRO\",\"NOVEMBRO\",\"DEZEMBRO\")","v":"JULHO"},{"$f":"YEAR(tbldados[[#This Row],[DATA]])","v":2022}]
[861,"GASTOS","01 DE 01","CLARO","JUNIOR","GERAL","WILL","CREDITO A VISTA",{"$f":"VLOOKUP(tbldados[[#This Row],[APP]],tblbandeira[],3,0)","v":0},44695,44732,30,{"$f":"tbldados[[#This Row],[VALOR PAGO]]+(tbldados[[#This Row],[VALOR PAGO]]*tbldados[[#This Row],[TAXA]])","v":30},{"$f":"tbldados[[#This Row],[TOTAL BRUTO]]-tbldados[[#This Row],[VALOR PAGO]]","v":0},{"$f":"CHOOSE(MONTH(tbldados[[#This Row],[DATA]]),\"JANEIRO\",\"FEVEREIRO\",\"MARÇO\",\"ABRIL\",\"MAIO\",\"JUNHO\",\"JULHO\",\"AGOSTO\",\"SETEMBRO\",\"OUTUBRO\",\"NOVEMBRO\",\"DEZEMBRO\")","v":"JUNHO"},{"$f":"YEAR(tbldados[[#This Row],[DATA]])","v":2022}]
[862,"PGTO","01 DE 01","WILL","JUNHO","RECARGAPAY","NEON","CREDITO A VISTA",{"$f":"VLOOKUP(tbldados[[#This Row],[APP]],tblbandeira[],3,0)","v":3.49E-2},44733,44757,815.9,{"$f":"tbldados[[#This Row],[VALOR PAGO]]+(tbldados[[#This Row],[VALOR PAGO]]*tbldados[[#This Row],[TAXA]])","v":844.37491},{"$f":"tbldados[[#This Row],[TOTAL BRUTO]]-tbldados[[#This Row],[VALOR PAGO]]","v":28.474910000000023},{"$f":"CHOOSE(MONTH(tbldados[[#This Row],[DATA]]),\"JANEIRO\",\"FEVEREIRO\",\"MARÇO\",\"ABRIL\",\"MAIO\",\"JUNHO\",\"JULHO\",\"AGOSTO\",\"SETEMBRO\",\"OUTUBRO\",\"NOVEMBRO\",\"DEZEMBRO\")","v":"JULHO"},{"$f":"YEAR(tbldados[[#This Row],[DATA]])","v":2022}]
[863,"GASTOS","01 DE 01","PGTOWILL","JUNIOR","RECARGAPAY","NEON","CREDITO A VISTA",{"$f":"VLOOKUP(tbldados[[#This Row],[APP]],tblbandeira[],3,0)","v":3.49E-2},44733,44757,815.9,{"$f":"tbldados[[#This Row],[VALOR PAGO]]+(tbldados[[#This Row],[VALOR PAGO]]*tbldados[[#This Row],[TAXA]])","v":844.37491},{"$f":"tbldados[[#This Row],[TOTAL BRUTO]]-tbldados[[#This Row],[VALOR PAGO]]","v":28.474910000000023},{"$f":"CHOOSE(MONTH(tbldados[[#This Row],[DATA]]),\"JANEIRO\",\"FEVEREIRO\",\"MARÇO\",\"ABRIL\",\"MAIO\",\"JUNHO\",\"JULHO\",\"AGOSTO\",\"SETEMBRO\",\"OUTUBRO\",\"NOVEMBRO\",\"DEZEMBRO\")","v":"JULHO"},{"$f":"YEAR(tbldados[[#This Row],[DATA]])","v":2022}]
[864,"PGTO","01 DE 01","WILL","JUNHO","RECARGAPAY","CLICK","CREDITO A VISTA",{"$f":"VLOOKUP(tbldados[[#This Row],[APP]],tblbandeira[],3,0)","v":3.49E-2},44733,44759,668.34,{"$f":"tbldados[[#This Row],[VALOR PAGO]]+(tbldados[[#This Row],[VALOR PAGO]]*tbldados[[#This Row],[TAXA]])","v":691.66506600000002},{"$f":"tbldados[[#This Row],[TOTAL BRUTO]]-tbldados[[#This Row],[VALOR PAGO]]","v":23.325065999999993},{"$f":"CHOOSE(MONTH(tbldados[[#This Row],[DATA]]),\"JANEIRO\",\"FEVEREIRO\",\"MARÇO\",\"ABRIL\",\"MAIO\",\"JUNHO\",\"JULHO\",\"AGOSTO\",\"SETEMBRO\",\"OUTUBRO\",\"NOVEMBRO\",\"DEZEMBRO\")","v":"JULHO"},{"$f":"YEAR(tbldados[[#This Row],[DATA]])","v":2022}]
[865,"GASTOS","01 DE 01","PGTOWILL","JUNIOR","RECARGAPAY","CLICK","CREDITO A VISTA",{"$f":"VLOOKUP(tbldados[[#This Row],[APP]],tblbandeira[],3,0)","v":3.49E-2},44733,44759,668.34,{"$f":"tbldados[[#This Row],[VALOR PAGO]]+(tbldados[[#This Row],[VALOR PAGO]]*tbldados[[#This Row],[TAXA]])","v":691.66506600000002},{"$f":"tbldados[[#This Row],[TOTAL BRUTO]]-tbldados[[#This Row],[VALOR PAGO]]","v":23.325065999999993},{"$f":"CHOOSE(MONTH(tbldados[[#This Row],[DATA]]),\"JANEIRO\",\"FEVEREIRO\",\"MARÇO\",\"ABRIL\",\"MAIO\",\"JUNHO\",\"JULHO\",\"AGOSTO\",\"SETEMBRO\",\"OUTUBRO\",\"NOVEMBRO\",\"DEZEMBRO\")","v":"JULHO"},{"$f":"YEAR(tbldados[[#This Row],[DATA]])","v":2022}]
[866,"PGTO","01 DE 01","WILL","JUNHO","RECARGAPAY","WILL","CREDITO A VISTA",{"$f":"VLOOKUP(tbldados[[#This Row],[APP]],tblbandeira[],3,0)","v":3.49E-2},44733,44762,2303.5300000000002,{"$f":"tbldados[[#This Row],[VALOR PAGO]]+(tbldados[[#This Row],[VALOR PAGO]]*tbldados[[#This Row],[TAXA]])","v":2383.9231970000001},{"$f":"tbldados[[#This Row],[TOTAL BRUTO]]-tbldados[[#This Row],[VALOR PAGO]]","v":80.393196999999873},{"$f":"CHOOSE(MONTH(tbldados[[#This Row],[DATA]]),\"JANEIRO\",\"FEVEREIRO\",\"MARÇO\",\"ABRIL\",\"MAIO\",\"JUNHO\",\"JULHO\",\"AGOSTO\",\"SETEMBRO\",\"OUTUBRO\",\"NOVEMBRO\",\"DEZEMBRO\")","v":"JULHO"},{"$f":"YEAR(tbldados[[#This Row],[DATA]])","v":2022}]
[867,"GASTOS","01 DE 01","PGTOWILL","JUNIOR","RECARGAPAY","WILL","CREDITO A VISTA",{"$f":"VLOOKUP(tbldados[[#This Row],[APP]],tblbandeira[],3,0)","v":3.49E-2},44733,44762,2303.5300000000002,{"$f":"tbldados[[#This Row],[VALOR PAGO]]+(tbldados[[#This Row],[VALOR PAGO]]*tbldados[[#This Row],[TAXA]])","v":2383.9231970000001},{"$f":"tbldados[[#This Row],[TOTAL BRUTO]]-tbldados[[#This Row],[VALOR PAGO]]","v":80.393196999999873},{"$f":"CHOOSE(MONTH(tbldados[[#This Row],[DATA]]),\"JANEIRO\",\"FEVEREIRO\",\"MARÇO\",\"ABRIL\",\"MAIO\",\"JUNHO\",\"JULHO\",\"AGOSTO\",\"SETEMBRO\",\"OUTUBRO\",\"NOVEMBRO\",\"DEZEMBRO\")","v":"JULHO"},{"$f":"YEAR(tbldados[[#This Row],[DATA]])","v":2022}]
[868,"PGTO","01 DE 01","GOLD","JUNHO","RECARGAPAY","WILL","CREDITO A VISTA",{"$f":"VLOOKUP(tbldados[[#This Row],[APP]],tblbandeira[],3,0)","v":3.49E-2},44735,44762,1299.8800000000001,{"$f":"tbldados[[#This Row],[VALOR PAGO]]+(tbldados[[#This Row],[VALOR PAGO]]*tbldados[[#This Row],[TAXA]])","v":1345.2458120000001},{"$f":"tbldados[[#This Row],[TOTAL BRUTO]]-tbldados[[#This Row],[VALOR PAGO]]","v":45.365812000000005},{"$f":"CHOOSE(MONTH(tbldados[[#This Row],[DATA]]),\"JANEIRO\",\"FEVEREIRO\",\"MARÇO\",\"ABRIL\",\"MAIO\",\"JUNHO\",\"JULHO\",\"AGOSTO\",\"SETEMBRO\",\"OUTUBRO\",\"NOVEMBRO\",\"DEZEMBRO\")","v":"JULHO"},{"$f":"YEAR(tbldados[[#This Row],[DATA]])","v":2022}]
[869,"GASTOS","01 DE 01","PGTOGOLD","JUNIOR","RECARGAPAY","WILL","CREDITO A VISTA",{"$f":"VLOOKUP(tbldados[[#This Row],[APP]],tblbandeira[],3,0)","v":3.49E-2},44735,44762,1299.8800000000001,{"$f":"tbldados[[#This Row],[VALOR PAGO]]+(tbldados[[#This Row],[VALOR PAGO]]*tbldados[[#This Row],[TAXA]])","v":1345.2458120000001},{"$f":"tbldados[[#This Row],[TOTAL BRUTO]]-tbldados[[#This Row],[VALOR PAGO]]","v":45.365812000000005},{"$f":"CHOOSE(MONTH(tbldados[[#This Row],[DATA]]),\"JANEIRO\",\"FEVEREIRO\",\"MARÇO\",\"ABRIL\",\"MAIO\",\"JUNHO\",\"JULHO\",\"AGOSTO\",\"SETEMBRO\",\"OUTUBRO\",\"NOVEMBRO\",\"DEZEMBRO\")","v":"JULHO"},{"$f":"YEAR(tbldados[[#This Row],[DATA]])","v":2022}]
[870,"PGTO","01 DE 01","GOLD","JUNHO","RECARGAPAY","GOLD","CREDITO A VISTA",{"$f":"VLOOKUP(tbldados[[#This Row],[APP]],tblbandeira[],3,0)","v":3.49E-2},44735,44765,1200.1199999999999,{"$f":"tbldados[[#This Row],[VALOR PAGO]]+(tbldados[[#This Row],[VALOR PAGO]]*tbldados[[#This Row],[TAXA]])","v":1242.0041879999999},{"$f":"tbldados[[#This Row],[TOTAL BRUTO]]-tbldados[[#This Row],[VALOR PAGO]]","v":41.884187999999995},{"$f":"CHOOSE(MONTH(tbldados[[#This Row],[DATA]]),\"JANEIRO\",\"FEVEREIRO\",\"MARÇO\",\"ABRIL\",\"MAIO\",\"JUNHO\",\"JULHO\",\"AGOSTO\",\"SETEMBRO\",\"OUTUBRO\",\"NOVEMBRO\",\"DEZEMBRO\")","v":"JULHO"},{"$f":"YEAR(tbldados[[#This Row],[DATA]])","v":2022}]
[871,"PGTO","01 DE 01","LATAM","JUNHO","RECARGAPAY","PAGMAE","CREDITO A VISTA",{"$f":"VLOOKUP(tbldados[[#This Row],[APP]],tblbandeira[],3,0)","v":3.49E-2},44739,44752,2462.52,{"$f":"tbldados[[#This Row],[VALOR PAGO]]+(tbldados[[#This Row],[VALOR PAGO]]*tbldados[[#This Row],[TAXA]])","v":2548.4619480000001},{"$f":"tbldados[[#This Row],[TOTAL BRUTO]]-tbldados[[#This Row],[VALOR PAGO]]","v":85.941948000000139},{"$f":"CHOOSE(MONTH(tbldados[[#This Row],[DATA]]),\"JANEIRO\",\"FEVEREIRO\",\"MARÇO\",\"ABRIL\",\"MAIO\",\"JUNHO\",\"JULHO\",\"AGOSTO\",\"SETEMBRO\",\"OUTUBRO\",\"NOVEMBRO\",\"DEZEMBRO\")","v":"JULHO"},{"$f":"YEAR(tbldados[[#This Row],[DATA]])","v":2022}]
[872,"GASTOS","01 DE 01","PGTOLATAM","JUNIOR","RECARGAPAY","PAGMAE","CREDITO A VISTA",{"$f":"VLOOKUP(tbldados[[#This Row],[APP]],tblbandeira[],3,0)","v":3.49E-2},44739,44752,2462.52,{"$f":"tbldados[[#This Row],[VALOR PAGO]]+(tbldados[[#This Row],[VALOR PAGO]]*tbldados[[#This Row],[TAXA]])","v":2548.4619480000001},{"$f":"tbldados[[#This Row],[TOTAL BRUTO]]-tbldados[[#This Row],[VALOR PAGO]]","v":85.941948000000139},{"$f":"CHOOSE(MONTH(tbldados[[#This Row],[DATA]]),\"JANEIRO\",\"FEVEREIRO\",\"MARÇO\",\"ABRIL\",\"MAIO\",\"JUNHO\",\"JULHO\",\"AGOSTO\",\"SETEMBRO\",\"OUTUBRO\",\"NOVEMBRO\",\"DEZEMBRO\")","v":"JULHO"},{"$f":"YEAR(tbldados[[#This Row],[DATA]])","v":2022}]
[873,"PGTO","01 DE 01","LATAM","JUNHO","RECARGAPAY","LATAM","CREDITO A VISTA",{"$f":"VLOOKUP(tbldados[[#This Row],[APP]],tblbandeira[],3,0)","v":3.49E-2},44739,44767,1337.47,{"$f":"tbldados[[#This Row],[VALOR PAGO]]+(tbldados[[#This Row],[VALOR PAGO]]*tbldados[[#This Row],[TAXA]])","v":1384.1477030000001},{"$f":"tbldados[[#This Row],[TOTAL BRUTO]]-tbldados[[#This Row],[VALOR PAGO]]","v":46.677703000000065},{"$f":"CHOOSE(MONTH(tbldados[[#This Row],[DATA]]),\"JANEIRO\",\"FEVEREIRO\",\"MARÇO\",\"ABRIL\",\"MAIO\",\"JUNHO\",\"JULHO\",\"AGOSTO\",\"SETEMBRO\",\"OUTUBRO\",\"NOVEMBRO\",\"DEZEMBRO\")","v":"JULHO"},{"$f":"YEAR(tbldados[[#This Row],[DATA]])","v":2022}]
[874,"GASTOS","01 DE 01","PGTOLATAM","JUNIOR","RECARGAPAY","LATAM","CREDITO A VISTA",{"$f":"VLOOKUP(tbldados[[#This Row],[APP]],tblbandeira[],3,0)","v":3.49E-2},44739,44767,1337.47,{"$f":"tbldados[[#This Row],[VALOR PAGO]]+(tbldados[[#This Row],[VALOR PAGO]]*tbldados[[#This Row],[TAXA]])","v":1384.1477030000001},{"$f":"tbldados[[#This Row],[TOTAL BRUTO]]-tbldados[[#This Row],[VALOR PAGO]]","v":46.677703000000065},{"$f":"CHOOSE(MONTH(tbldados[[#This Row],[DATA]]),\"JANEIRO\",\"FEVEREIRO\",\"MARÇO\",\"ABRIL\",\"MAIO\",\"JUNHO\",\"JULHO\",\"AGOSTO\",\"SETEMBRO\",\"OUTUBRO\",\"NOVEMBRO\",\"DEZEMBRO\")","v":"JULHO"},{"$f":"YEAR(tbldados[[#This Row],[DATA]])","v":2022}]
[875,"GASTOS","01 DE 01","DIVERSOS","JUNIOR","GERAL","LATAM","CREDITO A VISTA",{"$f":"VLOOKUP(tbldados[[#This Row],[APP]],tblbandeira[],3,0)","v":0},44705,44737,123.56,{"$f":"tbldados[[#This Row],[VALOR PAGO]]+(tbldados[[#This Row],[VALOR PAGO]]*tbldados[[#This Row],[TAXA]])","v":123.56},{"$f":"tbldados[[#This Row],[TOTAL BRUTO]]-tbldados[[#This Row],[VALOR PAGO]]","v":0},{"$f":"CHOOSE(MONTH(tbldados[[#This Row],[DATA]]),\"JANEIRO\",\"FEVEREIRO\",\"MARÇO\",\"ABRIL\",\"MAIO\",\"JUNHO\",\"JULHO\",\"AGOSTO\",\"SETEMBRO\",\"OUTUBRO\",\"NOVEMBRO\",\"DEZEMBRO\")","v":"JUNHO"},{"$f":"YEAR(tbldados[[#This Row],[DATA]])","v":2022}]
[876,"GASTOS","01 DE 01","DIVERSOS","JUNIOR","GERAL","C6","CREDITO A VISTA",{"$f":"VLOOKUP(tbldados[[#This Row],[APP]],tblbandeira[],3,0)","v":0},44717,44743,394.18,{"$f":"tbldados[[#This Row],[VALOR PAGO]]+(tbldados[[#This Row],[VALOR PAGO]]*tbldados[[#This Row],[TAXA]])","v":394.18},{"$f":"tbldados[[#This Row],[TOTAL BRUTO]]-tbldados[[#This Row],[VALOR PAGO]]","v":0},{"$f":"CHOOSE(MONTH(tbldados[[#This Row],[DATA]]),\"JANEIRO\",\"FEVEREIRO\",\"MARÇO\",\"ABRIL\",\"MAIO\",\"JUNHO\",\"JULHO\",\"AGOSTO\",\"SETEMBRO\",\"OUTUBRO\",\"NOVEMBRO\",\"DEZEMBRO\")","v":"JULHO"},{"$f":"YEAR(tbldados[[#This Row],[DATA]])","v":2022}]
[877,"PGTO","01 DE 01","C6","JULHO","CONTA","DÉBITO","DINHEIRO",{"$f":"VLOOKUP(tbldados[[#This Row],[APP]],tblbandeira[],3,0)","v":0},44741,44741,707.28,{"$f":"tbldados[[#This Row],[VALOR PAGO]]+(tbldados[[#This Row],[VALOR PAGO]]*tbldados[[#This Row],[TAXA]])","v":707.28},{"$f":"tbldados[[#This Row],[TOTAL BRUTO]]-tbldados[[#This Row],[VALOR PAGO]]","v":0},{"$f":"CHOOSE(MONTH(tbldados[[#This Row],[DATA]]),\"JANEIRO\",\"FEVEREIRO\",\"MARÇO\",\"ABRIL\",\"MAIO\",\"JUNHO\",\"JULHO\",\"AGOSTO\",\"SETEMBRO\",\"OUTUBRO\",\"NOVEMBRO\",\"DEZEMBRO\")","v":"JUNHO"},{"$f":"YEAR(tbldados[[#This Row],[DATA]])","v":2022}]
[878,"PGTO","01 DE 01","C6","JULHO","CONTA","DÉBITO","DINHEIRO",{"$f":"VLOOKUP(tbldados[[#This Row],[APP]],tblbandeira[],3,0)","v":0},44741,44741,394.18,{"$f":"tbldados[[#This Row],[VALOR PAGO]]+(tbldados[[#This Row],[VALOR PAGO]]*tbldados[[#This Row],[TAXA]])","v":394.18},{"$f":"tbldados[[#This Row],[TOTAL BRUTO]]-tbldados[[#This Row],[VALOR PAGO]]","v":0},{"$f":"CHOOSE(MONTH(tbldados[[#This Row],[DATA]]),\"JANEIRO\",\"FEVEREIRO\",\"MARÇO\",\"ABRIL\",\"MAIO\",\"JUNHO\",\"JULHO\",\"AGOSTO\",\"SETEMBRO\",\"OUTUBRO\",\"NOVEMBRO\",\"DEZEMBRO\")","v":"JUNHO"},{"$f":"YEAR(tbldados[[#This Row],[DATA]])","v":2022}]
[879,"PGTO","01 DE 01","C6","JULHO","RECARGAPAY","C6","CREDITO A VISTA",{"$f":"VLOOKUP(tbldados[[#This Row],[APP]],tblbandeira[],3,0)","v":3.49E-2},44742,44774,1622.34,{"$f":"tbldados[[#This Row],[VALOR PAGO]]+(tbldados[[#This Row],[VALOR PAGO]]*tbldados[[#This Row],[TAXA]])","v":1678.959666},{"$f":"tbldados[[#This Row],[TOTAL BRUTO]]-tbldados[[#This Row],[VALOR PAGO]]","v":56.619666000000052},{"$f":"CHOOSE(MONTH(tbldados[[#This Row],[DATA]]),\"JANEIRO\",\"FEVEREIRO\",\"MARÇO\",\"ABRIL\",\"MAIO\",\"JUNHO\",\"JULHO\",\"AGOSTO\",\"SETEMBRO\",\"OUTUBRO\",\"NOVEMBRO\",\"DEZEMBRO\")","v":"AGOSTO"},{"$f":"YEAR(tbldados[[#This Row],[DATA]])","v":2022}]
[880,"GASTOS","01 DE 01","PGTOC6","JUNIOR","RECARGAPAY","C6","CREDITO A VISTA",{"$f":"VLOOKUP(tbldados[[#This Row],[APP]],tblbandeira[],3,0)","v":3.49E-2},44742,44774,1622.34,{"$f":"tbldados[[#This Row],[VALOR PAGO]]+(tbldados[[#This Row],[VALOR PAGO]]*tbldados[[#This Row],[TAXA]])","v":1678.959666},{"$f":"tbldados[[#This Row],[TOTAL BRUTO]]-tbldados[[#This Row],[VALOR PAGO]]","v":56.619666000000052},{"$f":"CHOOSE(MONTH(tbldados[[#This Row],[DATA]]),\"JANEIRO\",\"FEVEREIRO\",\"MARÇO\",\"ABRIL\",\"MAIO\",\"JUNHO\",\"JULHO\",\"AGOSTO\",\"SETEMBRO\",\"OUTUBRO\",\"NOVEMBRO\",\"DEZEMBRO\")","v":"AGOSTO"},{"$f":"YEAR(tbldados[[#This Row],[DATA]])","v":2022}]
[881,"GASTOS","01 DE 03","MESA-NOTEBOOK","JUNIOR","GERAL","MELIUZ","CREDITO PARCELADO",{"$f":"VLOOKUP(tbldados[[#This Row],[APP]],tblbandeira[],3,0)","v":0},44742,44774,56.84,{"$f":"tbldados[[#This Row],[VALOR PAGO]]+(tbldados[[#This Row],[VALOR PAGO]]*tbldados[[#This Row],[TAXA]])","v":56.84},{"$f":"tbldados[[#This Row],[TOTAL BRUTO]]-tbldados[[#This Row],[VALOR PAGO]]","v":0},{"$f":"CHOOSE(MONTH(tbldados[[#This Row],[DATA]]),\"JANEIRO\",\"FEVEREIRO\",\"MARÇO\",\"ABRIL\",\"MAIO\",\"JUNHO\",\"JULHO\",\"AGOSTO\",\"SETEMBRO\",\"OUTUBRO\",\"NOVEMBRO\",\"DEZEMBRO\")","v":"AGOSTO"},{"$f":"YEAR(tbldados[[#This Row],[DATA]])","v":2022}]
[882,"GASTOS","02 DE 03","MESA-NOTEBOOK","JUNIOR","GERAL","MELIUZ","CREDITO PARCELADO",{"$f":"VLOOKUP(tbldados[[#This Row],[APP]],tblbandeira[],3,0)","v":0},44742,44805,56.84,{"$f":"tbldados[[#This Row],[VALOR PAGO]]+(tbldados[[#This Row],[VALOR PAGO]]*tbldados[[#This Row],[TAXA]])","v":56.84},{"$f":"tbldados[[#This Row],[TOTAL BRUTO]]-tbldados[[#This Row],[VALOR PAGO]]","v":0},{"$f":"CHOOSE(MONTH(tbldados[[#This Row],[DATA]]),\"JANEIRO\",\"FEVEREIRO\",\"MARÇO\",\"ABRIL\",\"MAIO\",\"JUNHO\",\"JULHO\",\"AGOSTO\",\"SETEMBRO\",\"OUTUBRO\",\"NOVEMBRO\",\"DEZEMBRO\")","v":"SETEMBRO"},{"$f":"YEAR(tbldados[[#This Row],[DATA]])","v":2022}]
[883,"GASTOS","03 DE 03","MESA-NOTEBOOK","JUNIOR","GERAL","MELIUZ","CREDITO PARCELADO",{"$f":"VLOOKUP(tbldados[[#This Row],[APP]],tblbandeira[],3,0)","v":0},44742,44835,56.84,{"$f":"tbldados[[#This Row],[VALOR PAGO]]+(tbldados[[#This Row],[VALOR PAGO]]*tbldados[[#This Row],[TAXA]])","v":56.84},{"$f":"tbldados[[#This Row],[TOTAL BRUTO]]-tbldados[[#This Row],[VALOR PAGO]]","v":0},{"$f":"CHOOSE(MONTH(tbldados[[#This Row],[DATA]]),\"JANEIRO\",\"FEVEREIRO\",\"MARÇO\",\"ABRIL\",\"MAIO\",\"JUNHO\",\"JULHO\",\"AGOSTO\",\"SETEMBRO\",\"OUTUBRO\",\"NOVEMBRO\",\"DEZEMBRO\")","v":"OUTUBRO"},{"$f":"YEAR(tbldados[[#This Row],[DATA]])","v":2022}]
[884,"PGTO","01 DE 01","MELIUZ","JULHO","RECARGAPAY","LATAM","CREDITO A VISTA",{"$f":"VLOOKUP(tbldados[[#This Row],[APP]],tblbandeira[],3,0)","v":3.49E-2},44742,44767,1872.83,{"$f":"tbldados[[#This Row],[VALOR PAGO]]+(tbldados[[#This Row],[VALOR PAGO]]*tbldados[[#This Row],[TAXA]])","v":1938.191767},{"$f":"tbldados[[#This Row],[TOTAL BRUTO]]-tbldados[[#This Row],[VALOR PAGO]]","v":65.3617670000001},{"$f":"CHOOSE(MONTH(tbldados[[#This Row],[DATA]]),\"JANEIRO\",\"FEVEREIRO\",\"MARÇO\",\"ABRIL\",\"MAIO\",\"JUNHO\",\"JULHO\",\"AGOSTO\",\"SETEMBRO\",\"OUTUBRO\",\"NOVEMBRO\",\"DEZEMBRO\")","v":"JULHO"},{"$f":"YEAR(tbldados[[#This Row],[DATA]])","v":2022}]
[885,"GASTOS","01 DE 01","PGTOMELIUZ","JUNIOR","RECARGAPAY","LATAM","CREDITO A VISTA",{"$f":"VLOOKUP(tbldados[[#This Row],[APP]],tblbandeira[],3,0)","v":3.49E-2},44742,44767,1872.83,{"$f":"tbldados[[#This Row],[VALOR PAGO]]+(tbldados[[#This Row],[VALOR PAGO]]*tbldados[[#This Row],[TAXA]])","v":1938.191767},{"$f":"tbldados[[#This Row],[TOTAL BRUTO]]-tbldados[[#This Row],[VALOR PAGO]]","v":65.3617670000001},{"$f":"CHOOSE(MONTH(tbldados[[#This Row],[DATA]]),\"JANEIRO\",\"FEVEREIRO\",\"MARÇO\",\"ABRIL\",\"MAIO\",\"JUNHO\",\"JULHO\",\"AGOSTO\",\"SETEMBRO\",\"OUTUBRO\",\"NOVEMBRO\",\"DEZEMBRO\")","v":"JULHO"},{"$f":"YEAR(tbldados[[#This Row],[DATA]])","v":2022}]
[886,"PGTO","01 DE 01","C6","JULHO","GERAL","C6","CREDITO A VISTA",{"$f":"VLOOKUP(tbldados[[#This Row],[APP]],tblbandeira[],3,0)","v":0},44743,44774,5609.39,{"$f":"tbldados[[#This Row],[VALOR PAGO]]+(tbldados[[#This Row],[VALOR PAGO]]*tbldados[[#This Row],[TAXA]])","v":5609.39},{"$f":"tbldados[[#This Row],[TOTAL BRUTO]]-tbldados[[#This Row],[VALOR PAGO]]","v":0},{"$f":"CHOOSE(MONTH(tbldados[[#This Row],[DATA]]),\"JANEIRO\",\"FEVEREIRO\",\"MARÇO\",\"ABRIL\",\"MAIO\",\"JUNHO\",\"JULHO\",\"AGOSTO\",\"SETEMBRO\",\"OUTUBRO\",\"NOVEMBRO\",\"DEZEMBRO\")","v":"AGOSTO"},{"$f":"YEAR(tbldados[[#This Row],[DATA]])","v":2022}]
[887,"GASTOS","01 DE 12","PGTO-C6-PARC","JUNIOR","GERAL","C6","CREDITO PARCELADO",{"$f":"VLOOKUP(tbldados[[#This Row],[APP]],tblbandeira[],3,0)","v":0},44743,44774,609.41,{"$f":"tbldados[[#This Row],[VALOR PAGO]]+(tbldados[[#This Row],[VALOR PAGO]]*tbldados[[#This Row],[TAXA]])","v":609.41},{"$f":"tbldados[[#This Row],[TOTAL BRUTO]]-tbldados[[#This Row],[VALOR PAGO]]","v":0},{"$f":"CHOOSE(MONTH(tbldados[[#This Row],[DATA]]),\"JANEIRO\",\"FEVEREIRO\",\"MARÇO\",\"ABRIL\",\"MAIO\",\"JUNHO\",\"JULHO\",\"AGOSTO\",\"SETEMBRO\",\"OUTUBRO\",\"NOVEMBRO\",\"DEZEMBRO\")","v":"AGOSTO"},{"$f":"YEAR(tbldados[[#This Row],[DATA]])","v":2022}]
[888,"GASTOS","02 DE 12","PGTO-C6-PARC","JUNIOR","GERAL","C6","CREDITO PARCELADO",{"$f":"VLOOKUP(tbldados[[#This Row],[APP]],tblbandeira[],3,0)","v":0},44743,44805,609.41,{"$f":"tbldados[[#This Row],[VALOR PAGO]]+(tbldados[[#This Row],[VALOR PAGO]]*tbldados[[#This Row],[TAXA]])","v":609.41},{"$f":"tbldados[[#This Row],[TOTAL BRUTO]]-tbldados[[#This Row],[VALOR PAGO]]","v":0},{"$f":"CHOOSE(MONTH(tbldados[[#This Row],[DATA]]),\"JANEIRO\",\"FEVEREIRO\",\"MARÇO\",\"ABRIL\",\"MAIO\",\"JUNHO\",\"JULHO\",\"AGOSTO\",\"SETEMBRO\",\"OUTUBRO\",\"NOVEMBRO\",\"DEZEMBRO\")","v":"SETEMBRO"},{"$f":"YEAR(tbldados[[#This Row],[DATA]])","v":2022}]
[889,"GASTOS","03 DE 12","PGTO-C6-PARC","JUNIOR","GERAL","C6","CREDITO PARCELADO",{"$f":"VLOOKUP(tbldados[[#This Row],[APP]],tblbandeira[],3,0)","v":0},44743,44835,609.41,{"$f":"tbldados[[#This Row],[VALOR PAGO]]+(tbldados[[#This Row],[VALOR PAGO]]*tbldados[[#This Row],[TAXA]])","v":609.41},{"$f":"tbldados[[#This Row],[TOTAL BRUTO]]-tbldados[[#This Row],[VALOR PAGO]]","v":0},{"$f":"CHOOSE(MONTH(tbldados[[#This Row],[DATA]]),\"JANEIRO\",\"FEVEREIRO\",\"MARÇO\",\"ABRIL\",\"MAIO\",\"JUNHO\",\"JULHO\",\"AGOSTO\",\"SETEMBRO\",\"OUTUBRO\",\"NOVEMBRO\",\"DEZEMBRO\")","v":"OUTUBRO"},{"$f":"YEAR(tbldados[[#This Row],[DATA]])","v":2022}]
[890,"GASTOS","04 DE 12","PGTO-C6-PARC","JUNIOR","GERAL","C6","CREDITO PARCELADO",{"$f":"VLOOKUP(tbldados[[#This Row],[APP]],tblbandeira[],3,0)","v":0},44743,44866,609.41,{"$f":"tbldados[[#This Row],[VALOR PAGO]]+(tbldados[[#This Row],[VALOR PAGO]]*tbldados[[#This Row],[TAXA]])","v":609.41},{"$f":"tbldados[[#This Row],[TOTAL BRUTO]]-tbldados[[#This Row],[VALOR PAGO]]","v":0},{"$f":"CHOOSE(MONTH(tbldados[[#This Row],[DATA]]),\"JANEIRO\",\"FEVEREIRO\",\"MARÇO\",\"ABRIL\",\"MAIO\",\"JUNHO\",\"JULHO\",\"AGOSTO\",\"SETEMBRO\",\"OUTUBRO\",\"NOVEMBRO\",\"DEZEMBRO\")","v":"NOVEMBRO"},{"$f":"YEAR(tbldados[[#This Row],[DATA]])","v":2022}]
[891,"GASTOS","05 DE 12","PGTO-C6-PARC","JUNIOR","GERAL","C6","CREDITO PARCELADO",{"$f":"VLOOKUP(tbldados[[#This Row],[APP]],tblbandeira[],3,0)","v":0},44743,44896,609.41,{"$f":"tbldados[[#This Row],[VALOR PAGO]]+(tbldados[[#This Row],[VALOR PAGO]]*tbldados[[#This Row],[TAXA]])","v":609.41},{"$f":"tbldados[[#This Row],[TOTAL BRUTO]]-tbldados[[#This Row],[VALOR PAGO]]","v":0},{"$f":"CHOOSE(MONTH(tbldados[[#This Row],[DATA]]),\"JANEIRO\",\"FEVEREIRO\",\"MARÇO\",\"ABRIL\",\"MAIO\",\"JUNHO\",\"JULHO\",\"AGOSTO\",\"SETEMBRO\",\"OUTUBRO\",\"NOVEMBRO\",\"DEZEMBRO\")","v":"DEZEMBRO"},{"$f":"YEAR(tbldados[[#This Row],[DATA]])","v":2022}]
[892,"GASTOS","06 DE 12","PGTO-C6-PARC","JUNIOR","GERAL","C6","CREDITO PARCELADO",{"$f":"VLOOKUP(tbldados[[#This Row],[APP]],tblbandeira[],3,0)","v":0},44743,44927,609.41,{"$f":"tbldados[[#This Row],[VALOR PAGO]]+(tbldados[[#This Row],[VALOR PAGO]]*tbldados[[#This Row],[TAXA]])","v":609.41},{"$f":"tbldados[[#This Row],[TOTAL BRUTO]]-tbldados[[#This Row],[VALOR PAGO]]","v":0},{"$f":"CHOOSE(MONTH(tbldados[[#This Row],[DATA]]),\"JANEIRO\",\"FEVEREIRO\",\"MARÇO\",\"ABRIL\",\"MAIO\",\"JUNHO\",\"JULHO\",\"AGOSTO\",\"SETEMBRO\",\"OUTUBRO\",\"NOVEMBRO\",\"DEZEMBRO\")","v":"JANEIRO"},{"$f":"YEAR(tbldados[[#This Row],[DATA]])","v":2023}]
[893,"GASTOS","07 DE 12","PGTO-C6-PARC","JUNIOR","GERAL","C6","CREDITO PARCELADO",{"$f":"VLOOKUP(tbldados[[#This Row],[APP]],tblbandeira[],3,0)","v":0},44743,44958,609.41,{"$f":"tbldados[[#This Row],[VALOR PAGO]]+(tbldados[[#This Row],[VALOR PAGO]]*tbldados[[#This Row],[TAXA]])","v":609.41},{"$f":"tbldados[[#This Row],[TOTAL BRUTO]]-tbldados[[#This Row],[VALOR PAGO]]","v":0},{"$f":"CHOOSE(MONTH(tbldados[[#This Row],[DATA]]),\"JANEIRO\",\"FEVEREIRO\",\"MARÇO\",\"ABRIL\",\"MAIO\",\"JUNHO\",\"JULHO\",\"AGOSTO\",\"SETEMBRO\",\"OUTUBRO\",\"NOVEMBRO\",\"DEZEMBRO\")","v":"FEVEREIRO"},{"$f":"YEAR(tbldados[[#This Row],[DATA]])","v":2023}]
[894,"GASTOS","08 DE 12","PGTO-C6-PARC","JUNIOR","GERAL","C6","CREDITO PARCELADO",{"$f":"VLOOKUP(tbldados[[#This Row],[APP]],tblbandeira[],3,0)","v":0},44743,44986,609.41,{"$f":"tbldados[[#This Row],[VALOR PAGO]]+(tbldados[[#This Row],[VALOR PAGO]]*tbldados[[#This Row],[TAXA]])","v":609.41},{"$f":"tbldados[[#This Row],[TOTAL BRUTO]]-tbldados[[#This Row],[VALOR PAGO]]","v":0},{"$f":"CHOOSE(MONTH(tbldados[[#This Row],[DATA]]),\"JANEIRO\",\"FEVEREIRO\",\"MARÇO\",\"ABRIL\",\"MAIO\",\"JUNHO\",\"JULHO\",\"AGOSTO\",\"SETEMBRO\",\"OUTUBRO\",\"NOVEMBRO\",\"DEZEMBRO\")","v":"MARÇO"},{"$f":"YEAR(tbldados[[#This Row],[DATA]])","v":2023}]
[895,"GASTOS","09 DE 12","PGTO-C6-PARC","JUNIOR","GERAL","C6","CREDITO PARCELADO",{"$f":"VLOOKUP(tbldados[[#This Row],[APP]],tblbandeira[],3,0)","v":0},44743,45017,609.41,{"$f":"tbldados[[#This Row],[VALOR PAGO]]+(tbldados[[#This Row],[VALOR PAGO]]*tbldados[[#This Row],[TAXA]])","v":609.41},{"$f":"tbldados[[#This Row],[TOTAL BRUTO]]-tbldados[[#This Row],[VALOR PAGO]]","v":0},{"$f":"CHOOSE(MONTH(tbldados[[#This Row],[DATA]]),\"JANEIRO\",\"FEVEREIRO\",\"MARÇO\",\"ABRIL\",\"MAIO\",\"JUNHO\",\"JULHO\",\"AGOSTO\",\"SETEMBRO\",\"OUTUBRO\",\"NOVEMBRO\",\"DEZEMBRO\")","v":"ABRIL"},{"$f":"YEAR(tbldados[[#This Row],[DATA]])","v":2023}]
[896,"GASTOS","10 DE 12","PGTO-C6-PARC","JUNIOR","GERAL","C6","CREDITO PARCELADO",{"$f":"VLOOKUP(tbldados[[#This Row],[APP]],tblbandeira[],3,0)","v":0},44743,45047,609.41,{"$f":"tbldados[[#This Row],[VALOR PAGO]]+(tbldados[[#This Row],[VALOR PAGO]]*tbldados[[#This Row],[TAXA]])","v":609.41},{"$f":"tbldados[[#This Row],[TOTAL BRUTO]]-tbldados[[#This Row],[VALOR PAGO]]","v":0},{"$f":"CHOOSE(MONTH(tbldados[[#This Row],[DATA]]),\"JANEIRO\",\"FEVEREIRO\",\"MARÇO\",\"ABRIL\",\"MAIO\",\"JUNHO\",\"JULHO\",\"AGOSTO\",\"SETEMBRO\",\"OUTUBRO\",\"NOVEMBRO\",\"DEZEMBRO\")","v":"MAIO"},{"$f":"YEAR(tbldados[[#This Row],[DATA]])","v":2023}]
[897,"GASTOS","11 DE 12","PGTO-C6-PARC","JUNIOR","GERAL","C6","CREDITO PARCELADO",{"$f":"VLOOKUP(tbldados[[#This Row],[APP]],tblbandeira[],3,0)","v":0},44743,45078,609.41,{"$f":"tbldados[[#This Row],[VALOR PAGO]]+(tbldados[[#This Row],[VALOR PAGO]]*tbldados[[#This Row],[TAXA]])","v":609.41},{"$f":"tbldados[[#This Row],[TOTAL BRUTO]]-tbldados[[#This Row],[VALOR PAGO]]","v":0},{"$f":"CHOOSE(MONTH(tbldados[[#This Row],[DATA]]),\"JANEIRO\",\"FEVEREIRO\",\"MARÇO\",\"ABRIL\",\"MAIO\",\"JUNHO\",\"JULHO\",\"AGOSTO\",\"SETEMBRO\",\"OUTUBRO\",\"NOVEMBRO\",\"DEZEMBRO\")","v":"JUNHO"},{"$f":"YEAR(tbldados[[#This Row],[DATA]])","v":2023}]
[898,"GASTOS","12 DE 12","PGTO-C6-PARC","JUNIOR","GERAL","C6","CREDITO PARCELADO",{"$f":"VLOOKUP(tbldados[[#This Row],[APP]],tblbandeira[],3,0)","v":0},44743,45108,609.41,{"$f":"tbldados[[#This Row],[VALOR PAGO]]+(tbldados[[#This Row],[VALOR PAGO]]*tbldados[[#This Row],[TAXA]])","v":609.41},{"$f":"tbldados[[#This Row],[TOTAL BRUTO]]-tbldados[[#This Row],[VALOR PAGO]]","v":0},{"$f":"CHOOSE(MONTH(tbldados[[#This Row],[DATA]]),\"JANEIRO\",\"FEVEREIRO\",\"MARÇO\",\"ABRIL\",\"MAIO\",\"JUNHO\",\"JULHO\",\"AGOSTO\",\"SETEMBRO\",\"OUTUBRO\",\"NOVEMBRO\",\"DEZEMBRO\")","v":"JULHO"},{"$f":"YEAR(tbldados[[#This Row],[DATA]])","v":2023}]
[899,"PGTO","01 DE 01","ZERO","JULHO","GERAL","MELIUZ","CREDITO A VISTA",{"$f":"VLOOKUP(tbldados[[#This Row],[APP]],tblbandeira[],3,0)","v":0},44562,44593,1607.73,{"$f":"tbldados[[#This Row],[VALOR PAGO]]+(tbldados[[#This Row],[VALOR PAGO]]*tbldados[[#This Row],[TAXA]])","v":1607.73},{"$f":"tbldados[[#This Row],[TOTAL BRUTO]]-tbldados[[#This Row],[VALOR PAGO]]","v":0},{"$f":"CHOOSE(MONTH(tbldados[[#This Row],[DATA]]),\"JANEIRO\",\"FEVEREIRO\",\"MARÇO\",\"ABRIL\",\"MAIO\",\"JUNHO\",\"JULHO\",\"AGOSTO\",\"SETEMBRO\",\"OUTUBRO\",\"NOVEMBRO\",\"DEZEMBRO\")","v":"FEVEREIRO"},{"$f":"YEAR(tbldados[[#This Row],[DATA]])","v":2022}]
[900,"GASTOS","01 DE 01","PGTOZERO","JUNIOR","GERAL","MELIUZ","CREDITO A VISTA",{"$f":"VLOOKUP(tbldados[[#This Row],[APP]],tblbandeira[],3,0)","v":0},44743,44774,1606.21,{"$f":"tbldados[[#This Row],[VALOR PAGO]]+(tbldados[[#This Row],[VALOR PAGO]]*tbldados[[#This Row],[TAXA]])","v":1606.21},{"$f":"tbldados[[#This Row],[TOTAL BRUTO]]-tbldados[[#This Row],[VALOR PAGO]]","v":0},{"$f":"CHOOSE(MONTH(tbldados[[#This Row],[DATA]]),\"JANEIRO\",\"FEVEREIRO\",\"MARÇO\",\"ABRIL\",\"MAIO\",\"JUNHO\",\"JULHO\",\"AGOSTO\",\"SETEMBRO\",\"OUTUBRO\",\"NOVEMBRO\",\"DEZEMBRO\")","v":"AGOSTO"},{"$f":"YEAR(tbldados[[#This Row],[DATA]])","v":2022}]
[901,"GASTOS","01 DE 01","JUROS","JUNIOR","GERAL","MELIUZ","CREDITO A VISTA",{"$f":"VLOOKUP(tbldados[[#This Row],[APP]],tblbandeira[],3,0)","v":0},44743,44774,24.19,{"$f":"tbldados[[#This Row],[VALOR PAGO]]+(tbldados[[#This Row],[VALOR PAGO]]*tbldados[[#This Row],[TAXA]])","v":24.19},{"$f":"tbldados[[#This Row],[TOTAL BRUTO]]-tbldados[[#This Row],[VALOR PAGO]]","v":0},{"$f":"CHOOSE(MONTH(tbldados[[#This Row],[DATA]]),\"JANEIRO\",\"FEVEREIRO\",\"MARÇO\",\"ABRIL\",\"MAIO\",\"JUNHO\",\"JULHO\",\"AGOSTO\",\"SETEMBRO\",\"OUTUBRO\",\"NOVEMBRO\",\"DEZEMBRO\")","v":"AGOSTO"},{"$f":"YEAR(tbldados[[#This Row],[DATA]])","v":2022}]
[902,"PGTO","01 DE 01","AZUL","JULHO","RECARGAPAY","ZERO","CREDITO A VISTA",{"$f":"VLOOKUP(tbldados[[#This Row],[APP]],tblbandeira[],3,0)","v":3.49E-2},44746,44776,1538.6,{"$f":"tbldados[[#This Row],[VALOR PAGO]]+(tbldados[[#This Row],[VALOR PAGO]]*tbldados[[#This Row],[TAXA]])","v":1592.2971399999999},{"$f":"tbldados[[#This Row],[TOTAL BRUTO]]-tbldados[[#This Row],[VALOR PAGO]]","v":53.69713999999999},{"$f":"CHOOSE(MONTH(tbldados[[#This Row],[DATA]]),\"JANEIRO\",\"FEVEREIRO\",\"MARÇO\",\"ABRIL\",\"MAIO\",\"JUNHO\",\"JULHO\",\"AGOSTO\",\"SETEMBRO\",\"OUTUBRO\",\"NOVEMBRO\",\"DEZEMBRO\")","v":"AGOSTO"},{"$f":"YEAR(tbldados[[#This Row],[DATA]])","v":2022}]
[903,"GASTOS","01 DE 01","PGTOAZUL","JUNIOR","RECARGAPAY","ZERO","CREDITO A VISTA",{"$f":"VLOOKUP(tbldados[[#This Row],[APP]],tblbandeira[],3,0)","v":3.49E-2},44746,44776,1538.6,{"$f":"tbldados[[#This Row],[VALOR PAGO]]+(tbldados[[#This Row],[VALOR PAGO]]*tbldados[[#This Row],[TAXA]])","v":1592.2971399999999},{"$f":"tbldados[[#This Row],[TOTAL BRUTO]]-tbldados[[#This Row],[VALOR PAGO]]","v":53.69713999999999},{"$f":"CHOOSE(MONTH(tbldados[[#This Row],[DATA]]),\"JANEIRO\",\"FEVEREIRO\",\"MARÇO\",\"ABRIL\",\"MAIO\",\"JUNHO\",\"JULHO\",\"AGOSTO\",\"SETEMBRO\",\"OUTUBRO\",\"NOVEMBRO\",\"DEZEMBRO\")","v":"AGOSTO"},{"$f":"YEAR(tbldados[[#This Row],[DATA]])","v":2022}]
[904,"GASTOS","01 DE 01","ALMOÇO E JANTA","JUNIOR","GERAL","AZUL","CREDITO A VISTA",{"$f":"VLOOKUP(tbldados[[#This Row],[APP]],tblbandeira[],3,0)","v":0},44716,44748,102,{"$f":"tbldados[[#This Row],[VALOR PAGO]]+(tbldados[[#This Row],[VALOR PAGO]]*tbldados[[#This Row],[TAXA]])","v":102},{"$f":"tbldados[[#This Row],[TOTAL BRUTO]]-tbldados[[#This Row],[VALOR PAGO]]","v":0},{"$f":"CHOOSE(MONTH(tbldados[[#This Row],[DATA]]),\"JANEIRO\",\"FEVEREIRO\",\"MARÇO\",\"ABRIL\",\"MAIO\",\"JUNHO\",\"JULHO\",\"AGOSTO\",\"SETEMBRO\",\"OUTUBRO\",\"NOVEMBRO\",\"DEZEMBRO\")","v":"JULHO"},{"$f":"YEAR(tbldados[[#This Row],[DATA]])","v":2022}]
[905,"PGTO","01 DE 01","AZUL","JULHO","RECARGAPAY","AZUL","CREDITO A VISTA",{"$f":"VLOOKUP(tbldados[[#This Row],[APP]],tblbandeira[],3,0)","v":3.49E-2},44746,44779,603.82000000000005,{"$f":"tbldados[[#This Row],[VALOR PAGO]]+(tbldados[[#This Row],[VALOR PAGO]]*tbldados[[#This Row],[TAXA]])","v":624.89331800000002},{"$f":"tbldados[[#This Row],[TOTAL BRUTO]]-tbldados[[#This Row],[VALOR PAGO]]","v":21.073317999999972},{"$f":"CHOOSE(MONTH(tbldados[[#This Row],[DATA]]),\"JANEIRO\",\"FEVEREIRO\",\"MARÇO\",\"ABRIL\",\"MAIO\",\"JUNHO\",\"JULHO\",\"AGOSTO\",\"SETEMBRO\",\"OUTUBRO\",\"NOVEMBRO\",\"DEZEMBRO\")","v":"AGOSTO"},{"$f":"YEAR(tbldados[[#This Row],[DATA]])","v":2022}]
[906,"GASTOS","01 DE 01","PGTOAZUL","JUNIOR","RECARGAPAY","AZUL","CREDITO A VISTA",{"$f":"VLOOKUP(tbldados[[#This Row],[APP]],tblbandeira[],3,0)","v":3.49E-2},44746,44779,603.82000000000005,{"$f":"tbldados[[#This Row],[VALOR PAGO]]+(tbldados[[#This Row],[VALOR PAGO]]*tbldados[[#This Row],[TAXA]])","v":624.89331800000002},{"$f":"tbldados[[#This Row],[TOTAL BRUTO]]-tbldados[[#This Row],[VALOR PAGO]]","v":21.073317999999972},{"$f":"CHOOSE(MONTH(tbldados[[#This Row],[DATA]]),\"JANEIRO\",\"FEVEREIRO\",\"MARÇO\",\"ABRIL\",\"MAIO\",\"JUNHO\",\"JULHO\",\"AGOSTO\",\"SETEMBRO\",\"OUTUBRO\",\"NOVEMBRO\",\"DEZEMBRO\")","v":"AGOSTO"},{"$f":"YEAR(tbldados[[#This Row],[DATA]])","v":2022}]
[907,"GASTOS","01 DE 01","PGTOMNEXT","JUNIOR","RECARGAPAY","GOLD","CREDITO A VISTA",{"$f":"VLOOKUP(tbldados[[#This Row],[APP]],tblbandeira[],3,0)","v":3.49E-2},44747,44765,1125.02,{"$f":"tbldados[[#This Row],[VALOR PAGO]]+(tbldados[[#This Row],[VALOR PAGO]]*tbldados[[#This Row],[TAXA]])","v":1164.2831980000001},{"$f":"tbldados[[#This Row],[TOTAL BRUTO]]-tbldados[[#This Row],[VALOR PAGO]]","v":39.263198000000102},{"$f":"CHOOSE(MONTH(tbldados[[#This Row],[DATA]]),\"JANEIRO\",\"FEVEREIRO\",\"MARÇO\",\"ABRIL\",\"MAIO\",\"JUNHO\",\"JULHO\",\"AGOSTO\",\"SETEMBRO\",\"OUTUBRO\",\"NOVEMBRO\",\"DEZEMBRO\")","v":"JULHO"},{"$f":"YEAR(tbldados[[#This Row],[DATA]])","v":2022}]
[908,"GASTOS","01 DE 01","ANUIDADE","JUNIOR","GERAL","NCARD","CREDITO A VISTA",{"$f":"VLOOKUP(tbldados[[#This Row],[APP]],tblbandeira[],3,0)","v":0},44717,44751,8.9600000000000009,{"$f":"tbldados[[#This Row],[VALOR PAGO]]+(tbldados[[#This Row],[VALOR PAGO]]*tbldados[[#This Row],[TAXA]])","v":8.9600000000000009},{"$f":"tbldados[[#This Row],[TOTAL BRUTO]]-tbldados[[#This Row],[VALOR PAGO]]","v":0},{"$f":"CHOOSE(MONTH(tbldados[[#This Row],[DATA]]),\"JANEIRO\",\"FEVEREIRO\",\"MARÇO\",\"ABRIL\",\"MAIO\",\"JUNHO\",\"JULHO\",\"AGOSTO\",\"SETEMBRO\",\"OUTUBRO\",\"NOVEMBRO\",\"DEZEMBRO\")","v":"JULHO"},{"$f":"YEAR(tbldados[[#This Row],[DATA]])","v":2022}]
[909,"PGTO","01 DE 01","NCARD","JULHO","RECARGAPAY","AZUL","CREDITO A VISTA",{"$f":"VLOOKUP(tbldados[[#This Row],[APP]],tblbandeira[],3,0)","v":3.49E-2},44747,44779,1464.06,{"$f":"tbldados[[#This Row],[VALOR PAGO]]+(tbldados[[#This Row],[VALOR PAGO]]*tbldados[[#This Row],[TAXA]])","v":1515.155694},{"$f":"tbldados[[#This Row],[TOTAL BRUTO]]-tbldados[[#This Row],[VALOR PAGO]]","v":51.095694000000094},{"$f":"CHOOSE(MONTH(tbldados[[#This Row],[DATA]]),\"JANEIRO\",\"FEVEREIRO\",\"MARÇO\",\"ABRIL\",\"MAIO\",\"JUNHO\",\"JULHO\",\"AGOSTO\",\"SETEMBRO\",\"OUTUBRO\",\"NOVEMBRO\",\"DEZEMBRO\")","v":"AGOSTO"},{"$f":"YEAR(tbldados[[#This Row],[DATA]])","v":2022}]
[910,"GASTOS","01 DE 01","PGTONCARD","JUNIOR","RECARGAPAY","AZUL","CREDITO A VISTA",{"$f":"VLOOKUP(tbldados[[#This Row],[APP]],tblbandeira[],3,0)","v":3.49E-2},44747,44779,1464.06,{"$f":"tbldados[[#This Row],[VALOR PAGO]]+(tbldados[[#This Row],[VALOR PAGO]]*tbldados[[#This Row],[TAXA]])","v":1515.155694},{"$f":"tbldados[[#This Row],[TOTAL BRUTO]]-tbldados[[#This Row],[VALOR PAGO]]","v":51.095694000000094},{"$f":"CHOOSE(MONTH(tbldados[[#This Row],[DATA]]),\"JANEIRO\",\"FEVEREIRO\",\"MARÇO\",\"ABRIL\",\"MAIO\",\"JUNHO\",\"JULHO\",\"AGOSTO\",\"SETEMBRO\",\"OUTUBRO\",\"NOVEMBRO\",\"DEZEMBRO\")","v":"AGOSTO"},{"$f":"YEAR(tbldados[[#This Row],[DATA]])","v":2022}]
[911,"PGTO","01 DE 01","PAN","JULHO","CONTA","DÉBITO","DINHEIRO",{"$f":"VLOOKUP(tbldados[[#This Row],[APP]],tblbandeira[],3,0)","v":0},44747,44747,639.09,{"$f":"tbldados[[#This Row],[VALOR PAGO]]+(tbldados[[#This Row],[VALOR PAGO]]*tbldados[[#This Row],[TAXA]])","v":639.09},{"$f":"tbldados[[#This Row],[TOTAL BRUTO]]-tbldados[[#This Row],[VALOR PAGO]]","v":0},{"$f":"CHOOSE(MONTH(tbldados[[#This Row],[DATA]]),\"JANEIRO\",\"FEVEREIRO\",\"MARÇO\",\"ABRIL\",\"MAIO\",\"JUNHO\",\"JULHO\",\"AGOSTO\",\"SETEMBRO\",\"OUTUBRO\",\"NOVEMBRO\",\"DEZEMBRO\")","v":"JULHO"},{"$f":"YEAR(tbldados[[#This Row],[DATA]])","v":2022}]
[912,"PGTO","01 DE 01","PAN","JULHO","RECARGAPAY","LATAM","CREDITO A VISTA",{"$f":"VLOOKUP(tbldados[[#This Row],[APP]],tblbandeira[],3,0)","v":3.49E-2},44747,44767,40.909999999999997,{"$f":"tbldados[[#This Row],[VALOR PAGO]]+(tbldados[[#This Row],[VALOR PAGO]]*tbldados[[#This Row],[TAXA]])","v":42.337758999999998},{"$f":"tbldados[[#This Row],[TOTAL BRUTO]]-tbldados[[#This Row],[VALOR PAGO]]","v":1.4277590000000018},{"$f":"CHOOSE(MONTH(tbldados[[#This Row],[DATA]]),\"JANEIRO\",\"FEVEREIRO\",\"MARÇO\",\"ABRIL\",\"MAIO\",\"JUNHO\",\"JULHO\",\"AGOSTO\",\"SETEMBRO\",\"OUTUBRO\",\"NOVEMBRO\",\"DEZEMBRO\")","v":"JULHO"},{"$f":"YEAR(tbldados[[#This Row],[DATA]])","v":2022}]
[913,"GASTOS","01 DE 01","PGTOPAN","JUNIOR","RECARGAPAY","LATAM","CREDITO A VISTA",{"$f":"VLOOKUP(tbldados[[#This Row],[APP]],tblbandeira[],3,0)","v":3.49E-2},44747,44767,40.909999999999997,{"$f":"tbldados[[#This Row],[VALOR PAGO]]+(tbldados[[#This Row],[VALOR PAGO]]*tbldados[[#This Row],[TAXA]])","v":42.337758999999998},{"$f":"tbldados[[#This Row],[TOTAL BRUTO]]-tbldados[[#This Row],[VALOR PAGO]]","v":1.4277590000000018},{"$f":"CHOOSE(MONTH(tbldados[[#This Row],[DATA]]),\"JANEIRO\",\"FEVEREIRO\",\"MARÇO\",\"ABRIL\",\"MAIO\",\"JUNHO\",\"JULHO\",\"AGOSTO\",\"SETEMBRO\",\"OUTUBRO\",\"NOVEMBRO\",\"DEZEMBRO\")","v":"JULHO"},{"$f":"YEAR(tbldados[[#This Row],[DATA]])","v":2022}]
[914,"GASTOS","01 DE 01","CLARO","JUNIOR","GERAL","PAGMAE","CREDITO A VISTA",{"$f":"VLOOKUP(tbldados[[#This Row],[APP]],tblbandeira[],3,0)","v":0},44741,44752,45.99,{"$f":"tbldados[[#This Row],[VALOR PAGO]]+(tbldados[[#This Row],[VALOR PAGO]]*tbldados[[#This Row],[TAXA]])","v":45.99},{"$f":"tbldados[[#This Row],[TOTAL BRUTO]]-tbldados[[#This Row],[VALOR PAGO]]","v":0},{"$f":"CHOOSE(MONTH(tbldados[[#This Row],[DATA]]),\"JANEIRO\",\"FEVEREIRO\",\"MARÇO\",\"ABRIL\",\"MAIO\",\"JUNHO\",\"JULHO\",\"AGOSTO\",\"SETEMBRO\",\"OUTUBRO\",\"NOVEMBRO\",\"DEZEMBRO\")","v":"JULHO"},{"$f":"YEAR(tbldados[[#This Row],[DATA]])","v":2022}]
[915,"GASTOS","01 DE 01","JUROS","JUNIOR","GERAL","PAGMAE","CREDITO A VISTA",{"$f":"VLOOKUP(tbldados[[#This Row],[APP]],tblbandeira[],3,0)","v":0},44736,44752,19.989999999999998,{"$f":"tbldados[[#This Row],[VALOR PAGO]]+(tbldados[[#This Row],[VALOR PAGO]]*tbldados[[#This Row],[TAXA]])","v":19.989999999999998},{"$f":"tbldados[[#This Row],[TOTAL BRUTO]]-tbldados[[#This Row],[VALOR PAGO]]","v":0},{"$f":"CHOOSE(MONTH(tbldados[[#This Row],[DATA]]),\"JANEIRO\",\"FEVEREIRO\",\"MARÇO\",\"ABRIL\",\"MAIO\",\"JUNHO\",\"JULHO\",\"AGOSTO\",\"SETEMBRO\",\"OUTUBRO\",\"NOVEMBRO\",\"DEZEMBRO\")","v":"JULHO"},{"$f":"YEAR(tbldados[[#This Row],[DATA]])","v":2022}]
[916,"GASTOS","01 DE 01","JUROS","JUNIOR","GERAL","PAGMAE","CREDITO A VISTA",{"$f":"VLOOKUP(tbldados[[#This Row],[APP]],tblbandeira[],3,0)","v":0},44726,44752,19.54,{"$f":"tbldados[[#This Row],[VALOR PAGO]]+(tbldados[[#This Row],[VALOR PAGO]]*tbldados[[#This Row],[TAXA]])","v":19.54},{"$f":"tbldados[[#This Row],[TOTAL BRUTO]]-tbldados[[#This Row],[VALOR PAGO]]","v":0},{"$f":"CHOOSE(MONTH(tbldados[[#This Row],[DATA]]),\"JANEIRO\",\"FEVEREIRO\",\"MARÇO\",\"ABRIL\",\"MAIO\",\"JUNHO\",\"JULHO\",\"AGOSTO\",\"SETEMBRO\",\"OUTUBRO\",\"NOVEMBRO\",\"DEZEMBRO\")","v":"JULHO"},{"$f":"YEAR(tbldados[[#This Row],[DATA]])","v":2022}]
[917,"GASTOS","01 DE 01","PGTOPAGMAE","JUNIOR","RECARGAPAY","PAGMAE","CREDITO A VISTA",{"$f":"VLOOKUP(tbldados[[#This Row],[APP]],tblbandeira[],3,0)","v":3.49E-2},44723,44752,3924.29,{"$f":"tbldados[[#This Row],[VALOR PAGO]]+(tbldados[[#This Row],[VALOR PAGO]]*tbldados[[#This Row],[TAXA]])","v":4061.2477209999997},{"$f":"tbldados[[#This Row],[TOTAL BRUTO]]-tbldados[[#This Row],[VALOR PAGO]]","v":136.95772099999976},{"$f":"CHOOSE(MONTH(tbldados[[#This Row],[DATA]]),\"JANEIRO\",\"FEVEREIRO\",\"MARÇO\",\"ABRIL\",\"MAIO\",\"JUNHO\",\"JULHO\",\"AGOSTO\",\"SETEMBRO\",\"OUTUBRO\",\"NOVEMBRO\",\"DEZEMBRO\")","v":"JULHO"},{"$f":"YEAR(tbldados[[#This Row],[DATA]])","v":2022}]
[918,"GASTOS","01 DE 12","ROUPAS","JUNIOR","GERAL","PAGMAE","CREDITO PARCELADO",{"$f":"VLOOKUP(tbldados[[#This Row],[APP]],tblbandeira[],3,0)","v":0},44749,44783,43.16,{"$f":"tbldados[[#This Row],[VALOR PAGO]]+(tbldados[[#This Row],[VALOR PAGO]]*tbldados[[#This Row],[TAXA]])","v":43.16},{"$f":"tbldados[[#This Row],[TOTAL BRUTO]]-tbldados[[#This Row],[VALOR PAGO]]","v":0},{"$f":"CHOOSE(MONTH(tbldados[[#This Row],[DATA]]),\"JANEIRO\",\"FEVEREIRO\",\"MARÇO\",\"ABRIL\",\"MAIO\",\"JUNHO\",\"JULHO\",\"AGOSTO\",\"SETEMBRO\",\"OUTUBRO\",\"NOVEMBRO\",\"DEZEMBRO\")","v":"AGOSTO"},{"$f":"YEAR(tbldados[[#This Row],[DATA]])","v":2022}]
[919,"GASTOS","02 DE 12","ROUPAS","JUNIOR","GERAL","PAGMAE","CREDITO PARCELADO",{"$f":"VLOOKUP(tbldados[[#This Row],[APP]],tblbandeira[],3,0)","v":0},44749,44814,43.16,{"$f":"tbldados[[#This Row],[VALOR PAGO]]+(tbldados[[#This Row],[VALOR PAGO]]*tbldados[[#This Row],[TAXA]])","v":43.16},{"$f":"tbldados[[#This Row],[TOTAL BRUTO]]-tbldados[[#This Row],[VALOR PAGO]]","v":0},{"$f":"CHOOSE(MONTH(tbldados[[#This Row],[DATA]]),\"JANEIRO\",\"FEVEREIRO\",\"MARÇO\",\"ABRIL\",\"MAIO\",\"JUNHO\",\"JULHO\",\"AGOSTO\",\"SETEMBRO\",\"OUTUBRO\",\"NOVEMBRO\",\"DEZEMBRO\")","v":"SETEMBRO"},{"$f":"YEAR(tbldados[[#This Row],[DATA]])","v":2022}]
[920,"GASTOS","03 DE 12","ROUPAS","JUNIOR","GERAL","PAGMAE","CREDITO PARCELADO",{"$f":"VLOOKUP(tbldados[[#This Row],[APP]],tblbandeira[],3,0)","v":0},44749,44844,43.16,{"$f":"tbldados[[#This Row],[VALOR PAGO]]+(tbldados[[#This Row],[VALOR PAGO]]*tbldados[[#This Row],[TAXA]])","v":43.16},{"$f":"tbldados[[#This Row],[TOTAL BRUTO]]-tbldados[[#This Row],[VALOR PAGO]]","v":0},{"$f":"CHOOSE(MONTH(tbldados[[#This Row],[DATA]]),\"JANEIRO\",\"FEVEREIRO\",\"MARÇO\",\"ABRIL\",\"MAIO\",\"JUNHO\",\"JULHO\",\"AGOSTO\",\"SETEMBRO\",\"OUTUBRO\",\"NOVEMBRO\",\"DEZEMBRO\")","v":"OUTUBRO"},{"$f":"YEAR(tbldados[[#This Row],[DATA]])","v":2022}]
[921,"GASTOS","04 DE 12","ROUPAS","JUNIOR","GERAL","PAGMAE","CREDITO PARCELADO",{"$f":"VLOOKUP(tbldados[[#This Row],[APP]],tblbandeira[],3,0)","v":0},44749,44875,43.16,{"$f":"tbldados[[#This Row],[VALOR PAGO]]+(tbldados[[#This Row],[VALOR PAGO]]*tbldados[[#This Row],[TAXA]])","v":43.16},{"$f":"tbldados[[#This Row],[TOTAL BRUTO]]-tbldados[[#This Row],[VALOR PAGO]]","v":0},{"$f":"CHOOSE(MONTH(tbldados[[#This Row],[DATA]]),\"JANEIRO\",\"FEVEREIRO\",\"MARÇO\",\"ABRIL\",\"MAIO\",\"JUNHO\",\"JULHO\",\"AGOSTO\",\"SETEMBRO\",\"OUTUBRO\",\"NOVEMBRO\",\"DEZEMBRO\")","v":"NOVEMBRO"},{"$f":"YEAR(tbldados[[#This Row],[DATA]])","v":2022}]
[922,"GASTOS","05 DE 12","ROUPAS","JUNIOR","GERAL","PAGMAE","CREDITO PARCELADO",{"$f":"VLOOKUP(tbldados[[#This Row],[APP]],tblbandeira[],3,0)","v":0},44749,44905,43.16,{"$f":"tbldados[[#This Row],[VALOR PAGO]]+(tbldados[[#This Row],[VALOR PAGO]]*tbldados[[#This Row],[TAXA]])","v":43.16},{"$f":"tbldados[[#This Row],[TOTAL BRUTO]]-tbldados[[#This Row],[VALOR PAGO]]","v":0},{"$f":"CHOOSE(MONTH(tbldados[[#This Row],[DATA]]),\"JANEIRO\",\"FEVEREIRO\",\"MARÇO\",\"ABRIL\",\"MAIO\",\"JUNHO\",\"JULHO\",\"AGOSTO\",\"SETEMBRO\",\"OUTUBRO\",\"NOVEMBRO\",\"DEZEMBRO\")","v":"DEZEMBRO"},{"$f":"YEAR(tbldados[[#This Row],[DATA]])","v":2022}]
[923,"GASTOS","06 DE 12","ROUPAS","JUNIOR","GERAL","PAGMAE","CREDITO PARCELADO",{"$f":"VLOOKUP(tbldados[[#This Row],[APP]],tblbandeira[],3,0)","v":0},44749,44936,43.16,{"$f":"tbldados[[#This Row],[VALOR PAGO]]+(tbldados[[#This Row],[VALOR PAGO]]*tbldados[[#This Row],[TAXA]])","v":43.16},{"$f":"tbldados[[#This Row],[TOTAL BRUTO]]-tbldados[[#This Row],[VALOR PAGO]]","v":0},{"$f":"CHOOSE(MONTH(tbldados[[#This Row],[DATA]]),\"JANEIRO\",\"FEVEREIRO\",\"MARÇO\",\"ABRIL\",\"MAIO\",\"JUNHO\",\"JULHO\",\"AGOSTO\",\"SETEMBRO\",\"OUTUBRO\",\"NOVEMBRO\",\"DEZEMBRO\")","v":"JANEIRO"},{"$f":"YEAR(tbldados[[#This Row],[DATA]])","v":2023}]
[924,"GASTOS","07 DE 12","ROUPAS","JUNIOR","GERAL","PAGMAE","CREDITO PARCELADO",{"$f":"VLOOKUP(tbldados[[#This Row],[APP]],tblbandeira[],3,0)","v":0},44749,44967,43.16,{"$f":"tbldados[[#This Row],[VALOR PAGO]]+(tbldados[[#This Row],[VALOR PAGO]]*tbldados[[#This Row],[TAXA]])","v":43.16},{"$f":"tbldados[[#This Row],[TOTAL BRUTO]]-tbldados[[#This Row],[VALOR PAGO]]","v":0},{"$f":"CHOOSE(MONTH(tbldados[[#This Row],[DATA]]),\"JANEIRO\",\"FEVEREIRO\",\"MARÇO\",\"ABRIL\",\"MAIO\",\"JUNHO\",\"JULHO\",\"AGOSTO\",\"SETEMBRO\",\"OUTUBRO\",\"NOVEMBRO\",\"DEZEMBRO\")","v":"FEVEREIRO"},{"$f":"YEAR(tbldados[[#This Row],[DATA]])","v":2023}]
[925,"GASTOS","08 DE 12","ROUPAS","JUNIOR","GERAL","PAGMAE","CREDITO PARCELADO",{"$f":"VLOOKUP(tbldados[[#This Row],[APP]],tblbandeira[],3,0)","v":0},44749,44995,43.16,{"$f":"tbldados[[#This Row],[VALOR PAGO]]+(tbldados[[#This Row],[VALOR PAGO]]*tbldados[[#This Row],[TAXA]])","v":43.16},{"$f":"tbldados[[#This Row],[TOTAL BRUTO]]-tbldados[[#This Row],[VALOR PAGO]]","v":0},{"$f":"CHOOSE(MONTH(tbldados[[#This Row],[DATA]]),\"JANEIRO\",\"FEVEREIRO\",\"MARÇO\",\"ABRIL\",\"MAIO\",\"JUNHO\",\"JULHO\",\"AGOSTO\",\"SETEMBRO\",\"OUTUBRO\",\"NOVEMBRO\",\"DEZEMBRO\")","v":"MARÇO"},{"$f":"YEAR(tbldados[[#This Row],[DATA]])","v":2023}]
[926,"GASTOS","09 DE 12","ROUPAS","JUNIOR","GERAL","PAGMAE","CREDITO PARCELADO",{"$f":"VLOOKUP(tbldados[[#This Row],[APP]],tblbandeira[],3,0)","v":0},44749,45026,43.16,{"$f":"tbldados[[#This Row],[VALOR PAGO]]+(tbldados[[#This Row],[VALOR PAGO]]*tbldados[[#This Row],[TAXA]])","v":43.16},{"$f":"tbldados[[#This Row],[TOTAL BRUTO]]-tbldados[[#This Row],[VALOR PAGO]]","v":0},{"$f":"CHOOSE(MONTH(tbldados[[#This Row],[DATA]]),\"JANEIRO\",\"FEVEREIRO\",\"MARÇO\",\"ABRIL\",\"MAIO\",\"JUNHO\",\"JULHO\",\"AGOSTO\",\"SETEMBRO\",\"OUTUBRO\",\"NOVEMBRO\",\"DEZEMBRO\")","v":"ABRIL"},{"$f":"YEAR(tbldados[[#This Row],[DATA]])","v":2023}]
[927,"GASTOS","10 DE 12","ROUPAS","JUNIOR","GERAL","PAGMAE","CREDITO PARCELADO",{"$f":"VLOOKUP(tbldados[[#This Row],[APP]],tblbandeira[],3,0)","v":0},44749,45056,43.16,{"$f":"tbldados[[#This Row],[VALOR PAGO]]+(tbldados[[#This Row],[VALOR PAGO]]*tbldados[[#This Row],[TAXA]])","v":43.16},{"$f":"tbldados[[#This Row],[TOTAL BRUTO]]-tbldados[[#This Row],[VALOR PAGO]]","v":0},{"$f":"CHOOSE(MONTH(tbldados[[#This Row],[DATA]]),\"JANEIRO\",\"FEVEREIRO\",\"MARÇO\",\"ABRIL\",\"MAIO\",\"JUNHO\",\"JULHO\",\"AGOSTO\",\"SETEMBRO\",\"OUTUBRO\",\"NOVEMBRO\",\"DEZEMBRO\")","v":"MAIO"},{"$f":"YEAR(tbldados[[#This Row],[DATA]])","v":2023}]
[928,"GASTOS","11 DE 12","ROUPAS","JUNIOR","GERAL","PAGMAE","CREDITO PARCELADO",{"$f":"VLOOKUP(tbldados[[#This Row],[APP]],tblbandeira[],3,0)","v":0},44749,45087,43.16,{"$f":"tbldados[[#This Row],[VALOR PAGO]]+(tbldados[[#This Row],[VALOR PAGO]]*tbldados[[#This Row],[TAXA]])","v":43.16},{"$f":"tbldados[[#This Row],[TOTAL BRUTO]]-tbldados[[#This Row],[VALOR PAGO]]","v":0},{"$f":"CHOOSE(MONTH(tbldados[[#This Row],[DATA]]),\"JANEIRO\",\"FEVEREIRO\",\"MARÇO\",\"ABRIL\",\"MAIO\",\"JUNHO\",\"JULHO\",\"AGOSTO\",\"SETEMBRO\",\"OUTUBRO\",\"NOVEMBRO\",\"DEZEMBRO\")","v":"JUNHO"},{"$f":"YEAR(tbldados[[#This Row],[DATA]])","v":2023}]
[929,"GASTOS","12 DE 12","ROUPAS","JUNIOR","GERAL","PAGMAE","CREDITO PARCELADO",{"$f":"VLOOKUP(tbldados[[#This Row],[APP]],tblbandeira[],3,0)","v":0},44749,45117,43.16,{"$f":"tbldados[[#This Row],[VALOR PAGO]]+(tbldados[[#This Row],[VALOR PAGO]]*tbldados[[#This Row],[TAXA]])","v":43.16},{"$f":"tbldados[[#This Row],[TOTAL BRUTO]]-tbldados[[#This Row],[VALOR PAGO]]","v":0},{"$f":"CHOOSE(MONTH(tbldados[[#This Row],[DATA]]),\"JANEIRO\",\"FEVEREIRO\",\"MARÇO\",\"ABRIL\",\"MAIO\",\"JUNHO\",\"JULHO\",\"AGOSTO\",\"SETEMBRO\",\"OUTUBRO\",\"NOVEMBRO\",\"DEZEMBRO\")","v":"JULHO"},{"$f":"YEAR(tbldados[[#This Row],[DATA]])","v":2023}]
[930,"PGTO","01 DE 01","PAGMAE","JULHO","RECARGAPAY","TRIGMAE","CREDITO A VISTA",{"$f":"VLOOKUP(tbldados[[#This Row],[APP]],tblbandeira[],3,0)","v":3.49E-2},44753,44793,825.95,{"$f":"tbldados[[#This Row],[VALOR PAGO]]+(tbldados[[#This Row],[VALOR PAGO]]*tbldados[[#This Row],[TAXA]])","v":854.77565500000003},{"$f":"tbldados[[#This Row],[TOTAL BRUTO]]-tbldados[[#This Row],[VALOR PAGO]]","v":28.825654999999983},{"$f":"CHOOSE(MONTH(tbldados[[#This Row],[DATA]]),\"JANEIRO\",\"FEVEREIRO\",\"MARÇO\",\"ABRIL\",\"MAIO\",\"JUNHO\",\"JULHO\",\"AGOSTO\",\"SETEMBRO\",\"OUTUBRO\",\"NOVEMBRO\",\"DEZEMBRO\")","v":"AGOSTO"},{"$f":"YEAR(tbldados[[#This Row],[DATA]])","v":2022}]
[931,"GASTOS","01 DE 01","PGTOPAGMAE","JUNIOR","RECARGAPAY","TRIGMAE","CREDITO A VISTA",{"$f":"VLOOKUP(tbldados[[#This Row],[APP]],tblbandeira[],3,0)","v":3.49E-2},44753,44793,825.95,{"$f":"tbldados[[#This Row],[VALOR PAGO]]+(tbldados[[#This Row],[VALOR PAGO]]*tbldados[[#This Row],[TAXA]])","v":854.77565500000003},{"$f":"tbldados[[#This Row],[TOTAL BRUTO]]-tbldados[[#This Row],[VALOR PAGO]]","v":28.825654999999983},{"$f":"CHOOSE(MONTH(tbldados[[#This Row],[DATA]]),\"JANEIRO\",\"FEVEREIRO\",\"MARÇO\",\"ABRIL\",\"MAIO\",\"JUNHO\",\"JULHO\",\"AGOSTO\",\"SETEMBRO\",\"OUTUBRO\",\"NOVEMBRO\",\"DEZEMBRO\")","v":"AGOSTO"},{"$f":"YEAR(tbldados[[#This Row],[DATA]])","v":2022}]
[932,"PGTO","01 DE 01","PAGMAE","JULHO","RECARGAPAY","PAGMAE","CREDITO A VISTA",{"$f":"VLOOKUP(tbldados[[#This Row],[APP]],tblbandeira[],3,0)","v":3.49E-2},44753,44783,1318,{"$f":"tbldados[[#This Row],[VALOR PAGO]]+(tbldados[[#This Row],[VALOR PAGO]]*tbldados[[#This Row],[TAXA]])","v":1363.9982},{"$f":"tbldados[[#This Row],[TOTAL BRUTO]]-tbldados[[#This Row],[VALOR PAGO]]","v":45.998199999999997},{"$f":"CHOOSE(MONTH(tbldados[[#This Row],[DATA]]),\"JANEIRO\",\"FEVEREIRO\",\"MARÇO\",\"ABRIL\",\"MAIO\",\"JUNHO\",\"JULHO\",\"AGOSTO\",\"SETEMBRO\",\"OUTUBRO\",\"NOVEMBRO\",\"DEZEMBRO\")","v":"AGOSTO"},{"$f":"YEAR(tbldados[[#This Row],[DATA]])","v":2022}]
[933,"GASTOS","01 DE 01","PGTOPAGMAE","JUNIOR","RECARGAPAY","PAGMAE","CREDITO A VISTA",{"$f":"VLOOKUP(tbldados[[#This Row],[APP]],tblbandeira[],3,0)","v":3.49E-2},44753,44783,1318,{"$f":"tbldados[[#This Row],[VALOR PAGO]]+(tbldados[[#This Row],[VALOR PAGO]]*tbldados[[#This Row],[TAXA]])","v":1363.9982},{"$f":"tbldados[[#This Row],[TOTAL BRUTO]]-tbldados[[#This Row],[VALOR PAGO]]","v":45.998199999999997},{"$f":"CHOOSE(MONTH(tbldados[[#This Row],[DATA]]),\"JANEIRO\",\"FEVEREIRO\",\"MARÇO\",\"ABRIL\",\"MAIO\",\"JUNHO\",\"JULHO\",\"AGOSTO\",\"SETEMBRO\",\"OUTUBRO\",\"NOVEMBRO\",\"DEZEMBRO\")","v":"AGOSTO"},{"$f":"YEAR(tbldados[[#This Row],[DATA]])","v":2022}]
[934,"PGTO","01 DE 01","PAGMAE","JULHO","CONTA","DÉBITO","DINHEIRO",{"$f":"VLOOKUP(tbldados[[#This Row],[APP]],tblbandeira[],3,0)","v":0},44753,44753,16.2,{"$f":"tbldados[[#This Row],[VALOR PAGO]]+(tbldados[[#This Row],[VALOR PAGO]]*tbldados[[#This Row],[TAXA]])","v":16.2},{"$f":"tbldados[[#This Row],[TOTAL BRUTO]]-tbldados[[#This Row],[VALOR PAGO]]","v":0},{"$f":"CHOOSE(MONTH(tbldados[[#This Row],[DATA]]),\"JANEIRO\",\"FEVEREIRO\",\"MARÇO\",\"ABRIL\",\"MAIO\",\"JUNHO\",\"JULHO\",\"AGOSTO\",\"SETEMBRO\",\"OUTUBRO\",\"NOVEMBRO\",\"DEZEMBRO\")","v":"JULHO"},{"$f":"YEAR(tbldados[[#This Row],[DATA]])","v":2022}]
[935,"PGTO","01 DE 01","PAGMAE","JULHO","RECARGAPAY","PAGMAE","CREDITO A VISTA",{"$f":"VLOOKUP(tbldados[[#This Row],[APP]],tblbandeira[],3,0)","v":3.49E-2},44753,44783,1279,{"$f":"tbldados[[#This Row],[VALOR PAGO]]+(tbldados[[#This Row],[VALOR PAGO]]*tbldados[[#This Row],[TAXA]])","v":1323.6370999999999},{"$f":"tbldados[[#This Row],[TOTAL BRUTO]]-tbldados[[#This Row],[VALOR PAGO]]","v":44.637099999999919},{"$f":"CHOOSE(MONTH(tbldados[[#This Row],[DATA]]),\"JANEIRO\",\"FEVEREIRO\",\"MARÇO\",\"ABRIL\",\"MAIO\",\"JUNHO\",\"JULHO\",\"AGOSTO\",\"SETEMBRO\",\"OUTUBRO\",\"NOVEMBRO\",\"DEZEMBRO\")","v":"AGOSTO"},{"$f":"YEAR(tbldados[[#This Row],[DATA]])","v":2022}]
[936,"GASTOS","01 DE 01","PGTOPAGMAE","JUNIOR","RECARGAPAY","PAGMAE","CREDITO A VISTA",{"$f":"VLOOKUP(tbldados[[#This Row],[APP]],tblbandeira[],3,0)","v":3.49E-2},44753,44783,1279,{"$f":"tbldados[[#This Row],[VALOR PAGO]]+(tbldados[[#This Row],[VALOR PAGO]]*tbldados[[#This Row],[TAXA]])","v":1323.6370999999999},{"$f":"tbldados[[#This Row],[TOTAL BRUTO]]-tbldados[[#This Row],[VALOR PAGO]]","v":44.637099999999919},{"$f":"CHOOSE(MONTH(tbldados[[#This Row],[DATA]]),\"JANEIRO\",\"FEVEREIRO\",\"MARÇO\",\"ABRIL\",\"MAIO\",\"JUNHO\",\"JULHO\",\"AGOSTO\",\"SETEMBRO\",\"OUTUBRO\",\"NOVEMBRO\",\"DEZEMBRO\")","v":"AGOSTO"},{"$f":"YEAR(tbldados[[#This Row],[DATA]])","v":2022}]
[937,"PGTO","01 DE 01","PAGMAE","JULHO","CONTA","DÉBITO","DINHEIRO",{"$f":"VLOOKUP(tbldados[[#This Row],[APP]],tblbandeira[],3,0)","v":0},44753,44753,65.5,{"$f":"tbldados[[#This Row],[VALOR PAGO]]+(tbldados[[#This Row],[VALOR PAGO]]*tbldados[[#This Row],[TAXA]])","v":65.5},{"$f":"tbldados[[#This Row],[TOTAL BRUTO]]-tbldados[[#This Row],[VALOR PAGO]]","v":0},{"$f":"CHOOSE(MONTH(tbldados[[#This Row],[DATA]]),\"JANEIRO\",\"FEVEREIRO\",\"MARÇO\",\"ABRIL\",\"MAIO\",\"JUNHO\",\"JULHO\",\"AGOSTO\",\"SETEMBRO\",\"OUTUBRO\",\"NOVEMBRO\",\"DEZEMBRO\")","v":"JULHO"},{"$f":"YEAR(tbldados[[#This Row],[DATA]])","v":2022}]
[938,"PGTO","01 DE 01","PAGMAE","JULHO","RECARGAPAY","PAGMAE","CREDITO A VISTA",{"$f":"VLOOKUP(tbldados[[#This Row],[APP]],tblbandeira[],3,0)","v":3.49E-2},44753,44783,1293.4100000000001,{"$f":"tbldados[[#This Row],[VALOR PAGO]]+(tbldados[[#This Row],[VALOR PAGO]]*tbldados[[#This Row],[TAXA]])","v":1338.550009},{"$f":"tbldados[[#This Row],[TOTAL BRUTO]]-tbldados[[#This Row],[VALOR PAGO]]","v":45.140008999999964},{"$f":"CHOOSE(MONTH(tbldados[[#This Row],[DATA]]),\"JANEIRO\",\"FEVEREIRO\",\"MARÇO\",\"ABRIL\",\"MAIO\",\"JUNHO\",\"JULHO\",\"AGOSTO\",\"SETEMBRO\",\"OUTUBRO\",\"NOVEMBRO\",\"DEZEMBRO\")","v":"AGOSTO"},{"$f":"YEAR(tbldados[[#This Row],[DATA]])","v":2022}]
[939,"GASTOS","01 DE 01","PGTOPAGMAE","JUNIOR","RECARGAPAY","PAGMAE","CREDITO A VISTA",{"$f":"VLOOKUP(tbldados[[#This Row],[APP]],tblbandeira[],3,0)","v":3.49E-2},44753,44783,1293.4100000000001,{"$f":"tbldados[[#This Row],[VALOR PAGO]]+(tbldados[[#This Row],[VALOR PAGO]]*tbldados[[#This Row],[TAXA]])","v":1338.550009},{"$f":"tbldados[[#This Row],[TOTAL BRUTO]]-tbldados[[#This Row],[VALOR PAGO]]","v":45.140008999999964},{"$f":"CHOOSE(MONTH(tbldados[[#This Row],[DATA]]),\"JANEIRO\",\"FEVEREIRO\",\"MARÇO\",\"ABRIL\",\"MAIO\",\"JUNHO\",\"JULHO\",\"AGOSTO\",\"SETEMBRO\",\"OUTUBRO\",\"NOVEMBRO\",\"DEZEMBRO\")","v":"AGOSTO"},{"$f":"YEAR(tbldados[[#This Row],[DATA]])","v":2022}]
[940,"PGTO","01 DE 01","PAGMAE","JULHO","RECARGAPAY","PAGMAE","CREDITO A VISTA",{"$f":"VLOOKUP(tbldados[[#This Row],[APP]],tblbandeira[],3,0)","v":3.49E-2},44753,44783,1243.9000000000001,{"$f":"tbldados[[#This Row],[VALOR PAGO]]+(tbldados[[#This Row],[VALOR PAGO]]*tbldados[[#This Row],[TAXA]])","v":1287.3121100000001},{"$f":"tbldados[[#This Row],[TOTAL BRUTO]]-tbldados[[#This Row],[VALOR PAGO]]","v":43.412109999999984},{"$f":"CHOOSE(MONTH(tbldados[[#This Row],[DATA]]),\"JANEIRO\",\"FEVEREIRO\",\"MARÇO\",\"ABRIL\",\"MAIO\",\"JUNHO\",\"JULHO\",\"AGOSTO\",\"SETEMBRO\",\"OUTUBRO\",\"NOVEMBRO\",\"DEZEMBRO\")","v":"AGOSTO"},{"$f":"YEAR(tbldados[[#This Row],[DATA]])","v":2022}]
[941,"GASTOS","01 DE 01","PGTOPAGMAE","JUNIOR","RECARGAPAY","PAGMAE","CREDITO A VISTA",{"$f":"VLOOKUP(tbldados[[#This Row],[APP]],tblbandeira[],3,0)","v":3.49E-2},44753,44783,1243.9000000000001,{"$f":"tbldados[[#This Row],[VALOR PAGO]]+(tbldados[[#This Row],[VALOR PAGO]]*tbldados[[#This Row],[TAXA]])","v":1287.3121100000001},{"$f":"tbldados[[#This Row],[TOTAL BRUTO]]-tbldados[[#This Row],[VALOR PAGO]]","v":43.412109999999984},{"$f":"CHOOSE(MONTH(tbldados[[#This Row],[DATA]]),\"JANEIRO\",\"FEVEREIRO\",\"MARÇO\",\"ABRIL\",\"MAIO\",\"JUNHO\",\"JULHO\",\"AGOSTO\",\"SETEMBRO\",\"OUTUBRO\",\"NOVEMBRO\",\"DEZEMBRO\")","v":"AGOSTO"},{"$f":"YEAR(tbldados[[#This Row],[DATA]])","v":2022}]
[942,"PGTO","01 DE 01","PAGMAE","JULHO","RECARGAPAY","PAGMAE","CREDITO A VISTA",{"$f":"VLOOKUP(tbldados[[#This Row],[APP]],tblbandeira[],3,0)","v":3.49E-2},44753,44783,1196.2,{"$f":"tbldados[[#This Row],[VALOR PAGO]]+(tbldados[[#This Row],[VALOR PAGO]]*tbldados[[#This Row],[TAXA]])","v":1237.9473800000001},{"$f":"tbldados[[#This Row],[TOTAL BRUTO]]-tbldados[[#This Row],[VALOR PAGO]]","v":41.747380000000021},{"$f":"CHOOSE(MONTH(tbldados[[#This Row],[DATA]]),\"JANEIRO\",\"FEVEREIRO\",\"MARÇO\",\"ABRIL\",\"MAIO\",\"JUNHO\",\"JULHO\",\"AGOSTO\",\"SETEMBRO\",\"OUTUBRO\",\"NOVEMBRO\",\"DEZEMBRO\")","v":"AGOSTO"},{"$f":"YEAR(tbldados[[#This Row],[DATA]])","v":2022}]
[943,"GASTOS","01 DE 01","PGTOPAGMAE","JUNIOR","RECARGAPAY","PAGMAE","CREDITO A VISTA",{"$f":"VLOOKUP(tbldados[[#This Row],[APP]],tblbandeira[],3,0)","v":3.49E-2},44753,44783,1196.2,{"$f":"tbldados[[#This Row],[VALOR PAGO]]+(tbldados[[#This Row],[VALOR PAGO]]*tbldados[[#This Row],[TAXA]])","v":1237.9473800000001},{"$f":"tbldados[[#This Row],[TOTAL BRUTO]]-tbldados[[#This Row],[VALOR PAGO]]","v":41.747380000000021},{"$f":"CHOOSE(MONTH(tbldados[[#This Row],[DATA]]),\"JANEIRO\",\"FEVEREIRO\",\"MARÇO\",\"ABRIL\",\"MAIO\",\"JUNHO\",\"JULHO\",\"AGOSTO\",\"SETEMBRO\",\"OUTUBRO\",\"NOVEMBRO\",\"DEZEMBRO\")","v":"AGOSTO"},{"$f":"YEAR(tbldados[[#This Row],[DATA]])","v":2022}]
[944,"PGTO","01 DE 01","PAGMAE","JULHO","RECARGAPAY","PAGMAE","CREDITO A VISTA",{"$f":"VLOOKUP(tbldados[[#This Row],[APP]],tblbandeira[],3,0)","v":3.49E-2},44753,44783,212.82,{"$f":"tbldados[[#This Row],[VALOR PAGO]]+(tbldados[[#This Row],[VALOR PAGO]]*tbldados[[#This Row],[TAXA]])","v":220.24741799999998},{"$f":"tbldados[[#This Row],[TOTAL BRUTO]]-tbldados[[#This Row],[VALOR PAGO]]","v":7.4274179999999888},{"$f":"CHOOSE(MONTH(tbldados[[#This Row],[DATA]]),\"JANEIRO\",\"FEVEREIRO\",\"MARÇO\",\"ABRIL\",\"MAIO\",\"JUNHO\",\"JULHO\",\"AGOSTO\",\"SETEMBRO\",\"OUTUBRO\",\"NOVEMBRO\",\"DEZEMBRO\")","v":"AGOSTO"},{"$f":"YEAR(tbldados[[#This Row],[DATA]])","v":2022}]
[945,"GASTOS","01 DE 01","PGTOPAGMAE","JUNIOR","RECARGAPAY","PAGMAE","CREDITO A VISTA",{"$f":"VLOOKUP(tbldados[[#This Row],[APP]],tblbandeira[],3,0)","v":3.49E-2},44753,44783,212.82,{"$f":"tbldados[[#This Row],[VALOR PAGO]]+(tbldados[[#This Row],[VALOR PAGO]]*tbldados[[#This Row],[TAXA]])","v":220.24741799999998},{"$f":"tbldados[[#This Row],[TOTAL BRUTO]]-tbldados[[#This Row],[VALOR PAGO]]","v":7.4274179999999888},{"$f":"CHOOSE(MONTH(tbldados[[#This Row],[DATA]]),\"JANEIRO\",\"FEVEREIRO\",\"MARÇO\",\"ABRIL\",\"MAIO\",\"JUNHO\",\"JULHO\",\"AGOSTO\",\"SETEMBRO\",\"OUTUBRO\",\"NOVEMBRO\",\"DEZEMBRO\")","v":"AGOSTO"},{"$f":"YEAR(tbldados[[#This Row],[DATA]])","v":2022}]
[946,"GASTOS","01 DE 01","ALMOÇO E JANTA","JUNIOR","GERAL","NUBANK","CREDITO A VISTA",{"$f":"VLOOKUP(tbldados[[#This Row],[APP]],tblbandeira[],3,0)","v":0},44724,44755,149.38999999999999,{"$f":"tbldados[[#This Row],[VALOR PAGO]]+(tbldados[[#This Row],[VALOR PAGO]]*tbldados[[#This Row],[TAXA]])","v":149.38999999999999},{"$f":"tbldados[[#This Row],[TOTAL BRUTO]]-tbldados[[#This Row],[VALOR PAGO]]","v":0},{"$f":"CHOOSE(MONTH(tbldados[[#This Row],[DATA]]),\"JANEIRO\",\"FEVEREIRO\",\"MARÇO\",\"ABRIL\",\"MAIO\",\"JUNHO\",\"JULHO\",\"AGOSTO\",\"SETEMBRO\",\"OUTUBRO\",\"NOVEMBRO\",\"DEZEMBRO\")","v":"JULHO"},{"$f":"YEAR(tbldados[[#This Row],[DATA]])","v":2022}]
[947,"PGTO","01 DE 01","NUBANK","JULHO","RECARGAPAY","NCARD","CREDITO A VISTA",{"$f":"VLOOKUP(tbldados[[#This Row],[APP]],tblbandeira[],3,0)","v":3.49E-2},44754,44782,1394.05,{"$f":"tbldados[[#This Row],[VALOR PAGO]]+(tbldados[[#This Row],[VALOR PAGO]]*tbldados[[#This Row],[TAXA]])","v":1442.7023449999999},{"$f":"tbldados[[#This Row],[TOTAL BRUTO]]-tbldados[[#This Row],[VALOR PAGO]]","v":48.652344999999968},{"$f":"CHOOSE(MONTH(tbldados[[#This Row],[DATA]]),\"JANEIRO\",\"FEVEREIRO\",\"MARÇO\",\"ABRIL\",\"MAIO\",\"JUNHO\",\"JULHO\",\"AGOSTO\",\"SETEMBRO\",\"OUTUBRO\",\"NOVEMBRO\",\"DEZEMBRO\")","v":"AGOSTO"},{"$f":"YEAR(tbldados[[#This Row],[DATA]])","v":2022}]
[948,"PGTO","01 DE 01","NUBANK","JULHO","RECARGAPAY","NUBANK","CREDITO A VISTA",{"$f":"VLOOKUP(tbldados[[#This Row],[APP]],tblbandeira[],3,0)","v":3.49E-2},44754,44786,1533.49,{"$f":"tbldados[[#This Row],[VALOR PAGO]]+(tbldados[[#This Row],[VALOR PAGO]]*tbldados[[#This Row],[TAXA]])","v":1587.0088009999999},{"$f":"tbldados[[#This Row],[TOTAL BRUTO]]-tbldados[[#This Row],[VALOR PAGO]]","v":53.518800999999939},{"$f":"CHOOSE(MONTH(tbldados[[#This Row],[DATA]]),\"JANEIRO\",\"FEVEREIRO\",\"MARÇO\",\"ABRIL\",\"MAIO\",\"JUNHO\",\"JULHO\",\"AGOSTO\",\"SETEMBRO\",\"OUTUBRO\",\"NOVEMBRO\",\"DEZEMBRO\")","v":"AGOSTO"},{"$f":"YEAR(tbldados[[#This Row],[DATA]])","v":2022}]
[949,"GASTOS","01 DE 01","PGTONUBANK","JUNIOR","RECARGAPAY","NUBANK","CREDITO A VISTA",{"$f":"VLOOKUP(tbldados[[#This Row],[APP]],tblbandeira[],3,0)","v":3.49E-2},44754,44786,1533.49,{"$f":"tbldados[[#This Row],[VALOR PAGO]]+(tbldados[[#This Row],[VALOR PAGO]]*tbldados[[#This Row],[TAXA]])","v":1587.0088009999999},{"$f":"tbldados[[#This Row],[TOTAL BRUTO]]-tbldados[[#This Row],[VALOR PAGO]]","v":53.518800999999939},{"$f":"CHOOSE(MONTH(tbldados[[#This Row],[DATA]]),\"JANEIRO\",\"FEVEREIRO\",\"MARÇO\",\"ABRIL\",\"MAIO\",\"JUNHO\",\"JULHO\",\"AGOSTO\",\"SETEMBRO\",\"OUTUBRO\",\"NOVEMBRO\",\"DEZEMBRO\")","v":"AGOSTO"},{"$f":"YEAR(tbldados[[#This Row],[DATA]])","v":2022}]
[950,"PGTO","01 DE 01","NUBANK","JULHO","RECARGAPAY","NUBANK","CREDITO A VISTA",{"$f":"VLOOKUP(tbldados[[#This Row],[APP]],tblbandeira[],3,0)","v":3.49E-2},44754,44786,1221.83,{"$f":"tbldados[[#This Row],[VALOR PAGO]]+(tbldados[[#This Row],[VALOR PAGO]]*tbldados[[#This Row],[TAXA]])","v":1264.471867},{"$f":"tbldados[[#This Row],[TOTAL BRUTO]]-tbldados[[#This Row],[VALOR PAGO]]","v":42.641867000000047},{"$f":"CHOOSE(MONTH(tbldados[[#This Row],[DATA]]),\"JANEIRO\",\"FEVEREIRO\",\"MARÇO\",\"ABRIL\",\"MAIO\",\"JUNHO\",\"JULHO\",\"AGOSTO\",\"SETEMBRO\",\"OUTUBRO\",\"NOVEMBRO\",\"DEZEMBRO\")","v":"AGOSTO"},{"$f":"YEAR(tbldados[[#This Row],[DATA]])","v":2022}]
[951,"GASTOS","01 DE 01","DIVERSOS-JANTA","JUNIOR","GERAL","INTER","CREDITO A VISTA",{"$f":"VLOOKUP(tbldados[[#This Row],[APP]],tblbandeira[],3,0)","v":0},44726,44757,103.99,{"$f":"tbldados[[#This Row],[VALOR PAGO]]+(tbldados[[#This Row],[VALOR PAGO]]*tbldados[[#This Row],[TAXA]])","v":103.99},{"$f":"tbldados[[#This Row],[TOTAL BRUTO]]-tbldados[[#This Row],[VALOR PAGO]]","v":0},{"$f":"CHOOSE(MONTH(tbldados[[#This Row],[DATA]]),\"JANEIRO\",\"FEVEREIRO\",\"MARÇO\",\"ABRIL\",\"MAIO\",\"JUNHO\",\"JULHO\",\"AGOSTO\",\"SETEMBRO\",\"OUTUBRO\",\"NOVEMBRO\",\"DEZEMBRO\")","v":"JULHO"},{"$f":"YEAR(tbldados[[#This Row],[DATA]])","v":2022}]
[952,"GASTOS","01 DE 01","JUROS","JUNIOR","GERAL","INTER","CREDITO A VISTA",{"$f":"VLOOKUP(tbldados[[#This Row],[APP]],tblbandeira[],3,0)","v":0},44726,44757,19.989999999999998,{"$f":"tbldados[[#This Row],[VALOR PAGO]]+(tbldados[[#This Row],[VALOR PAGO]]*tbldados[[#This Row],[TAXA]])","v":19.989999999999998},{"$f":"tbldados[[#This Row],[TOTAL BRUTO]]-tbldados[[#This Row],[VALOR PAGO]]","v":0},{"$f":"CHOOSE(MONTH(tbldados[[#This Row],[DATA]]),\"JANEIRO\",\"FEVEREIRO\",\"MARÇO\",\"ABRIL\",\"MAIO\",\"JUNHO\",\"JULHO\",\"AGOSTO\",\"SETEMBRO\",\"OUTUBRO\",\"NOVEMBRO\",\"DEZEMBRO\")","v":"JULHO"},{"$f":"YEAR(tbldados[[#This Row],[DATA]])","v":2022}]
[953,"GASTOS","01 DE 01","PGTONUBANK","JUNIOR","RECARGAPAY","NUBANK","CREDITO A VISTA",{"$f":"VLOOKUP(tbldados[[#This Row],[APP]],tblbandeira[],3,0)","v":3.49E-2},44754,44786,1221.83,{"$f":"tbldados[[#This Row],[VALOR PAGO]]+(tbldados[[#This Row],[VALOR PAGO]]*tbldados[[#This Row],[TAXA]])","v":1264.471867},{"$f":"tbldados[[#This Row],[TOTAL BRUTO]]-tbldados[[#This Row],[VALOR PAGO]]","v":42.641867000000047},{"$f":"CHOOSE(MONTH(tbldados[[#This Row],[DATA]]),\"JANEIRO\",\"FEVEREIRO\",\"MARÇO\",\"ABRIL\",\"MAIO\",\"JUNHO\",\"JULHO\",\"AGOSTO\",\"SETEMBRO\",\"OUTUBRO\",\"NOVEMBRO\",\"DEZEMBRO\")","v":"AGOSTO"},{"$f":"YEAR(tbldados[[#This Row],[DATA]])","v":2022}]
[954,"PGTO","01 DE 01","INTER","JULHO","RECARGAPAY","NUBANK","CREDITO A VISTA",{"$f":"VLOOKUP(tbldados[[#This Row],[APP]],tblbandeira[],3,0)","v":3.49E-2},44756,44786,1091.2,{"$f":"tbldados[[#This Row],[VALOR PAGO]]+(tbldados[[#This Row],[VALOR PAGO]]*tbldados[[#This Row],[TAXA]])","v":1129.28288},{"$f":"tbldados[[#This Row],[TOTAL BRUTO]]-tbldados[[#This Row],[VALOR PAGO]]","v":38.082879999999932},{"$f":"CHOOSE(MONTH(tbldados[[#This Row],[DATA]]),\"JANEIRO\",\"FEVEREIRO\",\"MARÇO\",\"ABRIL\",\"MAIO\",\"JUNHO\",\"JULHO\",\"AGOSTO\",\"SETEMBRO\",\"OUTUBRO\",\"NOVEMBRO\",\"DEZEMBRO\")","v":"AGOSTO"},{"$f":"YEAR(tbldados[[#This Row],[DATA]])","v":2022}]
[955,"GASTOS","01 DE 01","PGTOINTER","JUNIOR","RECARGAPAY","NUBANK","CREDITO A VISTA",{"$f":"VLOOKUP(tbldados[[#This Row],[APP]],tblbandeira[],3,0)","v":3.49E-2},44756,44786,1091.2,{"$f":"tbldados[[#This Row],[VALOR PAGO]]+(tbldados[[#This Row],[VALOR PAGO]]*tbldados[[#This Row],[TAXA]])","v":1129.28288},{"$f":"tbldados[[#This Row],[TOTAL BRUTO]]-tbldados[[#This Row],[VALOR PAGO]]","v":38.082879999999932},{"$f":"CHOOSE(MONTH(tbldados[[#This Row],[DATA]]),\"JANEIRO\",\"FEVEREIRO\",\"MARÇO\",\"ABRIL\",\"MAIO\",\"JUNHO\",\"JULHO\",\"AGOSTO\",\"SETEMBRO\",\"OUTUBRO\",\"NOVEMBRO\",\"DEZEMBRO\")","v":"AGOSTO"},{"$f":"YEAR(tbldados[[#This Row],[DATA]])","v":2022}]
[956,"PGTO","01 DE 01","INTER","JULHO","RECARGAPAY","INTER","CREDITO A VISTA",{"$f":"VLOOKUP(tbldados[[#This Row],[APP]],tblbandeira[],3,0)","v":3.49E-2},44756,44788,2750,{"$f":"tbldados[[#This Row],[VALOR PAGO]]+(tbldados[[#This Row],[VALOR PAGO]]*tbldados[[#This Row],[TAXA]])","v":2845.9749999999999},{"$f":"tbldados[[#This Row],[TOTAL BRUTO]]-tbldados[[#This Row],[VALOR PAGO]]","v":95.974999999999909},{"$f":"CHOOSE(MONTH(tbldados[[#This Row],[DATA]]),\"JANEIRO\",\"FEVEREIRO\",\"MARÇO\",\"ABRIL\",\"MAIO\",\"JUNHO\",\"JULHO\",\"AGOSTO\",\"SETEMBRO\",\"OUTUBRO\",\"NOVEMBRO\",\"DEZEMBRO\")","v":"AGOSTO"},{"$f":"YEAR(tbldados[[#This Row],[DATA]])","v":2022}]
[957,"GASTOS","01 DE 01","PGTOINTER","JUNIOR","RECARGAPAY","INTER","CREDITO A VISTA",{"$f":"VLOOKUP(tbldados[[#This Row],[APP]],tblbandeira[],3,0)","v":3.49E-2},44756,44788,2750,{"$f":"tbldados[[#This Row],[VALOR PAGO]]+(tbldados[[#This Row],[VALOR PAGO]]*tbldados[[#This Row],[TAXA]])","v":2845.9749999999999},{"$f":"tbldados[[#This Row],[TOTAL BRUTO]]-tbldados[[#This Row],[VALOR PAGO]]","v":95.974999999999909},{"$f":"CHOOSE(MONTH(tbldados[[#This Row],[DATA]]),\"JANEIRO\",\"FEVEREIRO\",\"MARÇO\",\"ABRIL\",\"MAIO\",\"JUNHO\",\"JULHO\",\"AGOSTO\",\"SETEMBRO\",\"OUTUBRO\",\"NOVEMBRO\",\"DEZEMBRO\")","v":"AGOSTO"},{"$f":"YEAR(tbldados[[#This Row],[DATA]])","v":2022}]
[958,"PGTO","01 DE 01","INTER","JULHO","RECARGAPAY","INTER","CREDITO A VISTA",{"$f":"VLOOKUP(tbldados[[#This Row],[APP]],tblbandeira[],3,0)","v":3.49E-2},44756,44788,1235,{"$f":"tbldados[[#This Row],[VALOR PAGO]]+(tbldados[[#This Row],[VALOR PAGO]]*tbldados[[#This Row],[TAXA]])","v":1278.1015},{"$f":"tbldados[[#This Row],[TOTAL BRUTO]]-tbldados[[#This Row],[VALOR PAGO]]","v":43.101499999999987},{"$f":"CHOOSE(MONTH(tbldados[[#This Row],[DATA]]),\"JANEIRO\",\"FEVEREIRO\",\"MARÇO\",\"ABRIL\",\"MAIO\",\"JUNHO\",\"JULHO\",\"AGOSTO\",\"SETEMBRO\",\"OUTUBRO\",\"NOVEMBRO\",\"DEZEMBRO\")","v":"AGOSTO"},{"$f":"YEAR(tbldados[[#This Row],[DATA]])","v":2022}]
[959,"GASTOS","01 DE 01","PGTOINTER","JUNIOR","RECARGAPAY","INTER","CREDITO A VISTA",{"$f":"VLOOKUP(tbldados[[#This Row],[APP]],tblbandeira[],3,0)","v":3.49E-2},44756,44788,1235,{"$f":"tbldados[[#This Row],[VALOR PAGO]]+(tbldados[[#This Row],[VALOR PAGO]]*tbldados[[#This Row],[TAXA]])","v":1278.1015},{"$f":"tbldados[[#This Row],[TOTAL BRUTO]]-tbldados[[#This Row],[VALOR PAGO]]","v":43.101499999999987},{"$f":"CHOOSE(MONTH(tbldados[[#This Row],[DATA]]),\"JANEIRO\",\"FEVEREIRO\",\"MARÇO\",\"ABRIL\",\"MAIO\",\"JUNHO\",\"JULHO\",\"AGOSTO\",\"SETEMBRO\",\"OUTUBRO\",\"NOVEMBRO\",\"DEZEMBRO\")","v":"AGOSTO"},{"$f":"YEAR(tbldados[[#This Row],[DATA]])","v":2022}]
[960,"PGTO","01 DE 01","NEON","JULHO","RECARGAPAY","MNEXT","CREDITO A VISTA",{"$f":"VLOOKUP(tbldados[[#This Row],[APP]],tblbandeira[],3,0)","v":3.49E-2},44757,44777,1081.8399999999999,{"$f":"tbldados[[#This Row],[VALOR PAGO]]+(tbldados[[#This Row],[VALOR PAGO]]*tbldados[[#This Row],[TAXA]])","v":1119.5962159999999},{"$f":"tbldados[[#This Row],[TOTAL BRUTO]]-tbldados[[#This Row],[VALOR PAGO]]","v":37.756215999999995},{"$f":"CHOOSE(MONTH(tbldados[[#This Row],[DATA]]),\"JANEIRO\",\"FEVEREIRO\",\"MARÇO\",\"ABRIL\",\"MAIO\",\"JUNHO\",\"JULHO\",\"AGOSTO\",\"SETEMBRO\",\"OUTUBRO\",\"NOVEMBRO\",\"DEZEMBRO\")","v":"AGOSTO"},{"$f":"YEAR(tbldados[[#This Row],[DATA]])","v":2022}]
[961,"GASTOS","01 DE 01","PGTONEON","JUNIOR","RECARGAPAY","MNEXT","CREDITO A VISTA",{"$f":"VLOOKUP(tbldados[[#This Row],[APP]],tblbandeira[],3,0)","v":3.49E-2},44757,44777,1081.8399999999999,{"$f":"tbldados[[#This Row],[VALOR PAGO]]+(tbldados[[#This Row],[VALOR PAGO]]*tbldados[[#This Row],[TAXA]])","v":1119.5962159999999},{"$f":"tbldados[[#This Row],[TOTAL BRUTO]]-tbldados[[#This Row],[VALOR PAGO]]","v":37.756215999999995},{"$f":"CHOOSE(MONTH(tbldados[[#This Row],[DATA]]),\"JANEIRO\",\"FEVEREIRO\",\"MARÇO\",\"ABRIL\",\"MAIO\",\"JUNHO\",\"JULHO\",\"AGOSTO\",\"SETEMBRO\",\"OUTUBRO\",\"NOVEMBRO\",\"DEZEMBRO\")","v":"AGOSTO"},{"$f":"YEAR(tbldados[[#This Row],[DATA]])","v":2022}]
[962,"GASTOS","01 DE 01","JUROS - ATRASO","JUNIOR","GERAL","CLICK","CREDITO A VISTA",{"$f":"VLOOKUP(tbldados[[#This Row],[APP]],tblbandeira[],3,0)","v":0},44730,44759,13.45,{"$f":"tbldados[[#This Row],[VALOR PAGO]]+(tbldados[[#This Row],[VALOR PAGO]]*tbldados[[#This Row],[TAXA]])","v":13.45},{"$f":"tbldados[[#This Row],[TOTAL BRUTO]]-tbldados[[#This Row],[VALOR PAGO]]","v":0},{"$f":"CHOOSE(MONTH(tbldados[[#This Row],[DATA]]),\"JANEIRO\",\"FEVEREIRO\",\"MARÇO\",\"ABRIL\",\"MAIO\",\"JUNHO\",\"JULHO\",\"AGOSTO\",\"SETEMBRO\",\"OUTUBRO\",\"NOVEMBRO\",\"DEZEMBRO\")","v":"JULHO"},{"$f":"YEAR(tbldados[[#This Row],[DATA]])","v":2022}]
[963,"PGTO","01 DE 01","CLICK","JULHO","RECARGAPAY","INTER","CREDITO A VISTA",{"$f":"VLOOKUP(tbldados[[#This Row],[APP]],tblbandeira[],3,0)","v":3.49E-2},44760,44788,771.96,{"$f":"tbldados[[#This Row],[VALOR PAGO]]+(tbldados[[#This Row],[VALOR PAGO]]*tbldados[[#This Row],[TAXA]])","v":798.90140400000007},{"$f":"tbldados[[#This Row],[TOTAL BRUTO]]-tbldados[[#This Row],[VALOR PAGO]]","v":26.941404000000034},{"$f":"CHOOSE(MONTH(tbldados[[#This Row],[DATA]]),\"JANEIRO\",\"FEVEREIRO\",\"MARÇO\",\"ABRIL\",\"MAIO\",\"JUNHO\",\"JULHO\",\"AGOSTO\",\"SETEMBRO\",\"OUTUBRO\",\"NOVEMBRO\",\"DEZEMBRO\")","v":"AGOSTO"},{"$f":"YEAR(tbldados[[#This Row],[DATA]])","v":2022}]
[964,"GASTOS","01 DE 01","PGTOCLICK","JUNIOR","RECARGAPAY","INTER","CREDITO A VISTA",{"$f":"VLOOKUP(tbldados[[#This Row],[APP]],tblbandeira[],3,0)","v":3.49E-2},44760,44788,771.96,{"$f":"tbldados[[#This Row],[VALOR PAGO]]+(tbldados[[#This Row],[VALOR PAGO]]*tbldados[[#This Row],[TAXA]])","v":798.90140400000007},{"$f":"tbldados[[#This Row],[TOTAL BRUTO]]-tbldados[[#This Row],[VALOR PAGO]]","v":26.941404000000034},{"$f":"CHOOSE(MONTH(tbldados[[#This Row],[DATA]]),\"JANEIRO\",\"FEVEREIRO\",\"MARÇO\",\"ABRIL\",\"MAIO\",\"JUNHO\",\"JULHO\",\"AGOSTO\",\"SETEMBRO\",\"OUTUBRO\",\"NOVEMBRO\",\"DEZEMBRO\")","v":"AGOSTO"},{"$f":"YEAR(tbldados[[#This Row],[DATA]])","v":2022}]
[965,"PGTO","01 DE 01","CLICK","JULHO","RECARGAPAY","CLICK","CREDITO A VISTA",{"$f":"VLOOKUP(tbldados[[#This Row],[APP]],tblbandeira[],3,0)","v":3.49E-2},44760,44790,729.4,{"$f":"tbldados[[#This Row],[VALOR PAGO]]+(tbldados[[#This Row],[VALOR PAGO]]*tbldados[[#This Row],[TAXA]])","v":754.85605999999996},{"$f":"tbldados[[#This Row],[TOTAL BRUTO]]-tbldados[[#This Row],[VALOR PAGO]]","v":25.456059999999979},{"$f":"CHOOSE(MONTH(tbldados[[#This Row],[DATA]]),\"JANEIRO\",\"FEVEREIRO\",\"MARÇO\",\"ABRIL\",\"MAIO\",\"JUNHO\",\"JULHO\",\"AGOSTO\",\"SETEMBRO\",\"OUTUBRO\",\"NOVEMBRO\",\"DEZEMBRO\")","v":"AGOSTO"},{"$f":"YEAR(tbldados[[#This Row],[DATA]])","v":2022}]
[966,"GASTOS","01 DE 01","PGTOCLICK","JUNIOR","RECARGAPAY","CLICK","CREDITO A VISTA",{"$f":"VLOOKUP(tbldados[[#This Row],[APP]],tblbandeira[],3,0)","v":3.49E-2},44760,44790,729.4,{"$f":"tbldados[[#This Row],[VALOR PAGO]]+(tbldados[[#This Row],[VALOR PAGO]]*tbldados[[#This Row],[TAXA]])","v":754.85605999999996},{"$f":"tbldados[[#This Row],[TOTAL BRUTO]]-tbldados[[#This Row],[VALOR PAGO]]","v":25.456059999999979},{"$f":"CHOOSE(MONTH(tbldados[[#This Row],[DATA]]),\"JANEIRO\",\"FEVEREIRO\",\"MARÇO\",\"ABRIL\",\"MAIO\",\"JUNHO\",\"JULHO\",\"AGOSTO\",\"SETEMBRO\",\"OUTUBRO\",\"NOVEMBRO\",\"DEZEMBRO\")","v":"AGOSTO"},{"$f":"YEAR(tbldados[[#This Row],[DATA]])","v":2022}]
[967,"PGTO","01 DE 01","CLICK","JULHO","RECARGAPAY","CLICK","CREDITO A VISTA",{"$f":"VLOOKUP(tbldados[[#This Row],[APP]],tblbandeira[],3,0)","v":3.49E-2},44760,44790,701.41,{"$f":"tbldados[[#This Row],[VALOR PAGO]]+(tbldados[[#This Row],[VALOR PAGO]]*tbldados[[#This Row],[TAXA]])","v":725.88920899999994},{"$f":"tbldados[[#This Row],[TOTAL BRUTO]]-tbldados[[#This Row],[VALOR PAGO]]","v":24.479208999999969},{"$f":"CHOOSE(MONTH(tbldados[[#This Row],[DATA]]),\"JANEIRO\",\"FEVEREIRO\",\"MARÇO\",\"ABRIL\",\"MAIO\",\"JUNHO\",\"JULHO\",\"AGOSTO\",\"SETEMBRO\",\"OUTUBRO\",\"NOVEMBRO\",\"DEZEMBRO\")","v":"AGOSTO"},{"$f":"YEAR(tbldados[[#This Row],[DATA]])","v":2022}]
[968,"GASTOS","01 DE 01","PGTOCLICK","JUNIOR","RECARGAPAY","CLICK","CREDITO A VISTA",{"$f":"VLOOKUP(tbldados[[#This Row],[APP]],tblbandeira[],3,0)","v":3.49E-2},44760,44790,701.41,{"$f":"tbldados[[#This Row],[VALOR PAGO]]+(tbldados[[#This Row],[VALOR PAGO]]*tbldados[[#This Row],[TAXA]])","v":725.88920899999994},{"$f":"tbldados[[#This Row],[TOTAL BRUTO]]-tbldados[[#This Row],[VALOR PAGO]]","v":24.479208999999969},{"$f":"CHOOSE(MONTH(tbldados[[#This Row],[DATA]]),\"JANEIRO\",\"FEVEREIRO\",\"MARÇO\",\"ABRIL\",\"MAIO\",\"JUNHO\",\"JULHO\",\"AGOSTO\",\"SETEMBRO\",\"OUTUBRO\",\"NOVEMBRO\",\"DEZEMBRO\")","v":"AGOSTO"},{"$f":"YEAR(tbldados[[#This Row],[DATA]])","v":2022}]
[969,"PGTO","01 DE 01","CLICK","JULHO","RECARGAPAY","CLICK","CREDITO A VISTA",{"$f":"VLOOKUP(tbldados[[#This Row],[APP]],tblbandeira[],3,0)","v":3.49E-2},44760,44790,110.68,{"$f":"tbldados[[#This Row],[VALOR PAGO]]+(tbldados[[#This Row],[VALOR PAGO]]*tbldados[[#This Row],[TAXA]])","v":114.542732},{"$f":"tbldados[[#This Row],[TOTAL BRUTO]]-tbldados[[#This Row],[VALOR PAGO]]","v":3.8627319999999941},{"$f":"CHOOSE(MONTH(tbldados[[#This Row],[DATA]]),\"JANEIRO\",\"FEVEREIRO\",\"MARÇO\",\"ABRIL\",\"MAIO\",\"JUNHO\",\"JULHO\",\"AGOSTO\",\"SETEMBRO\",\"OUTUBRO\",\"NOVEMBRO\",\"DEZEMBRO\")","v":"AGOSTO"},{"$f":"YEAR(tbldados[[#This Row],[DATA]])","v":2022}]
[970,"GASTOS","01 DE 01","PGTOCLICK","JUNIOR","RECARGAPAY","CLICK","CREDITO A VISTA",{"$f":"VLOOKUP(tbldados[[#This Row],[APP]],tblbandeira[],3,0)","v":3.49E-2},44760,44790,110.68,{"$f":"tbldados[[#This Row],[VALOR PAGO]]+(tbldados[[#This Row],[VALOR PAGO]]*tbldados[[#This Row],[TAXA]])","v":114.542732},{"$f":"tbldados[[#This Row],[TOTAL BRUTO]]-tbldados[[#This Row],[VALOR PAGO]]","v":3.8627319999999941},{"$f":"CHOOSE(MONTH(tbldados[[#This Row],[DATA]]),\"JANEIRO\",\"FEVEREIRO\",\"MARÇO\",\"ABRIL\",\"MAIO\",\"JUNHO\",\"JULHO\",\"AGOSTO\",\"SETEMBRO\",\"OUTUBRO\",\"NOVEMBRO\",\"DEZEMBRO\")","v":"AGOSTO"},{"$f":"YEAR(tbldados[[#This Row],[DATA]])","v":2022}]
[971,"PGTO","01 DE 01","PANMAE","JULHO","RECARGAPAY","CLICK","CREDITO A VISTA",{"$f":"VLOOKUP(tbldados[[#This Row],[APP]],tblbandeira[],3,0)","v":3.49E-2},44760,44790,670.26,{"$f":"tbldados[[#This Row],[VALOR PAGO]]+(tbldados[[#This Row],[VALOR PAGO]]*tbldados[[#This Row],[TAXA]])","v":693.65207399999997},{"$f":"tbldados[[#This Row],[TOTAL BRUTO]]-tbldados[[#This Row],[VALOR PAGO]]","v":23.39207399999998},{"$f":"CHOOSE(MONTH(tbldados[[#This Row],[DATA]]),\"JANEIRO\",\"FEVEREIRO\",\"MARÇO\",\"ABRIL\",\"MAIO\",\"JUNHO\",\"JULHO\",\"AGOSTO\",\"SETEMBRO\",\"OUTUBRO\",\"NOVEMBRO\",\"DEZEMBRO\")","v":"AGOSTO"},{"$f":"YEAR(tbldados[[#This Row],[DATA]])","v":2022}]
[972,"GASTOS","01 DE 01","PGTOPANMAE","JUNIOR","RECARGAPAY","CLICK","CREDITO A VISTA",{"$f":"VLOOKUP(tbldados[[#This Row],[APP]],tblbandeira[],3,0)","v":3.49E-2},44760,44790,670.26,{"$f":"tbldados[[#This Row],[VALOR PAGO]]+(tbldados[[#This Row],[VALOR PAGO]]*tbldados[[#This Row],[TAXA]])","v":693.65207399999997},{"$f":"tbldados[[#This Row],[TOTAL BRUTO]]-tbldados[[#This Row],[VALOR PAGO]]","v":23.39207399999998},{"$f":"CHOOSE(MONTH(tbldados[[#This Row],[DATA]]),\"JANEIRO\",\"FEVEREIRO\",\"MARÇO\",\"ABRIL\",\"MAIO\",\"JUNHO\",\"JULHO\",\"AGOSTO\",\"SETEMBRO\",\"OUTUBRO\",\"NOVEMBRO\",\"DEZEMBRO\")","v":"AGOSTO"},{"$f":"YEAR(tbldados[[#This Row],[DATA]])","v":2022}]
[973,"PGTO","01 DE 01","PANMAE","JULHO","GERAL","DÉBITO","DINHEIRO",{"$f":"VLOOKUP(tbldados[[#This Row],[APP]],tblbandeira[],3,0)","v":0},44761,44761,201.84,{"$f":"tbldados[[#This Row],[VALOR PAGO]]+(tbldados[[#This Row],[VALOR PAGO]]*tbldados[[#This Row],[TAXA]])","v":201.84},{"$f":"tbldados[[#This Row],[TOTAL BRUTO]]-tbldados[[#This Row],[VALOR PAGO]]","v":0},{"$f":"CHOOSE(MONTH(tbldados[[#This Row],[DATA]]),\"JANEIRO\",\"FEVEREIRO\",\"MARÇO\",\"ABRIL\",\"MAIO\",\"JUNHO\",\"JULHO\",\"AGOSTO\",\"SETEMBRO\",\"OUTUBRO\",\"NOVEMBRO\",\"DEZEMBRO\")","v":"JULHO"},{"$f":"YEAR(tbldados[[#This Row],[DATA]])","v":2022}]
[974,"PGTO","01 DE 01","PANMAE","JULHO","RECARGAPAY","PANMAE","CREDITO A VISTA",{"$f":"VLOOKUP(tbldados[[#This Row],[APP]],tblbandeira[],3,0)","v":3.49E-2},44761,44790,905.85,{"$f":"tbldados[[#This Row],[VALOR PAGO]]+(tbldados[[#This Row],[VALOR PAGO]]*tbldados[[#This Row],[TAXA]])","v":937.46416499999998},{"$f":"tbldados[[#This Row],[TOTAL BRUTO]]-tbldados[[#This Row],[VALOR PAGO]]","v":31.614164999999957},{"$f":"CHOOSE(MONTH(tbldados[[#This Row],[DATA]]),\"JANEIRO\",\"FEVEREIRO\",\"MARÇO\",\"ABRIL\",\"MAIO\",\"JUNHO\",\"JULHO\",\"AGOSTO\",\"SETEMBRO\",\"OUTUBRO\",\"NOVEMBRO\",\"DEZEMBRO\")","v":"AGOSTO"},{"$f":"YEAR(tbldados[[#This Row],[DATA]])","v":2022}]
[975,"GASTOS","01 DE 01","PGTOPANMAE","JUNIOR","RECARGAPAY","PANMAE","CREDITO A VISTA",{"$f":"VLOOKUP(tbldados[[#This Row],[APP]],tblbandeira[],3,0)","v":3.49E-2},44761,44790,905.85,{"$f":"tbldados[[#This Row],[VALOR PAGO]]+(tbldados[[#This Row],[VALOR PAGO]]*tbldados[[#This Row],[TAXA]])","v":937.46416499999998},{"$f":"tbldados[[#This Row],[TOTAL BRUTO]]-tbldados[[#This Row],[VALOR PAGO]]","v":31.614164999999957},{"$f":"CHOOSE(MONTH(tbldados[[#This Row],[DATA]]),\"JANEIRO\",\"FEVEREIRO\",\"MARÇO\",\"ABRIL\",\"MAIO\",\"JUNHO\",\"JULHO\",\"AGOSTO\",\"SETEMBRO\",\"OUTUBRO\",\"NOVEMBRO\",\"DEZEMBRO\")","v":"AGOSTO"},{"$f":"YEAR(tbldados[[#This Row],[DATA]])","v":2022}]
[976,"PGTO","01 DE 01","PANMAE","JULHO","RECARGAPAY","PANMAE","CREDITO A VISTA",{"$f":"VLOOKUP(tbldados[[#This Row],[APP]],tblbandeira[],3,0)","v":3.49E-2},44761,44790,871.24,{"$f":"tbldados[[#This Row],[VALOR PAGO]]+(tbldados[[#This Row],[VALOR PAGO]]*tbldados[[#This Row],[TAXA]])","v":901.64627600000006},{"$f":"tbldados[[#This Row],[TOTAL BRUTO]]-tbldados[[#This Row],[VALOR PAGO]]","v":30.406276000000048},{"$f":"CHOOSE(MONTH(tbldados[[#This Row],[DATA]]),\"JANEIRO\",\"FEVEREIRO\",\"MARÇO\",\"ABRIL\",\"MAIO\",\"JUNHO\",\"JULHO\",\"AGOSTO\",\"SETEMBRO\",\"OUTUBRO\",\"NOVEMBRO\",\"DEZEMBRO\")","v":"AGOSTO"},{"$f":"YEAR(tbldados[[#This Row],[DATA]])","v":2022}]
[977,"GASTOS","01 DE 01","PGTOPANMAE","JUNIOR","RECARGAPAY","PANMAE","CREDITO A VISTA",{"$f":"VLOOKUP(tbldados[[#This Row],[APP]],tblbandeira[],3,0)","v":3.49E-2},44753,44790,871.24,{"$f":"tbldados[[#This Row],[VALOR PAGO]]+(tbldados[[#This Row],[VALOR PAGO]]*tbldados[[#This Row],[TAXA]])","v":901.64627600000006},{"$f":"tbldados[[#This Row],[TOTAL BRUTO]]-tbldados[[#This Row],[VALOR PAGO]]","v":30.406276000000048},{"$f":"CHOOSE(MONTH(tbldados[[#This Row],[DATA]]),\"JANEIRO\",\"FEVEREIRO\",\"MARÇO\",\"ABRIL\",\"MAIO\",\"JUNHO\",\"JULHO\",\"AGOSTO\",\"SETEMBRO\",\"OUTUBRO\",\"NOVEMBRO\",\"DEZEMBRO\")","v":"AGOSTO"},{"$f":"YEAR(tbldados[[#This Row],[DATA]])","v":2022}]
[978,"PGTO","01 DE 01","PANMAE","JULHO","RECARGAPAY","PANMAE","CREDITO A VISTA",{"$f":"VLOOKUP(tbldados[[#This Row],[APP]],tblbandeira[],3,0)","v":3.49E-2},44761,44790,837.58,{"$f":"tbldados[[#This Row],[VALOR PAGO]]+(tbldados[[#This Row],[VALOR PAGO]]*tbldados[[#This Row],[TAXA]])","v":866.81154200000003},{"$f":"tbldados[[#This Row],[TOTAL BRUTO]]-tbldados[[#This Row],[VALOR PAGO]]","v":29.23154199999999},{"$f":"CHOOSE(MONTH(tbldados[[#This Row],[DATA]]),\"JANEIRO\",\"FEVEREIRO\",\"MARÇO\",\"ABRIL\",\"MAIO\",\"JUNHO\",\"JULHO\",\"AGOSTO\",\"SETEMBRO\",\"OUTUBRO\",\"NOVEMBRO\",\"DEZEMBRO\")","v":"AGOSTO"},{"$f":"YEAR(tbldados[[#This Row],[DATA]])","v":2022}]
[979,"PGTO","01 DE 01","PANMAE","JULHO","GERAL","PAGMAE","CREDITO A VISTA",{"$f":"VLOOKUP(tbldados[[#This Row],[APP]],tblbandeira[],3,0)","v":0},44761,44783,553.23,{"$f":"tbldados[[#This Row],[VALOR PAGO]]+(tbldados[[#This Row],[VALOR PAGO]]*tbldados[[#This Row],[TAXA]])","v":553.23},{"$f":"tbldados[[#This Row],[TOTAL BRUTO]]-tbldados[[#This Row],[VALOR PAGO]]","v":0},{"$f":"CHOOSE(MONTH(tbldados[[#This Row],[DATA]]),\"JANEIRO\",\"FEVEREIRO\",\"MARÇO\",\"ABRIL\",\"MAIO\",\"JUNHO\",\"JULHO\",\"AGOSTO\",\"SETEMBRO\",\"OUTUBRO\",\"NOVEMBRO\",\"DEZEMBRO\")","v":"AGOSTO"},{"$f":"YEAR(tbldados[[#This Row],[DATA]])","v":2022}]
[980,"GASTOS","01 DE 01","PGTO-1907","JUNIOR","RECARGAPAY","PANMAE","CREDITO A VISTA",{"$f":"VLOOKUP(tbldados[[#This Row],[APP]],tblbandeira[],3,0)","v":3.49E-2},44762,44790,536.09,{"$f":"tbldados[[#This Row],[VALOR PAGO]]+(tbldados[[#This Row],[VALOR PAGO]]*tbldados[[#This Row],[TAXA]])","v":554.79954100000009},{"$f":"tbldados[[#This Row],[TOTAL BRUTO]]-tbldados[[#This Row],[VALOR PAGO]]","v":18.709541000000058},{"$f":"CHOOSE(MONTH(tbldados[[#This Row],[DATA]]),\"JANEIRO\",\"FEVEREIRO\",\"MARÇO\",\"ABRIL\",\"MAIO\",\"JUNHO\",\"JULHO\",\"AGOSTO\",\"SETEMBRO\",\"OUTUBRO\",\"NOVEMBRO\",\"DEZEMBRO\")","v":"AGOSTO"},{"$f":"YEAR(tbldados[[#This Row],[DATA]])","v":2022}]
[981,"GASTOS","01 DE 01","PGTOPANMAE","JUNIOR","RECARGAPAY","PANMAE","CREDITO A VISTA",{"$f":"VLOOKUP(tbldados[[#This Row],[APP]],tblbandeira[],3,0)","v":3.49E-2},44761,44790,837.58,{"$f":"tbldados[[#This Row],[VALOR PAGO]]+(tbldados[[#This Row],[VALOR PAGO]]*tbldados[[#This Row],[TAXA]])","v":866.81154200000003},{"$f":"tbldados[[#This Row],[TOTAL BRUTO]]-tbldados[[#This Row],[VALOR PAGO]]","v":29.23154199999999},{"$f":"CHOOSE(MONTH(tbldados[[#This Row],[DATA]]),\"JANEIRO\",\"FEVEREIRO\",\"MARÇO\",\"ABRIL\",\"MAIO\",\"JUNHO\",\"JULHO\",\"AGOSTO\",\"SETEMBRO\",\"OUTUBRO\",\"NOVEMBRO\",\"DEZEMBRO\")","v":"AGOSTO"},{"$f":"YEAR(tbldados[[#This Row],[DATA]])","v":2022}]
[982,"GASTOS","01 DE 01","JUROS - ATRASO","JUNIOR","GERAL","WILL","CREDITO A VISTA",{"$f":"VLOOKUP(tbldados[[#This Row],[APP]],tblbandeira[],3,0)","v":0},44733,44762,111.27,{"$f":"tbldados[[#This Row],[VALOR PAGO]]+(tbldados[[#This Row],[VALOR PAGO]]*tbldados[[#This Row],[TAXA]])","v":111.27},{"$f":"tbldados[[#This Row],[TOTAL BRUTO]]-tbldados[[#This Row],[VALOR PAGO]]","v":0},{"$f":"CHOOSE(MONTH(tbldados[[#This Row],[DATA]]),\"JANEIRO\",\"FEVEREIRO\",\"MARÇO\",\"ABRIL\",\"MAIO\",\"JUNHO\",\"JULHO\",\"AGOSTO\",\"SETEMBRO\",\"OUTUBRO\",\"NOVEMBRO\",\"DEZEMBRO\")","v":"JULHO"},{"$f":"YEAR(tbldados[[#This Row],[DATA]])","v":2022}]
[983,"GASTOS","01 DE 01","CLARO","JUNIOR","GERAL","WILL","CREDITO A VISTA",{"$f":"VLOOKUP(tbldados[[#This Row],[APP]],tblbandeira[],3,0)","v":0},44734,44762,29.99,{"$f":"tbldados[[#This Row],[VALOR PAGO]]+(tbldados[[#This Row],[VALOR PAGO]]*tbldados[[#This Row],[TAXA]])","v":29.99},{"$f":"tbldados[[#This Row],[TOTAL BRUTO]]-tbldados[[#This Row],[VALOR PAGO]]","v":0},{"$f":"CHOOSE(MONTH(tbldados[[#This Row],[DATA]]),\"JANEIRO\",\"FEVEREIRO\",\"MARÇO\",\"ABRIL\",\"MAIO\",\"JUNHO\",\"JULHO\",\"AGOSTO\",\"SETEMBRO\",\"OUTUBRO\",\"NOVEMBRO\",\"DEZEMBRO\")","v":"JULHO"},{"$f":"YEAR(tbldados[[#This Row],[DATA]])","v":2022}]
[984,"PGTO","01 DE 01","WILL","JULHO","RECARGAPAY","PANMAE","CREDITO A VISTA",{"$f":"VLOOKUP(tbldados[[#This Row],[APP]],tblbandeira[],3,0)","v":3.49E-2},44762,44790,783.15,{"$f":"tbldados[[#This Row],[VALOR PAGO]]+(tbldados[[#This Row],[VALOR PAGO]]*tbldados[[#This Row],[TAXA]])","v":810.48193500000002},{"$f":"tbldados[[#This Row],[TOTAL BRUTO]]-tbldados[[#This Row],[VALOR PAGO]]","v":27.331935000000044},{"$f":"CHOOSE(MONTH(tbldados[[#This Row],[DATA]]),\"JANEIRO\",\"FEVEREIRO\",\"MARÇO\",\"ABRIL\",\"MAIO\",\"JUNHO\",\"JULHO\",\"AGOSTO\",\"SETEMBRO\",\"OUTUBRO\",\"NOVEMBRO\",\"DEZEMBRO\")","v":"AGOSTO"},{"$f":"YEAR(tbldados[[#This Row],[DATA]])","v":2022}]
[985,"GASTOS","01 DE 01","PGTOWILL","JUNIOR","RECARGAPAY","PANMAE","CREDITO A VISTA",{"$f":"VLOOKUP(tbldados[[#This Row],[APP]],tblbandeira[],3,0)","v":3.49E-2},44762,44790,783.15,{"$f":"tbldados[[#This Row],[VALOR PAGO]]+(tbldados[[#This Row],[VALOR PAGO]]*tbldados[[#This Row],[TAXA]])","v":810.48193500000002},{"$f":"tbldados[[#This Row],[TOTAL BRUTO]]-tbldados[[#This Row],[VALOR PAGO]]","v":27.331935000000044},{"$f":"CHOOSE(MONTH(tbldados[[#This Row],[DATA]]),\"JANEIRO\",\"FEVEREIRO\",\"MARÇO\",\"ABRIL\",\"MAIO\",\"JUNHO\",\"JULHO\",\"AGOSTO\",\"SETEMBRO\",\"OUTUBRO\",\"NOVEMBRO\",\"DEZEMBRO\")","v":"AGOSTO"},{"$f":"YEAR(tbldados[[#This Row],[DATA]])","v":2022}]
[986,"PGTO","01 DE 01","WILL","JULHO","RECARGAPAY","WILL","CREDITO A VISTA",{"$f":"VLOOKUP(tbldados[[#This Row],[APP]],tblbandeira[],3,0)","v":3.49E-2},44763,44793,1148,{"$f":"tbldados[[#This Row],[VALOR PAGO]]+(tbldados[[#This Row],[VALOR PAGO]]*tbldados[[#This Row],[TAXA]])","v":1188.0652},{"$f":"tbldados[[#This Row],[TOTAL BRUTO]]-tbldados[[#This Row],[VALOR PAGO]]","v":40.065200000000004},{"$f":"CHOOSE(MONTH(tbldados[[#This Row],[DATA]]),\"JANEIRO\",\"FEVEREIRO\",\"MARÇO\",\"ABRIL\",\"MAIO\",\"JUNHO\",\"JULHO\",\"AGOSTO\",\"SETEMBRO\",\"OUTUBRO\",\"NOVEMBRO\",\"DEZEMBRO\")","v":"AGOSTO"},{"$f":"YEAR(tbldados[[#This Row],[DATA]])","v":2022}]
[987,"GASTOS","01 DE 01","PGTOWILL","JUNIOR","RECARGAPAY","WILL","CREDITO A VISTA",{"$f":"VLOOKUP(tbldados[[#This Row],[APP]],tblbandeira[],3,0)","v":3.49E-2},44763,44793,1148,{"$f":"tbldados[[#This Row],[VALOR PAGO]]+(tbldados[[#This Row],[VALOR PAGO]]*tbldados[[#This Row],[TAXA]])","v":1188.0652},{"$f":"tbldados[[#This Row],[TOTAL BRUTO]]-tbldados[[#This Row],[VALOR PAGO]]","v":40.065200000000004},{"$f":"CHOOSE(MONTH(tbldados[[#This Row],[DATA]]),\"JANEIRO\",\"FEVEREIRO\",\"MARÇO\",\"ABRIL\",\"MAIO\",\"JUNHO\",\"JULHO\",\"AGOSTO\",\"SETEMBRO\",\"OUTUBRO\",\"NOVEMBRO\",\"DEZEMBRO\")","v":"AGOSTO"},{"$f":"YEAR(tbldados[[#This Row],[DATA]])","v":2022}]
[988,"PGTO","01 DE 01","WILL","JULHO","RECARGAPAY","C6","CREDITO A VISTA",{"$f":"VLOOKUP(tbldados[[#This Row],[APP]],tblbandeira[],3,0)","v":3.49E-2},44763,44805,1957.3,{"$f":"tbldados[[#This Row],[VALOR PAGO]]+(tbldados[[#This Row],[VALOR PAGO]]*tbldados[[#This Row],[TAXA]])","v":2025.60977},{"$f":"tbldados[[#This Row],[TOTAL BRUTO]]-tbldados[[#This Row],[VALOR PAGO]]","v":68.309770000000071},{"$f":"CHOOSE(MONTH(tbldados[[#This Row],[DATA]]),\"JANEIRO\",\"FEVEREIRO\",\"MARÇO\",\"ABRIL\",\"MAIO\",\"JUNHO\",\"JULHO\",\"AGOSTO\",\"SETEMBRO\",\"OUTUBRO\",\"NOVEMBRO\",\"DEZEMBRO\")","v":"SETEMBRO"},{"$f":"YEAR(tbldados[[#This Row],[DATA]])","v":2022}]
[989,"GASTOS","01 DE 01","PGTOWILL","JUNIOR","RECARGAPAY","C6","CREDITO A VISTA",{"$f":"VLOOKUP(tbldados[[#This Row],[APP]],tblbandeira[],3,0)","v":3.49E-2},44763,44805,1957.3,{"$f":"tbldados[[#This Row],[VALOR PAGO]]+(tbldados[[#This Row],[VALOR PAGO]]*tbldados[[#This Row],[TAXA]])","v":2025.60977},{"$f":"tbldados[[#This Row],[TOTAL BRUTO]]-tbldados[[#This Row],[VALOR PAGO]]","v":68.309770000000071},{"$f":"CHOOSE(MONTH(tbldados[[#This Row],[DATA]]),\"JANEIRO\",\"FEVEREIRO\",\"MARÇO\",\"ABRIL\",\"MAIO\",\"JUNHO\",\"JULHO\",\"AGOSTO\",\"SETEMBRO\",\"OUTUBRO\",\"NOVEMBRO\",\"DEZEMBRO\")","v":"SETEMBRO"},{"$f":"YEAR(tbldados[[#This Row],[DATA]])","v":2022}]
[990,"PGTO","01 DE 01","C6","SETEMBRO","RECARGAPAY","WILL","CREDITO A VISTA",{"$f":"VLOOKUP(tbldados[[#This Row],[APP]],tblbandeira[],3,0)","v":3.49E-2},44763,44793,2034.4,{"$f":"tbldados[[#This Row],[VALOR PAGO]]+(tbldados[[#This Row],[VALOR PAGO]]*tbldados[[#This Row],[TAXA]])","v":2105.40056},{"$f":"tbldados[[#This Row],[TOTAL BRUTO]]-tbldados[[#This Row],[VALOR PAGO]]","v":71.00055999999995},{"$f":"CHOOSE(MONTH(tbldados[[#This Row],[DATA]]),\"JANEIRO\",\"FEVEREIRO\",\"MARÇO\",\"ABRIL\",\"MAIO\",\"JUNHO\",\"JULHO\",\"AGOSTO\",\"SETEMBRO\",\"OUTUBRO\",\"NOVEMBRO\",\"DEZEMBRO\")","v":"AGOSTO"},{"$f":"YEAR(tbldados[[#This Row],[DATA]])","v":2022}]
[991,"GASTOS","01 DE 01","PGTOC6-08","JUNIOR","RECARGAPAY","WILL","CREDITO A VISTA",{"$f":"VLOOKUP(tbldados[[#This Row],[APP]],tblbandeira[],3,0)","v":3.49E-2},44763,44793,2034.4,{"$f":"tbldados[[#This Row],[VALOR PAGO]]+(tbldados[[#This Row],[VALOR PAGO]]*tbldados[[#This Row],[TAXA]])","v":2105.40056},{"$f":"tbldados[[#This Row],[TOTAL BRUTO]]-tbldados[[#This Row],[VALOR PAGO]]","v":71.00055999999995},{"$f":"CHOOSE(MONTH(tbldados[[#This Row],[DATA]]),\"JANEIRO\",\"FEVEREIRO\",\"MARÇO\",\"ABRIL\",\"MAIO\",\"JUNHO\",\"JULHO\",\"AGOSTO\",\"SETEMBRO\",\"OUTUBRO\",\"NOVEMBRO\",\"DEZEMBRO\")","v":"AGOSTO"},{"$f":"YEAR(tbldados[[#This Row],[DATA]])","v":2022}]
[992,"PGTO","01 DE 01","NEON","JULHO","RECARGAPAY","PAGMAE","CREDITO A VISTA",{"$f":"VLOOKUP(tbldados[[#This Row],[APP]],tblbandeira[],3,0)","v":3.49E-2},44763,44783,1109.97,{"$f":"tbldados[[#This Row],[VALOR PAGO]]+(tbldados[[#This Row],[VALOR PAGO]]*tbldados[[#This Row],[TAXA]])","v":1148.7079530000001},{"$f":"tbldados[[#This Row],[TOTAL BRUTO]]-tbldados[[#This Row],[VALOR PAGO]]","v":38.737953000000061},{"$f":"CHOOSE(MONTH(tbldados[[#This Row],[DATA]]),\"JANEIRO\",\"FEVEREIRO\",\"MARÇO\",\"ABRIL\",\"MAIO\",\"JUNHO\",\"JULHO\",\"AGOSTO\",\"SETEMBRO\",\"OUTUBRO\",\"NOVEMBRO\",\"DEZEMBRO\")","v":"AGOSTO"},{"$f":"YEAR(tbldados[[#This Row],[DATA]])","v":2022}]
[993,"GASTOS","01 DE 01","PGTONEON","JUNIO","RECARGAPAY","PAGMAE","CREDITO A VISTA",{"$f":"VLOOKUP(tbldados[[#This Row],[APP]],tblbandeira[],3,0)","v":3.49E-2},44763,44783,1109.97,{"$f":"tbldados[[#This Row],[VALOR PAGO]]+(tbldados[[#This Row],[VALOR PAGO]]*tbldados[[#This Row],[TAXA]])","v":1148.7079530000001},{"$f":"tbldados[[#This Row],[TOTAL BRUTO]]-tbldados[[#This Row],[VALOR PAGO]]","v":38.737953000000061},{"$f":"CHOOSE(MONTH(tbldados[[#This Row],[DATA]]),\"JANEIRO\",\"FEVEREIRO\",\"MARÇO\",\"ABRIL\",\"MAIO\",\"JUNHO\",\"JULHO\",\"AGOSTO\",\"SETEMBRO\",\"OUTUBRO\",\"NOVEMBRO\",\"DEZEMBRO\")","v":"AGOSTO"},{"$f":"YEAR(tbldados[[#This Row],[DATA]])","v":2022}]
[994,"GASTOS","01 DE 01","PGTO","JUNIOR","RECARGAPAY","GOLD","CREDITO A VISTA",{"$f":"VLOOKUP(tbldados[[#This Row],[APP]],tblbandeira[],3,0)","v":3.49E-2},44735,44765,1200.1199999999999,{"$f":"tbldados[[#This Row],[VALOR PAGO]]+(tbldados[[#This Row],[VALOR PAGO]]*tbldados[[#This Row],[TAXA]])","v":1242.0041879999999},{"$f":"tbldados[[#This Row],[TOTAL BRUTO]]-tbldados[[#This Row],[VALOR PAGO]]","v":41.884187999999995},{"$f":"CHOOSE(MONTH(tbldados[[#This Row],[DATA]]),\"JANEIRO\",\"FEVEREIRO\",\"MARÇO\",\"ABRIL\",\"MAIO\",\"JUNHO\",\"JULHO\",\"AGOSTO\",\"SETEMBRO\",\"OUTUBRO\",\"NOVEMBRO\",\"DEZEMBRO\")","v":"JULHO"},{"$f":"YEAR(tbldados[[#This Row],[DATA]])","v":2022}]
[995,"PGTO","01 DE 01","GOLD","JULHO","RECARGAPAY","C6","CREDITO A VISTA",{"$f":"VLOOKUP(tbldados[[#This Row],[APP]],tblbandeira[],3,0)","v":3.49E-2},44767,44805,2417.91,{"$f":"tbldados[[#This Row],[VALOR PAGO]]+(tbldados[[#This Row],[VALOR PAGO]]*tbldados[[#This Row],[TAXA]])","v":2502.295059},{"$f":"tbldados[[#This Row],[TOTAL BRUTO]]-tbldados[[#This Row],[VALOR PAGO]]","v":84.385059000000183},{"$f":"CHOOSE(MONTH(tbldados[[#This Row],[DATA]]),\"JANEIRO\",\"FEVEREIRO\",\"MARÇO\",\"ABRIL\",\"MAIO\",\"JUNHO\",\"JULHO\",\"AGOSTO\",\"SETEMBRO\",\"OUTUBRO\",\"NOVEMBRO\",\"DEZEMBRO\")","v":"SETEMBRO"},{"$f":"YEAR(tbldados[[#This Row],[DATA]])","v":2022}]
[996,"GASTOS","01 DE 01","PGTOGOLD","JUNIOR","RECARGAPAY","C6","CREDITO A VISTA",{"$f":"VLOOKUP(tbldados[[#This Row],[APP]],tblbandeira[],3,0)","v":3.49E-2},44767,44805,2417.91,{"$f":"tbldados[[#This Row],[VALOR PAGO]]+(tbldados[[#This Row],[VALOR PAGO]]*tbldados[[#This Row],[TAXA]])","v":2502.295059},{"$f":"tbldados[[#This Row],[TOTAL BRUTO]]-tbldados[[#This Row],[VALOR PAGO]]","v":84.385059000000183},{"$f":"CHOOSE(MONTH(tbldados[[#This Row],[DATA]]),\"JANEIRO\",\"FEVEREIRO\",\"MARÇO\",\"ABRIL\",\"MAIO\",\"JUNHO\",\"JULHO\",\"AGOSTO\",\"SETEMBRO\",\"OUTUBRO\",\"NOVEMBRO\",\"DEZEMBRO\")","v":"SETEMBRO"},{"$f":"YEAR(tbldados[[#This Row],[DATA]])","v":2022}]
[997,"PGTO","01 DE 01","C6","SETEMBRO","RECARGAPAY","GOLD","CREDITO A VISTA",{"$f":"VLOOKUP(tbldados[[#This Row],[APP]],tblbandeira[],3,0)","v":3.49E-2},44769,44796,2373.3000000000002,{"$f":"tbldados[[#This Row],[VALOR PAGO]]+(tbldados[[#This Row],[VALOR PAGO]]*tbldados[[#This Row],[TAXA]])","v":2456.1281700000004},{"$f":"tbldados[[#This Row],[TOTAL BRUTO]]-tbldados[[#This Row],[VALOR PAGO]]","v":82.828170000000227},{"$f":"CHOOSE(MONTH(tbldados[[#This Row],[DATA]]),\"JANEIRO\",\"FEVEREIRO\",\"MARÇO\",\"ABRIL\",\"MAIO\",\"JUNHO\",\"JULHO\",\"AGOSTO\",\"SETEMBRO\",\"OUTUBRO\",\"NOVEMBRO\",\"DEZEMBRO\")","v":"AGOSTO"},{"$f":"YEAR(tbldados[[#This Row],[DATA]])","v":2022}]
[998,"GASTOS","01 DE 01","PGTOC6","JUNIOR","RECARGAPAY","GOLD","CREDITO A VISTA",{"$f":"VLOOKUP(tbldados[[#This Row],[APP]],tblbandeira[],3,0)","v":3.49E-2},44769,44796,2373.3000000000002,{"$f":"tbldados[[#This Row],[VALOR PAGO]]+(tbldados[[#This Row],[VALOR PAGO]]*tbldados[[#This Row],[TAXA]])","v":2456.1281700000004},{"$f":"tbldados[[#This Row],[TOTAL BRUTO]]-tbldados[[#This Row],[VALOR PAGO]]","v":82.828170000000227},{"$f":"CHOOSE(MONTH(tbldados[[#This Row],[DATA]]),\"JANEIRO\",\"FEVEREIRO\",\"MARÇO\",\"ABRIL\",\"MAIO\",\"JUNHO\",\"JULHO\",\"AGOSTO\",\"SETEMBRO\",\"OUTUBRO\",\"NOVEMBRO\",\"DEZEMBRO\")","v":"AGOSTO"},{"$f":"YEAR(tbldados[[#This Row],[DATA]])","v":2022}]
[999,"GASTOS","01 DE 01","ALOMOÇO E JANTA","JUNIOR","GERAL","LATAM","CREDITO A VISTA",{"$f":"VLOOKUP(tbldados[[#This Row],[APP]],tblbandeira[],3,0)","v":0},44737,44767,191,{"$f":"tbldados[[#This Row],[VALOR PAGO]]+(tbldados[[#This Row],[VALOR PAGO]]*tbldados[[#This Row],[TAXA]])","v":191},{"$f":"tbldados[[#This Row],[TOTAL BRUTO]]-tbldados[[#This Row],[VALOR PAGO]]","v":0},{"$f":"CHOOSE(MONTH(tbldados[[#This Row],[DATA]]),\"JANEIRO\",\"FEVEREIRO\",\"MARÇO\",\"ABRIL\",\"MAIO\",\"JUNHO\",\"JULHO\",\"AGOSTO\",\"SETEMBRO\",\"OUTUBRO\",\"NOVEMBRO\",\"DEZEMBRO\")","v":"JULHO"},{"$f":"YEAR(tbldados[[#This Row],[DATA]])","v":2022}]
[1000,"GASTOS","01 DE 01","CERVEJAS","JUNIOR","RECARGAPAY","LATAM","CREDITO A VISTA",{"$f":"VLOOKUP(tbldados[[#This Row],[APP]],tblbandeira[],3,0)","v":3.49E-2},44751,44767,100,{"$f":"tbldados[[#This Row],[VALOR PAGO]]+(tbldados[[#This Row],[VALOR PAGO]]*tbldados[[#This Row],[TAXA]])","v":103.49},{"$f":"tbldados[[#This Row],[TOTAL BRUTO]]-tbldados[[#This Row],[VALOR PAGO]]","v":3.4899999999999949},{"$f":"CHOOSE(MONTH(tbldados[[#This Row],[DATA]]),\"JANEIRO\",\"FEVEREIRO\",\"MARÇO\",\"ABRIL\",\"MAIO\",\"JUNHO\",\"JULHO\",\"AGOSTO\",\"SETEMBRO\",\"OUTUBRO\",\"NOVEMBRO\",\"DEZEMBRO\")","v":"JULHO"},{"$f":"YEAR(tbldados[[#This Row],[DATA]])","v":2022}]
[1001,"PGTO","01 DE 01","LATAM","JULHO","RECARGAPAY","MELIUZ","CREDITO A VISTA",{"$f":"VLOOKUP(tbldados[[#This Row],[APP]],tblbandeira[],3,0)","v":3.49E-2},44768,44805,3675.92,{"$f":"tbldados[[#This Row],[VALOR PAGO]]+(tbldados[[#This Row],[VALOR PAGO]]*tbldados[[#This Row],[TAXA]])","v":3804.2096080000001},{"$f":"tbldados[[#This Row],[TOTAL BRUTO]]-tbldados[[#This Row],[VALOR PAGO]]","v":128.28960800000004},{"$f":"CHOOSE(MONTH(tbldados[[#This Row],[DATA]]),\"JANEIRO\",\"FEVEREIRO\",\"MARÇO\",\"ABRIL\",\"MAIO\",\"JUNHO\",\"JULHO\",\"AGOSTO\",\"SETEMBRO\",\"OUTUBRO\",\"NOVEMBRO\",\"DEZEMBRO\")","v":"SETEMBRO"},{"$f":"YEAR(tbldados[[#This Row],[DATA]])","v":2022}]
[1002,"GASTOS","01 DE 01","PGTOLATAM","JUNIOR","RECARGAPAY","MELIUZ","CREDITO A VISTA",3.9899999999999998E-2,44768,44805,3675.93,{"$f":"tbldados[[#This Row],[VALOR PAGO]]+(tbldados[[#This Row],[VALOR PAGO]]*tbldados[[#This Row],[TAXA]])","v":3822.5996069999997},{"$f":"tbldados[[#This Row],[TOTAL BRUTO]]-tbldados[[#This Row],[VALOR PAGO]]","v":146.66960699999981},{"$f":"CHOOSE(MONTH(tbldados[[#This Row],[DATA]]),\"JANEIRO\",\"FEVEREIRO\",\"MARÇO\",\"ABRIL\",\"MAIO\",\"JUNHO\",\"JULHO\",\"AGOSTO\",\"SETEMBRO\",\"OUTUBRO\",\"NOVEMBRO\",\"DEZEMBRO\")","v":"SETEMBRO"},{"$f":"YEAR(tbldados[[#This Row],[DATA]])","v":2022}]
[1003,"PGTO","01 DE 01","LATAM","AGOSTO","RECARGAPAY","MELIUZ","CREDITO A VISTA",{"$f":"VLOOKUP(tbldados[[#This Row],[APP]],tblbandeira[],3,0)","v":3.49E-2},44769,44805,3537.84,{"$f":"tbldados[[#This Row],[VALOR PAGO]]+(tbldados[[#This Row],[VALOR PAGO]]*tbldados[[#This Row],[TAXA]])","v":3661.3106160000002},{"$f":"tbldados[[#This Row],[TOTAL BRUTO]]-tbldados[[#This Row],[VALOR PAGO]]","v":123.47061600000006},{"$f":"CHOOSE(MONTH(tbldados[[#This Row],[DATA]]),\"JANEIRO\",\"FEVEREIRO\",\"MARÇO\",\"ABRIL\",\"MAIO\",\"JUNHO\",\"JULHO\",\"AGOSTO\",\"SETEMBRO\",\"OUTUBRO\",\"NOVEMBRO\",\"DEZEMBRO\")","v":"SETEMBRO"},{"$f":"YEAR(tbldados[[#This Row],[DATA]])","v":2022}]
[1004,"GASTOS","01 DE 01","PGTOMELIUZ","JUNIOR","RECARGAPAY","LATAM","CREDITO A VISTA",{"$f":"VLOOKUP(tbldados[[#This Row],[APP]],tblbandeira[],3,0)","v":3.49E-2},44769,44798,3537.84,{"$f":"tbldados[[#This Row],[VALOR PAGO]]+(tbldados[[#This Row],[VALOR PAGO]]*tbldados[[#This Row],[TAXA]])","v":3661.3106160000002},{"$f":"tbldados[[#This Row],[TOTAL BRUTO]]-tbldados[[#This Row],[VALOR PAGO]]","v":123.47061600000006},{"$f":"CHOOSE(MONTH(tbldados[[#This Row],[DATA]]),\"JANEIRO\",\"FEVEREIRO\",\"MARÇO\",\"ABRIL\",\"MAIO\",\"JUNHO\",\"JULHO\",\"AGOSTO\",\"SETEMBRO\",\"OUTUBRO\",\"NOVEMBRO\",\"DEZEMBRO\")","v":"AGOSTO"},{"$f":"YEAR(tbldados[[#This Row],[DATA]])","v":2022}]
[1005,"GASTOS","01 DE 03","VIRUSPC","JUNIOR","GERAL","C6","CREDITO PARCELADO",{"$f":"VLOOKUP(tbldados[[#This Row],[APP]],tblbandeira[],3,0)","v":0},44705,44743,18.63,{"$f":"tbldados[[#This Row],[VALOR PAGO]]+(tbldados[[#This Row],[VALOR PAGO]]*tbldados[[#This Row],[TAXA]])","v":18.63},{"$f":"tbldados[[#This Row],[TOTAL BRUTO]]-tbldados[[#This Row],[VALOR PAGO]]","v":0},{"$f":"CHOOSE(MONTH(tbldados[[#This Row],[DATA]]),\"JANEIRO\",\"FEVEREIRO\",\"MARÇO\",\"ABRIL\",\"MAIO\",\"JUNHO\",\"JULHO\",\"AGOSTO\",\"SETEMBRO\",\"OUTUBRO\",\"NOVEMBRO\",\"DEZEMBRO\")","v":"JULHO"},{"$f":"YEAR(tbldados[[#This Row],[DATA]])","v":2022}]
[1006,"GASTOS","02 DE 03","VIRUSPC","JUNIOR","GERAL","C6","CREDITO PARCELADO",{"$f":"VLOOKUP(tbldados[[#This Row],[APP]],tblbandeira[],3,0)","v":0},44705,44774,18.63,{"$f":"tbldados[[#This Row],[VALOR PAGO]]+(tbldados[[#This Row],[VALOR PAGO]]*tbldados[[#This Row],[TAXA]])","v":18.63},{"$f":"tbldados[[#This Row],[TOTAL BRUTO]]-tbldados[[#This Row],[VALOR PAGO]]","v":0},{"$f":"CHOOSE(MONTH(tbldados[[#This Row],[DATA]]),\"JANEIRO\",\"FEVEREIRO\",\"MARÇO\",\"ABRIL\",\"MAIO\",\"JUNHO\",\"JULHO\",\"AGOSTO\",\"SETEMBRO\",\"OUTUBRO\",\"NOVEMBRO\",\"DEZEMBRO\")","v":"AGOSTO"},{"$f":"YEAR(tbldados[[#This Row],[DATA]])","v":2022}]
[1007,"GASTOS","03 DE 03","VIRUSPC","JUNIOR","GERAL","C6","CREDITO PARCELADO",{"$f":"VLOOKUP(tbldados[[#This Row],[APP]],tblbandeira[],3,0)","v":0},44705,44805,18.63,{"$f":"tbldados[[#This Row],[VALOR PAGO]]+(tbldados[[#This Row],[VALOR PAGO]]*tbldados[[#This Row],[TAXA]])","v":18.63},{"$f":"tbldados[[#This Row],[TOTAL BRUTO]]-tbldados[[#This Row],[VALOR PAGO]]","v":0},{"$f":"CHOOSE(MONTH(tbldados[[#This Row],[DATA]]),\"JANEIRO\",\"FEVEREIRO\",\"MARÇO\",\"ABRIL\",\"MAIO\",\"JUNHO\",\"JULHO\",\"AGOSTO\",\"SETEMBRO\",\"OUTUBRO\",\"NOVEMBRO\",\"DEZEMBRO\")","v":"SETEMBRO"},{"$f":"YEAR(tbldados[[#This Row],[DATA]])","v":2022}]
[1008,"GASTOS","01 DE 12","PULSE-SOM","JUNIOR","GERAL","C6","CREDITO PARCELADO",{"$f":"VLOOKUP(tbldados[[#This Row],[APP]],tblbandeira[],3,0)","v":0},44720,44743,31.64,{"$f":"tbldados[[#This Row],[VALOR PAGO]]+(tbldados[[#This Row],[VALOR PAGO]]*tbldados[[#This Row],[TAXA]])","v":31.64},{"$f":"tbldados[[#This Row],[TOTAL BRUTO]]-tbldados[[#This Row],[VALOR PAGO]]","v":0},{"$f":"CHOOSE(MONTH(tbldados[[#This Row],[DATA]]),\"JANEIRO\",\"FEVEREIRO\",\"MARÇO\",\"ABRIL\",\"MAIO\",\"JUNHO\",\"JULHO\",\"AGOSTO\",\"SETEMBRO\",\"OUTUBRO\",\"NOVEMBRO\",\"DEZEMBRO\")","v":"JULHO"},{"$f":"YEAR(tbldados[[#This Row],[DATA]])","v":2022}]
[1009,"GASTOS","02 DE 12","PULSE-SOM","JUNIOR","GERAL","C6","CREDITO PARCELADO",{"$f":"VLOOKUP(tbldados[[#This Row],[APP]],tblbandeira[],3,0)","v":0},44720,44774,31.64,{"$f":"tbldados[[#This Row],[VALOR PAGO]]+(tbldados[[#This Row],[VALOR PAGO]]*tbldados[[#This Row],[TAXA]])","v":31.64},{"$f":"tbldados[[#This Row],[TOTAL BRUTO]]-tbldados[[#This Row],[VALOR PAGO]]","v":0},{"$f":"CHOOSE(MONTH(tbldados[[#This Row],[DATA]]),\"JANEIRO\",\"FEVEREIRO\",\"MARÇO\",\"ABRIL\",\"MAIO\",\"JUNHO\",\"JULHO\",\"AGOSTO\",\"SETEMBRO\",\"OUTUBRO\",\"NOVEMBRO\",\"DEZEMBRO\")","v":"AGOSTO"},{"$f":"YEAR(tbldados[[#This Row],[DATA]])","v":2022}]
[1010,"GASTOS","03 DE 12","PULSE-SOM","JUNIOR","GERAL","C6","CREDITO PARCELADO",{"$f":"VLOOKUP(tbldados[[#This Row],[APP]],tblbandeira[],3,0)","v":0},44720,44805,31.64,{"$f":"tbldados[[#This Row],[VALOR PAGO]]+(tbldados[[#This Row],[VALOR PAGO]]*tbldados[[#This Row],[TAXA]])","v":31.64},{"$f":"tbldados[[#This Row],[TOTAL BRUTO]]-tbldados[[#This Row],[VALOR PAGO]]","v":0},{"$f":"CHOOSE(MONTH(tbldados[[#This Row],[DATA]]),\"JANEIRO\",\"FEVEREIRO\",\"MARÇO\",\"ABRIL\",\"MAIO\",\"JUNHO\",\"JULHO\",\"AGOSTO\",\"SETEMBRO\",\"OUTUBRO\",\"NOVEMBRO\",\"DEZEMBRO\")","v":"SETEMBRO"},{"$f":"YEAR(tbldados[[#This Row],[DATA]])","v":2022}]
[1011,"GASTOS","04 DE 12","PULSE-SOM","JUNIOR","GERAL","C6","CREDITO PARCELADO",{"$f":"VLOOKUP(tbldados[[#This Row],[APP]],tblbandeira[],3,0)","v":0},44720,44835,31.64,{"$f":"tbldados[[#This Row],[VALOR PAGO]]+(tbldados[[#This Row],[VALOR PAGO]]*tbldados[[#This Row],[TAXA]])","v":31.64},{"$f":"tbldados[[#This Row],[TOTAL BRUTO]]-tbldados[[#This Row],[VALOR PAGO]]","v":0},{"$f":"CHOOSE(MONTH(tbldados[[#This Row],[DATA]]),\"JANEIRO\",\"FEVEREIRO\",\"MARÇO\",\"ABRIL\",\"MAIO\",\"JUNHO\",\"JULHO\",\"AGOSTO\",\"SETEMBRO\",\"OUTUBRO\",\"NOVEMBRO\",\"DEZEMBRO\")","v":"OUTUBRO"},{"$f":"YEAR(tbldados[[#This Row],[DATA]])","v":2022}]
[1012,"GASTOS","05 DE 12","PULSE-SOM","JUNIOR","GERAL","C6","CREDITO PARCELADO",{"$f":"VLOOKUP(tbldados[[#This Row],[APP]],tblbandeira[],3,0)","v":0},44720,44866,31.64,{"$f":"tbldados[[#This Row],[VALOR PAGO]]+(tbldados[[#This Row],[VALOR PAGO]]*tbldados[[#This Row],[TAXA]])","v":31.64},{"$f":"tbldados[[#This Row],[TOTAL BRUTO]]-tbldados[[#This Row],[VALOR PAGO]]","v":0},{"$f":"CHOOSE(MONTH(tbldados[[#This Row],[DATA]]),\"JANEIRO\",\"FEVEREIRO\",\"MARÇO\",\"ABRIL\",\"MAIO\",\"JUNHO\",\"JULHO\",\"AGOSTO\",\"SETEMBRO\",\"OUTUBRO\",\"NOVEMBRO\",\"DEZEMBRO\")","v":"NOVEMBRO"},{"$f":"YEAR(tbldados[[#This Row],[DATA]])","v":2022}]
[1013,"GASTOS","06 DE 12","PULSE-SOM","JUNIOR","GERAL","C6","CREDITO PARCELADO",{"$f":"VLOOKUP(tbldados[[#This Row],[APP]],tblbandeira[],3,0)","v":0},44720,44896,31.64,{"$f":"tbldados[[#This Row],[VALOR PAGO]]+(tbldados[[#This Row],[VALOR PAGO]]*tbldados[[#This Row],[TAXA]])","v":31.64},{"$f":"tbldados[[#This Row],[TOTAL BRUTO]]-tbldados[[#This Row],[VALOR PAGO]]","v":0},{"$f":"CHOOSE(MONTH(tbldados[[#This Row],[DATA]]),\"JANEIRO\",\"FEVEREIRO\",\"MARÇO\",\"ABRIL\",\"MAIO\",\"JUNHO\",\"JULHO\",\"AGOSTO\",\"SETEMBRO\",\"OUTUBRO\",\"NOVEMBRO\",\"DEZEMBRO\")","v":"DEZEMBRO"},{"$f":"YEAR(tbldados[[#This Row],[DATA]])","v":2022}]
[1014,"GASTOS","07 DE 12","PULSE-SOM","JUNIOR","GERAL","C6","CREDITO PARCELADO",{"$f":"VLOOKUP(tbldados[[#This Row],[APP]],tblbandeira[],3,0)","v":0},44720,44927,31.64,{"$f":"tbldados[[#This Row],[VALOR PAGO]]+(tbldados[[#This Row],[VALOR PAGO]]*tbldados[[#This Row],[TAXA]])","v":31.64},{"$f":"tbldados[[#This Row],[TOTAL BRUTO]]-tbldados[[#This Row],[VALOR PAGO]]","v":0},{"$f":"CHOOSE(MONTH(tbldados[[#This Row],[DATA]]),\"JANEIRO\",\"FEVEREIRO\",\"MARÇO\",\"ABRIL\",\"MAIO\",\"JUNHO\",\"JULHO\",\"AGOSTO\",\"SETEMBRO\",\"OUTUBRO\",\"NOVEMBRO\",\"DEZEMBRO\")","v":"JANEIRO"},{"$f":"YEAR(tbldados[[#This Row],[DATA]])","v":2023}]
[1015,"GASTOS","08 DE 12","PULSE-SOM","JUNIOR","GERAL","C6","CREDITO PARCELADO",{"$f":"VLOOKUP(tbldados[[#This Row],[APP]],tblbandeira[],3,0)","v":0},44720,44958,31.64,{"$f":"tbldados[[#This Row],[VALOR PAGO]]+(tbldados[[#This Row],[VALOR PAGO]]*tbldados[[#This Row],[TAXA]])","v":31.64},{"$f":"tbldados[[#This Row],[TOTAL BRUTO]]-tbldados[[#This Row],[VALOR PAGO]]","v":0},{"$f":"CHOOSE(MONTH(tbldados[[#This Row],[DATA]]),\"JANEIRO\",\"FEVEREIRO\",\"MARÇO\",\"ABRIL\",\"MAIO\",\"JUNHO\",\"JULHO\",\"AGOSTO\",\"SETEMBRO\",\"OUTUBRO\",\"NOVEMBRO\",\"DEZEMBRO\")","v":"FEVEREIRO"},{"$f":"YEAR(tbldados[[#This Row],[DATA]])","v":2023}]
[1016,"GASTOS","09 DE 12","PULSE-SOM","JUNIOR","GERAL","C6","CREDITO PARCELADO",{"$f":"VLOOKUP(tbldados[[#This Row],[APP]],tblbandeira[],3,0)","v":0},44720,44986,31.64,{"$f":"tbldados[[#This Row],[VALOR PAGO]]+(tbldados[[#This Row],[VALOR PAGO]]*tbldados[[#This Row],[TAXA]])","v":31.64},{"$f":"tbldados[[#This Row],[TOTAL BRUTO]]-tbldados[[#This Row],[VALOR PAGO]]","v":0},{"$f":"CHOOSE(MONTH(tbldados[[#This Row],[DATA]]),\"JANEIRO\",\"FEVEREIRO\",\"MARÇO\",\"ABRIL\",\"MAIO\",\"JUNHO\",\"JULHO\",\"AGOSTO\",\"SETEMBRO\",\"OUTUBRO\",\"NOVEMBRO\",\"DEZEMBRO\")","v":"MARÇO"},{"$f":"YEAR(tbldados[[#This Row],[DATA]])","v":2023}]
[1017,"GASTOS","10 DE 12","PULSE-SOM","JUNIOR","GERAL","C6","CREDITO PARCELADO",{"$f":"VLOOKUP(tbldados[[#This Row],[APP]],tblbandeira[],3,0)","v":0},44720,45017,31.64,{"$f":"tbldados[[#This Row],[VALOR PAGO]]+(tbldados[[#This Row],[VALOR PAGO]]*tbldados[[#This Row],[TAXA]])","v":31.64},{"$f":"tbldados[[#This Row],[TOTAL BRUTO]]-tbldados[[#This Row],[VALOR PAGO]]","v":0},{"$f":"CHOOSE(MONTH(tbldados[[#This Row],[DATA]]),\"JANEIRO\",\"FEVEREIRO\",\"MARÇO\",\"ABRIL\",\"MAIO\",\"JUNHO\",\"JULHO\",\"AGOSTO\",\"SETEMBRO\",\"OUTUBRO\",\"NOVEMBRO\",\"DEZEMBRO\")","v":"ABRIL"},{"$f":"YEAR(tbldados[[#This Row],[DATA]])","v":2023}]
[1018,"GASTOS","11 DE 12","PULSE-SOM","JUNIOR","GERAL","C6","CREDITO PARCELADO",{"$f":"VLOOKUP(tbldados[[#This Row],[APP]],tblbandeira[],3,0)","v":0},44720,45047,31.64,{"$f":"tbldados[[#This Row],[VALOR PAGO]]+(tbldados[[#This Row],[VALOR PAGO]]*tbldados[[#This Row],[TAXA]])","v":31.64},{"$f":"tbldados[[#This Row],[TOTAL BRUTO]]-tbldados[[#This Row],[VALOR PAGO]]","v":0},{"$f":"CHOOSE(MONTH(tbldados[[#This Row],[DATA]]),\"JANEIRO\",\"FEVEREIRO\",\"MARÇO\",\"ABRIL\",\"MAIO\",\"JUNHO\",\"JULHO\",\"AGOSTO\",\"SETEMBRO\",\"OUTUBRO\",\"NOVEMBRO\",\"DEZEMBRO\")","v":"MAIO"},{"$f":"YEAR(tbldados[[#This Row],[DATA]])","v":2023}]
[1019,"GASTOS","12 DE 12","PULSE-SOM","JUNIOR","GERAL","C6","CREDITO PARCELADO",{"$f":"VLOOKUP(tbldados[[#This Row],[APP]],tblbandeira[],3,0)","v":0},44720,45078,31.64,{"$f":"tbldados[[#This Row],[VALOR PAGO]]+(tbldados[[#This Row],[VALOR PAGO]]*tbldados[[#This Row],[TAXA]])","v":31.64},{"$f":"tbldados[[#This Row],[TOTAL BRUTO]]-tbldados[[#This Row],[VALOR PAGO]]","v":0},{"$f":"CHOOSE(MONTH(tbldados[[#This Row],[DATA]]),\"JANEIRO\",\"FEVEREIRO\",\"MARÇO\",\"ABRIL\",\"MAIO\",\"JUNHO\",\"JULHO\",\"AGOSTO\",\"SETEMBRO\",\"OUTUBRO\",\"NOVEMBRO\",\"DEZEMBRO\")","v":"JUNHO"},{"$f":"YEAR(tbldados[[#This Row],[DATA]])","v":2023}]
[1020,"GASTOS","01 DE 03","FARMÁCIA","JUNIOR","GERAL","C6","CREDITO PARCELADO",{"$f":"VLOOKUP(tbldados[[#This Row],[APP]],tblbandeira[],3,0)","v":0},44706,44743,86.26,{"$f":"tbldados[[#This Row],[VALOR PAGO]]+(tbldados[[#This Row],[VALOR PAGO]]*tbldados[[#This Row],[TAXA]])","v":86.26},{"$f":"tbldados[[#This Row],[TOTAL BRUTO]]-tbldados[[#This Row],[VALOR PAGO]]","v":0},{"$f":"CHOOSE(MONTH(tbldados[[#This Row],[DATA]]),\"JANEIRO\",\"FEVEREIRO\",\"MARÇO\",\"ABRIL\",\"MAIO\",\"JUNHO\",\"JULHO\",\"AGOSTO\",\"SETEMBRO\",\"OUTUBRO\",\"NOVEMBRO\",\"DEZEMBRO\")","v":"JULHO"},{"$f":"YEAR(tbldados[[#This Row],[DATA]])","v":2022}]
[1021,"GASTOS","02 DE 03","FARMÁCIA","JUNIOR","GERAL","C6","CREDITO PARCELADO",{"$f":"VLOOKUP(tbldados[[#This Row],[APP]],tblbandeira[],3,0)","v":0},44706,44774,86.26,{"$f":"tbldados[[#This Row],[VALOR PAGO]]+(tbldados[[#This Row],[VALOR PAGO]]*tbldados[[#This Row],[TAXA]])","v":86.26},{"$f":"tbldados[[#This Row],[TOTAL BRUTO]]-tbldados[[#This Row],[VALOR PAGO]]","v":0},{"$f":"CHOOSE(MONTH(tbldados[[#This Row],[DATA]]),\"JANEIRO\",\"FEVEREIRO\",\"MARÇO\",\"ABRIL\",\"MAIO\",\"JUNHO\",\"JULHO\",\"AGOSTO\",\"SETEMBRO\",\"OUTUBRO\",\"NOVEMBRO\",\"DEZEMBRO\")","v":"AGOSTO"},{"$f":"YEAR(tbldados[[#This Row],[DATA]])","v":2022}]
[1022,"GASTOS","03 DE 03","FARMÁCIA","JUNIOR","GERAL","C6","CREDITO PARCELADO",{"$f":"VLOOKUP(tbldados[[#This Row],[APP]],tblbandeira[],3,0)","v":0},44706,44805,86.26,{"$f":"tbldados[[#This Row],[VALOR PAGO]]+(tbldados[[#This Row],[VALOR PAGO]]*tbldados[[#This Row],[TAXA]])","v":86.26},{"$f":"tbldados[[#This Row],[TOTAL BRUTO]]-tbldados[[#This Row],[VALOR PAGO]]","v":0},{"$f":"CHOOSE(MONTH(tbldados[[#This Row],[DATA]]),\"JANEIRO\",\"FEVEREIRO\",\"MARÇO\",\"ABRIL\",\"MAIO\",\"JUNHO\",\"JULHO\",\"AGOSTO\",\"SETEMBRO\",\"OUTUBRO\",\"NOVEMBRO\",\"DEZEMBRO\")","v":"SETEMBRO"},{"$f":"YEAR(tbldados[[#This Row],[DATA]])","v":2022}]
[1023,"PGTO","01 DE 01","C6","AGOSTO","CONTA","DÉBITO","DINHEIRO",{"$f":"VLOOKUP(tbldados[[#This Row],[APP]],tblbandeira[],3,0)","v":0},44769,44769,201.75,{"$f":"tbldados[[#This Row],[VALOR PAGO]]+(tbldados[[#This Row],[VALOR PAGO]]*tbldados[[#This Row],[TAXA]])","v":201.75},{"$f":"tbldados[[#This Row],[TOTAL BRUTO]]-tbldados[[#This Row],[VALOR PAGO]]","v":0},{"$f":"CHOOSE(MONTH(tbldados[[#This Row],[DATA]]),\"JANEIRO\",\"FEVEREIRO\",\"MARÇO\",\"ABRIL\",\"MAIO\",\"JUNHO\",\"JULHO\",\"AGOSTO\",\"SETEMBRO\",\"OUTUBRO\",\"NOVEMBRO\",\"DEZEMBRO\")","v":"JULHO"},{"$f":"YEAR(tbldados[[#This Row],[DATA]])","v":2022}]
[1024,"PGTO","01 DE 01","C6","AGOSTO","CONTA","DÉBITO","DINHEIRO",{"$f":"VLOOKUP(tbldados[[#This Row],[APP]],tblbandeira[],3,0)","v":0},44774,44774,1201.6300000000001,{"$f":"tbldados[[#This Row],[VALOR PAGO]]+(tbldados[[#This Row],[VALOR PAGO]]*tbldados[[#This Row],[TAXA]])","v":1201.6300000000001},{"$f":"tbldados[[#This Row],[TOTAL BRUTO]]-tbldados[[#This Row],[VALOR PAGO]]","v":0},{"$f":"CHOOSE(MONTH(tbldados[[#This Row],[DATA]]),\"JANEIRO\",\"FEVEREIRO\",\"MARÇO\",\"ABRIL\",\"MAIO\",\"JUNHO\",\"JULHO\",\"AGOSTO\",\"SETEMBRO\",\"OUTUBRO\",\"NOVEMBRO\",\"DEZEMBRO\")","v":"AGOSTO"},{"$f":"YEAR(tbldados[[#This Row],[DATA]])","v":2022}]
[1025,"PGTO","01 DE 01","C6","AGOSTO","RECARGAPAY","C6MAE","CREDITO A VISTA",{"$f":"VLOOKUP(tbldados[[#This Row],[APP]],tblbandeira[],3,0)","v":3.49E-2},44774,44809,1726.65,{"$f":"tbldados[[#This Row],[VALOR PAGO]]+(tbldados[[#This Row],[VALOR PAGO]]*tbldados[[#This Row],[TAXA]])","v":1786.910085},{"$f":"tbldados[[#This Row],[TOTAL BRUTO]]-tbldados[[#This Row],[VALOR PAGO]]","v":60.26008499999989},{"$f":"CHOOSE(MONTH(tbldados[[#This Row],[DATA]]),\"JANEIRO\",\"FEVEREIRO\",\"MARÇO\",\"ABRIL\",\"MAIO\",\"JUNHO\",\"JULHO\",\"AGOSTO\",\"SETEMBRO\",\"OUTUBRO\",\"NOVEMBRO\",\"DEZEMBRO\")","v":"SETEMBRO"},{"$f":"YEAR(tbldados[[#This Row],[DATA]])","v":2022}]
[1026,"GASTOS","01 DE 01","PGTOC6","JUNIOR","RECARGAPAY","C6","CREDITO A VISTA",{"$f":"VLOOKUP(tbldados[[#This Row],[APP]],tblbandeira[],3,0)","v":3.49E-2},44774,44805,1726.65,{"$f":"tbldados[[#This Row],[VALOR PAGO]]+(tbldados[[#This Row],[VALOR PAGO]]*tbldados[[#This Row],[TAXA]])","v":1786.910085},{"$f":"tbldados[[#This Row],[TOTAL BRUTO]]-tbldados[[#This Row],[VALOR PAGO]]","v":60.26008499999989},{"$f":"CHOOSE(MONTH(tbldados[[#This Row],[DATA]]),\"JANEIRO\",\"FEVEREIRO\",\"MARÇO\",\"ABRIL\",\"MAIO\",\"JUNHO\",\"JULHO\",\"AGOSTO\",\"SETEMBRO\",\"OUTUBRO\",\"NOVEMBRO\",\"DEZEMBRO\")","v":"SETEMBRO"},{"$f":"YEAR(tbldados[[#This Row],[DATA]])","v":2022}]
[1027,"GASTOS","01 DE 01","JUROS-ORIGINAL","JUNIOR","GERAL","ORIGINAL","CREDITO A VISTA",{"$f":"VLOOKUP(tbldados[[#This Row],[APP]],tblbandeira[],3,0)","v":0},44743,44783,15.67,{"$f":"tbldados[[#This Row],[VALOR PAGO]]+(tbldados[[#This Row],[VALOR PAGO]]*tbldados[[#This Row],[TAXA]])","v":15.67},{"$f":"tbldados[[#This Row],[TOTAL BRUTO]]-tbldados[[#This Row],[VALOR PAGO]]","v":0},{"$f":"CHOOSE(MONTH(tbldados[[#This Row],[DATA]]),\"JANEIRO\",\"FEVEREIRO\",\"MARÇO\",\"ABRIL\",\"MAIO\",\"JUNHO\",\"JULHO\",\"AGOSTO\",\"SETEMBRO\",\"OUTUBRO\",\"NOVEMBRO\",\"DEZEMBRO\")","v":"AGOSTO"},{"$f":"YEAR(tbldados[[#This Row],[DATA]])","v":2022}]
[1028,"PGTO","01 DE 01","ORIGINAL","AGOSTO","RECARGAPAY","MELIUZ","CREDITO A VISTA",{"$f":"VLOOKUP(tbldados[[#This Row],[APP]],tblbandeira[],3,0)","v":3.49E-2},44774,44805,15.67,{"$f":"tbldados[[#This Row],[VALOR PAGO]]+(tbldados[[#This Row],[VALOR PAGO]]*tbldados[[#This Row],[TAXA]])","v":16.216882999999999},{"$f":"tbldados[[#This Row],[TOTAL BRUTO]]-tbldados[[#This Row],[VALOR PAGO]]","v":0.54688299999999934},{"$f":"CHOOSE(MONTH(tbldados[[#This Row],[DATA]]),\"JANEIRO\",\"FEVEREIRO\",\"MARÇO\",\"ABRIL\",\"MAIO\",\"JUNHO\",\"JULHO\",\"AGOSTO\",\"SETEMBRO\",\"OUTUBRO\",\"NOVEMBRO\",\"DEZEMBRO\")","v":"SETEMBRO"},{"$f":"YEAR(tbldados[[#This Row],[DATA]])","v":2022}]
[1029,"GASTOS","01 DE 01","DIVERSOS","JUNIOR","GERAL","C6","CREDITO A VISTA",{"$f":"VLOOKUP(tbldados[[#This Row],[APP]],tblbandeira[],3,0)","v":0},44775,44805,360.32,{"$f":"tbldados[[#This Row],[VALOR PAGO]]+(tbldados[[#This Row],[VALOR PAGO]]*tbldados[[#This Row],[TAXA]])","v":360.32},{"$f":"tbldados[[#This Row],[TOTAL BRUTO]]-tbldados[[#This Row],[VALOR PAGO]]","v":0},{"$f":"CHOOSE(MONTH(tbldados[[#This Row],[DATA]]),\"JANEIRO\",\"FEVEREIRO\",\"MARÇO\",\"ABRIL\",\"MAIO\",\"JUNHO\",\"JULHO\",\"AGOSTO\",\"SETEMBRO\",\"OUTUBRO\",\"NOVEMBRO\",\"DEZEMBRO\")","v":"SETEMBRO"},{"$f":"YEAR(tbldados[[#This Row],[DATA]])","v":2022}]
[1030,"PGTO","01 DE 01","C6","SETEMBRO","CONTA","DÉBITO","DINHEIRO",{"$f":"VLOOKUP(tbldados[[#This Row],[APP]],tblbandeira[],3,0)","v":0},44775,44775,15.29,{"$f":"tbldados[[#This Row],[VALOR PAGO]]+(tbldados[[#This Row],[VALOR PAGO]]*tbldados[[#This Row],[TAXA]])","v":15.29},{"$f":"tbldados[[#This Row],[TOTAL BRUTO]]-tbldados[[#This Row],[VALOR PAGO]]","v":0},{"$f":"CHOOSE(MONTH(tbldados[[#This Row],[DATA]]),\"JANEIRO\",\"FEVEREIRO\",\"MARÇO\",\"ABRIL\",\"MAIO\",\"JUNHO\",\"JULHO\",\"AGOSTO\",\"SETEMBRO\",\"OUTUBRO\",\"NOVEMBRO\",\"DEZEMBRO\")","v":"AGOSTO"},{"$f":"YEAR(tbldados[[#This Row],[DATA]])","v":2022}]
[1031,"GASTOS","01 DE 01","DIVERSOS","JUNIOR","GERAL","MELIUZ","CREDITO A VISTA",{"$f":"VLOOKUP(tbldados[[#This Row],[APP]],tblbandeira[],3,0)","v":0},44775,44805,262.55,{"$f":"tbldados[[#This Row],[VALOR PAGO]]+(tbldados[[#This Row],[VALOR PAGO]]*tbldados[[#This Row],[TAXA]])","v":262.55},{"$f":"tbldados[[#This Row],[TOTAL BRUTO]]-tbldados[[#This Row],[VALOR PAGO]]","v":0},{"$f":"CHOOSE(MONTH(tbldados[[#This Row],[DATA]]),\"JANEIRO\",\"FEVEREIRO\",\"MARÇO\",\"ABRIL\",\"MAIO\",\"JUNHO\",\"JULHO\",\"AGOSTO\",\"SETEMBRO\",\"OUTUBRO\",\"NOVEMBRO\",\"DEZEMBRO\")","v":"SETEMBRO"},{"$f":"YEAR(tbldados[[#This Row],[DATA]])","v":2022}]
[1032,"PGTO","01 DE 01","MELIUZ","AGOSTO","RECARGAPAY","MELIUZ","CREDITO A VISTA",{"$f":"VLOOKUP(tbldados[[#This Row],[APP]],tblbandeira[],3,0)","v":3.49E-2},44773,44805,1687.24,{"$f":"tbldados[[#This Row],[VALOR PAGO]]+(tbldados[[#This Row],[VALOR PAGO]]*tbldados[[#This Row],[TAXA]])","v":1746.1246759999999},{"$f":"tbldados[[#This Row],[TOTAL BRUTO]]-tbldados[[#This Row],[VALOR PAGO]]","v":58.884675999999899},{"$f":"CHOOSE(MONTH(tbldados[[#This Row],[DATA]]),\"JANEIRO\",\"FEVEREIRO\",\"MARÇO\",\"ABRIL\",\"MAIO\",\"JUNHO\",\"JULHO\",\"AGOSTO\",\"SETEMBRO\",\"OUTUBRO\",\"NOVEMBRO\",\"DEZEMBRO\")","v":"SETEMBRO"},{"$f":"YEAR(tbldados[[#This Row],[DATA]])","v":2022}]
[1033,"GASTOS","01 DE 01","PGTOMELIUZ","JUNIOR","RECARGAPAY","MELIUZ","CREDITO A VISTA",3.9899999999999998E-2,44773,44805,1688.85,{"$f":"tbldados[[#This Row],[VALOR PAGO]]+(tbldados[[#This Row],[VALOR PAGO]]*tbldados[[#This Row],[TAXA]])","v":1756.235115},{"$f":"tbldados[[#This Row],[TOTAL BRUTO]]-tbldados[[#This Row],[VALOR PAGO]]","v":67.385115000000042},{"$f":"CHOOSE(MONTH(tbldados[[#This Row],[DATA]]),\"JANEIRO\",\"FEVEREIRO\",\"MARÇO\",\"ABRIL\",\"MAIO\",\"JUNHO\",\"JULHO\",\"AGOSTO\",\"SETEMBRO\",\"OUTUBRO\",\"NOVEMBRO\",\"DEZEMBRO\")","v":"SETEMBRO"},{"$f":"YEAR(tbldados[[#This Row],[DATA]])","v":2022}]
[1034,"GASTOS","01 DE 01","JUROS","JUNIOR","GERAL","MELIUZ","CREDITO A VISTA",{"$f":"VLOOKUP(tbldados[[#This Row],[APP]],tblbandeira[],3,0)","v":0},44774,44805,0.62,{"$f":"tbldados[[#This Row],[VALOR PAGO]]+(tbldados[[#This Row],[VALOR PAGO]]*tbldados[[#This Row],[TAXA]])","v":0.62},{"$f":"tbldados[[#This Row],[TOTAL BRUTO]]-tbldados[[#This Row],[VALOR PAGO]]","v":0},{"$f":"CHOOSE(MONTH(tbldados[[#This Row],[DATA]]),\"JANEIRO\",\"FEVEREIRO\",\"MARÇO\",\"ABRIL\",\"MAIO\",\"JUNHO\",\"JULHO\",\"AGOSTO\",\"SETEMBRO\",\"OUTUBRO\",\"NOVEMBRO\",\"DEZEMBRO\")","v":"SETEMBRO"},{"$f":"YEAR(tbldados[[#This Row],[DATA]])","v":2022}]
[1035,"PGTO","01 DE 01","ZERO","AGOSTO","RECARGAPAY","MELIUZ","CREDITO A VISTA",{"$f":"VLOOKUP(tbldados[[#This Row],[APP]],tblbandeira[],3,0)","v":3.49E-2},44776,44805,1599.99,{"$f":"tbldados[[#This Row],[VALOR PAGO]]+(tbldados[[#This Row],[VALOR PAGO]]*tbldados[[#This Row],[TAXA]])","v":1655.829651},{"$f":"tbldados[[#This Row],[TOTAL BRUTO]]-tbldados[[#This Row],[VALOR PAGO]]","v":55.839651000000003},{"$f":"CHOOSE(MONTH(tbldados[[#This Row],[DATA]]),\"JANEIRO\",\"FEVEREIRO\",\"MARÇO\",\"ABRIL\",\"MAIO\",\"JUNHO\",\"JULHO\",\"AGOSTO\",\"SETEMBRO\",\"OUTUBRO\",\"NOVEMBRO\",\"DEZEMBRO\")","v":"SETEMBRO"},{"$f":"YEAR(tbldados[[#This Row],[DATA]])","v":2022}]
[1036,"GASTOS","01 DE 01","PGTOZERO","JUNIOR","RECARGAPAY","MELIUZ","CREDITO A VISTA",3.9899999999999998E-2,44776,44805,1599.99,{"$f":"tbldados[[#This Row],[VALOR PAGO]]+(tbldados[[#This Row],[VALOR PAGO]]*tbldados[[#This Row],[TAXA]])","v":1663.8296009999999},{"$f":"tbldados[[#This Row],[TOTAL BRUTO]]-tbldados[[#This Row],[VALOR PAGO]]","v":63.839600999999902},{"$f":"CHOOSE(MONTH(tbldados[[#This Row],[DATA]]),\"JANEIRO\",\"FEVEREIRO\",\"MARÇO\",\"ABRIL\",\"MAIO\",\"JUNHO\",\"JULHO\",\"AGOSTO\",\"SETEMBRO\",\"OUTUBRO\",\"NOVEMBRO\",\"DEZEMBRO\")","v":"SETEMBRO"},{"$f":"YEAR(tbldados[[#This Row],[DATA]])","v":2022}]
[1037,"PGTO","01 DE 01","MELIUZ","SETEMBRO","RECARGAPAY","ZERO","CREDITO A VISTA",{"$f":"VLOOKUP(tbldados[[#This Row],[APP]],tblbandeira[],3,0)","v":3.49E-2},44776,44807,1538.61,{"$f":"tbldados[[#This Row],[VALOR PAGO]]+(tbldados[[#This Row],[VALOR PAGO]]*tbldados[[#This Row],[TAXA]])","v":1592.3074889999998},{"$f":"tbldados[[#This Row],[TOTAL BRUTO]]-tbldados[[#This Row],[VALOR PAGO]]","v":53.697488999999905},{"$f":"CHOOSE(MONTH(tbldados[[#This Row],[DATA]]),\"JANEIRO\",\"FEVEREIRO\",\"MARÇO\",\"ABRIL\",\"MAIO\",\"JUNHO\",\"JULHO\",\"AGOSTO\",\"SETEMBRO\",\"OUTUBRO\",\"NOVEMBRO\",\"DEZEMBRO\")","v":"SETEMBRO"},{"$f":"YEAR(tbldados[[#This Row],[DATA]])","v":2022}]
[1038,"GASTOS","01 DE 01","PGTOMELIUZ","JUNIOR","RECARGAPAY","ZERO","CREDITO A VISTA",{"$f":"VLOOKUP(tbldados[[#This Row],[APP]],tblbandeira[],3,0)","v":3.49E-2},44776,44807,1538.61,{"$f":"tbldados[[#This Row],[VALOR PAGO]]+(tbldados[[#This Row],[VALOR PAGO]]*tbldados[[#This Row],[TAXA]])","v":1592.3074889999998},{"$f":"tbldados[[#This Row],[TOTAL BRUTO]]-tbldados[[#This Row],[VALOR PAGO]]","v":53.697488999999905},{"$f":"CHOOSE(MONTH(tbldados[[#This Row],[DATA]]),\"JANEIRO\",\"FEVEREIRO\",\"MARÇO\",\"ABRIL\",\"MAIO\",\"JUNHO\",\"JULHO\",\"AGOSTO\",\"SETEMBRO\",\"OUTUBRO\",\"NOVEMBRO\",\"DEZEMBRO\")","v":"SETEMBRO"},{"$f":"YEAR(tbldados[[#This Row],[DATA]])","v":2022}]
[1039,"GASTOS","01 DE 01","JUROS","JUNIOR","GERAL","MNEXT","CREDITO A VISTA",{"$f":"VLOOKUP(tbldados[[#This Row],[APP]],tblbandeira[],3,0)","v":0},44746,44777,15.64,{"$f":"tbldados[[#This Row],[VALOR PAGO]]+(tbldados[[#This Row],[VALOR PAGO]]*tbldados[[#This Row],[TAXA]])","v":15.64},{"$f":"tbldados[[#This Row],[TOTAL BRUTO]]-tbldados[[#This Row],[VALOR PAGO]]","v":0},{"$f":"CHOOSE(MONTH(tbldados[[#This Row],[DATA]]),\"JANEIRO\",\"FEVEREIRO\",\"MARÇO\",\"ABRIL\",\"MAIO\",\"JUNHO\",\"JULHO\",\"AGOSTO\",\"SETEMBRO\",\"OUTUBRO\",\"NOVEMBRO\",\"DEZEMBRO\")","v":"AGOSTO"},{"$f":"YEAR(tbldados[[#This Row],[DATA]])","v":2022}]
[1040,"PGTO","01 DE 01","MNEXT","AGOSTO","RECARGAPAY","PAN","CREDITO A VISTA",{"$f":"VLOOKUP(tbldados[[#This Row],[APP]],tblbandeira[],3,0)","v":3.49E-2},44777,44817,1188.55,{"$f":"tbldados[[#This Row],[VALOR PAGO]]+(tbldados[[#This Row],[VALOR PAGO]]*tbldados[[#This Row],[TAXA]])","v":1230.030395},{"$f":"tbldados[[#This Row],[TOTAL BRUTO]]-tbldados[[#This Row],[VALOR PAGO]]","v":41.480395000000044},{"$f":"CHOOSE(MONTH(tbldados[[#This Row],[DATA]]),\"JANEIRO\",\"FEVEREIRO\",\"MARÇO\",\"ABRIL\",\"MAIO\",\"JUNHO\",\"JULHO\",\"AGOSTO\",\"SETEMBRO\",\"OUTUBRO\",\"NOVEMBRO\",\"DEZEMBRO\")","v":"SETEMBRO"},{"$f":"YEAR(tbldados[[#This Row],[DATA]])","v":2022}]
[1041,"GASTOS","01 DE 01","PGTOMNETX","JUNIOR","RECARGAPAY","MELIUZ","CREDITO A VISTA",3.9899999999999998E-2,44777,44805,1194.27,{"$f":"tbldados[[#This Row],[VALOR PAGO]]+(tbldados[[#This Row],[VALOR PAGO]]*tbldados[[#This Row],[TAXA]])","v":1241.9213729999999},{"$f":"tbldados[[#This Row],[TOTAL BRUTO]]-tbldados[[#This Row],[VALOR PAGO]]","v":47.651372999999921},{"$f":"CHOOSE(MONTH(tbldados[[#This Row],[DATA]]),\"JANEIRO\",\"FEVEREIRO\",\"MARÇO\",\"ABRIL\",\"MAIO\",\"JUNHO\",\"JULHO\",\"AGOSTO\",\"SETEMBRO\",\"OUTUBRO\",\"NOVEMBRO\",\"DEZEMBRO\")","v":"SETEMBRO"},{"$f":"YEAR(tbldados[[#This Row],[DATA]])","v":2022}]
[1042,"PGTO","01 DE 01","AZUL","AGOSTO","RECARGAPAY","MELIUZ","CREDITO A VISTA",{"$f":"VLOOKUP(tbldados[[#This Row],[APP]],tblbandeira[],3,0)","v":3.49E-2},44780,44805,2150,{"$f":"tbldados[[#This Row],[VALOR PAGO]]+(tbldados[[#This Row],[VALOR PAGO]]*tbldados[[#This Row],[TAXA]])","v":2225.0349999999999},{"$f":"tbldados[[#This Row],[TOTAL BRUTO]]-tbldados[[#This Row],[VALOR PAGO]]","v":75.034999999999854},{"$f":"CHOOSE(MONTH(tbldados[[#This Row],[DATA]]),\"JANEIRO\",\"FEVEREIRO\",\"MARÇO\",\"ABRIL\",\"MAIO\",\"JUNHO\",\"JULHO\",\"AGOSTO\",\"SETEMBRO\",\"OUTUBRO\",\"NOVEMBRO\",\"DEZEMBRO\")","v":"SETEMBRO"},{"$f":"YEAR(tbldados[[#This Row],[DATA]])","v":2022}]
[1043,"GASTOS","01 DE 01","PGTOAZUL","JUNIOR","RECARGAPAY","MELIUZ","CREDITO A VISTA",3.9899999999999998E-2,44780,44805,2150,{"$f":"tbldados[[#This Row],[VALOR PAGO]]+(tbldados[[#This Row],[VALOR PAGO]]*tbldados[[#This Row],[TAXA]])","v":2235.7849999999999},{"$f":"tbldados[[#This Row],[TOTAL BRUTO]]-tbldados[[#This Row],[VALOR PAGO]]","v":85.784999999999854},{"$f":"CHOOSE(MONTH(tbldados[[#This Row],[DATA]]),\"JANEIRO\",\"FEVEREIRO\",\"MARÇO\",\"ABRIL\",\"MAIO\",\"JUNHO\",\"JULHO\",\"AGOSTO\",\"SETEMBRO\",\"OUTUBRO\",\"NOVEMBRO\",\"DEZEMBRO\")","v":"SETEMBRO"},{"$f":"YEAR(tbldados[[#This Row],[DATA]])","v":2022}]
[1044,"GASTOS","01 DE 01","NÃO LEMBRO","JUNIOR","RECARGAPAY","NCARD","CREDITO A VISTA",{"$f":"VLOOKUP(tbldados[[#This Row],[APP]],tblbandeira[],3,0)","v":3.49E-2},44748,44782,135.94,{"$f":"tbldados[[#This Row],[VALOR PAGO]]+(tbldados[[#This Row],[VALOR PAGO]]*tbldados[[#This Row],[TAXA]])","v":140.68430599999999},{"$f":"tbldados[[#This Row],[TOTAL BRUTO]]-tbldados[[#This Row],[VALOR PAGO]]","v":4.7443059999999946},{"$f":"CHOOSE(MONTH(tbldados[[#This Row],[DATA]]),\"JANEIRO\",\"FEVEREIRO\",\"MARÇO\",\"ABRIL\",\"MAIO\",\"JUNHO\",\"JULHO\",\"AGOSTO\",\"SETEMBRO\",\"OUTUBRO\",\"NOVEMBRO\",\"DEZEMBRO\")","v":"AGOSTO"},{"$f":"YEAR(tbldados[[#This Row],[DATA]])","v":2022}]
[1045,"GASTOS","01 DE 01","NÃO LEMBRO","JUNIOR","RECARGAPAY","NCARD","CREDITO A VISTA",{"$f":"VLOOKUP(tbldados[[#This Row],[APP]],tblbandeira[],3,0)","v":3.49E-2},44754,44782,1394.67,{"$f":"tbldados[[#This Row],[VALOR PAGO]]+(tbldados[[#This Row],[VALOR PAGO]]*tbldados[[#This Row],[TAXA]])","v":1443.343983},{"$f":"tbldados[[#This Row],[TOTAL BRUTO]]-tbldados[[#This Row],[VALOR PAGO]]","v":48.673982999999907},{"$f":"CHOOSE(MONTH(tbldados[[#This Row],[DATA]]),\"JANEIRO\",\"FEVEREIRO\",\"MARÇO\",\"ABRIL\",\"MAIO\",\"JUNHO\",\"JULHO\",\"AGOSTO\",\"SETEMBRO\",\"OUTUBRO\",\"NOVEMBRO\",\"DEZEMBRO\")","v":"AGOSTO"},{"$f":"YEAR(tbldados[[#This Row],[DATA]])","v":2022}]
[1046,"GASTOS","01 DE 01","ANUIDADE","JUNIOR","GERAL","NCARD","CREDITO A VISTA",{"$f":"VLOOKUP(tbldados[[#This Row],[APP]],tblbandeira[],3,0)","v":0},44754,44782,8.31,{"$f":"tbldados[[#This Row],[VALOR PAGO]]+(tbldados[[#This Row],[VALOR PAGO]]*tbldados[[#This Row],[TAXA]])","v":8.31},{"$f":"tbldados[[#This Row],[TOTAL BRUTO]]-tbldados[[#This Row],[VALOR PAGO]]","v":0},{"$f":"CHOOSE(MONTH(tbldados[[#This Row],[DATA]]),\"JANEIRO\",\"FEVEREIRO\",\"MARÇO\",\"ABRIL\",\"MAIO\",\"JUNHO\",\"JULHO\",\"AGOSTO\",\"SETEMBRO\",\"OUTUBRO\",\"NOVEMBRO\",\"DEZEMBRO\")","v":"AGOSTO"},{"$f":"YEAR(tbldados[[#This Row],[DATA]])","v":2022}]
[1047,"PGTO","01 DE 01","NCARD","AGOSTO","CONTA","DÉBITO","DINHEIRO",{"$f":"VLOOKUP(tbldados[[#This Row],[APP]],tblbandeira[],3,0)","v":0},44782,44782,1599.99,{"$f":"tbldados[[#This Row],[VALOR PAGO]]+(tbldados[[#This Row],[VALOR PAGO]]*tbldados[[#This Row],[TAXA]])","v":1599.99},{"$f":"tbldados[[#This Row],[TOTAL BRUTO]]-tbldados[[#This Row],[VALOR PAGO]]","v":0},{"$f":"CHOOSE(MONTH(tbldados[[#This Row],[DATA]]),\"JANEIRO\",\"FEVEREIRO\",\"MARÇO\",\"ABRIL\",\"MAIO\",\"JUNHO\",\"JULHO\",\"AGOSTO\",\"SETEMBRO\",\"OUTUBRO\",\"NOVEMBRO\",\"DEZEMBRO\")","v":"AGOSTO"},{"$f":"YEAR(tbldados[[#This Row],[DATA]])","v":2022}]
[1048,"GASTOS","01 DE 01","NÃO LEMBRO","JUNIOR","GERAL","PAGMAE","CREDITO A VISTA",{"$f":"VLOOKUP(tbldados[[#This Row],[APP]],tblbandeira[],3,0)","v":0},44760,44783,553.23,{"$f":"tbldados[[#This Row],[VALOR PAGO]]+(tbldados[[#This Row],[VALOR PAGO]]*tbldados[[#This Row],[TAXA]])","v":553.23},{"$f":"tbldados[[#This Row],[TOTAL BRUTO]]-tbldados[[#This Row],[VALOR PAGO]]","v":0},{"$f":"CHOOSE(MONTH(tbldados[[#This Row],[DATA]]),\"JANEIRO\",\"FEVEREIRO\",\"MARÇO\",\"ABRIL\",\"MAIO\",\"JUNHO\",\"JULHO\",\"AGOSTO\",\"SETEMBRO\",\"OUTUBRO\",\"NOVEMBRO\",\"DEZEMBRO\")","v":"AGOSTO"},{"$f":"YEAR(tbldados[[#This Row],[DATA]])","v":2022}]
[1049,"GASTOS","01 DE 01","PGTONEON","JUNIOR","RECARGAPAY","PAGMAE","CREDITO A VISTA",{"$f":"VLOOKUP(tbldados[[#This Row],[APP]],tblbandeira[],3,0)","v":3.49E-2},44763,44783,1109.97,{"$f":"tbldados[[#This Row],[VALOR PAGO]]+(tbldados[[#This Row],[VALOR PAGO]]*tbldados[[#This Row],[TAXA]])","v":1148.7079530000001},{"$f":"tbldados[[#This Row],[TOTAL BRUTO]]-tbldados[[#This Row],[VALOR PAGO]]","v":38.737953000000061},{"$f":"CHOOSE(MONTH(tbldados[[#This Row],[DATA]]),\"JANEIRO\",\"FEVEREIRO\",\"MARÇO\",\"ABRIL\",\"MAIO\",\"JUNHO\",\"JULHO\",\"AGOSTO\",\"SETEMBRO\",\"OUTUBRO\",\"NOVEMBRO\",\"DEZEMBRO\")","v":"AGOSTO"},{"$f":"YEAR(tbldados[[#This Row],[DATA]])","v":2022}]
[1050,"PGTO","01 DE 01","PAGMAE","AGOSTO","GERAL","PANMAE","CREDITO A VISTA",{"$f":"VLOOKUP(tbldados[[#This Row],[APP]],tblbandeira[],3,0)","v":0},44763,44790,553.23,{"$f":"tbldados[[#This Row],[VALOR PAGO]]+(tbldados[[#This Row],[VALOR PAGO]]*tbldados[[#This Row],[TAXA]])","v":553.23},{"$f":"tbldados[[#This Row],[TOTAL BRUTO]]-tbldados[[#This Row],[VALOR PAGO]]","v":0},{"$f":"CHOOSE(MONTH(tbldados[[#This Row],[DATA]]),\"JANEIRO\",\"FEVEREIRO\",\"MARÇO\",\"ABRIL\",\"MAIO\",\"JUNHO\",\"JULHO\",\"AGOSTO\",\"SETEMBRO\",\"OUTUBRO\",\"NOVEMBRO\",\"DEZEMBRO\")","v":"AGOSTO"},{"$f":"YEAR(tbldados[[#This Row],[DATA]])","v":2022}]
[1051,"PGTO","01 DE 01","PAGMAE","AGOSTO","RECARGAPAY","DIGIO","CREDITO A VISTA",{"$f":"VLOOKUP(tbldados[[#This Row],[APP]],tblbandeira[],3,0)","v":3.49E-2},44783,44819,846.24,{"$f":"tbldados[[#This Row],[VALOR PAGO]]+(tbldados[[#This Row],[VALOR PAGO]]*tbldados[[#This Row],[TAXA]])","v":875.773776},{"$f":"tbldados[[#This Row],[TOTAL BRUTO]]-tbldados[[#This Row],[VALOR PAGO]]","v":29.533775999999989},{"$f":"CHOOSE(MONTH(tbldados[[#This Row],[DATA]]),\"JANEIRO\",\"FEVEREIRO\",\"MARÇO\",\"ABRIL\",\"MAIO\",\"JUNHO\",\"JULHO\",\"AGOSTO\",\"SETEMBRO\",\"OUTUBRO\",\"NOVEMBRO\",\"DEZEMBRO\")","v":"SETEMBRO"},{"$f":"YEAR(tbldados[[#This Row],[DATA]])","v":2022}]
[1052,"GASTOS","01 DE 01","PGTOPAGMAE","JUNIOR","RECARGAPAY","DIGIO","CREDITO A VISTA",{"$f":"VLOOKUP(tbldados[[#This Row],[APP]],tblbandeira[],3,0)","v":3.49E-2},44783,44819,846.24,{"$f":"tbldados[[#This Row],[VALOR PAGO]]+(tbldados[[#This Row],[VALOR PAGO]]*tbldados[[#This Row],[TAXA]])","v":875.773776},{"$f":"tbldados[[#This Row],[TOTAL BRUTO]]-tbldados[[#This Row],[VALOR PAGO]]","v":29.533775999999989},{"$f":"CHOOSE(MONTH(tbldados[[#This Row],[DATA]]),\"JANEIRO\",\"FEVEREIRO\",\"MARÇO\",\"ABRIL\",\"MAIO\",\"JUNHO\",\"JULHO\",\"AGOSTO\",\"SETEMBRO\",\"OUTUBRO\",\"NOVEMBRO\",\"DEZEMBRO\")","v":"SETEMBRO"},{"$f":"YEAR(tbldados[[#This Row],[DATA]])","v":2022}]
[1053,"PGTO","01 DE 01","PAGMAE","AGOSTO","RECARGAPAY","MNEXT","CREDITO A VISTA",{"$f":"VLOOKUP(tbldados[[#This Row],[APP]],tblbandeira[],3,0)","v":3.49E-2},44783,44808,1077.31,{"$f":"tbldados[[#This Row],[VALOR PAGO]]+(tbldados[[#This Row],[VALOR PAGO]]*tbldados[[#This Row],[TAXA]])","v":1114.9081189999999},{"$f":"tbldados[[#This Row],[TOTAL BRUTO]]-tbldados[[#This Row],[VALOR PAGO]]","v":37.598118999999997},{"$f":"CHOOSE(MONTH(tbldados[[#This Row],[DATA]]),\"JANEIRO\",\"FEVEREIRO\",\"MARÇO\",\"ABRIL\",\"MAIO\",\"JUNHO\",\"JULHO\",\"AGOSTO\",\"SETEMBRO\",\"OUTUBRO\",\"NOVEMBRO\",\"DEZEMBRO\")","v":"SETEMBRO"},{"$f":"YEAR(tbldados[[#This Row],[DATA]])","v":2022}]
[1054,"GASTOS","01 DE 01","PGTOPAGME","JUNNIOR","RECARGAPAY","MNEXT","CREDITO A VISTA",{"$f":"VLOOKUP(tbldados[[#This Row],[APP]],tblbandeira[],3,0)","v":3.49E-2},44783,44808,1077.31,{"$f":"tbldados[[#This Row],[VALOR PAGO]]+(tbldados[[#This Row],[VALOR PAGO]]*tbldados[[#This Row],[TAXA]])","v":1114.9081189999999},{"$f":"tbldados[[#This Row],[TOTAL BRUTO]]-tbldados[[#This Row],[VALOR PAGO]]","v":37.598118999999997},{"$f":"CHOOSE(MONTH(tbldados[[#This Row],[DATA]]),\"JANEIRO\",\"FEVEREIRO\",\"MARÇO\",\"ABRIL\",\"MAIO\",\"JUNHO\",\"JULHO\",\"AGOSTO\",\"SETEMBRO\",\"OUTUBRO\",\"NOVEMBRO\",\"DEZEMBRO\")","v":"SETEMBRO"},{"$f":"YEAR(tbldados[[#This Row],[DATA]])","v":2022}]
[1055,"PGTO","01 DE 01","PAGMAE","AGOSTO","RECARGAPAY","NEON","CREDITO A VISTA",{"$f":"VLOOKUP(tbldados[[#This Row],[APP]],tblbandeira[],3,0)","v":3.49E-2},44783,44819,1067.4000000000001,{"$f":"tbldados[[#This Row],[VALOR PAGO]]+(tbldados[[#This Row],[VALOR PAGO]]*tbldados[[#This Row],[TAXA]])","v":1104.6522600000001},{"$f":"tbldados[[#This Row],[TOTAL BRUTO]]-tbldados[[#This Row],[VALOR PAGO]]","v":37.252259999999978},{"$f":"CHOOSE(MONTH(tbldados[[#This Row],[DATA]]),\"JANEIRO\",\"FEVEREIRO\",\"MARÇO\",\"ABRIL\",\"MAIO\",\"JUNHO\",\"JULHO\",\"AGOSTO\",\"SETEMBRO\",\"OUTUBRO\",\"NOVEMBRO\",\"DEZEMBRO\")","v":"SETEMBRO"},{"$f":"YEAR(tbldados[[#This Row],[DATA]])","v":2022}]
[1056,"PGTO","01 DE 01","MELIUZ","SETEMBRO","RECARGAPAY","NCARD","CREDITO A VISTA",3.9899999999999998E-2,44783,44813,1529.95,{"$f":"tbldados[[#This Row],[VALOR PAGO]]+(tbldados[[#This Row],[VALOR PAGO]]*tbldados[[#This Row],[TAXA]])","v":1590.995005},{"$f":"tbldados[[#This Row],[TOTAL BRUTO]]-tbldados[[#This Row],[VALOR PAGO]]","v":61.045004999999946},{"$f":"CHOOSE(MONTH(tbldados[[#This Row],[DATA]]),\"JANEIRO\",\"FEVEREIRO\",\"MARÇO\",\"ABRIL\",\"MAIO\",\"JUNHO\",\"JULHO\",\"AGOSTO\",\"SETEMBRO\",\"OUTUBRO\",\"NOVEMBRO\",\"DEZEMBRO\")","v":"SETEMBRO"},{"$f":"YEAR(tbldados[[#This Row],[DATA]])","v":2022}]
[1057,"GASTOS","01 DE 01","PGTOMELIUZ","JUNIOR","RECARGAPAY","NCARD","CREDITO A VISTA",3.9899999999999998E-2,44783,44813,1529.95,{"$f":"tbldados[[#This Row],[VALOR PAGO]]+(tbldados[[#This Row],[VALOR PAGO]]*tbldados[[#This Row],[TAXA]])","v":1590.995005},{"$f":"tbldados[[#This Row],[TOTAL BRUTO]]-tbldados[[#This Row],[VALOR PAGO]]","v":61.045004999999946},{"$f":"CHOOSE(MONTH(tbldados[[#This Row],[DATA]]),\"JANEIRO\",\"FEVEREIRO\",\"MARÇO\",\"ABRIL\",\"MAIO\",\"JUNHO\",\"JULHO\",\"AGOSTO\",\"SETEMBRO\",\"OUTUBRO\",\"NOVEMBRO\",\"DEZEMBRO\")","v":"SETEMBRO"},{"$f":"YEAR(tbldados[[#This Row],[DATA]])","v":2022}]
[1058,"PGTO","01 DE 01","PAGMAE","AGOSTO","RECARGAPAY","PAGMAE","CREDITO A VISTA",{"$f":"VLOOKUP(tbldados[[#This Row],[APP]],tblbandeira[],3,0)","v":3.49E-2},44783,44814,2875,{"$f":"tbldados[[#This Row],[VALOR PAGO]]+(tbldados[[#This Row],[VALOR PAGO]]*tbldados[[#This Row],[TAXA]])","v":2975.3375000000001},{"$f":"tbldados[[#This Row],[TOTAL BRUTO]]-tbldados[[#This Row],[VALOR PAGO]]","v":100.33750000000009},{"$f":"CHOOSE(MONTH(tbldados[[#This Row],[DATA]]),\"JANEIRO\",\"FEVEREIRO\",\"MARÇO\",\"ABRIL\",\"MAIO\",\"JUNHO\",\"JULHO\",\"AGOSTO\",\"SETEMBRO\",\"OUTUBRO\",\"NOVEMBRO\",\"DEZEMBRO\")","v":"SETEMBRO"},{"$f":"YEAR(tbldados[[#This Row],[DATA]])","v":2022}]
[1059,"GASTOS","01 DE 01","PGTOPAGMAE","JUNIOR","RECARGAPAY","PAGMAE","CREDITO A VISTA",3.9899999999999998E-2,44783,44814,2875,{"$f":"tbldados[[#This Row],[VALOR PAGO]]+(tbldados[[#This Row],[VALOR PAGO]]*tbldados[[#This Row],[TAXA]])","v":2989.7125000000001},{"$f":"tbldados[[#This Row],[TOTAL BRUTO]]-tbldados[[#This Row],[VALOR PAGO]]","v":114.71250000000009},{"$f":"CHOOSE(MONTH(tbldados[[#This Row],[DATA]]),\"JANEIRO\",\"FEVEREIRO\",\"MARÇO\",\"ABRIL\",\"MAIO\",\"JUNHO\",\"JULHO\",\"AGOSTO\",\"SETEMBRO\",\"OUTUBRO\",\"NOVEMBRO\",\"DEZEMBRO\")","v":"SETEMBRO"},{"$f":"YEAR(tbldados[[#This Row],[DATA]])","v":2022}]
[1060,"PGTO","01 DE 01","PAGMAE","AGOSTO","RECARGAPAY","PAGMAE","CREDITO A VISTA",{"$f":"VLOOKUP(tbldados[[#This Row],[APP]],tblbandeira[],3,0)","v":3.49E-2},44783,44814,2135.88,{"$f":"tbldados[[#This Row],[VALOR PAGO]]+(tbldados[[#This Row],[VALOR PAGO]]*tbldados[[#This Row],[TAXA]])","v":2210.4222119999999},{"$f":"tbldados[[#This Row],[TOTAL BRUTO]]-tbldados[[#This Row],[VALOR PAGO]]","v":74.542211999999836},{"$f":"CHOOSE(MONTH(tbldados[[#This Row],[DATA]]),\"JANEIRO\",\"FEVEREIRO\",\"MARÇO\",\"ABRIL\",\"MAIO\",\"JUNHO\",\"JULHO\",\"AGOSTO\",\"SETEMBRO\",\"OUTUBRO\",\"NOVEMBRO\",\"DEZEMBRO\")","v":"SETEMBRO"},{"$f":"YEAR(tbldados[[#This Row],[DATA]])","v":2022}]
[1061,"GASTOS","01 DE 01","PGTOPAGMAE","JUNIOR","RECARGAPAY","PAGMAE","CREDITO A VISTA",3.9899999999999998E-2,44783,44814,2135.88,{"$f":"tbldados[[#This Row],[VALOR PAGO]]+(tbldados[[#This Row],[VALOR PAGO]]*tbldados[[#This Row],[TAXA]])","v":2221.1016119999999},{"$f":"tbldados[[#This Row],[TOTAL BRUTO]]-tbldados[[#This Row],[VALOR PAGO]]","v":85.221611999999823},{"$f":"CHOOSE(MONTH(tbldados[[#This Row],[DATA]]),\"JANEIRO\",\"FEVEREIRO\",\"MARÇO\",\"ABRIL\",\"MAIO\",\"JUNHO\",\"JULHO\",\"AGOSTO\",\"SETEMBRO\",\"OUTUBRO\",\"NOVEMBRO\",\"DEZEMBRO\")","v":"SETEMBRO"},{"$f":"YEAR(tbldados[[#This Row],[DATA]])","v":2022}]
[1062,"GASTOS","01 DE 06","CAPAS ","JUNIOR","GERAL","NUBANK","CREDITO PARCELADO",{"$f":"VLOOKUP(tbldados[[#This Row],[APP]],tblbandeira[],3,0)","v":0},44778,44786,30.56,{"$f":"tbldados[[#This Row],[VALOR PAGO]]+(tbldados[[#This Row],[VALOR PAGO]]*tbldados[[#This Row],[TAXA]])","v":30.56},{"$f":"tbldados[[#This Row],[TOTAL BRUTO]]-tbldados[[#This Row],[VALOR PAGO]]","v":0},{"$f":"CHOOSE(MONTH(tbldados[[#This Row],[DATA]]),\"JANEIRO\",\"FEVEREIRO\",\"MARÇO\",\"ABRIL\",\"MAIO\",\"JUNHO\",\"JULHO\",\"AGOSTO\",\"SETEMBRO\",\"OUTUBRO\",\"NOVEMBRO\",\"DEZEMBRO\")","v":"AGOSTO"},{"$f":"YEAR(tbldados[[#This Row],[DATA]])","v":2022}]
[1063,"GASTOS","02 DE 06","CAPAS ","JUNIOR","GERAL","NUBANK","CREDITO PARCELADO",{"$f":"VLOOKUP(tbldados[[#This Row],[APP]],tblbandeira[],3,0)","v":0},44778,44817,30.56,{"$f":"tbldados[[#This Row],[VALOR PAGO]]+(tbldados[[#This Row],[VALOR PAGO]]*tbldados[[#This Row],[TAXA]])","v":30.56},{"$f":"tbldados[[#This Row],[TOTAL BRUTO]]-tbldados[[#This Row],[VALOR PAGO]]","v":0},{"$f":"CHOOSE(MONTH(tbldados[[#This Row],[DATA]]),\"JANEIRO\",\"FEVEREIRO\",\"MARÇO\",\"ABRIL\",\"MAIO\",\"JUNHO\",\"JULHO\",\"AGOSTO\",\"SETEMBRO\",\"OUTUBRO\",\"NOVEMBRO\",\"DEZEMBRO\")","v":"SETEMBRO"},{"$f":"YEAR(tbldados[[#This Row],[DATA]])","v":2022}]
[1064,"GASTOS","03 DE 06","CAPAS ","JUNIOR","GERAL","NUBANK","CREDITO PARCELADO",{"$f":"VLOOKUP(tbldados[[#This Row],[APP]],tblbandeira[],3,0)","v":0},44778,44847,30.56,{"$f":"tbldados[[#This Row],[VALOR PAGO]]+(tbldados[[#This Row],[VALOR PAGO]]*tbldados[[#This Row],[TAXA]])","v":30.56},{"$f":"tbldados[[#This Row],[TOTAL BRUTO]]-tbldados[[#This Row],[VALOR PAGO]]","v":0},{"$f":"CHOOSE(MONTH(tbldados[[#This Row],[DATA]]),\"JANEIRO\",\"FEVEREIRO\",\"MARÇO\",\"ABRIL\",\"MAIO\",\"JUNHO\",\"JULHO\",\"AGOSTO\",\"SETEMBRO\",\"OUTUBRO\",\"NOVEMBRO\",\"DEZEMBRO\")","v":"OUTUBRO"},{"$f":"YEAR(tbldados[[#This Row],[DATA]])","v":2022}]
[1065,"GASTOS","04 DE 06","CAPAS ","JUNIOR","GERAL","NUBANK","CREDITO PARCELADO",{"$f":"VLOOKUP(tbldados[[#This Row],[APP]],tblbandeira[],3,0)","v":0},44778,44878,30.56,{"$f":"tbldados[[#This Row],[VALOR PAGO]]+(tbldados[[#This Row],[VALOR PAGO]]*tbldados[[#This Row],[TAXA]])","v":30.56},{"$f":"tbldados[[#This Row],[TOTAL BRUTO]]-tbldados[[#This Row],[VALOR PAGO]]","v":0},{"$f":"CHOOSE(MONTH(tbldados[[#This Row],[DATA]]),\"JANEIRO\",\"FEVEREIRO\",\"MARÇO\",\"ABRIL\",\"MAIO\",\"JUNHO\",\"JULHO\",\"AGOSTO\",\"SETEMBRO\",\"OUTUBRO\",\"NOVEMBRO\",\"DEZEMBRO\")","v":"NOVEMBRO"},{"$f":"YEAR(tbldados[[#This Row],[DATA]])","v":2022}]
[1066,"GASTOS","05 DE 06","CAPAS ","JUNIOR","GERAL","NUBANK","CREDITO PARCELADO",{"$f":"VLOOKUP(tbldados[[#This Row],[APP]],tblbandeira[],3,0)","v":0},44778,44908,30.56,{"$f":"tbldados[[#This Row],[VALOR PAGO]]+(tbldados[[#This Row],[VALOR PAGO]]*tbldados[[#This Row],[TAXA]])","v":30.56},{"$f":"tbldados[[#This Row],[TOTAL BRUTO]]-tbldados[[#This Row],[VALOR PAGO]]","v":0},{"$f":"CHOOSE(MONTH(tbldados[[#This Row],[DATA]]),\"JANEIRO\",\"FEVEREIRO\",\"MARÇO\",\"ABRIL\",\"MAIO\",\"JUNHO\",\"JULHO\",\"AGOSTO\",\"SETEMBRO\",\"OUTUBRO\",\"NOVEMBRO\",\"DEZEMBRO\")","v":"DEZEMBRO"},{"$f":"YEAR(tbldados[[#This Row],[DATA]])","v":2022}]
[1067,"GASTOS","06 DE 06","CAPAS ","JUNIOR","GERAL","NUBANK","CREDITO PARCELADO",{"$f":"VLOOKUP(tbldados[[#This Row],[APP]],tblbandeira[],3,0)","v":0},44778,44939,30.56,{"$f":"tbldados[[#This Row],[VALOR PAGO]]+(tbldados[[#This Row],[VALOR PAGO]]*tbldados[[#This Row],[TAXA]])","v":30.56},{"$f":"tbldados[[#This Row],[TOTAL BRUTO]]-tbldados[[#This Row],[VALOR PAGO]]","v":0},{"$f":"CHOOSE(MONTH(tbldados[[#This Row],[DATA]]),\"JANEIRO\",\"FEVEREIRO\",\"MARÇO\",\"ABRIL\",\"MAIO\",\"JUNHO\",\"JULHO\",\"AGOSTO\",\"SETEMBRO\",\"OUTUBRO\",\"NOVEMBRO\",\"DEZEMBRO\")","v":"JANEIRO"},{"$f":"YEAR(tbldados[[#This Row],[DATA]])","v":2023}]
[1068,"GASTOS","01 DE 01","CERVEJAS","JUNIOR","RECARGAPAY","NUBANK","CREDITO A VISTA",{"$f":"VLOOKUP(tbldados[[#This Row],[APP]],tblbandeira[],3,0)","v":3.49E-2},44774,44786,44,{"$f":"tbldados[[#This Row],[VALOR PAGO]]+(tbldados[[#This Row],[VALOR PAGO]]*tbldados[[#This Row],[TAXA]])","v":45.535600000000002},{"$f":"tbldados[[#This Row],[TOTAL BRUTO]]-tbldados[[#This Row],[VALOR PAGO]]","v":1.5356000000000023},{"$f":"CHOOSE(MONTH(tbldados[[#This Row],[DATA]]),\"JANEIRO\",\"FEVEREIRO\",\"MARÇO\",\"ABRIL\",\"MAIO\",\"JUNHO\",\"JULHO\",\"AGOSTO\",\"SETEMBRO\",\"OUTUBRO\",\"NOVEMBRO\",\"DEZEMBRO\")","v":"AGOSTO"},{"$f":"YEAR(tbldados[[#This Row],[DATA]])","v":2022}]
[1069,"PGTO","01 DE 01","NUBANK","AGOSTO","RECARGAPAY","PAGMAE","CREDITO A VISTA",{"$f":"VLOOKUP(tbldados[[#This Row],[APP]],tblbandeira[],3,0)","v":3.49E-2},44786,44814,1517.69,{"$f":"tbldados[[#This Row],[VALOR PAGO]]+(tbldados[[#This Row],[VALOR PAGO]]*tbldados[[#This Row],[TAXA]])","v":1570.657381},{"$f":"tbldados[[#This Row],[TOTAL BRUTO]]-tbldados[[#This Row],[VALOR PAGO]]","v":52.967380999999932},{"$f":"CHOOSE(MONTH(tbldados[[#This Row],[DATA]]),\"JANEIRO\",\"FEVEREIRO\",\"MARÇO\",\"ABRIL\",\"MAIO\",\"JUNHO\",\"JULHO\",\"AGOSTO\",\"SETEMBRO\",\"OUTUBRO\",\"NOVEMBRO\",\"DEZEMBRO\")","v":"SETEMBRO"},{"$f":"YEAR(tbldados[[#This Row],[DATA]])","v":2022}]
[1070,"PGTO","01 DE 01","NUBANK","AGOSTO","CONTA","DÉBITO","DINHEIRO",{"$f":"VLOOKUP(tbldados[[#This Row],[APP]],tblbandeira[],3,0)","v":0},44786,44786,63.4,{"$f":"tbldados[[#This Row],[VALOR PAGO]]+(tbldados[[#This Row],[VALOR PAGO]]*tbldados[[#This Row],[TAXA]])","v":63.4},{"$f":"tbldados[[#This Row],[TOTAL BRUTO]]-tbldados[[#This Row],[VALOR PAGO]]","v":0},{"$f":"CHOOSE(MONTH(tbldados[[#This Row],[DATA]]),\"JANEIRO\",\"FEVEREIRO\",\"MARÇO\",\"ABRIL\",\"MAIO\",\"JUNHO\",\"JULHO\",\"AGOSTO\",\"SETEMBRO\",\"OUTUBRO\",\"NOVEMBRO\",\"DEZEMBRO\")","v":"AGOSTO"},{"$f":"YEAR(tbldados[[#This Row],[DATA]])","v":2022}]
[1071,"GASTOS","01 DE 01","PGTONUBANK","JUNIOR","RECARGAPAY","PAGMAE","CREDITO A VISTA",3.9899999999999998E-2,44786,44814,1517.69,{"$f":"tbldados[[#This Row],[VALOR PAGO]]+(tbldados[[#This Row],[VALOR PAGO]]*tbldados[[#This Row],[TAXA]])","v":1578.245831},{"$f":"tbldados[[#This Row],[TOTAL BRUTO]]-tbldados[[#This Row],[VALOR PAGO]]","v":60.555830999999898},{"$f":"CHOOSE(MONTH(tbldados[[#This Row],[DATA]]),\"JANEIRO\",\"FEVEREIRO\",\"MARÇO\",\"ABRIL\",\"MAIO\",\"JUNHO\",\"JULHO\",\"AGOSTO\",\"SETEMBRO\",\"OUTUBRO\",\"NOVEMBRO\",\"DEZEMBRO\")","v":"SETEMBRO"},{"$f":"YEAR(tbldados[[#This Row],[DATA]])","v":2022}]
[1072,"PGTO","01 DE 01","NUBANK","AGOSTO","RECARGAPAY","NUBANK","CREDITO A VISTA",{"$f":"VLOOKUP(tbldados[[#This Row],[APP]],tblbandeira[],3,0)","v":3.49E-2},44786,44817,2495.2199999999998,{"$f":"tbldados[[#This Row],[VALOR PAGO]]+(tbldados[[#This Row],[VALOR PAGO]]*tbldados[[#This Row],[TAXA]])","v":2582.3031779999997},{"$f":"tbldados[[#This Row],[TOTAL BRUTO]]-tbldados[[#This Row],[VALOR PAGO]]","v":87.083177999999862},{"$f":"CHOOSE(MONTH(tbldados[[#This Row],[DATA]]),\"JANEIRO\",\"FEVEREIRO\",\"MARÇO\",\"ABRIL\",\"MAIO\",\"JUNHO\",\"JULHO\",\"AGOSTO\",\"SETEMBRO\",\"OUTUBRO\",\"NOVEMBRO\",\"DEZEMBRO\")","v":"SETEMBRO"},{"$f":"YEAR(tbldados[[#This Row],[DATA]])","v":2022}]
[1073,"GASTOS","01 DE 01","PGTONUBANK","JUNIOR","RECARGAPAY","NUBANK","CREDITO A VISTA",3.9899999999999998E-2,44786,44817,2495.2199999999998,{"$f":"tbldados[[#This Row],[VALOR PAGO]]+(tbldados[[#This Row],[VALOR PAGO]]*tbldados[[#This Row],[TAXA]])","v":2594.779278},{"$f":"tbldados[[#This Row],[TOTAL BRUTO]]-tbldados[[#This Row],[VALOR PAGO]]","v":99.559278000000177},{"$f":"CHOOSE(MONTH(tbldados[[#This Row],[DATA]]),\"JANEIRO\",\"FEVEREIRO\",\"MARÇO\",\"ABRIL\",\"MAIO\",\"JUNHO\",\"JULHO\",\"AGOSTO\",\"SETEMBRO\",\"OUTUBRO\",\"NOVEMBRO\",\"DEZEMBRO\")","v":"SETEMBRO"},{"$f":"YEAR(tbldados[[#This Row],[DATA]])","v":2022}]
[1074,"GASTOS","01 DE 01","ALMOÇO E JANTA","JUNIOR","GERAL","NUBANK","CREDITO A VISTA",{"$f":"VLOOKUP(tbldados[[#This Row],[APP]],tblbandeira[],3,0)","v":0},44786,44817,176,{"$f":"tbldados[[#This Row],[VALOR PAGO]]+(tbldados[[#This Row],[VALOR PAGO]]*tbldados[[#This Row],[TAXA]])","v":176},{"$f":"tbldados[[#This Row],[TOTAL BRUTO]]-tbldados[[#This Row],[VALOR PAGO]]","v":0},{"$f":"CHOOSE(MONTH(tbldados[[#This Row],[DATA]]),\"JANEIRO\",\"FEVEREIRO\",\"MARÇO\",\"ABRIL\",\"MAIO\",\"JUNHO\",\"JULHO\",\"AGOSTO\",\"SETEMBRO\",\"OUTUBRO\",\"NOVEMBRO\",\"DEZEMBRO\")","v":"SETEMBRO"},{"$f":"YEAR(tbldados[[#This Row],[DATA]])","v":2022}]
[1075,"GASTOS","01 DE 12","CAPAS","JUNIOR","GERAL","INTER","CREDITO PARCELADO",{"$f":"VLOOKUP(tbldados[[#This Row],[APP]],tblbandeira[],3,0)","v":0},44755,44788,20.399999999999999,{"$f":"tbldados[[#This Row],[VALOR PAGO]]+(tbldados[[#This Row],[VALOR PAGO]]*tbldados[[#This Row],[TAXA]])","v":20.399999999999999},{"$f":"tbldados[[#This Row],[TOTAL BRUTO]]-tbldados[[#This Row],[VALOR PAGO]]","v":0},{"$f":"CHOOSE(MONTH(tbldados[[#This Row],[DATA]]),\"JANEIRO\",\"FEVEREIRO\",\"MARÇO\",\"ABRIL\",\"MAIO\",\"JUNHO\",\"JULHO\",\"AGOSTO\",\"SETEMBRO\",\"OUTUBRO\",\"NOVEMBRO\",\"DEZEMBRO\")","v":"AGOSTO"},{"$f":"YEAR(tbldados[[#This Row],[DATA]])","v":2022}]
[1076,"GASTOS","02 DE 12","CAPAS","JUNIOR","GERAL","INTER","CREDITO PARCELADO",{"$f":"VLOOKUP(tbldados[[#This Row],[APP]],tblbandeira[],3,0)","v":0},44755,44819,20.399999999999999,{"$f":"tbldados[[#This Row],[VALOR PAGO]]+(tbldados[[#This Row],[VALOR PAGO]]*tbldados[[#This Row],[TAXA]])","v":20.399999999999999},{"$f":"tbldados[[#This Row],[TOTAL BRUTO]]-tbldados[[#This Row],[VALOR PAGO]]","v":0},{"$f":"CHOOSE(MONTH(tbldados[[#This Row],[DATA]]),\"JANEIRO\",\"FEVEREIRO\",\"MARÇO\",\"ABRIL\",\"MAIO\",\"JUNHO\",\"JULHO\",\"AGOSTO\",\"SETEMBRO\",\"OUTUBRO\",\"NOVEMBRO\",\"DEZEMBRO\")","v":"SETEMBRO"},{"$f":"YEAR(tbldados[[#This Row],[DATA]])","v":2022}]
[1077,"GASTOS","03 DE 12","CAPAS","JUNIOR","GERAL","INTER","CREDITO PARCELADO",{"$f":"VLOOKUP(tbldados[[#This Row],[APP]],tblbandeira[],3,0)","v":0},44755,44849,20.399999999999999,{"$f":"tbldados[[#This Row],[VALOR PAGO]]+(tbldados[[#This Row],[VALOR PAGO]]*tbldados[[#This Row],[TAXA]])","v":20.399999999999999},{"$f":"tbldados[[#This Row],[TOTAL BRUTO]]-tbldados[[#This Row],[VALOR PAGO]]","v":0},{"$f":"CHOOSE(MONTH(tbldados[[#This Row],[DATA]]),\"JANEIRO\",\"FEVEREIRO\",\"MARÇO\",\"ABRIL\",\"MAIO\",\"JUNHO\",\"JULHO\",\"AGOSTO\",\"SETEMBRO\",\"OUTUBRO\",\"NOVEMBRO\",\"DEZEMBRO\")","v":"OUTUBRO"},{"$f":"YEAR(tbldados[[#This Row],[DATA]])","v":2022}]
[1078,"GASTOS","04 DE 12","CAPAS","JUNIOR","GERAL","INTER","CREDITO PARCELADO",{"$f":"VLOOKUP(tbldados[[#This Row],[APP]],tblbandeira[],3,0)","v":0},44755,44880,20.399999999999999,{"$f":"tbldados[[#This Row],[VALOR PAGO]]+(tbldados[[#This Row],[VALOR PAGO]]*tbldados[[#This Row],[TAXA]])","v":20.399999999999999},{"$f":"tbldados[[#This Row],[TOTAL BRUTO]]-tbldados[[#This Row],[VALOR PAGO]]","v":0},{"$f":"CHOOSE(MONTH(tbldados[[#This Row],[DATA]]),\"JANEIRO\",\"FEVEREIRO\",\"MARÇO\",\"ABRIL\",\"MAIO\",\"JUNHO\",\"JULHO\",\"AGOSTO\",\"SETEMBRO\",\"OUTUBRO\",\"NOVEMBRO\",\"DEZEMBRO\")","v":"NOVEMBRO"},{"$f":"YEAR(tbldados[[#This Row],[DATA]])","v":2022}]
[1079,"GASTOS","05 DE 12","CAPAS","JUNIOR","GERAL","INTER","CREDITO PARCELADO",{"$f":"VLOOKUP(tbldados[[#This Row],[APP]],tblbandeira[],3,0)","v":0},44755,44910,20.399999999999999,{"$f":"tbldados[[#This Row],[VALOR PAGO]]+(tbldados[[#This Row],[VALOR PAGO]]*tbldados[[#This Row],[TAXA]])","v":20.399999999999999},{"$f":"tbldados[[#This Row],[TOTAL BRUTO]]-tbldados[[#This Row],[VALOR PAGO]]","v":0},{"$f":"CHOOSE(MONTH(tbldados[[#This Row],[DATA]]),\"JANEIRO\",\"FEVEREIRO\",\"MARÇO\",\"ABRIL\",\"MAIO\",\"JUNHO\",\"JULHO\",\"AGOSTO\",\"SETEMBRO\",\"OUTUBRO\",\"NOVEMBRO\",\"DEZEMBRO\")","v":"DEZEMBRO"},{"$f":"YEAR(tbldados[[#This Row],[DATA]])","v":2022}]
[1080,"GASTOS","06 DE 12","CAPAS","JUNIOR","GERAL","INTER","CREDITO PARCELADO",{"$f":"VLOOKUP(tbldados[[#This Row],[APP]],tblbandeira[],3,0)","v":0},44755,44941,20.399999999999999,{"$f":"tbldados[[#This Row],[VALOR PAGO]]+(tbldados[[#This Row],[VALOR PAGO]]*tbldados[[#This Row],[TAXA]])","v":20.399999999999999},{"$f":"tbldados[[#This Row],[TOTAL BRUTO]]-tbldados[[#This Row],[VALOR PAGO]]","v":0},{"$f":"CHOOSE(MONTH(tbldados[[#This Row],[DATA]]),\"JANEIRO\",\"FEVEREIRO\",\"MARÇO\",\"ABRIL\",\"MAIO\",\"JUNHO\",\"JULHO\",\"AGOSTO\",\"SETEMBRO\",\"OUTUBRO\",\"NOVEMBRO\",\"DEZEMBRO\")","v":"JANEIRO"},{"$f":"YEAR(tbldados[[#This Row],[DATA]])","v":2023}]
[1081,"GASTOS","07 DE 12","CAPAS","JUNIOR","GERAL","INTER","CREDITO PARCELADO",{"$f":"VLOOKUP(tbldados[[#This Row],[APP]],tblbandeira[],3,0)","v":0},44755,44972,20.399999999999999,{"$f":"tbldados[[#This Row],[VALOR PAGO]]+(tbldados[[#This Row],[VALOR PAGO]]*tbldados[[#This Row],[TAXA]])","v":20.399999999999999},{"$f":"tbldados[[#This Row],[TOTAL BRUTO]]-tbldados[[#This Row],[VALOR PAGO]]","v":0},{"$f":"CHOOSE(MONTH(tbldados[[#This Row],[DATA]]),\"JANEIRO\",\"FEVEREIRO\",\"MARÇO\",\"ABRIL\",\"MAIO\",\"JUNHO\",\"JULHO\",\"AGOSTO\",\"SETEMBRO\",\"OUTUBRO\",\"NOVEMBRO\",\"DEZEMBRO\")","v":"FEVEREIRO"},{"$f":"YEAR(tbldados[[#This Row],[DATA]])","v":2023}]
[1082,"GASTOS","08 DE 12","CAPAS","JUNIOR","GERAL","INTER","CREDITO PARCELADO",{"$f":"VLOOKUP(tbldados[[#This Row],[APP]],tblbandeira[],3,0)","v":0},44755,45000,20.399999999999999,{"$f":"tbldados[[#This Row],[VALOR PAGO]]+(tbldados[[#This Row],[VALOR PAGO]]*tbldados[[#This Row],[TAXA]])","v":20.399999999999999},{"$f":"tbldados[[#This Row],[TOTAL BRUTO]]-tbldados[[#This Row],[VALOR PAGO]]","v":0},{"$f":"CHOOSE(MONTH(tbldados[[#This Row],[DATA]]),\"JANEIRO\",\"FEVEREIRO\",\"MARÇO\",\"ABRIL\",\"MAIO\",\"JUNHO\",\"JULHO\",\"AGOSTO\",\"SETEMBRO\",\"OUTUBRO\",\"NOVEMBRO\",\"DEZEMBRO\")","v":"MARÇO"},{"$f":"YEAR(tbldados[[#This Row],[DATA]])","v":2023}]
[1083,"GASTOS","09 DE 12","CAPAS","JUNIOR","GERAL","INTER","CREDITO PARCELADO",{"$f":"VLOOKUP(tbldados[[#This Row],[APP]],tblbandeira[],3,0)","v":0},44755,45031,20.399999999999999,{"$f":"tbldados[[#This Row],[VALOR PAGO]]+(tbldados[[#This Row],[VALOR PAGO]]*tbldados[[#This Row],[TAXA]])","v":20.399999999999999},{"$f":"tbldados[[#This Row],[TOTAL BRUTO]]-tbldados[[#This Row],[VALOR PAGO]]","v":0},{"$f":"CHOOSE(MONTH(tbldados[[#This Row],[DATA]]),\"JANEIRO\",\"FEVEREIRO\",\"MARÇO\",\"ABRIL\",\"MAIO\",\"JUNHO\",\"JULHO\",\"AGOSTO\",\"SETEMBRO\",\"OUTUBRO\",\"NOVEMBRO\",\"DEZEMBRO\")","v":"ABRIL"},{"$f":"YEAR(tbldados[[#This Row],[DATA]])","v":2023}]
[1084,"GASTOS","10 DE 12","CAPAS","JUNIOR","GERAL","INTER","CREDITO PARCELADO",{"$f":"VLOOKUP(tbldados[[#This Row],[APP]],tblbandeira[],3,0)","v":0},44755,45061,20.399999999999999,{"$f":"tbldados[[#This Row],[VALOR PAGO]]+(tbldados[[#This Row],[VALOR PAGO]]*tbldados[[#This Row],[TAXA]])","v":20.399999999999999},{"$f":"tbldados[[#This Row],[TOTAL BRUTO]]-tbldados[[#This Row],[VALOR PAGO]]","v":0},{"$f":"CHOOSE(MONTH(tbldados[[#This Row],[DATA]]),\"JANEIRO\",\"FEVEREIRO\",\"MARÇO\",\"ABRIL\",\"MAIO\",\"JUNHO\",\"JULHO\",\"AGOSTO\",\"SETEMBRO\",\"OUTUBRO\",\"NOVEMBRO\",\"DEZEMBRO\")","v":"MAIO"},{"$f":"YEAR(tbldados[[#This Row],[DATA]])","v":2023}]
[1085,"GASTOS","11 DE 12","CAPAS","JUNIOR","GERAL","INTER","CREDITO PARCELADO",{"$f":"VLOOKUP(tbldados[[#This Row],[APP]],tblbandeira[],3,0)","v":0},44755,45092,20.399999999999999,{"$f":"tbldados[[#This Row],[VALOR PAGO]]+(tbldados[[#This Row],[VALOR PAGO]]*tbldados[[#This Row],[TAXA]])","v":20.399999999999999},{"$f":"tbldados[[#This Row],[TOTAL BRUTO]]-tbldados[[#This Row],[VALOR PAGO]]","v":0},{"$f":"CHOOSE(MONTH(tbldados[[#This Row],[DATA]]),\"JANEIRO\",\"FEVEREIRO\",\"MARÇO\",\"ABRIL\",\"MAIO\",\"JUNHO\",\"JULHO\",\"AGOSTO\",\"SETEMBRO\",\"OUTUBRO\",\"NOVEMBRO\",\"DEZEMBRO\")","v":"JUNHO"},{"$f":"YEAR(tbldados[[#This Row],[DATA]])","v":2023}]
[1086,"GASTOS","12 DE 12","CAPAS","JUNIOR","GERAL","INTER","CREDITO PARCELADO",{"$f":"VLOOKUP(tbldados[[#This Row],[APP]],tblbandeira[],3,0)","v":0},44755,45122,20.399999999999999,{"$f":"tbldados[[#This Row],[VALOR PAGO]]+(tbldados[[#This Row],[VALOR PAGO]]*tbldados[[#This Row],[TAXA]])","v":20.399999999999999},{"$f":"tbldados[[#This Row],[TOTAL BRUTO]]-tbldados[[#This Row],[VALOR PAGO]]","v":0},{"$f":"CHOOSE(MONTH(tbldados[[#This Row],[DATA]]),\"JANEIRO\",\"FEVEREIRO\",\"MARÇO\",\"ABRIL\",\"MAIO\",\"JUNHO\",\"JULHO\",\"AGOSTO\",\"SETEMBRO\",\"OUTUBRO\",\"NOVEMBRO\",\"DEZEMBRO\")","v":"JULHO"},{"$f":"YEAR(tbldados[[#This Row],[DATA]])","v":2023}]
[1087,"GASTOS","01 DE 01","JANTA","JUNIOR","GERAL","INTER","CREDITO A VISTA",{"$f":"VLOOKUP(tbldados[[#This Row],[APP]],tblbandeira[],3,0)","v":0},44760,44788,33,{"$f":"tbldados[[#This Row],[VALOR PAGO]]+(tbldados[[#This Row],[VALOR PAGO]]*tbldados[[#This Row],[TAXA]])","v":33},{"$f":"tbldados[[#This Row],[TOTAL BRUTO]]-tbldados[[#This Row],[VALOR PAGO]]","v":0},{"$f":"CHOOSE(MONTH(tbldados[[#This Row],[DATA]]),\"JANEIRO\",\"FEVEREIRO\",\"MARÇO\",\"ABRIL\",\"MAIO\",\"JUNHO\",\"JULHO\",\"AGOSTO\",\"SETEMBRO\",\"OUTUBRO\",\"NOVEMBRO\",\"DEZEMBRO\")","v":"AGOSTO"},{"$f":"YEAR(tbldados[[#This Row],[DATA]])","v":2022}]
[1088,"PGTO","01 DE 01","INTER","AGOSTO","RECARGAPAY","INTER","CREDITO A VISTA",3.9899999999999998E-2,44787,44819,5047.8900000000003,{"$f":"tbldados[[#This Row],[VALOR PAGO]]+(tbldados[[#This Row],[VALOR PAGO]]*tbldados[[#This Row],[TAXA]])","v":5249.3008110000001},{"$f":"tbldados[[#This Row],[TOTAL BRUTO]]-tbldados[[#This Row],[VALOR PAGO]]","v":201.41081099999974},{"$f":"CHOOSE(MONTH(tbldados[[#This Row],[DATA]]),\"JANEIRO\",\"FEVEREIRO\",\"MARÇO\",\"ABRIL\",\"MAIO\",\"JUNHO\",\"JULHO\",\"AGOSTO\",\"SETEMBRO\",\"OUTUBRO\",\"NOVEMBRO\",\"DEZEMBRO\")","v":"SETEMBRO"},{"$f":"YEAR(tbldados[[#This Row],[DATA]])","v":2022}]
[1089,"GASTOS","01 DE 01","PGTOINTER","JUNIOR","RECARGAPAY","INTER","CREDITO A VISTA",3.9899999999999998E-2,44787,44819,5047.8999999999996,{"$f":"tbldados[[#This Row],[VALOR PAGO]]+(tbldados[[#This Row],[VALOR PAGO]]*tbldados[[#This Row],[TAXA]])","v":5249.3112099999998},{"$f":"tbldados[[#This Row],[TOTAL BRUTO]]-tbldados[[#This Row],[VALOR PAGO]]","v":201.41121000000021},{"$f":"CHOOSE(MONTH(tbldados[[#This Row],[DATA]]),\"JANEIRO\",\"FEVEREIRO\",\"MARÇO\",\"ABRIL\",\"MAIO\",\"JUNHO\",\"JULHO\",\"AGOSTO\",\"SETEMBRO\",\"OUTUBRO\",\"NOVEMBRO\",\"DEZEMBRO\")","v":"SETEMBRO"},{"$f":"YEAR(tbldados[[#This Row],[DATA]])","v":2022}]
[1090,"PGTO","01 DE 01","CLICK","AGOSTO","GERAL","CLICK","CREDITO A VISTA",{"$f":"VLOOKUP(tbldados[[#This Row],[APP]],tblbandeira[],3,0)","v":0},44790,44821,2300,{"$f":"tbldados[[#This Row],[VALOR PAGO]]+(tbldados[[#This Row],[VALOR PAGO]]*tbldados[[#This Row],[TAXA]])","v":2300},{"$f":"tbldados[[#This Row],[TOTAL BRUTO]]-tbldados[[#This Row],[VALOR PAGO]]","v":0},{"$f":"CHOOSE(MONTH(tbldados[[#This Row],[DATA]]),\"JANEIRO\",\"FEVEREIRO\",\"MARÇO\",\"ABRIL\",\"MAIO\",\"JUNHO\",\"JULHO\",\"AGOSTO\",\"SETEMBRO\",\"OUTUBRO\",\"NOVEMBRO\",\"DEZEMBRO\")","v":"SETEMBRO"},{"$f":"YEAR(tbldados[[#This Row],[DATA]])","v":2022}]
[1091,"GASTOS","01 DE 01","PGTOCLICK","JUNIOR","GERAL","CLICK","CREDITO A VISTA",{"$f":"VLOOKUP(tbldados[[#This Row],[APP]],tblbandeira[],3,0)","v":0},44790,44821,1000,{"$f":"tbldados[[#This Row],[VALOR PAGO]]+(tbldados[[#This Row],[VALOR PAGO]]*tbldados[[#This Row],[TAXA]])","v":1000},{"$f":"tbldados[[#This Row],[TOTAL BRUTO]]-tbldados[[#This Row],[VALOR PAGO]]","v":0},{"$f":"CHOOSE(MONTH(tbldados[[#This Row],[DATA]]),\"JANEIRO\",\"FEVEREIRO\",\"MARÇO\",\"ABRIL\",\"MAIO\",\"JUNHO\",\"JULHO\",\"AGOSTO\",\"SETEMBRO\",\"OUTUBRO\",\"NOVEMBRO\",\"DEZEMBRO\")","v":"SETEMBRO"},{"$f":"YEAR(tbldados[[#This Row],[DATA]])","v":2022}]
[1092,"GASTOS","01 DE 01","PGTOCLICK","JUNIOR","RECARGAPAY","CLICK","CREDITO A VISTA",{"$f":"VLOOKUP(tbldados[[#This Row],[APP]],tblbandeira[],3,0)","v":3.49E-2},44790,44821,1250.1199999999999,{"$f":"tbldados[[#This Row],[VALOR PAGO]]+(tbldados[[#This Row],[VALOR PAGO]]*tbldados[[#This Row],[TAXA]])","v":1293.7491879999998},{"$f":"tbldados[[#This Row],[TOTAL BRUTO]]-tbldados[[#This Row],[VALOR PAGO]]","v":43.629187999999886},{"$f":"CHOOSE(MONTH(tbldados[[#This Row],[DATA]]),\"JANEIRO\",\"FEVEREIRO\",\"MARÇO\",\"ABRIL\",\"MAIO\",\"JUNHO\",\"JULHO\",\"AGOSTO\",\"SETEMBRO\",\"OUTUBRO\",\"NOVEMBRO\",\"DEZEMBRO\")","v":"SETEMBRO"},{"$f":"YEAR(tbldados[[#This Row],[DATA]])","v":2022}]
[1093,"GASTOS","01 DE 01","JUROS","JUNIOR","GERAL","PANMAE","CREDITO A VISTA",{"$f":"VLOOKUP(tbldados[[#This Row],[APP]],tblbandeira[],3,0)","v":0},44777,44790,7.33,{"$f":"tbldados[[#This Row],[VALOR PAGO]]+(tbldados[[#This Row],[VALOR PAGO]]*tbldados[[#This Row],[TAXA]])","v":7.33},{"$f":"tbldados[[#This Row],[TOTAL BRUTO]]-tbldados[[#This Row],[VALOR PAGO]]","v":0},{"$f":"CHOOSE(MONTH(tbldados[[#This Row],[DATA]]),\"JANEIRO\",\"FEVEREIRO\",\"MARÇO\",\"ABRIL\",\"MAIO\",\"JUNHO\",\"JULHO\",\"AGOSTO\",\"SETEMBRO\",\"OUTUBRO\",\"NOVEMBRO\",\"DEZEMBRO\")","v":"AGOSTO"},{"$f":"YEAR(tbldados[[#This Row],[DATA]])","v":2022}]
[1094,"PGTO","01 DE 01","PANMAE","AGOSTO","RECARGAPAY","PANMAE","CREDITO A VISTA",{"$f":"VLOOKUP(tbldados[[#This Row],[APP]],tblbandeira[],3,0)","v":3.49E-2},44790,44821,391.68,{"$f":"tbldados[[#This Row],[VALOR PAGO]]+(tbldados[[#This Row],[VALOR PAGO]]*tbldados[[#This Row],[TAXA]])","v":405.34963199999999},{"$f":"tbldados[[#This Row],[TOTAL BRUTO]]-tbldados[[#This Row],[VALOR PAGO]]","v":13.669631999999979},{"$f":"CHOOSE(MONTH(tbldados[[#This Row],[DATA]]),\"JANEIRO\",\"FEVEREIRO\",\"MARÇO\",\"ABRIL\",\"MAIO\",\"JUNHO\",\"JULHO\",\"AGOSTO\",\"SETEMBRO\",\"OUTUBRO\",\"NOVEMBRO\",\"DEZEMBRO\")","v":"SETEMBRO"},{"$f":"YEAR(tbldados[[#This Row],[DATA]])","v":2022}]
[1095,"GASTOS","01 DE 01","PGTOPANMAE","JUNIOR","RECARGAPAY","PANMAE","CREDITO A VISTA",3.9899999999999998E-2,44790,44821,391.68,{"$f":"tbldados[[#This Row],[VALOR PAGO]]+(tbldados[[#This Row],[VALOR PAGO]]*tbldados[[#This Row],[TAXA]])","v":407.30803200000003},{"$f":"tbldados[[#This Row],[TOTAL BRUTO]]-tbldados[[#This Row],[VALOR PAGO]]","v":15.628032000000019},{"$f":"CHOOSE(MONTH(tbldados[[#This Row],[DATA]]),\"JANEIRO\",\"FEVEREIRO\",\"MARÇO\",\"ABRIL\",\"MAIO\",\"JUNHO\",\"JULHO\",\"AGOSTO\",\"SETEMBRO\",\"OUTUBRO\",\"NOVEMBRO\",\"DEZEMBRO\")","v":"SETEMBRO"},{"$f":"YEAR(tbldados[[#This Row],[DATA]])","v":2022}]
[1096,"PGTO","01 DE 01","PANMAE","AGOSTO","GERAL","PANMAE","CREDITO A VISTA",{"$f":"VLOOKUP(tbldados[[#This Row],[APP]],tblbandeira[],3,0)","v":0},44790,44821,3706.52,{"$f":"tbldados[[#This Row],[VALOR PAGO]]+(tbldados[[#This Row],[VALOR PAGO]]*tbldados[[#This Row],[TAXA]])","v":3706.52},{"$f":"tbldados[[#This Row],[TOTAL BRUTO]]-tbldados[[#This Row],[VALOR PAGO]]","v":0},{"$f":"CHOOSE(MONTH(tbldados[[#This Row],[DATA]]),\"JANEIRO\",\"FEVEREIRO\",\"MARÇO\",\"ABRIL\",\"MAIO\",\"JUNHO\",\"JULHO\",\"AGOSTO\",\"SETEMBRO\",\"OUTUBRO\",\"NOVEMBRO\",\"DEZEMBRO\")","v":"SETEMBRO"},{"$f":"YEAR(tbldados[[#This Row],[DATA]])","v":2022}]
[1097,"GASTOS","01 DE 01","DIVERSOS-FARRA","JUNIOR","GERAL","MELIUZ","CREDITO A VISTA",{"$f":"VLOOKUP(tbldados[[#This Row],[APP]],tblbandeira[],3,0)","v":0},44774,44805,103.04,{"$f":"tbldados[[#This Row],[VALOR PAGO]]+(tbldados[[#This Row],[VALOR PAGO]]*tbldados[[#This Row],[TAXA]])","v":103.04},{"$f":"tbldados[[#This Row],[TOTAL BRUTO]]-tbldados[[#This Row],[VALOR PAGO]]","v":0},{"$f":"CHOOSE(MONTH(tbldados[[#This Row],[DATA]]),\"JANEIRO\",\"FEVEREIRO\",\"MARÇO\",\"ABRIL\",\"MAIO\",\"JUNHO\",\"JULHO\",\"AGOSTO\",\"SETEMBRO\",\"OUTUBRO\",\"NOVEMBRO\",\"DEZEMBRO\")","v":"SETEMBRO"},{"$f":"YEAR(tbldados[[#This Row],[DATA]])","v":2022}]
[1098,"GASTOS","01 DE 12","COPOS STANLEY","JUNIOR","GERAL","C6","CREDITO PARCELADO",{"$f":"VLOOKUP(tbldados[[#This Row],[APP]],tblbandeira[],3,0)","v":0},44754,44774,34.15,{"$f":"tbldados[[#This Row],[VALOR PAGO]]+(tbldados[[#This Row],[VALOR PAGO]]*tbldados[[#This Row],[TAXA]])","v":34.15},{"$f":"tbldados[[#This Row],[TOTAL BRUTO]]-tbldados[[#This Row],[VALOR PAGO]]","v":0},{"$f":"CHOOSE(MONTH(tbldados[[#This Row],[DATA]]),\"JANEIRO\",\"FEVEREIRO\",\"MARÇO\",\"ABRIL\",\"MAIO\",\"JUNHO\",\"JULHO\",\"AGOSTO\",\"SETEMBRO\",\"OUTUBRO\",\"NOVEMBRO\",\"DEZEMBRO\")","v":"AGOSTO"},{"$f":"YEAR(tbldados[[#This Row],[DATA]])","v":2022}]
[1099,"GASTOS","02 DE 12","COPOS STANLEY","JUNIOR","GERAL","C6","CREDITO PARCELADO",{"$f":"VLOOKUP(tbldados[[#This Row],[APP]],tblbandeira[],3,0)","v":0},44754,44805,34.15,{"$f":"tbldados[[#This Row],[VALOR PAGO]]+(tbldados[[#This Row],[VALOR PAGO]]*tbldados[[#This Row],[TAXA]])","v":34.15},{"$f":"tbldados[[#This Row],[TOTAL BRUTO]]-tbldados[[#This Row],[VALOR PAGO]]","v":0},{"$f":"CHOOSE(MONTH(tbldados[[#This Row],[DATA]]),\"JANEIRO\",\"FEVEREIRO\",\"MARÇO\",\"ABRIL\",\"MAIO\",\"JUNHO\",\"JULHO\",\"AGOSTO\",\"SETEMBRO\",\"OUTUBRO\",\"NOVEMBRO\",\"DEZEMBRO\")","v":"SETEMBRO"},{"$f":"YEAR(tbldados[[#This Row],[DATA]])","v":2022}]
[1100,"GASTOS","03 DE 12","COPOS STANLEY","JUNIOR","GERAL","C6","CREDITO PARCELADO",{"$f":"VLOOKUP(tbldados[[#This Row],[APP]],tblbandeira[],3,0)","v":0},44754,44835,34.15,{"$f":"tbldados[[#This Row],[VALOR PAGO]]+(tbldados[[#This Row],[VALOR PAGO]]*tbldados[[#This Row],[TAXA]])","v":34.15},{"$f":"tbldados[[#This Row],[TOTAL BRUTO]]-tbldados[[#This Row],[VALOR PAGO]]","v":0},{"$f":"CHOOSE(MONTH(tbldados[[#This Row],[DATA]]),\"JANEIRO\",\"FEVEREIRO\",\"MARÇO\",\"ABRIL\",\"MAIO\",\"JUNHO\",\"JULHO\",\"AGOSTO\",\"SETEMBRO\",\"OUTUBRO\",\"NOVEMBRO\",\"DEZEMBRO\")","v":"OUTUBRO"},{"$f":"YEAR(tbldados[[#This Row],[DATA]])","v":2022}]
[1101,"GASTOS","04 DE 12","COPOS STANLEY","JUNIOR","GERAL","C6","CREDITO PARCELADO",{"$f":"VLOOKUP(tbldados[[#This Row],[APP]],tblbandeira[],3,0)","v":0},44754,44866,34.15,{"$f":"tbldados[[#This Row],[VALOR PAGO]]+(tbldados[[#This Row],[VALOR PAGO]]*tbldados[[#This Row],[TAXA]])","v":34.15},{"$f":"tbldados[[#This Row],[TOTAL BRUTO]]-tbldados[[#This Row],[VALOR PAGO]]","v":0},{"$f":"CHOOSE(MONTH(tbldados[[#This Row],[DATA]]),\"JANEIRO\",\"FEVEREIRO\",\"MARÇO\",\"ABRIL\",\"MAIO\",\"JUNHO\",\"JULHO\",\"AGOSTO\",\"SETEMBRO\",\"OUTUBRO\",\"NOVEMBRO\",\"DEZEMBRO\")","v":"NOVEMBRO"},{"$f":"YEAR(tbldados[[#This Row],[DATA]])","v":2022}]
[1102,"GASTOS","05 DE 12","COPOS STANLEY","JUNIOR","GERAL","C6","CREDITO PARCELADO",{"$f":"VLOOKUP(tbldados[[#This Row],[APP]],tblbandeira[],3,0)","v":0},44754,44896,34.15,{"$f":"tbldados[[#This Row],[VALOR PAGO]]+(tbldados[[#This Row],[VALOR PAGO]]*tbldados[[#This Row],[TAXA]])","v":34.15},{"$f":"tbldados[[#This Row],[TOTAL BRUTO]]-tbldados[[#This Row],[VALOR PAGO]]","v":0},{"$f":"CHOOSE(MONTH(tbldados[[#This Row],[DATA]]),\"JANEIRO\",\"FEVEREIRO\",\"MARÇO\",\"ABRIL\",\"MAIO\",\"JUNHO\",\"JULHO\",\"AGOSTO\",\"SETEMBRO\",\"OUTUBRO\",\"NOVEMBRO\",\"DEZEMBRO\")","v":"DEZEMBRO"},{"$f":"YEAR(tbldados[[#This Row],[DATA]])","v":2022}]
[1103,"GASTOS","06 DE 12","COPOS STANLEY","JUNIOR","GERAL","C6","CREDITO PARCELADO",{"$f":"VLOOKUP(tbldados[[#This Row],[APP]],tblbandeira[],3,0)","v":0},44754,44927,34.15,{"$f":"tbldados[[#This Row],[VALOR PAGO]]+(tbldados[[#This Row],[VALOR PAGO]]*tbldados[[#This Row],[TAXA]])","v":34.15},{"$f":"tbldados[[#This Row],[TOTAL BRUTO]]-tbldados[[#This Row],[VALOR PAGO]]","v":0},{"$f":"CHOOSE(MONTH(tbldados[[#This Row],[DATA]]),\"JANEIRO\",\"FEVEREIRO\",\"MARÇO\",\"ABRIL\",\"MAIO\",\"JUNHO\",\"JULHO\",\"AGOSTO\",\"SETEMBRO\",\"OUTUBRO\",\"NOVEMBRO\",\"DEZEMBRO\")","v":"JANEIRO"},{"$f":"YEAR(tbldados[[#This Row],[DATA]])","v":2023}]
[1104,"GASTOS","07 DE 12","COPOS STANLEY","JUNIOR","GERAL","C6","CREDITO PARCELADO",{"$f":"VLOOKUP(tbldados[[#This Row],[APP]],tblbandeira[],3,0)","v":0},44754,44958,34.15,{"$f":"tbldados[[#This Row],[VALOR PAGO]]+(tbldados[[#This Row],[VALOR PAGO]]*tbldados[[#This Row],[TAXA]])","v":34.15},{"$f":"tbldados[[#This Row],[TOTAL BRUTO]]-tbldados[[#This Row],[VALOR PAGO]]","v":0},{"$f":"CHOOSE(MONTH(tbldados[[#This Row],[DATA]]),\"JANEIRO\",\"FEVEREIRO\",\"MARÇO\",\"ABRIL\",\"MAIO\",\"JUNHO\",\"JULHO\",\"AGOSTO\",\"SETEMBRO\",\"OUTUBRO\",\"NOVEMBRO\",\"DEZEMBRO\")","v":"FEVEREIRO"},{"$f":"YEAR(tbldados[[#This Row],[DATA]])","v":2023}]
[1105,"GASTOS","08 DE 12","COPOS STANLEY","JUNIOR","GERAL","C6","CREDITO PARCELADO",{"$f":"VLOOKUP(tbldados[[#This Row],[APP]],tblbandeira[],3,0)","v":0},44754,44986,34.15,{"$f":"tbldados[[#This Row],[VALOR PAGO]]+(tbldados[[#This Row],[VALOR PAGO]]*tbldados[[#This Row],[TAXA]])","v":34.15},{"$f":"tbldados[[#This Row],[TOTAL BRUTO]]-tbldados[[#This Row],[VALOR PAGO]]","v":0},{"$f":"CHOOSE(MONTH(tbldados[[#This Row],[DATA]]),\"JANEIRO\",\"FEVEREIRO\",\"MARÇO\",\"ABRIL\",\"MAIO\",\"JUNHO\",\"JULHO\",\"AGOSTO\",\"SETEMBRO\",\"OUTUBRO\",\"NOVEMBRO\",\"DEZEMBRO\")","v":"MARÇO"},{"$f":"YEAR(tbldados[[#This Row],[DATA]])","v":2023}]
[1106,"GASTOS","09 DE 12","COPOS STANLEY","JUNIOR","GERAL","C6","CREDITO PARCELADO",{"$f":"VLOOKUP(tbldados[[#This Row],[APP]],tblbandeira[],3,0)","v":0},44754,45017,34.15,{"$f":"tbldados[[#This Row],[VALOR PAGO]]+(tbldados[[#This Row],[VALOR PAGO]]*tbldados[[#This Row],[TAXA]])","v":34.15},{"$f":"tbldados[[#This Row],[TOTAL BRUTO]]-tbldados[[#This Row],[VALOR PAGO]]","v":0},{"$f":"CHOOSE(MONTH(tbldados[[#This Row],[DATA]]),\"JANEIRO\",\"FEVEREIRO\",\"MARÇO\",\"ABRIL\",\"MAIO\",\"JUNHO\",\"JULHO\",\"AGOSTO\",\"SETEMBRO\",\"OUTUBRO\",\"NOVEMBRO\",\"DEZEMBRO\")","v":"ABRIL"},{"$f":"YEAR(tbldados[[#This Row],[DATA]])","v":2023}]
[1107,"GASTOS","10 DE 12","COPOS STANLEY","JUNIOR","GERAL","C6","CREDITO PARCELADO",{"$f":"VLOOKUP(tbldados[[#This Row],[APP]],tblbandeira[],3,0)","v":0},44754,45047,34.15,{"$f":"tbldados[[#This Row],[VALOR PAGO]]+(tbldados[[#This Row],[VALOR PAGO]]*tbldados[[#This Row],[TAXA]])","v":34.15},{"$f":"tbldados[[#This Row],[TOTAL BRUTO]]-tbldados[[#This Row],[VALOR PAGO]]","v":0},{"$f":"CHOOSE(MONTH(tbldados[[#This Row],[DATA]]),\"JANEIRO\",\"FEVEREIRO\",\"MARÇO\",\"ABRIL\",\"MAIO\",\"JUNHO\",\"JULHO\",\"AGOSTO\",\"SETEMBRO\",\"OUTUBRO\",\"NOVEMBRO\",\"DEZEMBRO\")","v":"MAIO"},{"$f":"YEAR(tbldados[[#This Row],[DATA]])","v":2023}]
[1108,"GASTOS","11 DE 12","COPOS STANLEY","JUNIOR","GERAL","C6","CREDITO PARCELADO",{"$f":"VLOOKUP(tbldados[[#This Row],[APP]],tblbandeira[],3,0)","v":0},44754,45078,34.15,{"$f":"tbldados[[#This Row],[VALOR PAGO]]+(tbldados[[#This Row],[VALOR PAGO]]*tbldados[[#This Row],[TAXA]])","v":34.15},{"$f":"tbldados[[#This Row],[TOTAL BRUTO]]-tbldados[[#This Row],[VALOR PAGO]]","v":0},{"$f":"CHOOSE(MONTH(tbldados[[#This Row],[DATA]]),\"JANEIRO\",\"FEVEREIRO\",\"MARÇO\",\"ABRIL\",\"MAIO\",\"JUNHO\",\"JULHO\",\"AGOSTO\",\"SETEMBRO\",\"OUTUBRO\",\"NOVEMBRO\",\"DEZEMBRO\")","v":"JUNHO"},{"$f":"YEAR(tbldados[[#This Row],[DATA]])","v":2023}]
[1109,"GASTOS","12 DE 12","COPOS STANLEY","JUNIOR","GERAL","C6","CREDITO PARCELADO",{"$f":"VLOOKUP(tbldados[[#This Row],[APP]],tblbandeira[],3,0)","v":0},44754,45108,34.15,{"$f":"tbldados[[#This Row],[VALOR PAGO]]+(tbldados[[#This Row],[VALOR PAGO]]*tbldados[[#This Row],[TAXA]])","v":34.15},{"$f":"tbldados[[#This Row],[TOTAL BRUTO]]-tbldados[[#This Row],[VALOR PAGO]]","v":0},{"$f":"CHOOSE(MONTH(tbldados[[#This Row],[DATA]]),\"JANEIRO\",\"FEVEREIRO\",\"MARÇO\",\"ABRIL\",\"MAIO\",\"JUNHO\",\"JULHO\",\"AGOSTO\",\"SETEMBRO\",\"OUTUBRO\",\"NOVEMBRO\",\"DEZEMBRO\")","v":"JULHO"},{"$f":"YEAR(tbldados[[#This Row],[DATA]])","v":2023}]
[1110,"GASTOS","01 DE 02","CAPA MOTOG","JUNIOR","GERAL","C6","CREDITO PARCELADO",{"$f":"VLOOKUP(tbldados[[#This Row],[APP]],tblbandeira[],3,0)","v":0},44775,44805,40.130000000000003,{"$f":"tbldados[[#This Row],[VALOR PAGO]]+(tbldados[[#This Row],[VALOR PAGO]]*tbldados[[#This Row],[TAXA]])","v":40.130000000000003},{"$f":"tbldados[[#This Row],[TOTAL BRUTO]]-tbldados[[#This Row],[VALOR PAGO]]","v":0},{"$f":"CHOOSE(MONTH(tbldados[[#This Row],[DATA]]),\"JANEIRO\",\"FEVEREIRO\",\"MARÇO\",\"ABRIL\",\"MAIO\",\"JUNHO\",\"JULHO\",\"AGOSTO\",\"SETEMBRO\",\"OUTUBRO\",\"NOVEMBRO\",\"DEZEMBRO\")","v":"SETEMBRO"},{"$f":"YEAR(tbldados[[#This Row],[DATA]])","v":2022}]
[1111,"GASTOS","02 DE 02","CAPA MOTOG","JUNIOR","GERAL","C6","CREDITO PARCELADO",{"$f":"VLOOKUP(tbldados[[#This Row],[APP]],tblbandeira[],3,0)","v":0},44775,44835,40.130000000000003,{"$f":"tbldados[[#This Row],[VALOR PAGO]]+(tbldados[[#This Row],[VALOR PAGO]]*tbldados[[#This Row],[TAXA]])","v":40.130000000000003},{"$f":"tbldados[[#This Row],[TOTAL BRUTO]]-tbldados[[#This Row],[VALOR PAGO]]","v":0},{"$f":"CHOOSE(MONTH(tbldados[[#This Row],[DATA]]),\"JANEIRO\",\"FEVEREIRO\",\"MARÇO\",\"ABRIL\",\"MAIO\",\"JUNHO\",\"JULHO\",\"AGOSTO\",\"SETEMBRO\",\"OUTUBRO\",\"NOVEMBRO\",\"DEZEMBRO\")","v":"OUTUBRO"},{"$f":"YEAR(tbldados[[#This Row],[DATA]])","v":2022}]
[1112,"GASTOS","01 DE 01","FARRA","JUNIOR","GERAL","C6","CREDITO A VISTA",{"$f":"VLOOKUP(tbldados[[#This Row],[APP]],tblbandeira[],3,0)","v":0},44785,44805,187.2,{"$f":"tbldados[[#This Row],[VALOR PAGO]]+(tbldados[[#This Row],[VALOR PAGO]]*tbldados[[#This Row],[TAXA]])","v":187.2},{"$f":"tbldados[[#This Row],[TOTAL BRUTO]]-tbldados[[#This Row],[VALOR PAGO]]","v":0},{"$f":"CHOOSE(MONTH(tbldados[[#This Row],[DATA]]),\"JANEIRO\",\"FEVEREIRO\",\"MARÇO\",\"ABRIL\",\"MAIO\",\"JUNHO\",\"JULHO\",\"AGOSTO\",\"SETEMBRO\",\"OUTUBRO\",\"NOVEMBRO\",\"DEZEMBRO\")","v":"SETEMBRO"},{"$f":"YEAR(tbldados[[#This Row],[DATA]])","v":2022}]
[1113,"GASTOS","01 DE 01","DIVERSOS","JUNIOR","GERAL","C6","CREDITO A VISTA",{"$f":"VLOOKUP(tbldados[[#This Row],[APP]],tblbandeira[],3,0)","v":0},44774,44805,82.21,{"$f":"tbldados[[#This Row],[VALOR PAGO]]+(tbldados[[#This Row],[VALOR PAGO]]*tbldados[[#This Row],[TAXA]])","v":82.21},{"$f":"tbldados[[#This Row],[TOTAL BRUTO]]-tbldados[[#This Row],[VALOR PAGO]]","v":0},{"$f":"CHOOSE(MONTH(tbldados[[#This Row],[DATA]]),\"JANEIRO\",\"FEVEREIRO\",\"MARÇO\",\"ABRIL\",\"MAIO\",\"JUNHO\",\"JULHO\",\"AGOSTO\",\"SETEMBRO\",\"OUTUBRO\",\"NOVEMBRO\",\"DEZEMBRO\")","v":"SETEMBRO"},{"$f":"YEAR(tbldados[[#This Row],[DATA]])","v":2022}]
[1114,"GASTOS","01 DE 01","PGTOPANMELIUZ","JUNIOR","RECARGAPAY","NEON","CREDITO A VISTA",{"$f":"VLOOKUP(tbldados[[#This Row],[APP]],tblbandeira[],3,0)","v":3.49E-2},44800,44819,1071.5999999999999,{"$f":"tbldados[[#This Row],[VALOR PAGO]]+(tbldados[[#This Row],[VALOR PAGO]]*tbldados[[#This Row],[TAXA]])","v":1108.99884},{"$f":"tbldados[[#This Row],[TOTAL BRUTO]]-tbldados[[#This Row],[VALOR PAGO]]","v":37.398840000000064},{"$f":"CHOOSE(MONTH(tbldados[[#This Row],[DATA]]),\"JANEIRO\",\"FEVEREIRO\",\"MARÇO\",\"ABRIL\",\"MAIO\",\"JUNHO\",\"JULHO\",\"AGOSTO\",\"SETEMBRO\",\"OUTUBRO\",\"NOVEMBRO\",\"DEZEMBRO\")","v":"SETEMBRO"},{"$f":"YEAR(tbldados[[#This Row],[DATA]])","v":2022}]
[1115,"GASTOS","01 DE 10","MESA","JUNIOR","GERAL","MELIUZ","CREDITO PARCELADO",{"$f":"VLOOKUP(tbldados[[#This Row],[APP]],tblbandeira[],3,0)","v":0},44801,44835,46,{"$f":"tbldados[[#This Row],[VALOR PAGO]]+(tbldados[[#This Row],[VALOR PAGO]]*tbldados[[#This Row],[TAXA]])","v":46},{"$f":"tbldados[[#This Row],[TOTAL BRUTO]]-tbldados[[#This Row],[VALOR PAGO]]","v":0},{"$f":"CHOOSE(MONTH(tbldados[[#This Row],[DATA]]),\"JANEIRO\",\"FEVEREIRO\",\"MARÇO\",\"ABRIL\",\"MAIO\",\"JUNHO\",\"JULHO\",\"AGOSTO\",\"SETEMBRO\",\"OUTUBRO\",\"NOVEMBRO\",\"DEZEMBRO\")","v":"OUTUBRO"},{"$f":"YEAR(tbldados[[#This Row],[DATA]])","v":2022}]
[1116,"GASTOS","02 DE 10","MESA","JUNIOR","GERAL","MELIUZ","CREDITO PARCELADO",{"$f":"VLOOKUP(tbldados[[#This Row],[APP]],tblbandeira[],3,0)","v":0},44801,44866,46,{"$f":"tbldados[[#This Row],[VALOR PAGO]]+(tbldados[[#This Row],[VALOR PAGO]]*tbldados[[#This Row],[TAXA]])","v":46},{"$f":"tbldados[[#This Row],[TOTAL BRUTO]]-tbldados[[#This Row],[VALOR PAGO]]","v":0},{"$f":"CHOOSE(MONTH(tbldados[[#This Row],[DATA]]),\"JANEIRO\",\"FEVEREIRO\",\"MARÇO\",\"ABRIL\",\"MAIO\",\"JUNHO\",\"JULHO\",\"AGOSTO\",\"SETEMBRO\",\"OUTUBRO\",\"NOVEMBRO\",\"DEZEMBRO\")","v":"NOVEMBRO"},{"$f":"YEAR(tbldados[[#This Row],[DATA]])","v":2022}]
[1117,"GASTOS","03 DE 10","MESA","JUNIOR","GERAL","MELIUZ","CREDITO PARCELADO",{"$f":"VLOOKUP(tbldados[[#This Row],[APP]],tblbandeira[],3,0)","v":0},44801,44896,46,{"$f":"tbldados[[#This Row],[VALOR PAGO]]+(tbldados[[#This Row],[VALOR PAGO]]*tbldados[[#This Row],[TAXA]])","v":46},{"$f":"tbldados[[#This Row],[TOTAL BRUTO]]-tbldados[[#This Row],[VALOR PAGO]]","v":0},{"$f":"CHOOSE(MONTH(tbldados[[#This Row],[DATA]]),\"JANEIRO\",\"FEVEREIRO\",\"MARÇO\",\"ABRIL\",\"MAIO\",\"JUNHO\",\"JULHO\",\"AGOSTO\",\"SETEMBRO\",\"OUTUBRO\",\"NOVEMBRO\",\"DEZEMBRO\")","v":"DEZEMBRO"},{"$f":"YEAR(tbldados[[#This Row],[DATA]])","v":2022}]
[1118,"GASTOS","04 DE 10","MESA","JUNIOR","GERAL","MELIUZ","CREDITO PARCELADO",{"$f":"VLOOKUP(tbldados[[#This Row],[APP]],tblbandeira[],3,0)","v":0},44801,44927,46,{"$f":"tbldados[[#This Row],[VALOR PAGO]]+(tbldados[[#This Row],[VALOR PAGO]]*tbldados[[#This Row],[TAXA]])","v":46},{"$f":"tbldados[[#This Row],[TOTAL BRUTO]]-tbldados[[#This Row],[VALOR PAGO]]","v":0},{"$f":"CHOOSE(MONTH(tbldados[[#This Row],[DATA]]),\"JANEIRO\",\"FEVEREIRO\",\"MARÇO\",\"ABRIL\",\"MAIO\",\"JUNHO\",\"JULHO\",\"AGOSTO\",\"SETEMBRO\",\"OUTUBRO\",\"NOVEMBRO\",\"DEZEMBRO\")","v":"JANEIRO"},{"$f":"YEAR(tbldados[[#This Row],[DATA]])","v":2023}]
[1119,"GASTOS","05 DE 10","MESA","JUNIOR","GERAL","MELIUZ","CREDITO PARCELADO",{"$f":"VLOOKUP(tbldados[[#This Row],[APP]],tblbandeira[],3,0)","v":0},44801,44958,46,{"$f":"tbldados[[#This Row],[VALOR PAGO]]+(tbldados[[#This Row],[VALOR PAGO]]*tbldados[[#This Row],[TAXA]])","v":46},{"$f":"tbldados[[#This Row],[TOTAL BRUTO]]-tbldados[[#This Row],[VALOR PAGO]]","v":0},{"$f":"CHOOSE(MONTH(tbldados[[#This Row],[DATA]]),\"JANEIRO\",\"FEVEREIRO\",\"MARÇO\",\"ABRIL\",\"MAIO\",\"JUNHO\",\"JULHO\",\"AGOSTO\",\"SETEMBRO\",\"OUTUBRO\",\"NOVEMBRO\",\"DEZEMBRO\")","v":"FEVEREIRO"},{"$f":"YEAR(tbldados[[#This Row],[DATA]])","v":2023}]
[1120,"GASTOS","06 DE 10","MESA","JUNIOR","GERAL","MELIUZ","CREDITO PARCELADO",{"$f":"VLOOKUP(tbldados[[#This Row],[APP]],tblbandeira[],3,0)","v":0},44801,44986,46,{"$f":"tbldados[[#This Row],[VALOR PAGO]]+(tbldados[[#This Row],[VALOR PAGO]]*tbldados[[#This Row],[TAXA]])","v":46},{"$f":"tbldados[[#This Row],[TOTAL BRUTO]]-tbldados[[#This Row],[VALOR PAGO]]","v":0},{"$f":"CHOOSE(MONTH(tbldados[[#This Row],[DATA]]),\"JANEIRO\",\"FEVEREIRO\",\"MARÇO\",\"ABRIL\",\"MAIO\",\"JUNHO\",\"JULHO\",\"AGOSTO\",\"SETEMBRO\",\"OUTUBRO\",\"NOVEMBRO\",\"DEZEMBRO\")","v":"MARÇO"},{"$f":"YEAR(tbldados[[#This Row],[DATA]])","v":2023}]
[1121,"GASTOS","07 DE 10","MESA","JUNIOR","GERAL","MELIUZ","CREDITO PARCELADO",{"$f":"VLOOKUP(tbldados[[#This Row],[APP]],tblbandeira[],3,0)","v":0},44801,45017,46,{"$f":"tbldados[[#This Row],[VALOR PAGO]]+(tbldados[[#This Row],[VALOR PAGO]]*tbldados[[#This Row],[TAXA]])","v":46},{"$f":"tbldados[[#This Row],[TOTAL BRUTO]]-tbldados[[#This Row],[VALOR PAGO]]","v":0},{"$f":"CHOOSE(MONTH(tbldados[[#This Row],[DATA]]),\"JANEIRO\",\"FEVEREIRO\",\"MARÇO\",\"ABRIL\",\"MAIO\",\"JUNHO\",\"JULHO\",\"AGOSTO\",\"SETEMBRO\",\"OUTUBRO\",\"NOVEMBRO\",\"DEZEMBRO\")","v":"ABRIL"},{"$f":"YEAR(tbldados[[#This Row],[DATA]])","v":2023}]
[1122,"GASTOS","08 DE 10","MESA","JUNIOR","GERAL","MELIUZ","CREDITO PARCELADO",{"$f":"VLOOKUP(tbldados[[#This Row],[APP]],tblbandeira[],3,0)","v":0},44801,45047,46,{"$f":"tbldados[[#This Row],[VALOR PAGO]]+(tbldados[[#This Row],[VALOR PAGO]]*tbldados[[#This Row],[TAXA]])","v":46},{"$f":"tbldados[[#This Row],[TOTAL BRUTO]]-tbldados[[#This Row],[VALOR PAGO]]","v":0},{"$f":"CHOOSE(MONTH(tbldados[[#This Row],[DATA]]),\"JANEIRO\",\"FEVEREIRO\",\"MARÇO\",\"ABRIL\",\"MAIO\",\"JUNHO\",\"JULHO\",\"AGOSTO\",\"SETEMBRO\",\"OUTUBRO\",\"NOVEMBRO\",\"DEZEMBRO\")","v":"MAIO"},{"$f":"YEAR(tbldados[[#This Row],[DATA]])","v":2023}]
[1123,"GASTOS","09 DE 10","MESA","JUNIOR","GERAL","MELIUZ","CREDITO PARCELADO",{"$f":"VLOOKUP(tbldados[[#This Row],[APP]],tblbandeira[],3,0)","v":0},44801,45078,46,{"$f":"tbldados[[#This Row],[VALOR PAGO]]+(tbldados[[#This Row],[VALOR PAGO]]*tbldados[[#This Row],[TAXA]])","v":46},{"$f":"tbldados[[#This Row],[TOTAL BRUTO]]-tbldados[[#This Row],[VALOR PAGO]]","v":0},{"$f":"CHOOSE(MONTH(tbldados[[#This Row],[DATA]]),\"JANEIRO\",\"FEVEREIRO\",\"MARÇO\",\"ABRIL\",\"MAIO\",\"JUNHO\",\"JULHO\",\"AGOSTO\",\"SETEMBRO\",\"OUTUBRO\",\"NOVEMBRO\",\"DEZEMBRO\")","v":"JUNHO"},{"$f":"YEAR(tbldados[[#This Row],[DATA]])","v":2023}]
[1124,"GASTOS","10 DE 10","MESA","JUNIOR","GERAL","MELIUZ","CREDITO PARCELADO",{"$f":"VLOOKUP(tbldados[[#This Row],[APP]],tblbandeira[],3,0)","v":0},44801,45108,46,{"$f":"tbldados[[#This Row],[VALOR PAGO]]+(tbldados[[#This Row],[VALOR PAGO]]*tbldados[[#This Row],[TAXA]])","v":46},{"$f":"tbldados[[#This Row],[TOTAL BRUTO]]-tbldados[[#This Row],[VALOR PAGO]]","v":0},{"$f":"CHOOSE(MONTH(tbldados[[#This Row],[DATA]]),\"JANEIRO\",\"FEVEREIRO\",\"MARÇO\",\"ABRIL\",\"MAIO\",\"JUNHO\",\"JULHO\",\"AGOSTO\",\"SETEMBRO\",\"OUTUBRO\",\"NOVEMBRO\",\"DEZEMBRO\")","v":"JULHO"},{"$f":"YEAR(tbldados[[#This Row],[DATA]])","v":2023}]
[1125,"GASTOS","01 DE 10","SOM JBL","JUNIOR","GERAL","C6","CREDITO PARCELADO",{"$f":"VLOOKUP(tbldados[[#This Row],[APP]],tblbandeira[],3,0)","v":0},44801,44835,189.43,{"$f":"tbldados[[#This Row],[VALOR PAGO]]+(tbldados[[#This Row],[VALOR PAGO]]*tbldados[[#This Row],[TAXA]])","v":189.43},{"$f":"tbldados[[#This Row],[TOTAL BRUTO]]-tbldados[[#This Row],[VALOR PAGO]]","v":0},{"$f":"CHOOSE(MONTH(tbldados[[#This Row],[DATA]]),\"JANEIRO\",\"FEVEREIRO\",\"MARÇO\",\"ABRIL\",\"MAIO\",\"JUNHO\",\"JULHO\",\"AGOSTO\",\"SETEMBRO\",\"OUTUBRO\",\"NOVEMBRO\",\"DEZEMBRO\")","v":"OUTUBRO"},{"$f":"YEAR(tbldados[[#This Row],[DATA]])","v":2022}]
[1126,"GASTOS","02 DE 10","SOM JBL","JUNIOR","GERAL","C6","CREDITO PARCELADO",{"$f":"VLOOKUP(tbldados[[#This Row],[APP]],tblbandeira[],3,0)","v":0},44801,44866,189.43,{"$f":"tbldados[[#This Row],[VALOR PAGO]]+(tbldados[[#This Row],[VALOR PAGO]]*tbldados[[#This Row],[TAXA]])","v":189.43},{"$f":"tbldados[[#This Row],[TOTAL BRUTO]]-tbldados[[#This Row],[VALOR PAGO]]","v":0},{"$f":"CHOOSE(MONTH(tbldados[[#This Row],[DATA]]),\"JANEIRO\",\"FEVEREIRO\",\"MARÇO\",\"ABRIL\",\"MAIO\",\"JUNHO\",\"JULHO\",\"AGOSTO\",\"SETEMBRO\",\"OUTUBRO\",\"NOVEMBRO\",\"DEZEMBRO\")","v":"NOVEMBRO"},{"$f":"YEAR(tbldados[[#This Row],[DATA]])","v":2022}]
[1127,"GASTOS","03 DE 10","SOM JBL","JUNIOR","GERAL","C6","CREDITO PARCELADO",{"$f":"VLOOKUP(tbldados[[#This Row],[APP]],tblbandeira[],3,0)","v":0},44801,44896,189.43,{"$f":"tbldados[[#This Row],[VALOR PAGO]]+(tbldados[[#This Row],[VALOR PAGO]]*tbldados[[#This Row],[TAXA]])","v":189.43},{"$f":"tbldados[[#This Row],[TOTAL BRUTO]]-tbldados[[#This Row],[VALOR PAGO]]","v":0},{"$f":"CHOOSE(MONTH(tbldados[[#This Row],[DATA]]),\"JANEIRO\",\"FEVEREIRO\",\"MARÇO\",\"ABRIL\",\"MAIO\",\"JUNHO\",\"JULHO\",\"AGOSTO\",\"SETEMBRO\",\"OUTUBRO\",\"NOVEMBRO\",\"DEZEMBRO\")","v":"DEZEMBRO"},{"$f":"YEAR(tbldados[[#This Row],[DATA]])","v":2022}]
[1128,"GASTOS","04 DE 10","SOM JBL","JUNIOR","GERAL","C6","CREDITO PARCELADO",{"$f":"VLOOKUP(tbldados[[#This Row],[APP]],tblbandeira[],3,0)","v":0},44801,44927,189.43,{"$f":"tbldados[[#This Row],[VALOR PAGO]]+(tbldados[[#This Row],[VALOR PAGO]]*tbldados[[#This Row],[TAXA]])","v":189.43},{"$f":"tbldados[[#This Row],[TOTAL BRUTO]]-tbldados[[#This Row],[VALOR PAGO]]","v":0},{"$f":"CHOOSE(MONTH(tbldados[[#This Row],[DATA]]),\"JANEIRO\",\"FEVEREIRO\",\"MARÇO\",\"ABRIL\",\"MAIO\",\"JUNHO\",\"JULHO\",\"AGOSTO\",\"SETEMBRO\",\"OUTUBRO\",\"NOVEMBRO\",\"DEZEMBRO\")","v":"JANEIRO"},{"$f":"YEAR(tbldados[[#This Row],[DATA]])","v":2023}]
[1129,"GASTOS","05 DE 10","SOM JBL","JUNIOR","GERAL","C6","CREDITO PARCELADO",{"$f":"VLOOKUP(tbldados[[#This Row],[APP]],tblbandeira[],3,0)","v":0},44801,44958,189.43,{"$f":"tbldados[[#This Row],[VALOR PAGO]]+(tbldados[[#This Row],[VALOR PAGO]]*tbldados[[#This Row],[TAXA]])","v":189.43},{"$f":"tbldados[[#This Row],[TOTAL BRUTO]]-tbldados[[#This Row],[VALOR PAGO]]","v":0},{"$f":"CHOOSE(MONTH(tbldados[[#This Row],[DATA]]),\"JANEIRO\",\"FEVEREIRO\",\"MARÇO\",\"ABRIL\",\"MAIO\",\"JUNHO\",\"JULHO\",\"AGOSTO\",\"SETEMBRO\",\"OUTUBRO\",\"NOVEMBRO\",\"DEZEMBRO\")","v":"FEVEREIRO"},{"$f":"YEAR(tbldados[[#This Row],[DATA]])","v":2023}]
[1130,"GASTOS","06 DE 10","SOM JBL","JUNIOR","GERAL","C6","CREDITO PARCELADO",{"$f":"VLOOKUP(tbldados[[#This Row],[APP]],tblbandeira[],3,0)","v":0},44801,44986,189.43,{"$f":"tbldados[[#This Row],[VALOR PAGO]]+(tbldados[[#This Row],[VALOR PAGO]]*tbldados[[#This Row],[TAXA]])","v":189.43},{"$f":"tbldados[[#This Row],[TOTAL BRUTO]]-tbldados[[#This Row],[VALOR PAGO]]","v":0},{"$f":"CHOOSE(MONTH(tbldados[[#This Row],[DATA]]),\"JANEIRO\",\"FEVEREIRO\",\"MARÇO\",\"ABRIL\",\"MAIO\",\"JUNHO\",\"JULHO\",\"AGOSTO\",\"SETEMBRO\",\"OUTUBRO\",\"NOVEMBRO\",\"DEZEMBRO\")","v":"MARÇO"},{"$f":"YEAR(tbldados[[#This Row],[DATA]])","v":2023}]
[1131,"GASTOS","07 DE 10","SOM JBL","JUNIOR","GERAL","C6","CREDITO PARCELADO",{"$f":"VLOOKUP(tbldados[[#This Row],[APP]],tblbandeira[],3,0)","v":0},44801,45017,189.43,{"$f":"tbldados[[#This Row],[VALOR PAGO]]+(tbldados[[#This Row],[VALOR PAGO]]*tbldados[[#This Row],[TAXA]])","v":189.43},{"$f":"tbldados[[#This Row],[TOTAL BRUTO]]-tbldados[[#This Row],[VALOR PAGO]]","v":0},{"$f":"CHOOSE(MONTH(tbldados[[#This Row],[DATA]]),\"JANEIRO\",\"FEVEREIRO\",\"MARÇO\",\"ABRIL\",\"MAIO\",\"JUNHO\",\"JULHO\",\"AGOSTO\",\"SETEMBRO\",\"OUTUBRO\",\"NOVEMBRO\",\"DEZEMBRO\")","v":"ABRIL"},{"$f":"YEAR(tbldados[[#This Row],[DATA]])","v":2023}]
[1132,"GASTOS","08 DE 10","SOM JBL","JUNIOR","GERAL","C6","CREDITO PARCELADO",{"$f":"VLOOKUP(tbldados[[#This Row],[APP]],tblbandeira[],3,0)","v":0},44801,45047,189.43,{"$f":"tbldados[[#This Row],[VALOR PAGO]]+(tbldados[[#This Row],[VALOR PAGO]]*tbldados[[#This Row],[TAXA]])","v":189.43},{"$f":"tbldados[[#This Row],[TOTAL BRUTO]]-tbldados[[#This Row],[VALOR PAGO]]","v":0},{"$f":"CHOOSE(MONTH(tbldados[[#This Row],[DATA]]),\"JANEIRO\",\"FEVEREIRO\",\"MARÇO\",\"ABRIL\",\"MAIO\",\"JUNHO\",\"JULHO\",\"AGOSTO\",\"SETEMBRO\",\"OUTUBRO\",\"NOVEMBRO\",\"DEZEMBRO\")","v":"MAIO"},{"$f":"YEAR(tbldados[[#This Row],[DATA]])","v":2023}]
[1133,"GASTOS","09 DE 10","SOM JBL","JUNIOR","GERAL","C6","CREDITO PARCELADO",{"$f":"VLOOKUP(tbldados[[#This Row],[APP]],tblbandeira[],3,0)","v":0},44801,45078,189.43,{"$f":"tbldados[[#This Row],[VALOR PAGO]]+(tbldados[[#This Row],[VALOR PAGO]]*tbldados[[#This Row],[TAXA]])","v":189.43},{"$f":"tbldados[[#This Row],[TOTAL BRUTO]]-tbldados[[#This Row],[VALOR PAGO]]","v":0},{"$f":"CHOOSE(MONTH(tbldados[[#This Row],[DATA]]),\"JANEIRO\",\"FEVEREIRO\",\"MARÇO\",\"ABRIL\",\"MAIO\",\"JUNHO\",\"JULHO\",\"AGOSTO\",\"SETEMBRO\",\"OUTUBRO\",\"NOVEMBRO\",\"DEZEMBRO\")","v":"JUNHO"},{"$f":"YEAR(tbldados[[#This Row],[DATA]])","v":2023}]
[1134,"GASTOS","10 DE 10","SOM JBL","JUNIOR","GERAL","C6","CREDITO PARCELADO",{"$f":"VLOOKUP(tbldados[[#This Row],[APP]],tblbandeira[],3,0)","v":0},44801,45108,189.43,{"$f":"tbldados[[#This Row],[VALOR PAGO]]+(tbldados[[#This Row],[VALOR PAGO]]*tbldados[[#This Row],[TAXA]])","v":189.43},{"$f":"tbldados[[#This Row],[TOTAL BRUTO]]-tbldados[[#This Row],[VALOR PAGO]]","v":0},{"$f":"CHOOSE(MONTH(tbldados[[#This Row],[DATA]]),\"JANEIRO\",\"FEVEREIRO\",\"MARÇO\",\"ABRIL\",\"MAIO\",\"JUNHO\",\"JULHO\",\"AGOSTO\",\"SETEMBRO\",\"OUTUBRO\",\"NOVEMBRO\",\"DEZEMBRO\")","v":"JULHO"},{"$f":"YEAR(tbldados[[#This Row],[DATA]])","v":2023}]
[1135,"GASTOS","01 DE 01","DIVERSOS","JUNIOR","GERAL","C6","CREDITO A VISTA",{"$f":"VLOOKUP(tbldados[[#This Row],[APP]],tblbandeira[],3,0)","v":0},44765,44805,30.51,{"$f":"tbldados[[#This Row],[VALOR PAGO]]+(tbldados[[#This Row],[VALOR PAGO]]*tbldados[[#This Row],[TAXA]])","v":30.51},{"$f":"tbldados[[#This Row],[TOTAL BRUTO]]-tbldados[[#This Row],[VALOR PAGO]]","v":0},{"$f":"CHOOSE(MONTH(tbldados[[#This Row],[DATA]]),\"JANEIRO\",\"FEVEREIRO\",\"MARÇO\",\"ABRIL\",\"MAIO\",\"JUNHO\",\"JULHO\",\"AGOSTO\",\"SETEMBRO\",\"OUTUBRO\",\"NOVEMBRO\",\"DEZEMBRO\")","v":"SETEMBRO"},{"$f":"YEAR(tbldados[[#This Row],[DATA]])","v":2022}]
[1136,"PGTO","01 DE 01","C6","SETEMBRO","CONTA","DÉBITO","DINHEIRO",{"$f":"VLOOKUP(tbldados[[#This Row],[APP]],tblbandeira[],3,0)","v":0},44804,44804,3429.33,{"$f":"tbldados[[#This Row],[VALOR PAGO]]+(tbldados[[#This Row],[VALOR PAGO]]*tbldados[[#This Row],[TAXA]])","v":3429.33},{"$f":"tbldados[[#This Row],[TOTAL BRUTO]]-tbldados[[#This Row],[VALOR PAGO]]","v":0},{"$f":"CHOOSE(MONTH(tbldados[[#This Row],[DATA]]),\"JANEIRO\",\"FEVEREIRO\",\"MARÇO\",\"ABRIL\",\"MAIO\",\"JUNHO\",\"JULHO\",\"AGOSTO\",\"SETEMBRO\",\"OUTUBRO\",\"NOVEMBRO\",\"DEZEMBRO\")","v":"AGOSTO"},{"$f":"YEAR(tbldados[[#This Row],[DATA]])","v":2022}]
[1137,"PGTO","01 DE 01","C6","SETEMBRO","RECARGAPAY","C6","CREDITO A VISTA",{"$f":"VLOOKUP(tbldados[[#This Row],[APP]],tblbandeira[],3,0)","v":3.49E-2},44804,44835,639.97,{"$f":"tbldados[[#This Row],[VALOR PAGO]]+(tbldados[[#This Row],[VALOR PAGO]]*tbldados[[#This Row],[TAXA]])","v":662.30495300000007},{"$f":"tbldados[[#This Row],[TOTAL BRUTO]]-tbldados[[#This Row],[VALOR PAGO]]","v":22.334953000000041},{"$f":"CHOOSE(MONTH(tbldados[[#This Row],[DATA]]),\"JANEIRO\",\"FEVEREIRO\",\"MARÇO\",\"ABRIL\",\"MAIO\",\"JUNHO\",\"JULHO\",\"AGOSTO\",\"SETEMBRO\",\"OUTUBRO\",\"NOVEMBRO\",\"DEZEMBRO\")","v":"OUTUBRO"},{"$f":"YEAR(tbldados[[#This Row],[DATA]])","v":2022}]
[1138,"GASTOS","01 DE 01","PGTOC6","JUNIOR","RECARGAPAY","C6","CREDITO A VISTA",{"$f":"VLOOKUP(tbldados[[#This Row],[APP]],tblbandeira[],3,0)","v":3.49E-2},44804,44835,639.97,{"$f":"tbldados[[#This Row],[VALOR PAGO]]+(tbldados[[#This Row],[VALOR PAGO]]*tbldados[[#This Row],[TAXA]])","v":662.30495300000007},{"$f":"tbldados[[#This Row],[TOTAL BRUTO]]-tbldados[[#This Row],[VALOR PAGO]]","v":22.334953000000041},{"$f":"CHOOSE(MONTH(tbldados[[#This Row],[DATA]]),\"JANEIRO\",\"FEVEREIRO\",\"MARÇO\",\"ABRIL\",\"MAIO\",\"JUNHO\",\"JULHO\",\"AGOSTO\",\"SETEMBRO\",\"OUTUBRO\",\"NOVEMBRO\",\"DEZEMBRO\")","v":"OUTUBRO"},{"$f":"YEAR(tbldados[[#This Row],[DATA]])","v":2022}]
[1139,"PGTO","01 DE 01","MELIUZ","SETEMBRO","CONTA","DÉBITO","DINHEIRO",{"$f":"VLOOKUP(tbldados[[#This Row],[APP]],tblbandeira[],3,0)","v":0},44804,44804,1674.89,{"$f":"tbldados[[#This Row],[VALOR PAGO]]+(tbldados[[#This Row],[VALOR PAGO]]*tbldados[[#This Row],[TAXA]])","v":1674.89},{"$f":"tbldados[[#This Row],[TOTAL BRUTO]]-tbldados[[#This Row],[VALOR PAGO]]","v":0},{"$f":"CHOOSE(MONTH(tbldados[[#This Row],[DATA]]),\"JANEIRO\",\"FEVEREIRO\",\"MARÇO\",\"ABRIL\",\"MAIO\",\"JUNHO\",\"JULHO\",\"AGOSTO\",\"SETEMBRO\",\"OUTUBRO\",\"NOVEMBRO\",\"DEZEMBRO\")","v":"AGOSTO"},{"$f":"YEAR(tbldados[[#This Row],[DATA]])","v":2022}]
[1140,"GASTOS","01 DE 01","ALMOÇO E JANTA","JUNIOR","GERAL","WILL","CREDITO A VISTA",{"$f":"VLOOKUP(tbldados[[#This Row],[APP]],tblbandeira[],3,0)","v":0},44756,44793,57.9,{"$f":"tbldados[[#This Row],[VALOR PAGO]]+(tbldados[[#This Row],[VALOR PAGO]]*tbldados[[#This Row],[TAXA]])","v":57.9},{"$f":"tbldados[[#This Row],[TOTAL BRUTO]]-tbldados[[#This Row],[VALOR PAGO]]","v":0},{"$f":"CHOOSE(MONTH(tbldados[[#This Row],[DATA]]),\"JANEIRO\",\"FEVEREIRO\",\"MARÇO\",\"ABRIL\",\"MAIO\",\"JUNHO\",\"JULHO\",\"AGOSTO\",\"SETEMBRO\",\"OUTUBRO\",\"NOVEMBRO\",\"DEZEMBRO\")","v":"AGOSTO"},{"$f":"YEAR(tbldados[[#This Row],[DATA]])","v":2022}]
[1141,"PGTO","01 DE 01","WILL","AGOSTO","CONTA","DÉBITO","DINHEIRO",{"$f":"VLOOKUP(tbldados[[#This Row],[APP]],tblbandeira[],3,0)","v":0},44793,44793,3351.37,{"$f":"tbldados[[#This Row],[VALOR PAGO]]+(tbldados[[#This Row],[VALOR PAGO]]*tbldados[[#This Row],[TAXA]])","v":3351.37},{"$f":"tbldados[[#This Row],[TOTAL BRUTO]]-tbldados[[#This Row],[VALOR PAGO]]","v":0},{"$f":"CHOOSE(MONTH(tbldados[[#This Row],[DATA]]),\"JANEIRO\",\"FEVEREIRO\",\"MARÇO\",\"ABRIL\",\"MAIO\",\"JUNHO\",\"JULHO\",\"AGOSTO\",\"SETEMBRO\",\"OUTUBRO\",\"NOVEMBRO\",\"DEZEMBRO\")","v":"AGOSTO"},{"$f":"YEAR(tbldados[[#This Row],[DATA]])","v":2022}]
[1142,"GASTOS","01 DE 01","CABELO","JUNIOR","GERAL","WILL","CREDITO A VISTA",{"$f":"VLOOKUP(tbldados[[#This Row],[APP]],tblbandeira[],3,0)","v":0},44793,44824,30,{"$f":"tbldados[[#This Row],[VALOR PAGO]]+(tbldados[[#This Row],[VALOR PAGO]]*tbldados[[#This Row],[TAXA]])","v":30},{"$f":"tbldados[[#This Row],[TOTAL BRUTO]]-tbldados[[#This Row],[VALOR PAGO]]","v":0},{"$f":"CHOOSE(MONTH(tbldados[[#This Row],[DATA]]),\"JANEIRO\",\"FEVEREIRO\",\"MARÇO\",\"ABRIL\",\"MAIO\",\"JUNHO\",\"JULHO\",\"AGOSTO\",\"SETEMBRO\",\"OUTUBRO\",\"NOVEMBRO\",\"DEZEMBRO\")","v":"SETEMBRO"},{"$f":"YEAR(tbldados[[#This Row],[DATA]])","v":2022}]
[1143,"GASTOS","01 DE 01","JANTA","JUNIOR","GERAL","WILL","CREDITO A VISTA",{"$f":"VLOOKUP(tbldados[[#This Row],[APP]],tblbandeira[],3,0)","v":0},44792,44824,55,{"$f":"tbldados[[#This Row],[VALOR PAGO]]+(tbldados[[#This Row],[VALOR PAGO]]*tbldados[[#This Row],[TAXA]])","v":55},{"$f":"tbldados[[#This Row],[TOTAL BRUTO]]-tbldados[[#This Row],[VALOR PAGO]]","v":0},{"$f":"CHOOSE(MONTH(tbldados[[#This Row],[DATA]]),\"JANEIRO\",\"FEVEREIRO\",\"MARÇO\",\"ABRIL\",\"MAIO\",\"JUNHO\",\"JULHO\",\"AGOSTO\",\"SETEMBRO\",\"OUTUBRO\",\"NOVEMBRO\",\"DEZEMBRO\")","v":"SETEMBRO"},{"$f":"YEAR(tbldados[[#This Row],[DATA]])","v":2022}]
[1144,"GASTOS","01 DE 01","JUROS ATRASO","JUNIOR","GERAL","WILL","CREDITO A VISTA",{"$f":"VLOOKUP(tbldados[[#This Row],[APP]],tblbandeira[],3,0)","v":0},44794,44824,19.72,{"$f":"tbldados[[#This Row],[VALOR PAGO]]+(tbldados[[#This Row],[VALOR PAGO]]*tbldados[[#This Row],[TAXA]])","v":19.72},{"$f":"tbldados[[#This Row],[TOTAL BRUTO]]-tbldados[[#This Row],[VALOR PAGO]]","v":0},{"$f":"CHOOSE(MONTH(tbldados[[#This Row],[DATA]]),\"JANEIRO\",\"FEVEREIRO\",\"MARÇO\",\"ABRIL\",\"MAIO\",\"JUNHO\",\"JULHO\",\"AGOSTO\",\"SETEMBRO\",\"OUTUBRO\",\"NOVEMBRO\",\"DEZEMBRO\")","v":"SETEMBRO"},{"$f":"YEAR(tbldados[[#This Row],[DATA]])","v":2022}]
[1145,"GASTOS","01 DE 01","CLARO","JUNIOR","GERAL","WILL","CREDITO A VISTA",{"$f":"VLOOKUP(tbldados[[#This Row],[APP]],tblbandeira[],3,0)","v":0},44795,44824,29.99,{"$f":"tbldados[[#This Row],[VALOR PAGO]]+(tbldados[[#This Row],[VALOR PAGO]]*tbldados[[#This Row],[TAXA]])","v":29.99},{"$f":"tbldados[[#This Row],[TOTAL BRUTO]]-tbldados[[#This Row],[VALOR PAGO]]","v":0},{"$f":"CHOOSE(MONTH(tbldados[[#This Row],[DATA]]),\"JANEIRO\",\"FEVEREIRO\",\"MARÇO\",\"ABRIL\",\"MAIO\",\"JUNHO\",\"JULHO\",\"AGOSTO\",\"SETEMBRO\",\"OUTUBRO\",\"NOVEMBRO\",\"DEZEMBRO\")","v":"SETEMBRO"},{"$f":"YEAR(tbldados[[#This Row],[DATA]])","v":2022}]
[1146,"GASTOS","01 DE 01","PGTOBOLETO","JUNIOR","GERAL","WILL","CREDITO A VISTA",{"$f":"VLOOKUP(tbldados[[#This Row],[APP]],tblbandeira[],3,0)","v":0},44798,44824,119.24,{"$f":"tbldados[[#This Row],[VALOR PAGO]]+(tbldados[[#This Row],[VALOR PAGO]]*tbldados[[#This Row],[TAXA]])","v":119.24},{"$f":"tbldados[[#This Row],[TOTAL BRUTO]]-tbldados[[#This Row],[VALOR PAGO]]","v":0},{"$f":"CHOOSE(MONTH(tbldados[[#This Row],[DATA]]),\"JANEIRO\",\"FEVEREIRO\",\"MARÇO\",\"ABRIL\",\"MAIO\",\"JUNHO\",\"JULHO\",\"AGOSTO\",\"SETEMBRO\",\"OUTUBRO\",\"NOVEMBRO\",\"DEZEMBRO\")","v":"SETEMBRO"},{"$f":"YEAR(tbldados[[#This Row],[DATA]])","v":2022}]
[1147,"GASTOS","01 DE 01","FARRA","JUNIOR","RECARGAPAY","WILL","CREDITO A VISTA",3.9899999999999998E-2,44792,44824,97,{"$f":"tbldados[[#This Row],[VALOR PAGO]]+(tbldados[[#This Row],[VALOR PAGO]]*tbldados[[#This Row],[TAXA]])","v":100.8703},{"$f":"tbldados[[#This Row],[TOTAL BRUTO]]-tbldados[[#This Row],[VALOR PAGO]]","v":3.8703000000000003},{"$f":"CHOOSE(MONTH(tbldados[[#This Row],[DATA]]),\"JANEIRO\",\"FEVEREIRO\",\"MARÇO\",\"ABRIL\",\"MAIO\",\"JUNHO\",\"JULHO\",\"AGOSTO\",\"SETEMBRO\",\"OUTUBRO\",\"NOVEMBRO\",\"DEZEMBRO\")","v":"SETEMBRO"},{"$f":"YEAR(tbldados[[#This Row],[DATA]])","v":2022}]
[1148,"GASTOS","01 DE 01","PGTO DIVERSOS","JUNIOR","RECARGAPAY","WILL","CREDITO A VISTA",3.9899999999999998E-2,44796,44824,2499.9899999999998,{"$f":"tbldados[[#This Row],[VALOR PAGO]]+(tbldados[[#This Row],[VALOR PAGO]]*tbldados[[#This Row],[TAXA]])","v":2599.7396009999998},{"$f":"tbldados[[#This Row],[TOTAL BRUTO]]-tbldados[[#This Row],[VALOR PAGO]]","v":99.749600999999984},{"$f":"CHOOSE(MONTH(tbldados[[#This Row],[DATA]]),\"JANEIRO\",\"FEVEREIRO\",\"MARÇO\",\"ABRIL\",\"MAIO\",\"JUNHO\",\"JULHO\",\"AGOSTO\",\"SETEMBRO\",\"OUTUBRO\",\"NOVEMBRO\",\"DEZEMBRO\")","v":"SETEMBRO"},{"$f":"YEAR(tbldados[[#This Row],[DATA]])","v":2022}]
[1149,"GASTOS","01 DE 03","EMPRESTIMO-FÁBIO","JUNIOR","RECARGAPAY","MELIUZ","CREDITO PARCELADO",{"$f":"VLOOKUP(tbldados[[#This Row],[APP]],tblbandeira[],3,0)","v":3.49E-2},44805,44835,166.67,{"$f":"tbldados[[#This Row],[VALOR PAGO]]+(tbldados[[#This Row],[VALOR PAGO]]*tbldados[[#This Row],[TAXA]])","v":172.48678299999997},{"$f":"tbldados[[#This Row],[TOTAL BRUTO]]-tbldados[[#This Row],[VALOR PAGO]]","v":5.8167829999999867},{"$f":"CHOOSE(MONTH(tbldados[[#This Row],[DATA]]),\"JANEIRO\",\"FEVEREIRO\",\"MARÇO\",\"ABRIL\",\"MAIO\",\"JUNHO\",\"JULHO\",\"AGOSTO\",\"SETEMBRO\",\"OUTUBRO\",\"NOVEMBRO\",\"DEZEMBRO\")","v":"OUTUBRO"},{"$f":"YEAR(tbldados[[#This Row],[DATA]])","v":2022}]
[1150,"GASTOS","02 DE 03","EMPRESTIMO-FÁBIO","JUNIOR","RECARGAPAY","MELIUZ","CREDITO PARCELADO",{"$f":"VLOOKUP(tbldados[[#This Row],[APP]],tblbandeira[],3,0)","v":3.49E-2},44805,44866,166.67,{"$f":"tbldados[[#This Row],[VALOR PAGO]]+(tbldados[[#This Row],[VALOR PAGO]]*tbldados[[#This Row],[TAXA]])","v":172.48678299999997},{"$f":"tbldados[[#This Row],[TOTAL BRUTO]]-tbldados[[#This Row],[VALOR PAGO]]","v":5.8167829999999867},{"$f":"CHOOSE(MONTH(tbldados[[#This Row],[DATA]]),\"JANEIRO\",\"FEVEREIRO\",\"MARÇO\",\"ABRIL\",\"MAIO\",\"JUNHO\",\"JULHO\",\"AGOSTO\",\"SETEMBRO\",\"OUTUBRO\",\"NOVEMBRO\",\"DEZEMBRO\")","v":"NOVEMBRO"},{"$f":"YEAR(tbldados[[#This Row],[DATA]])","v":2022}]
[1151,"GASTOS","03 DE 03","EMPRESTIMO-FÁBIO","JUNIOR","RECARGAPAY","MELIUZ","CREDITO PARCELADO",{"$f":"VLOOKUP(tbldados[[#This Row],[APP]],tblbandeira[],3,0)","v":3.49E-2},44805,44896,166.67,{"$f":"tbldados[[#This Row],[VALOR PAGO]]+(tbldados[[#This Row],[VALOR PAGO]]*tbldados[[#This Row],[TAXA]])","v":172.48678299999997},{"$f":"tbldados[[#This Row],[TOTAL BRUTO]]-tbldados[[#This Row],[VALOR PAGO]]","v":5.8167829999999867},{"$f":"CHOOSE(MONTH(tbldados[[#This Row],[DATA]]),\"JANEIRO\",\"FEVEREIRO\",\"MARÇO\",\"ABRIL\",\"MAIO\",\"JUNHO\",\"JULHO\",\"AGOSTO\",\"SETEMBRO\",\"OUTUBRO\",\"NOVEMBRO\",\"DEZEMBRO\")","v":"DEZEMBRO"},{"$f":"YEAR(tbldados[[#This Row],[DATA]])","v":2022}]
[1152,"PGTO","01 DE 01","MELIUZ","SETEMBRO","RECARGAPAY","WILL","CREDITO A VISTA",{"$f":"VLOOKUP(tbldados[[#This Row],[APP]],tblbandeira[],3,0)","v":3.49E-2},44805,44824,527.04999999999995,{"$f":"tbldados[[#This Row],[VALOR PAGO]]+(tbldados[[#This Row],[VALOR PAGO]]*tbldados[[#This Row],[TAXA]])","v":545.44404499999996},{"$f":"tbldados[[#This Row],[TOTAL BRUTO]]-tbldados[[#This Row],[VALOR PAGO]]","v":18.394045000000006},{"$f":"CHOOSE(MONTH(tbldados[[#This Row],[DATA]]),\"JANEIRO\",\"FEVEREIRO\",\"MARÇO\",\"ABRIL\",\"MAIO\",\"JUNHO\",\"JULHO\",\"AGOSTO\",\"SETEMBRO\",\"OUTUBRO\",\"NOVEMBRO\",\"DEZEMBRO\")","v":"SETEMBRO"},{"$f":"YEAR(tbldados[[#This Row],[DATA]])","v":2022}]
[1153,"GASTOS","01 DE 01","PGTOMELIUZ","JUNIOR","RECARGAPAY","WILL","CREDITO A VISTA",{"$f":"VLOOKUP(tbldados[[#This Row],[APP]],tblbandeira[],3,0)","v":3.49E-2},44805,44824,527.04999999999995,{"$f":"tbldados[[#This Row],[VALOR PAGO]]+(tbldados[[#This Row],[VALOR PAGO]]*tbldados[[#This Row],[TAXA]])","v":545.44404499999996},{"$f":"tbldados[[#This Row],[TOTAL BRUTO]]-tbldados[[#This Row],[VALOR PAGO]]","v":18.394045000000006},{"$f":"CHOOSE(MONTH(tbldados[[#This Row],[DATA]]),\"JANEIRO\",\"FEVEREIRO\",\"MARÇO\",\"ABRIL\",\"MAIO\",\"JUNHO\",\"JULHO\",\"AGOSTO\",\"SETEMBRO\",\"OUTUBRO\",\"NOVEMBRO\",\"DEZEMBRO\")","v":"SETEMBRO"},{"$f":"YEAR(tbldados[[#This Row],[DATA]])","v":2022}]
[1154,"PGTO","01 DE 01","MELIUZ","SETEMBRO","RECARGAPAY","MELIUZ","CREDITO A VISTA",{"$f":"VLOOKUP(tbldados[[#This Row],[APP]],tblbandeira[],3,0)","v":3.49E-2},44805,44835,5872.92,{"$f":"tbldados[[#This Row],[VALOR PAGO]]+(tbldados[[#This Row],[VALOR PAGO]]*tbldados[[#This Row],[TAXA]])","v":6077.884908},{"$f":"tbldados[[#This Row],[TOTAL BRUTO]]-tbldados[[#This Row],[VALOR PAGO]]","v":204.96490799999992},{"$f":"CHOOSE(MONTH(tbldados[[#This Row],[DATA]]),\"JANEIRO\",\"FEVEREIRO\",\"MARÇO\",\"ABRIL\",\"MAIO\",\"JUNHO\",\"JULHO\",\"AGOSTO\",\"SETEMBRO\",\"OUTUBRO\",\"NOVEMBRO\",\"DEZEMBRO\")","v":"OUTUBRO"},{"$f":"YEAR(tbldados[[#This Row],[DATA]])","v":2022}]
[1155,"GASTOS","01 DE 01","PGTOMELIUZ","JUNIOR","RECARGAPAY","MELIUZ","CREDITO A VISTA",{"$f":"VLOOKUP(tbldados[[#This Row],[APP]],tblbandeira[],3,0)","v":3.49E-2},44805,44835,5872.92,{"$f":"tbldados[[#This Row],[VALOR PAGO]]+(tbldados[[#This Row],[VALOR PAGO]]*tbldados[[#This Row],[TAXA]])","v":6077.884908},{"$f":"tbldados[[#This Row],[TOTAL BRUTO]]-tbldados[[#This Row],[VALOR PAGO]]","v":204.96490799999992},{"$f":"CHOOSE(MONTH(tbldados[[#This Row],[DATA]]),\"JANEIRO\",\"FEVEREIRO\",\"MARÇO\",\"ABRIL\",\"MAIO\",\"JUNHO\",\"JULHO\",\"AGOSTO\",\"SETEMBRO\",\"OUTUBRO\",\"NOVEMBRO\",\"DEZEMBRO\")","v":"OUTUBRO"},{"$f":"YEAR(tbldados[[#This Row],[DATA]])","v":2022}]
[1156,"GASTOS","01 DE 01","FARRA","JUNIOR","RECARGAPAY","MELIUZ","CREDITO A VISTA",{"$f":"VLOOKUP(tbldados[[#This Row],[APP]],tblbandeira[],3,0)","v":3.49E-2},44805,44835,50,{"$f":"tbldados[[#This Row],[VALOR PAGO]]+(tbldados[[#This Row],[VALOR PAGO]]*tbldados[[#This Row],[TAXA]])","v":51.744999999999997},{"$f":"tbldados[[#This Row],[TOTAL BRUTO]]-tbldados[[#This Row],[VALOR PAGO]]","v":1.7449999999999974},{"$f":"CHOOSE(MONTH(tbldados[[#This Row],[DATA]]),\"JANEIRO\",\"FEVEREIRO\",\"MARÇO\",\"ABRIL\",\"MAIO\",\"JUNHO\",\"JULHO\",\"AGOSTO\",\"SETEMBRO\",\"OUTUBRO\",\"NOVEMBRO\",\"DEZEMBRO\")","v":"OUTUBRO"},{"$f":"YEAR(tbldados[[#This Row],[DATA]])","v":2022}]
[1157,"GASTOS","01 DE 01","JANTA","JUNIOR","GERAL","MELIUZ","CREDITO A VISTA",{"$f":"VLOOKUP(tbldados[[#This Row],[APP]],tblbandeira[],3,0)","v":0},44806,44835,44,{"$f":"tbldados[[#This Row],[VALOR PAGO]]+(tbldados[[#This Row],[VALOR PAGO]]*tbldados[[#This Row],[TAXA]])","v":44},{"$f":"tbldados[[#This Row],[TOTAL BRUTO]]-tbldados[[#This Row],[VALOR PAGO]]","v":0},{"$f":"CHOOSE(MONTH(tbldados[[#This Row],[DATA]]),\"JANEIRO\",\"FEVEREIRO\",\"MARÇO\",\"ABRIL\",\"MAIO\",\"JUNHO\",\"JULHO\",\"AGOSTO\",\"SETEMBRO\",\"OUTUBRO\",\"NOVEMBRO\",\"DEZEMBRO\")","v":"OUTUBRO"},{"$f":"YEAR(tbldados[[#This Row],[DATA]])","v":2022}]
[1158,"PGTO","01 DE 01","MNEXT","SETEMBRO","GERAL","C6","CREDITO A VISTA",{"$f":"VLOOKUP(tbldados[[#This Row],[APP]],tblbandeira[],3,0)","v":0},44808,44835,1000,{"$f":"tbldados[[#This Row],[VALOR PAGO]]+(tbldados[[#This Row],[VALOR PAGO]]*tbldados[[#This Row],[TAXA]])","v":1000},{"$f":"tbldados[[#This Row],[TOTAL BRUTO]]-tbldados[[#This Row],[VALOR PAGO]]","v":0},{"$f":"CHOOSE(MONTH(tbldados[[#This Row],[DATA]]),\"JANEIRO\",\"FEVEREIRO\",\"MARÇO\",\"ABRIL\",\"MAIO\",\"JUNHO\",\"JULHO\",\"AGOSTO\",\"SETEMBRO\",\"OUTUBRO\",\"NOVEMBRO\",\"DEZEMBRO\")","v":"OUTUBRO"},{"$f":"YEAR(tbldados[[#This Row],[DATA]])","v":2022}]
[1159,"GASTOS","01 DE 01","PGTOMNEXT","JUNIOR","GERAL","C6","CREDITO A VISTA",{"$f":"VLOOKUP(tbldados[[#This Row],[APP]],tblbandeira[],3,0)","v":0},44808,44835,1000,{"$f":"tbldados[[#This Row],[VALOR PAGO]]+(tbldados[[#This Row],[VALOR PAGO]]*tbldados[[#This Row],[TAXA]])","v":1000},{"$f":"tbldados[[#This Row],[TOTAL BRUTO]]-tbldados[[#This Row],[VALOR PAGO]]","v":0},{"$f":"CHOOSE(MONTH(tbldados[[#This Row],[DATA]]),\"JANEIRO\",\"FEVEREIRO\",\"MARÇO\",\"ABRIL\",\"MAIO\",\"JUNHO\",\"JULHO\",\"AGOSTO\",\"SETEMBRO\",\"OUTUBRO\",\"NOVEMBRO\",\"DEZEMBRO\")","v":"OUTUBRO"},{"$f":"YEAR(tbldados[[#This Row],[DATA]])","v":2022}]
[1160,"PGTO","01 DE 01","MNEXT","SETEMBRO","RECARGAPAY","C6","CREDITO A VISTA",{"$f":"VLOOKUP(tbldados[[#This Row],[APP]],tblbandeira[],3,0)","v":3.49E-2},44808,44835,167.5,{"$f":"tbldados[[#This Row],[VALOR PAGO]]+(tbldados[[#This Row],[VALOR PAGO]]*tbldados[[#This Row],[TAXA]])","v":173.34575000000001},{"$f":"tbldados[[#This Row],[TOTAL BRUTO]]-tbldados[[#This Row],[VALOR PAGO]]","v":5.8457500000000095},{"$f":"CHOOSE(MONTH(tbldados[[#This Row],[DATA]]),\"JANEIRO\",\"FEVEREIRO\",\"MARÇO\",\"ABRIL\",\"MAIO\",\"JUNHO\",\"JULHO\",\"AGOSTO\",\"SETEMBRO\",\"OUTUBRO\",\"NOVEMBRO\",\"DEZEMBRO\")","v":"OUTUBRO"},{"$f":"YEAR(tbldados[[#This Row],[DATA]])","v":2022}]
[1161,"GASTOS","01 DE 01","PGTONEXT","JUNIOR","RECARGAPAY","C6","CREDITO A VISTA",{"$f":"VLOOKUP(tbldados[[#This Row],[APP]],tblbandeira[],3,0)","v":3.49E-2},44808,44835,167.5,{"$f":"tbldados[[#This Row],[VALOR PAGO]]+(tbldados[[#This Row],[VALOR PAGO]]*tbldados[[#This Row],[TAXA]])","v":173.34575000000001},{"$f":"tbldados[[#This Row],[TOTAL BRUTO]]-tbldados[[#This Row],[VALOR PAGO]]","v":5.8457500000000095},{"$f":"CHOOSE(MONTH(tbldados[[#This Row],[DATA]]),\"JANEIRO\",\"FEVEREIRO\",\"MARÇO\",\"ABRIL\",\"MAIO\",\"JUNHO\",\"JULHO\",\"AGOSTO\",\"SETEMBRO\",\"OUTUBRO\",\"NOVEMBRO\",\"DEZEMBRO\")","v":"OUTUBRO"},{"$f":"YEAR(tbldados[[#This Row],[DATA]])","v":2022}]
[1162,"GASTOS","01 DE 01","PGTODIVERSOS","JUNIOR","GERAL","MNEXT","CREDITO A VISTA",{"$f":"VLOOKUP(tbldados[[#This Row],[APP]],tblbandeira[],3,0)","v":0},44777,44808,1125,{"$f":"tbldados[[#This Row],[VALOR PAGO]]+(tbldados[[#This Row],[VALOR PAGO]]*tbldados[[#This Row],[TAXA]])","v":1125},{"$f":"tbldados[[#This Row],[TOTAL BRUTO]]-tbldados[[#This Row],[VALOR PAGO]]","v":0},{"$f":"CHOOSE(MONTH(tbldados[[#This Row],[DATA]]),\"JANEIRO\",\"FEVEREIRO\",\"MARÇO\",\"ABRIL\",\"MAIO\",\"JUNHO\",\"JULHO\",\"AGOSTO\",\"SETEMBRO\",\"OUTUBRO\",\"NOVEMBRO\",\"DEZEMBRO\")","v":"SETEMBRO"},{"$f":"YEAR(tbldados[[#This Row],[DATA]])","v":2022}]
[1163,"PGTO","01 DE 01","ZERO","SETEMBRO","RECARGAPAY","C6","CREDITO A VISTA",3.9899999999999998E-2,44808,44835,1600,{"$f":"tbldados[[#This Row],[VALOR PAGO]]+(tbldados[[#This Row],[VALOR PAGO]]*tbldados[[#This Row],[TAXA]])","v":1663.84},{"$f":"tbldados[[#This Row],[TOTAL BRUTO]]-tbldados[[#This Row],[VALOR PAGO]]","v":63.839999999999918},{"$f":"CHOOSE(MONTH(tbldados[[#This Row],[DATA]]),\"JANEIRO\",\"FEVEREIRO\",\"MARÇO\",\"ABRIL\",\"MAIO\",\"JUNHO\",\"JULHO\",\"AGOSTO\",\"SETEMBRO\",\"OUTUBRO\",\"NOVEMBRO\",\"DEZEMBRO\")","v":"OUTUBRO"},{"$f":"YEAR(tbldados[[#This Row],[DATA]])","v":2022}]
[1164,"GASTOS","01 DE 01","PGTOZERO","JUNIOR","RECARGAPAY","C6","CREDITO A VISTA",3.9899999999999998E-2,44808,44835,1600,{"$f":"tbldados[[#This Row],[VALOR PAGO]]+(tbldados[[#This Row],[VALOR PAGO]]*tbldados[[#This Row],[TAXA]])","v":1663.84},{"$f":"tbldados[[#This Row],[TOTAL BRUTO]]-tbldados[[#This Row],[VALOR PAGO]]","v":63.839999999999918},{"$f":"CHOOSE(MONTH(tbldados[[#This Row],[DATA]]),\"JANEIRO\",\"FEVEREIRO\",\"MARÇO\",\"ABRIL\",\"MAIO\",\"JUNHO\",\"JULHO\",\"AGOSTO\",\"SETEMBRO\",\"OUTUBRO\",\"NOVEMBRO\",\"DEZEMBRO\")","v":"OUTUBRO"},{"$f":"YEAR(tbldados[[#This Row],[DATA]])","v":2022}]
[1165,"GASTOS","01 DE 01","JUROS","JUNIOR","GERAL","ZERO","CREDITO A VISTA",{"$f":"VLOOKUP(tbldados[[#This Row],[APP]],tblbandeira[],3,0)","v":0},44777,44807,7.69,{"$f":"tbldados[[#This Row],[VALOR PAGO]]+(tbldados[[#This Row],[VALOR PAGO]]*tbldados[[#This Row],[TAXA]])","v":7.69},{"$f":"tbldados[[#This Row],[TOTAL BRUTO]]-tbldados[[#This Row],[VALOR PAGO]]","v":0},{"$f":"CHOOSE(MONTH(tbldados[[#This Row],[DATA]]),\"JANEIRO\",\"FEVEREIRO\",\"MARÇO\",\"ABRIL\",\"MAIO\",\"JUNHO\",\"JULHO\",\"AGOSTO\",\"SETEMBRO\",\"OUTUBRO\",\"NOVEMBRO\",\"DEZEMBRO\")","v":"SETEMBRO"},{"$f":"YEAR(tbldados[[#This Row],[DATA]])","v":2022}]
[1166,"PGTO","01 DE 01","AZUL","SETEMBRO","RECARGAPAY","C6","CREDITO A VISTA",{"$f":"VLOOKUP(tbldados[[#This Row],[APP]],tblbandeira[],3,0)","v":3.49E-2},44810,44835,2150,{"$f":"tbldados[[#This Row],[VALOR PAGO]]+(tbldados[[#This Row],[VALOR PAGO]]*tbldados[[#This Row],[TAXA]])","v":2225.0349999999999},{"$f":"tbldados[[#This Row],[TOTAL BRUTO]]-tbldados[[#This Row],[VALOR PAGO]]","v":75.034999999999854},{"$f":"CHOOSE(MONTH(tbldados[[#This Row],[DATA]]),\"JANEIRO\",\"FEVEREIRO\",\"MARÇO\",\"ABRIL\",\"MAIO\",\"JUNHO\",\"JULHO\",\"AGOSTO\",\"SETEMBRO\",\"OUTUBRO\",\"NOVEMBRO\",\"DEZEMBRO\")","v":"OUTUBRO"},{"$f":"YEAR(tbldados[[#This Row],[DATA]])","v":2022}]
[1167,"GASTOS","01 DE 01","PGTOAZUL","JUNIOR","RECARGAPAY","C6","CREDITO A VISTA",{"$f":"VLOOKUP(tbldados[[#This Row],[APP]],tblbandeira[],3,0)","v":3.49E-2},44810,44835,2150,{"$f":"tbldados[[#This Row],[VALOR PAGO]]+(tbldados[[#This Row],[VALOR PAGO]]*tbldados[[#This Row],[TAXA]])","v":2225.0349999999999},{"$f":"tbldados[[#This Row],[TOTAL BRUTO]]-tbldados[[#This Row],[VALOR PAGO]]","v":75.034999999999854},{"$f":"CHOOSE(MONTH(tbldados[[#This Row],[DATA]]),\"JANEIRO\",\"FEVEREIRO\",\"MARÇO\",\"ABRIL\",\"MAIO\",\"JUNHO\",\"JULHO\",\"AGOSTO\",\"SETEMBRO\",\"OUTUBRO\",\"NOVEMBRO\",\"DEZEMBRO\")","v":"OUTUBRO"},{"$f":"YEAR(tbldados[[#This Row],[DATA]])","v":2022}]
[1168,"GASTOS","01 DE 01","JUROS","JUNIOR","GERAL","NCARD","CREDITO A VISTA",{"$f":"VLOOKUP(tbldados[[#This Row],[APP]],tblbandeira[],3,0)","v":0},44781,44813,8.9600000000000009,{"$f":"tbldados[[#This Row],[VALOR PAGO]]+(tbldados[[#This Row],[VALOR PAGO]]*tbldados[[#This Row],[TAXA]])","v":8.9600000000000009},{"$f":"tbldados[[#This Row],[TOTAL BRUTO]]-tbldados[[#This Row],[VALOR PAGO]]","v":0},{"$f":"CHOOSE(MONTH(tbldados[[#This Row],[DATA]]),\"JANEIRO\",\"FEVEREIRO\",\"MARÇO\",\"ABRIL\",\"MAIO\",\"JUNHO\",\"JULHO\",\"AGOSTO\",\"SETEMBRO\",\"OUTUBRO\",\"NOVEMBRO\",\"DEZEMBRO\")","v":"SETEMBRO"},{"$f":"YEAR(tbldados[[#This Row],[DATA]])","v":2022}]
[1169,"PGTO","01 DE 01","NCARD","SETEMBRO","RECARGAPAY","ZERO","CREDITO A VISTA",{"$f":"VLOOKUP(tbldados[[#This Row],[APP]],tblbandeira[],3,0)","v":3.49E-2},44812,44837,1599.96,{"$f":"tbldados[[#This Row],[VALOR PAGO]]+(tbldados[[#This Row],[VALOR PAGO]]*tbldados[[#This Row],[TAXA]])","v":1655.7986040000001},{"$f":"tbldados[[#This Row],[TOTAL BRUTO]]-tbldados[[#This Row],[VALOR PAGO]]","v":55.838604000000032},{"$f":"CHOOSE(MONTH(tbldados[[#This Row],[DATA]]),\"JANEIRO\",\"FEVEREIRO\",\"MARÇO\",\"ABRIL\",\"MAIO\",\"JUNHO\",\"JULHO\",\"AGOSTO\",\"SETEMBRO\",\"OUTUBRO\",\"NOVEMBRO\",\"DEZEMBRO\")","v":"OUTUBRO"},{"$f":"YEAR(tbldados[[#This Row],[DATA]])","v":2022}]
[1170,"GASTOS","01 DE 01","PGTONCARD","JUNIOR","RECARGAPAY","ZERO","CREDITO A VISTA",{"$f":"VLOOKUP(tbldados[[#This Row],[APP]],tblbandeira[],3,0)","v":3.49E-2},44812,44837,1599.96,{"$f":"tbldados[[#This Row],[VALOR PAGO]]+(tbldados[[#This Row],[VALOR PAGO]]*tbldados[[#This Row],[TAXA]])","v":1655.7986040000001},{"$f":"tbldados[[#This Row],[TOTAL BRUTO]]-tbldados[[#This Row],[VALOR PAGO]]","v":55.838604000000032},{"$f":"CHOOSE(MONTH(tbldados[[#This Row],[DATA]]),\"JANEIRO\",\"FEVEREIRO\",\"MARÇO\",\"ABRIL\",\"MAIO\",\"JUNHO\",\"JULHO\",\"AGOSTO\",\"SETEMBRO\",\"OUTUBRO\",\"NOVEMBRO\",\"DEZEMBRO\")","v":"OUTUBRO"},{"$f":"YEAR(tbldados[[#This Row],[DATA]])","v":2022}]
[1171,"GASTOS","01 DE 01","CLARO","JUNIOR","RECARGAPAY","PAGMAE","CREDITO A VISTA",{"$f":"VLOOKUP(tbldados[[#This Row],[APP]],tblbandeira[],3,0)","v":3.49E-2},44800,44814,91.66,{"$f":"tbldados[[#This Row],[VALOR PAGO]]+(tbldados[[#This Row],[VALOR PAGO]]*tbldados[[#This Row],[TAXA]])","v":94.858933999999991},{"$f":"tbldados[[#This Row],[TOTAL BRUTO]]-tbldados[[#This Row],[VALOR PAGO]]","v":3.1989339999999942},{"$f":"CHOOSE(MONTH(tbldados[[#This Row],[DATA]]),\"JANEIRO\",\"FEVEREIRO\",\"MARÇO\",\"ABRIL\",\"MAIO\",\"JUNHO\",\"JULHO\",\"AGOSTO\",\"SETEMBRO\",\"OUTUBRO\",\"NOVEMBRO\",\"DEZEMBRO\")","v":"SETEMBRO"},{"$f":"YEAR(tbldados[[#This Row],[DATA]])","v":2022}]
[1172,"GASTOS","01 DE 01","FARRA","JUNIOR","RECARGAPAY","PAGMAE","CREDITO A VISTA",3.9899999999999998E-2,44784,44814,60,{"$f":"tbldados[[#This Row],[VALOR PAGO]]+(tbldados[[#This Row],[VALOR PAGO]]*tbldados[[#This Row],[TAXA]])","v":62.393999999999998},{"$f":"tbldados[[#This Row],[TOTAL BRUTO]]-tbldados[[#This Row],[VALOR PAGO]]","v":2.3939999999999984},{"$f":"CHOOSE(MONTH(tbldados[[#This Row],[DATA]]),\"JANEIRO\",\"FEVEREIRO\",\"MARÇO\",\"ABRIL\",\"MAIO\",\"JUNHO\",\"JULHO\",\"AGOSTO\",\"SETEMBRO\",\"OUTUBRO\",\"NOVEMBRO\",\"DEZEMBRO\")","v":"SETEMBRO"},{"$f":"YEAR(tbldados[[#This Row],[DATA]])","v":2022}]
[1173,"GASTOS","01 DE 01","FARRA","JUNIOR","RECARGAPAY","PAGMAE","CREDITO A VISTA",3.9899999999999998E-2,44784,44814,60,{"$f":"tbldados[[#This Row],[VALOR PAGO]]+(tbldados[[#This Row],[VALOR PAGO]]*tbldados[[#This Row],[TAXA]])","v":62.393999999999998},{"$f":"tbldados[[#This Row],[TOTAL BRUTO]]-tbldados[[#This Row],[VALOR PAGO]]","v":2.3939999999999984},{"$f":"CHOOSE(MONTH(tbldados[[#This Row],[DATA]]),\"JANEIRO\",\"FEVEREIRO\",\"MARÇO\",\"ABRIL\",\"MAIO\",\"JUNHO\",\"JULHO\",\"AGOSTO\",\"SETEMBRO\",\"OUTUBRO\",\"NOVEMBRO\",\"DEZEMBRO\")","v":"SETEMBRO"},{"$f":"YEAR(tbldados[[#This Row],[DATA]])","v":2022}]
[1174,"GASTOS","01 DE 01","FARRA","JUNIOR","RECARGAPAY","PAGMAE","CREDITO A VISTA",3.9899999999999998E-2,44786,44814,50,{"$f":"tbldados[[#This Row],[VALOR PAGO]]+(tbldados[[#This Row],[VALOR PAGO]]*tbldados[[#This Row],[TAXA]])","v":51.994999999999997},{"$f":"tbldados[[#This Row],[TOTAL BRUTO]]-tbldados[[#This Row],[VALOR PAGO]]","v":1.9949999999999974},{"$f":"CHOOSE(MONTH(tbldados[[#This Row],[DATA]]),\"JANEIRO\",\"FEVEREIRO\",\"MARÇO\",\"ABRIL\",\"MAIO\",\"JUNHO\",\"JULHO\",\"AGOSTO\",\"SETEMBRO\",\"OUTUBRO\",\"NOVEMBRO\",\"DEZEMBRO\")","v":"SETEMBRO"},{"$f":"YEAR(tbldados[[#This Row],[DATA]])","v":2022}]
[1175,"GASTOS","01 DE 01","FARRA","JUNIOR","RECARGAPAY","PAGMAE","CREDITO A VISTA",3.9899999999999998E-2,44785,44814,71,{"$f":"tbldados[[#This Row],[VALOR PAGO]]+(tbldados[[#This Row],[VALOR PAGO]]*tbldados[[#This Row],[TAXA]])","v":73.832899999999995},{"$f":"tbldados[[#This Row],[TOTAL BRUTO]]-tbldados[[#This Row],[VALOR PAGO]]","v":2.8328999999999951},{"$f":"CHOOSE(MONTH(tbldados[[#This Row],[DATA]]),\"JANEIRO\",\"FEVEREIRO\",\"MARÇO\",\"ABRIL\",\"MAIO\",\"JUNHO\",\"JULHO\",\"AGOSTO\",\"SETEMBRO\",\"OUTUBRO\",\"NOVEMBRO\",\"DEZEMBRO\")","v":"SETEMBRO"},{"$f":"YEAR(tbldados[[#This Row],[DATA]])","v":2022}]
[1176,"PGTO","01 DE 01","PAGMAE","SETEMBRO","RECARGAPAY","MNEXT","CREDITO A VISTA",{"$f":"VLOOKUP(tbldados[[#This Row],[APP]],tblbandeira[],3,0)","v":3.49E-2},44814,44838,1128.1300000000001,{"$f":"tbldados[[#This Row],[VALOR PAGO]]+(tbldados[[#This Row],[VALOR PAGO]]*tbldados[[#This Row],[TAXA]])","v":1167.501737},{"$f":"tbldados[[#This Row],[TOTAL BRUTO]]-tbldados[[#This Row],[VALOR PAGO]]","v":39.371736999999939},{"$f":"CHOOSE(MONTH(tbldados[[#This Row],[DATA]]),\"JANEIRO\",\"FEVEREIRO\",\"MARÇO\",\"ABRIL\",\"MAIO\",\"JUNHO\",\"JULHO\",\"AGOSTO\",\"SETEMBRO\",\"OUTUBRO\",\"NOVEMBRO\",\"DEZEMBRO\")","v":"OUTUBRO"},{"$f":"YEAR(tbldados[[#This Row],[DATA]])","v":2022}]
[1177,"GASTOS","01 DE 01","PGTOPAGMAE","JUNIOR","RECARGAPAY","MNEXT","CREDITO A VISTA",{"$f":"VLOOKUP(tbldados[[#This Row],[APP]],tblbandeira[],3,0)","v":3.49E-2},44814,44838,1128.1300000000001,{"$f":"tbldados[[#This Row],[VALOR PAGO]]+(tbldados[[#This Row],[VALOR PAGO]]*tbldados[[#This Row],[TAXA]])","v":1167.501737},{"$f":"tbldados[[#This Row],[TOTAL BRUTO]]-tbldados[[#This Row],[VALOR PAGO]]","v":39.371736999999939},{"$f":"CHOOSE(MONTH(tbldados[[#This Row],[DATA]]),\"JANEIRO\",\"FEVEREIRO\",\"MARÇO\",\"ABRIL\",\"MAIO\",\"JUNHO\",\"JULHO\",\"AGOSTO\",\"SETEMBRO\",\"OUTUBRO\",\"NOVEMBRO\",\"DEZEMBRO\")","v":"OUTUBRO"},{"$f":"YEAR(tbldados[[#This Row],[DATA]])","v":2022}]
[1178,"PGTO","01 DE 01","PAGMAE","SETEMBRO","RECARGAPAY","NCARD","CREDITO A VISTA",{"$f":"VLOOKUP(tbldados[[#This Row],[APP]],tblbandeira[],3,0)","v":3.49E-2},44814,44843,1537.38,{"$f":"tbldados[[#This Row],[VALOR PAGO]]+(tbldados[[#This Row],[VALOR PAGO]]*tbldados[[#This Row],[TAXA]])","v":1591.0345620000001},{"$f":"tbldados[[#This Row],[TOTAL BRUTO]]-tbldados[[#This Row],[VALOR PAGO]]","v":53.654561999999942},{"$f":"CHOOSE(MONTH(tbldados[[#This Row],[DATA]]),\"JANEIRO\",\"FEVEREIRO\",\"MARÇO\",\"ABRIL\",\"MAIO\",\"JUNHO\",\"JULHO\",\"AGOSTO\",\"SETEMBRO\",\"OUTUBRO\",\"NOVEMBRO\",\"DEZEMBRO\")","v":"OUTUBRO"},{"$f":"YEAR(tbldados[[#This Row],[DATA]])","v":2022}]
[1179,"GASTOS","01 DE 01","PGTOPAGMAE","JUNIOR","RECARGAPAY","NCARD","CREDITO A VISTA",{"$f":"VLOOKUP(tbldados[[#This Row],[APP]],tblbandeira[],3,0)","v":3.49E-2},44814,44843,1537.38,{"$f":"tbldados[[#This Row],[VALOR PAGO]]+(tbldados[[#This Row],[VALOR PAGO]]*tbldados[[#This Row],[TAXA]])","v":1591.0345620000001},{"$f":"tbldados[[#This Row],[TOTAL BRUTO]]-tbldados[[#This Row],[VALOR PAGO]]","v":53.654561999999942},{"$f":"CHOOSE(MONTH(tbldados[[#This Row],[DATA]]),\"JANEIRO\",\"FEVEREIRO\",\"MARÇO\",\"ABRIL\",\"MAIO\",\"JUNHO\",\"JULHO\",\"AGOSTO\",\"SETEMBRO\",\"OUTUBRO\",\"NOVEMBRO\",\"DEZEMBRO\")","v":"OUTUBRO"},{"$f":"YEAR(tbldados[[#This Row],[DATA]])","v":2022}]
[1180,"PGTO","01 DE 01","PAGMAE","SETEMBRO","RECARGAPAY","AZUL","CREDITO A VISTA",{"$f":"VLOOKUP(tbldados[[#This Row],[APP]],tblbandeira[],3,0)","v":3.49E-2},44814,44840,2077.5,{"$f":"tbldados[[#This Row],[VALOR PAGO]]+(tbldados[[#This Row],[VALOR PAGO]]*tbldados[[#This Row],[TAXA]])","v":2150.0047500000001},{"$f":"tbldados[[#This Row],[TOTAL BRUTO]]-tbldados[[#This Row],[VALOR PAGO]]","v":72.504750000000058},{"$f":"CHOOSE(MONTH(tbldados[[#This Row],[DATA]]),\"JANEIRO\",\"FEVEREIRO\",\"MARÇO\",\"ABRIL\",\"MAIO\",\"JUNHO\",\"JULHO\",\"AGOSTO\",\"SETEMBRO\",\"OUTUBRO\",\"NOVEMBRO\",\"DEZEMBRO\")","v":"OUTUBRO"},{"$f":"YEAR(tbldados[[#This Row],[DATA]])","v":2022}]
[1181,"GASTOS","01 DE 01","PGTOPAGMAE","JUNIOR","RECARGAPAY","AZUL","CREDITO A VISTA",{"$f":"VLOOKUP(tbldados[[#This Row],[APP]],tblbandeira[],3,0)","v":3.49E-2},44814,44840,2077.5,{"$f":"tbldados[[#This Row],[VALOR PAGO]]+(tbldados[[#This Row],[VALOR PAGO]]*tbldados[[#This Row],[TAXA]])","v":2150.0047500000001},{"$f":"tbldados[[#This Row],[TOTAL BRUTO]]-tbldados[[#This Row],[VALOR PAGO]]","v":72.504750000000058},{"$f":"CHOOSE(MONTH(tbldados[[#This Row],[DATA]]),\"JANEIRO\",\"FEVEREIRO\",\"MARÇO\",\"ABRIL\",\"MAIO\",\"JUNHO\",\"JULHO\",\"AGOSTO\",\"SETEMBRO\",\"OUTUBRO\",\"NOVEMBRO\",\"DEZEMBRO\")","v":"OUTUBRO"},{"$f":"YEAR(tbldados[[#This Row],[DATA]])","v":2022}]
[1182,"PGTO","01 DE 01","PAGMAE","SETEMBRO","GERAL","DÉBITO","DINHEIRO",{"$f":"VLOOKUP(tbldados[[#This Row],[APP]],tblbandeira[],3,0)","v":0},44814,44814,59.72,{"$f":"tbldados[[#This Row],[VALOR PAGO]]+(tbldados[[#This Row],[VALOR PAGO]]*tbldados[[#This Row],[TAXA]])","v":59.72},{"$f":"tbldados[[#This Row],[TOTAL BRUTO]]-tbldados[[#This Row],[VALOR PAGO]]","v":0},{"$f":"CHOOSE(MONTH(tbldados[[#This Row],[DATA]]),\"JANEIRO\",\"FEVEREIRO\",\"MARÇO\",\"ABRIL\",\"MAIO\",\"JUNHO\",\"JULHO\",\"AGOSTO\",\"SETEMBRO\",\"OUTUBRO\",\"NOVEMBRO\",\"DEZEMBRO\")","v":"SETEMBRO"},{"$f":"YEAR(tbldados[[#This Row],[DATA]])","v":2022}]
[1183,"PGTO","01 DE 01","PAGMAE","SETEMBRO","RECARGAPAY","PAGMAE","CREDITO A VISTA",{"$f":"VLOOKUP(tbldados[[#This Row],[APP]],tblbandeira[],3,0)","v":3.49E-2},44814,44844,2374.96,{"$f":"tbldados[[#This Row],[VALOR PAGO]]+(tbldados[[#This Row],[VALOR PAGO]]*tbldados[[#This Row],[TAXA]])","v":2457.8461040000002},{"$f":"tbldados[[#This Row],[TOTAL BRUTO]]-tbldados[[#This Row],[VALOR PAGO]]","v":82.886104000000159},{"$f":"CHOOSE(MONTH(tbldados[[#This Row],[DATA]]),\"JANEIRO\",\"FEVEREIRO\",\"MARÇO\",\"ABRIL\",\"MAIO\",\"JUNHO\",\"JULHO\",\"AGOSTO\",\"SETEMBRO\",\"OUTUBRO\",\"NOVEMBRO\",\"DEZEMBRO\")","v":"OUTUBRO"},{"$f":"YEAR(tbldados[[#This Row],[DATA]])","v":2022}]
[1184,"GASTOS","01 DE 01","PGTOPAGMAE","JUNIOR","RECARGAPAY","PAGMAE","CREDITO A VISTA",{"$f":"VLOOKUP(tbldados[[#This Row],[APP]],tblbandeira[],3,0)","v":3.49E-2},44814,44844,2374.96,{"$f":"tbldados[[#This Row],[VALOR PAGO]]+(tbldados[[#This Row],[VALOR PAGO]]*tbldados[[#This Row],[TAXA]])","v":2457.8461040000002},{"$f":"tbldados[[#This Row],[TOTAL BRUTO]]-tbldados[[#This Row],[VALOR PAGO]]","v":82.886104000000159},{"$f":"CHOOSE(MONTH(tbldados[[#This Row],[DATA]]),\"JANEIRO\",\"FEVEREIRO\",\"MARÇO\",\"ABRIL\",\"MAIO\",\"JUNHO\",\"JULHO\",\"AGOSTO\",\"SETEMBRO\",\"OUTUBRO\",\"NOVEMBRO\",\"DEZEMBRO\")","v":"OUTUBRO"},{"$f":"YEAR(tbldados[[#This Row],[DATA]])","v":2022}]
[1185,"GASTOS","01 DE 01","ALMOÇO E JANTA","JUNIOR","GERAL","NUBANK","CREDITO A VISTA",{"$f":"VLOOKUP(tbldados[[#This Row],[APP]],tblbandeira[],3,0)","v":0},44785,44817,117.94,{"$f":"tbldados[[#This Row],[VALOR PAGO]]+(tbldados[[#This Row],[VALOR PAGO]]*tbldados[[#This Row],[TAXA]])","v":117.94},{"$f":"tbldados[[#This Row],[TOTAL BRUTO]]-tbldados[[#This Row],[VALOR PAGO]]","v":0},{"$f":"CHOOSE(MONTH(tbldados[[#This Row],[DATA]]),\"JANEIRO\",\"FEVEREIRO\",\"MARÇO\",\"ABRIL\",\"MAIO\",\"JUNHO\",\"JULHO\",\"AGOSTO\",\"SETEMBRO\",\"OUTUBRO\",\"NOVEMBRO\",\"DEZEMBRO\")","v":"SETEMBRO"},{"$f":"YEAR(tbldados[[#This Row],[DATA]])","v":2022}]
[1186,"GASTOS","01 DE 01","PGTOTRIGG","JUNIOR","RECARGAPAY","NUBANK","CREDITO A VISTA",{"$f":"VLOOKUP(tbldados[[#This Row],[APP]],tblbandeira[],3,0)","v":3.49E-2},44795,44817,892.8,{"$f":"tbldados[[#This Row],[VALOR PAGO]]+(tbldados[[#This Row],[VALOR PAGO]]*tbldados[[#This Row],[TAXA]])","v":923.95871999999997},{"$f":"tbldados[[#This Row],[TOTAL BRUTO]]-tbldados[[#This Row],[VALOR PAGO]]","v":31.158720000000017},{"$f":"CHOOSE(MONTH(tbldados[[#This Row],[DATA]]),\"JANEIRO\",\"FEVEREIRO\",\"MARÇO\",\"ABRIL\",\"MAIO\",\"JUNHO\",\"JULHO\",\"AGOSTO\",\"SETEMBRO\",\"OUTUBRO\",\"NOVEMBRO\",\"DEZEMBRO\")","v":"SETEMBRO"},{"$f":"YEAR(tbldados[[#This Row],[DATA]])","v":2022}]
[1187,"PGTO","01 DE 01","NUBANK","SETEMBRO","RECARGAPAY","PAGMAE","CREDITO A VISTA",{"$f":"VLOOKUP(tbldados[[#This Row],[APP]],tblbandeira[],3,0)","v":3.49E-2},44819,44844,3843.24,{"$f":"tbldados[[#This Row],[VALOR PAGO]]+(tbldados[[#This Row],[VALOR PAGO]]*tbldados[[#This Row],[TAXA]])","v":3977.3690759999999},{"$f":"tbldados[[#This Row],[TOTAL BRUTO]]-tbldados[[#This Row],[VALOR PAGO]]","v":134.12907600000017},{"$f":"CHOOSE(MONTH(tbldados[[#This Row],[DATA]]),\"JANEIRO\",\"FEVEREIRO\",\"MARÇO\",\"ABRIL\",\"MAIO\",\"JUNHO\",\"JULHO\",\"AGOSTO\",\"SETEMBRO\",\"OUTUBRO\",\"NOVEMBRO\",\"DEZEMBRO\")","v":"OUTUBRO"},{"$f":"YEAR(tbldados[[#This Row],[DATA]])","v":2022}]
[1188,"GASTOS","01 DE 01","CERVEJAS","JUNIOR","GERAL","INTER","CREDITO A VISTA",{"$f":"VLOOKUP(tbldados[[#This Row],[APP]],tblbandeira[],3,0)","v":0},44780,44819,43,{"$f":"tbldados[[#This Row],[VALOR PAGO]]+(tbldados[[#This Row],[VALOR PAGO]]*tbldados[[#This Row],[TAXA]])","v":43},{"$f":"tbldados[[#This Row],[TOTAL BRUTO]]-tbldados[[#This Row],[VALOR PAGO]]","v":0},{"$f":"CHOOSE(MONTH(tbldados[[#This Row],[DATA]]),\"JANEIRO\",\"FEVEREIRO\",\"MARÇO\",\"ABRIL\",\"MAIO\",\"JUNHO\",\"JULHO\",\"AGOSTO\",\"SETEMBRO\",\"OUTUBRO\",\"NOVEMBRO\",\"DEZEMBRO\")","v":"SETEMBRO"},{"$f":"YEAR(tbldados[[#This Row],[DATA]])","v":2022}]
[1189,"GASTOS","01 DE 03","BIBLIA-AMERICANAS","JUNIOR","GERAL","INTER","CREDITO PARCELADO",{"$f":"VLOOKUP(tbldados[[#This Row],[APP]],tblbandeira[],3,0)","v":0},44783,44819,64,{"$f":"tbldados[[#This Row],[VALOR PAGO]]+(tbldados[[#This Row],[VALOR PAGO]]*tbldados[[#This Row],[TAXA]])","v":64},{"$f":"tbldados[[#This Row],[TOTAL BRUTO]]-tbldados[[#This Row],[VALOR PAGO]]","v":0},{"$f":"CHOOSE(MONTH(tbldados[[#This Row],[DATA]]),\"JANEIRO\",\"FEVEREIRO\",\"MARÇO\",\"ABRIL\",\"MAIO\",\"JUNHO\",\"JULHO\",\"AGOSTO\",\"SETEMBRO\",\"OUTUBRO\",\"NOVEMBRO\",\"DEZEMBRO\")","v":"SETEMBRO"},{"$f":"YEAR(tbldados[[#This Row],[DATA]])","v":2022}]
[1190,"GASTOS","02 DE 03","BIBLIA-AMERICANAS","JUNIOR","GERAL","INTER","CREDITO PARCELADO",{"$f":"VLOOKUP(tbldados[[#This Row],[APP]],tblbandeira[],3,0)","v":0},44783,44849,64,{"$f":"tbldados[[#This Row],[VALOR PAGO]]+(tbldados[[#This Row],[VALOR PAGO]]*tbldados[[#This Row],[TAXA]])","v":64},{"$f":"tbldados[[#This Row],[TOTAL BRUTO]]-tbldados[[#This Row],[VALOR PAGO]]","v":0},{"$f":"CHOOSE(MONTH(tbldados[[#This Row],[DATA]]),\"JANEIRO\",\"FEVEREIRO\",\"MARÇO\",\"ABRIL\",\"MAIO\",\"JUNHO\",\"JULHO\",\"AGOSTO\",\"SETEMBRO\",\"OUTUBRO\",\"NOVEMBRO\",\"DEZEMBRO\")","v":"OUTUBRO"},{"$f":"YEAR(tbldados[[#This Row],[DATA]])","v":2022}]
[1191,"GASTOS","03 DE 03","BIBLIA-AMERICANAS","JUNIOR","GERAL","INTER","CREDITO PARCELADO",{"$f":"VLOOKUP(tbldados[[#This Row],[APP]],tblbandeira[],3,0)","v":0},44783,44880,64,{"$f":"tbldados[[#This Row],[VALOR PAGO]]+(tbldados[[#This Row],[VALOR PAGO]]*tbldados[[#This Row],[TAXA]])","v":64},{"$f":"tbldados[[#This Row],[TOTAL BRUTO]]-tbldados[[#This Row],[VALOR PAGO]]","v":0},{"$f":"CHOOSE(MONTH(tbldados[[#This Row],[DATA]]),\"JANEIRO\",\"FEVEREIRO\",\"MARÇO\",\"ABRIL\",\"MAIO\",\"JUNHO\",\"JULHO\",\"AGOSTO\",\"SETEMBRO\",\"OUTUBRO\",\"NOVEMBRO\",\"DEZEMBRO\")","v":"NOVEMBRO"},{"$f":"YEAR(tbldados[[#This Row],[DATA]])","v":2022}]
[1192,"GASTOS","01 DE 05","MALETA DELL","JUNIOR","GERAL","INTER","CREDITO PARCELADO",{"$f":"VLOOKUP(tbldados[[#This Row],[APP]],tblbandeira[],3,0)","v":0},44779,44819,35.799999999999997,{"$f":"tbldados[[#This Row],[VALOR PAGO]]+(tbldados[[#This Row],[VALOR PAGO]]*tbldados[[#This Row],[TAXA]])","v":35.799999999999997},{"$f":"tbldados[[#This Row],[TOTAL BRUTO]]-tbldados[[#This Row],[VALOR PAGO]]","v":0},{"$f":"CHOOSE(MONTH(tbldados[[#This Row],[DATA]]),\"JANEIRO\",\"FEVEREIRO\",\"MARÇO\",\"ABRIL\",\"MAIO\",\"JUNHO\",\"JULHO\",\"AGOSTO\",\"SETEMBRO\",\"OUTUBRO\",\"NOVEMBRO\",\"DEZEMBRO\")","v":"SETEMBRO"},{"$f":"YEAR(tbldados[[#This Row],[DATA]])","v":2022}]
[1193,"GASTOS","02 DE 05","MALETA DELL","JUNIOR","GERAL","INTER","CREDITO PARCELADO",{"$f":"VLOOKUP(tbldados[[#This Row],[APP]],tblbandeira[],3,0)","v":0},44779,44849,35.799999999999997,{"$f":"tbldados[[#This Row],[VALOR PAGO]]+(tbldados[[#This Row],[VALOR PAGO]]*tbldados[[#This Row],[TAXA]])","v":35.799999999999997},{"$f":"tbldados[[#This Row],[TOTAL BRUTO]]-tbldados[[#This Row],[VALOR PAGO]]","v":0},{"$f":"CHOOSE(MONTH(tbldados[[#This Row],[DATA]]),\"JANEIRO\",\"FEVEREIRO\",\"MARÇO\",\"ABRIL\",\"MAIO\",\"JUNHO\",\"JULHO\",\"AGOSTO\",\"SETEMBRO\",\"OUTUBRO\",\"NOVEMBRO\",\"DEZEMBRO\")","v":"OUTUBRO"},{"$f":"YEAR(tbldados[[#This Row],[DATA]])","v":2022}]
[1194,"GASTOS","03 DE 05","MALETA DELL","JUNIOR","GERAL","INTER","CREDITO PARCELADO",{"$f":"VLOOKUP(tbldados[[#This Row],[APP]],tblbandeira[],3,0)","v":0},44779,44880,35.799999999999997,{"$f":"tbldados[[#This Row],[VALOR PAGO]]+(tbldados[[#This Row],[VALOR PAGO]]*tbldados[[#This Row],[TAXA]])","v":35.799999999999997},{"$f":"tbldados[[#This Row],[TOTAL BRUTO]]-tbldados[[#This Row],[VALOR PAGO]]","v":0},{"$f":"CHOOSE(MONTH(tbldados[[#This Row],[DATA]]),\"JANEIRO\",\"FEVEREIRO\",\"MARÇO\",\"ABRIL\",\"MAIO\",\"JUNHO\",\"JULHO\",\"AGOSTO\",\"SETEMBRO\",\"OUTUBRO\",\"NOVEMBRO\",\"DEZEMBRO\")","v":"NOVEMBRO"},{"$f":"YEAR(tbldados[[#This Row],[DATA]])","v":2022}]
[1195,"GASTOS","04 DE 05","MALETA DELL","JUNIOR","GERAL","INTER","CREDITO PARCELADO",{"$f":"VLOOKUP(tbldados[[#This Row],[APP]],tblbandeira[],3,0)","v":0},44779,44910,35.799999999999997,{"$f":"tbldados[[#This Row],[VALOR PAGO]]+(tbldados[[#This Row],[VALOR PAGO]]*tbldados[[#This Row],[TAXA]])","v":35.799999999999997},{"$f":"tbldados[[#This Row],[TOTAL BRUTO]]-tbldados[[#This Row],[VALOR PAGO]]","v":0},{"$f":"CHOOSE(MONTH(tbldados[[#This Row],[DATA]]),\"JANEIRO\",\"FEVEREIRO\",\"MARÇO\",\"ABRIL\",\"MAIO\",\"JUNHO\",\"JULHO\",\"AGOSTO\",\"SETEMBRO\",\"OUTUBRO\",\"NOVEMBRO\",\"DEZEMBRO\")","v":"DEZEMBRO"},{"$f":"YEAR(tbldados[[#This Row],[DATA]])","v":2022}]
[1196,"GASTOS","05 DE 05","MALETA DELL","JUNIOR","GERAL","INTER","CREDITO PARCELADO",{"$f":"VLOOKUP(tbldados[[#This Row],[APP]],tblbandeira[],3,0)","v":0},44779,44941,35.799999999999997,{"$f":"tbldados[[#This Row],[VALOR PAGO]]+(tbldados[[#This Row],[VALOR PAGO]]*tbldados[[#This Row],[TAXA]])","v":35.799999999999997},{"$f":"tbldados[[#This Row],[TOTAL BRUTO]]-tbldados[[#This Row],[VALOR PAGO]]","v":0},{"$f":"CHOOSE(MONTH(tbldados[[#This Row],[DATA]]),\"JANEIRO\",\"FEVEREIRO\",\"MARÇO\",\"ABRIL\",\"MAIO\",\"JUNHO\",\"JULHO\",\"AGOSTO\",\"SETEMBRO\",\"OUTUBRO\",\"NOVEMBRO\",\"DEZEMBRO\")","v":"JANEIRO"},{"$f":"YEAR(tbldados[[#This Row],[DATA]])","v":2023}]
[1197,"GASTOS","01 DE 03","FARRA","JUNIOR","GERAL","INTER","CREDITO PARCELADO",{"$f":"VLOOKUP(tbldados[[#This Row],[APP]],tblbandeira[],3,0)","v":0},44783,44819,49.15,{"$f":"tbldados[[#This Row],[VALOR PAGO]]+(tbldados[[#This Row],[VALOR PAGO]]*tbldados[[#This Row],[TAXA]])","v":49.15},{"$f":"tbldados[[#This Row],[TOTAL BRUTO]]-tbldados[[#This Row],[VALOR PAGO]]","v":0},{"$f":"CHOOSE(MONTH(tbldados[[#This Row],[DATA]]),\"JANEIRO\",\"FEVEREIRO\",\"MARÇO\",\"ABRIL\",\"MAIO\",\"JUNHO\",\"JULHO\",\"AGOSTO\",\"SETEMBRO\",\"OUTUBRO\",\"NOVEMBRO\",\"DEZEMBRO\")","v":"SETEMBRO"},{"$f":"YEAR(tbldados[[#This Row],[DATA]])","v":2022}]
[1198,"GASTOS","02 DE 03","FARRA","JUNIOR","GERAL","INTER","CREDITO PARCELADO",{"$f":"VLOOKUP(tbldados[[#This Row],[APP]],tblbandeira[],3,0)","v":0},44783,44849,49.15,{"$f":"tbldados[[#This Row],[VALOR PAGO]]+(tbldados[[#This Row],[VALOR PAGO]]*tbldados[[#This Row],[TAXA]])","v":49.15},{"$f":"tbldados[[#This Row],[TOTAL BRUTO]]-tbldados[[#This Row],[VALOR PAGO]]","v":0},{"$f":"CHOOSE(MONTH(tbldados[[#This Row],[DATA]]),\"JANEIRO\",\"FEVEREIRO\",\"MARÇO\",\"ABRIL\",\"MAIO\",\"JUNHO\",\"JULHO\",\"AGOSTO\",\"SETEMBRO\",\"OUTUBRO\",\"NOVEMBRO\",\"DEZEMBRO\")","v":"OUTUBRO"},{"$f":"YEAR(tbldados[[#This Row],[DATA]])","v":2022}]
[1199,"GASTOS","03 DE 03","FARRA","JUNIOR","GERAL","INTER","CREDITO PARCELADO",{"$f":"VLOOKUP(tbldados[[#This Row],[APP]],tblbandeira[],3,0)","v":0},44783,44880,49.15,{"$f":"tbldados[[#This Row],[VALOR PAGO]]+(tbldados[[#This Row],[VALOR PAGO]]*tbldados[[#This Row],[TAXA]])","v":49.15},{"$f":"tbldados[[#This Row],[TOTAL BRUTO]]-tbldados[[#This Row],[VALOR PAGO]]","v":0},{"$f":"CHOOSE(MONTH(tbldados[[#This Row],[DATA]]),\"JANEIRO\",\"FEVEREIRO\",\"MARÇO\",\"ABRIL\",\"MAIO\",\"JUNHO\",\"JULHO\",\"AGOSTO\",\"SETEMBRO\",\"OUTUBRO\",\"NOVEMBRO\",\"DEZEMBRO\")","v":"NOVEMBRO"},{"$f":"YEAR(tbldados[[#This Row],[DATA]])","v":2022}]
[1200,"GASTOS","01 DE 01","FARRA","JUNIOR","RECARGAPAY","INTER","CREDITO A VISTA",3.9899999999999998E-2,44783,44819,79,{"$f":"tbldados[[#This Row],[VALOR PAGO]]+(tbldados[[#This Row],[VALOR PAGO]]*tbldados[[#This Row],[TAXA]])","v":82.152100000000004},{"$f":"tbldados[[#This Row],[TOTAL BRUTO]]-tbldados[[#This Row],[VALOR PAGO]]","v":3.1521000000000043},{"$f":"CHOOSE(MONTH(tbldados[[#This Row],[DATA]]),\"JANEIRO\",\"FEVEREIRO\",\"MARÇO\",\"ABRIL\",\"MAIO\",\"JUNHO\",\"JULHO\",\"AGOSTO\",\"SETEMBRO\",\"OUTUBRO\",\"NOVEMBRO\",\"DEZEMBRO\")","v":"SETEMBRO"},{"$f":"YEAR(tbldados[[#This Row],[DATA]])","v":2022}]
[1201,"GASTOS","01 DE 01","FARRA","JUNIOR","GERAL","INTER","CREDITO A VISTA",{"$f":"VLOOKUP(tbldados[[#This Row],[APP]],tblbandeira[],3,0)","v":0},44786,44819,45,{"$f":"tbldados[[#This Row],[VALOR PAGO]]+(tbldados[[#This Row],[VALOR PAGO]]*tbldados[[#This Row],[TAXA]])","v":45},{"$f":"tbldados[[#This Row],[TOTAL BRUTO]]-tbldados[[#This Row],[VALOR PAGO]]","v":0},{"$f":"CHOOSE(MONTH(tbldados[[#This Row],[DATA]]),\"JANEIRO\",\"FEVEREIRO\",\"MARÇO\",\"ABRIL\",\"MAIO\",\"JUNHO\",\"JULHO\",\"AGOSTO\",\"SETEMBRO\",\"OUTUBRO\",\"NOVEMBRO\",\"DEZEMBRO\")","v":"SETEMBRO"},{"$f":"YEAR(tbldados[[#This Row],[DATA]])","v":2022}]
[1202,"GASTOS","01 DE 01","JANTA","JUNIOR","GERAL","INTER","CREDITO A VISTA",{"$f":"VLOOKUP(tbldados[[#This Row],[APP]],tblbandeira[],3,0)","v":0},44785,44819,32,{"$f":"tbldados[[#This Row],[VALOR PAGO]]+(tbldados[[#This Row],[VALOR PAGO]]*tbldados[[#This Row],[TAXA]])","v":32},{"$f":"tbldados[[#This Row],[TOTAL BRUTO]]-tbldados[[#This Row],[VALOR PAGO]]","v":0},{"$f":"CHOOSE(MONTH(tbldados[[#This Row],[DATA]]),\"JANEIRO\",\"FEVEREIRO\",\"MARÇO\",\"ABRIL\",\"MAIO\",\"JUNHO\",\"JULHO\",\"AGOSTO\",\"SETEMBRO\",\"OUTUBRO\",\"NOVEMBRO\",\"DEZEMBRO\")","v":"SETEMBRO"},{"$f":"YEAR(tbldados[[#This Row],[DATA]])","v":2022}]
[1203,"GASTOS","01 DE 01","JANTA","JUNIOR","GERAL","INTER","CREDITO A VISTA",{"$f":"VLOOKUP(tbldados[[#This Row],[APP]],tblbandeira[],3,0)","v":0},44787,44819,34,{"$f":"tbldados[[#This Row],[VALOR PAGO]]+(tbldados[[#This Row],[VALOR PAGO]]*tbldados[[#This Row],[TAXA]])","v":34},{"$f":"tbldados[[#This Row],[TOTAL BRUTO]]-tbldados[[#This Row],[VALOR PAGO]]","v":0},{"$f":"CHOOSE(MONTH(tbldados[[#This Row],[DATA]]),\"JANEIRO\",\"FEVEREIRO\",\"MARÇO\",\"ABRIL\",\"MAIO\",\"JUNHO\",\"JULHO\",\"AGOSTO\",\"SETEMBRO\",\"OUTUBRO\",\"NOVEMBRO\",\"DEZEMBRO\")","v":"SETEMBRO"},{"$f":"YEAR(tbldados[[#This Row],[DATA]])","v":2022}]
[1204,"GASTOS","01 DE 01","FARRA","JUNIOR","GERAL","INTER","CREDITO A VISTA",{"$f":"VLOOKUP(tbldados[[#This Row],[APP]],tblbandeira[],3,0)","v":0},44790,44819,125.83,{"$f":"tbldados[[#This Row],[VALOR PAGO]]+(tbldados[[#This Row],[VALOR PAGO]]*tbldados[[#This Row],[TAXA]])","v":125.83},{"$f":"tbldados[[#This Row],[TOTAL BRUTO]]-tbldados[[#This Row],[VALOR PAGO]]","v":0},{"$f":"CHOOSE(MONTH(tbldados[[#This Row],[DATA]]),\"JANEIRO\",\"FEVEREIRO\",\"MARÇO\",\"ABRIL\",\"MAIO\",\"JUNHO\",\"JULHO\",\"AGOSTO\",\"SETEMBRO\",\"OUTUBRO\",\"NOVEMBRO\",\"DEZEMBRO\")","v":"SETEMBRO"},{"$f":"YEAR(tbldados[[#This Row],[DATA]])","v":2022}]
[1205,"GASTOS","01 DE 01","FARRA","JUNIOR","GERAL","INTER","CREDITO A VISTA",{"$f":"VLOOKUP(tbldados[[#This Row],[APP]],tblbandeira[],3,0)","v":0},44793,44819,33,{"$f":"tbldados[[#This Row],[VALOR PAGO]]+(tbldados[[#This Row],[VALOR PAGO]]*tbldados[[#This Row],[TAXA]])","v":33},{"$f":"tbldados[[#This Row],[TOTAL BRUTO]]-tbldados[[#This Row],[VALOR PAGO]]","v":0},{"$f":"CHOOSE(MONTH(tbldados[[#This Row],[DATA]]),\"JANEIRO\",\"FEVEREIRO\",\"MARÇO\",\"ABRIL\",\"MAIO\",\"JUNHO\",\"JULHO\",\"AGOSTO\",\"SETEMBRO\",\"OUTUBRO\",\"NOVEMBRO\",\"DEZEMBRO\")","v":"SETEMBRO"},{"$f":"YEAR(tbldados[[#This Row],[DATA]])","v":2022}]
[1206,"GASTOS","01 DE 01","JANTA","JUNIOR","RECARGAPAY","INTER","CREDITO A VISTA",{"$f":"VLOOKUP(tbldados[[#This Row],[APP]],tblbandeira[],3,0)","v":3.49E-2},44794,44819,43,{"$f":"tbldados[[#This Row],[VALOR PAGO]]+(tbldados[[#This Row],[VALOR PAGO]]*tbldados[[#This Row],[TAXA]])","v":44.500700000000002},{"$f":"tbldados[[#This Row],[TOTAL BRUTO]]-tbldados[[#This Row],[VALOR PAGO]]","v":1.5007000000000019},{"$f":"CHOOSE(MONTH(tbldados[[#This Row],[DATA]]),\"JANEIRO\",\"FEVEREIRO\",\"MARÇO\",\"ABRIL\",\"MAIO\",\"JUNHO\",\"JULHO\",\"AGOSTO\",\"SETEMBRO\",\"OUTUBRO\",\"NOVEMBRO\",\"DEZEMBRO\")","v":"SETEMBRO"},{"$f":"YEAR(tbldados[[#This Row],[DATA]])","v":2022}]
[1207,"PGTO","01 DE 01","INTER","SETEMBRO","CONTA","DÉBITO","DINHEIRO",{"$f":"VLOOKUP(tbldados[[#This Row],[APP]],tblbandeira[],3,0)","v":0},44819,44819,1.55,{"$f":"tbldados[[#This Row],[VALOR PAGO]]+(tbldados[[#This Row],[VALOR PAGO]]*tbldados[[#This Row],[TAXA]])","v":1.55},{"$f":"tbldados[[#This Row],[TOTAL BRUTO]]-tbldados[[#This Row],[VALOR PAGO]]","v":0},{"$f":"CHOOSE(MONTH(tbldados[[#This Row],[DATA]]),\"JANEIRO\",\"FEVEREIRO\",\"MARÇO\",\"ABRIL\",\"MAIO\",\"JUNHO\",\"JULHO\",\"AGOSTO\",\"SETEMBRO\",\"OUTUBRO\",\"NOVEMBRO\",\"DEZEMBRO\")","v":"SETEMBRO"},{"$f":"YEAR(tbldados[[#This Row],[DATA]])","v":2022}]
[1208,"PGTO","01 DE 01","INTER","SETEMBRO","RECARGAPAY","NUBANK","CREDITO A VISTA",{"$f":"VLOOKUP(tbldados[[#This Row],[APP]],tblbandeira[],3,0)","v":3.49E-2},44819,44847,2450,{"$f":"tbldados[[#This Row],[VALOR PAGO]]+(tbldados[[#This Row],[VALOR PAGO]]*tbldados[[#This Row],[TAXA]])","v":2535.5050000000001},{"$f":"tbldados[[#This Row],[TOTAL BRUTO]]-tbldados[[#This Row],[VALOR PAGO]]","v":85.505000000000109},{"$f":"CHOOSE(MONTH(tbldados[[#This Row],[DATA]]),\"JANEIRO\",\"FEVEREIRO\",\"MARÇO\",\"ABRIL\",\"MAIO\",\"JUNHO\",\"JULHO\",\"AGOSTO\",\"SETEMBRO\",\"OUTUBRO\",\"NOVEMBRO\",\"DEZEMBRO\")","v":"OUTUBRO"},{"$f":"YEAR(tbldados[[#This Row],[DATA]])","v":2022}]
[1209,"GASTOS","01 DE 01","PGTOINTER","JUNIOR","RECARGAPAY","NUBANK","CREDITO A VISTA",{"$f":"VLOOKUP(tbldados[[#This Row],[APP]],tblbandeira[],3,0)","v":3.49E-2},44819,44847,2450,{"$f":"tbldados[[#This Row],[VALOR PAGO]]+(tbldados[[#This Row],[VALOR PAGO]]*tbldados[[#This Row],[TAXA]])","v":2535.5050000000001},{"$f":"tbldados[[#This Row],[TOTAL BRUTO]]-tbldados[[#This Row],[VALOR PAGO]]","v":85.505000000000109},{"$f":"CHOOSE(MONTH(tbldados[[#This Row],[DATA]]),\"JANEIRO\",\"FEVEREIRO\",\"MARÇO\",\"ABRIL\",\"MAIO\",\"JUNHO\",\"JULHO\",\"AGOSTO\",\"SETEMBRO\",\"OUTUBRO\",\"NOVEMBRO\",\"DEZEMBRO\")","v":"OUTUBRO"},{"$f":"YEAR(tbldados[[#This Row],[DATA]])","v":2022}]
[1210,"PGTO","01 DE 01","INTER","SETEMBRO","CONTA","DÉBITO","DINHEIRO",{"$f":"VLOOKUP(tbldados[[#This Row],[APP]],tblbandeira[],3,0)","v":0},44819,44819,19.5,{"$f":"tbldados[[#This Row],[VALOR PAGO]]+(tbldados[[#This Row],[VALOR PAGO]]*tbldados[[#This Row],[TAXA]])","v":19.5},{"$f":"tbldados[[#This Row],[TOTAL BRUTO]]-tbldados[[#This Row],[VALOR PAGO]]","v":0},{"$f":"CHOOSE(MONTH(tbldados[[#This Row],[DATA]]),\"JANEIRO\",\"FEVEREIRO\",\"MARÇO\",\"ABRIL\",\"MAIO\",\"JUNHO\",\"JULHO\",\"AGOSTO\",\"SETEMBRO\",\"OUTUBRO\",\"NOVEMBRO\",\"DEZEMBRO\")","v":"SETEMBRO"},{"$f":"YEAR(tbldados[[#This Row],[DATA]])","v":2022}]
[1211,"PGTO","01 DE 01","INTER","SETEMBRO","RECARGAPAY","INTER","CREDITO A VISTA",{"$f":"VLOOKUP(tbldados[[#This Row],[APP]],tblbandeira[],3,0)","v":3.49E-2},44819,44849,2630,{"$f":"tbldados[[#This Row],[VALOR PAGO]]+(tbldados[[#This Row],[VALOR PAGO]]*tbldados[[#This Row],[TAXA]])","v":2721.7869999999998},{"$f":"tbldados[[#This Row],[TOTAL BRUTO]]-tbldados[[#This Row],[VALOR PAGO]]","v":91.786999999999807},{"$f":"CHOOSE(MONTH(tbldados[[#This Row],[DATA]]),\"JANEIRO\",\"FEVEREIRO\",\"MARÇO\",\"ABRIL\",\"MAIO\",\"JUNHO\",\"JULHO\",\"AGOSTO\",\"SETEMBRO\",\"OUTUBRO\",\"NOVEMBRO\",\"DEZEMBRO\")","v":"OUTUBRO"},{"$f":"YEAR(tbldados[[#This Row],[DATA]])","v":2022}]
[1212,"GASTOS","01 DE 01","PGTOINTER","JUNIOR","RECARGAPAY","INTER","CREDITO A VISTA",{"$f":"VLOOKUP(tbldados[[#This Row],[APP]],tblbandeira[],3,0)","v":3.49E-2},44819,44849,2630,{"$f":"tbldados[[#This Row],[VALOR PAGO]]+(tbldados[[#This Row],[VALOR PAGO]]*tbldados[[#This Row],[TAXA]])","v":2721.7869999999998},{"$f":"tbldados[[#This Row],[TOTAL BRUTO]]-tbldados[[#This Row],[VALOR PAGO]]","v":91.786999999999807},{"$f":"CHOOSE(MONTH(tbldados[[#This Row],[DATA]]),\"JANEIRO\",\"FEVEREIRO\",\"MARÇO\",\"ABRIL\",\"MAIO\",\"JUNHO\",\"JULHO\",\"AGOSTO\",\"SETEMBRO\",\"OUTUBRO\",\"NOVEMBRO\",\"DEZEMBRO\")","v":"OUTUBRO"},{"$f":"YEAR(tbldados[[#This Row],[DATA]])","v":2022}]
[1213,"PGTO","01 DE 01","INTER","SETEMBRO","RECARGAPAY","INTER","CREDITO A VISTA",{"$f":"VLOOKUP(tbldados[[#This Row],[APP]],tblbandeira[],3,0)","v":3.49E-2},44819,44849,804.82,{"$f":"tbldados[[#This Row],[VALOR PAGO]]+(tbldados[[#This Row],[VALOR PAGO]]*tbldados[[#This Row],[TAXA]])","v":832.90821800000003},{"$f":"tbldados[[#This Row],[TOTAL BRUTO]]-tbldados[[#This Row],[VALOR PAGO]]","v":28.088217999999983},{"$f":"CHOOSE(MONTH(tbldados[[#This Row],[DATA]]),\"JANEIRO\",\"FEVEREIRO\",\"MARÇO\",\"ABRIL\",\"MAIO\",\"JUNHO\",\"JULHO\",\"AGOSTO\",\"SETEMBRO\",\"OUTUBRO\",\"NOVEMBRO\",\"DEZEMBRO\")","v":"OUTUBRO"},{"$f":"YEAR(tbldados[[#This Row],[DATA]])","v":2022}]
[1214,"GASTOS","01 DE 01","PGTOINTER","JUNIOR","RECARGAPAY","INTER","CREDITO A VISTA",{"$f":"VLOOKUP(tbldados[[#This Row],[APP]],tblbandeira[],3,0)","v":3.49E-2},44819,44849,804.32,{"$f":"tbldados[[#This Row],[VALOR PAGO]]+(tbldados[[#This Row],[VALOR PAGO]]*tbldados[[#This Row],[TAXA]])","v":832.39076800000009},{"$f":"tbldados[[#This Row],[TOTAL BRUTO]]-tbldados[[#This Row],[VALOR PAGO]]","v":28.070768000000044},{"$f":"CHOOSE(MONTH(tbldados[[#This Row],[DATA]]),\"JANEIRO\",\"FEVEREIRO\",\"MARÇO\",\"ABRIL\",\"MAIO\",\"JUNHO\",\"JULHO\",\"AGOSTO\",\"SETEMBRO\",\"OUTUBRO\",\"NOVEMBRO\",\"DEZEMBRO\")","v":"OUTUBRO"},{"$f":"YEAR(tbldados[[#This Row],[DATA]])","v":2022}]
[1215,"PGTO","01 DE 01","DIGIO","SETEMBRO","RECARGAPAY","NUBANK","CREDITO A VISTA",{"$f":"VLOOKUP(tbldados[[#This Row],[APP]],tblbandeira[],3,0)","v":3.49E-2},44819,44847,880,{"$f":"tbldados[[#This Row],[VALOR PAGO]]+(tbldados[[#This Row],[VALOR PAGO]]*tbldados[[#This Row],[TAXA]])","v":910.71199999999999},{"$f":"tbldados[[#This Row],[TOTAL BRUTO]]-tbldados[[#This Row],[VALOR PAGO]]","v":30.711999999999989},{"$f":"CHOOSE(MONTH(tbldados[[#This Row],[DATA]]),\"JANEIRO\",\"FEVEREIRO\",\"MARÇO\",\"ABRIL\",\"MAIO\",\"JUNHO\",\"JULHO\",\"AGOSTO\",\"SETEMBRO\",\"OUTUBRO\",\"NOVEMBRO\",\"DEZEMBRO\")","v":"OUTUBRO"},{"$f":"YEAR(tbldados[[#This Row],[DATA]])","v":2022}]
[1216,"GASTOS","01 DE 01","PGTODIGIO","JUNIOR","RECARGAPAY","NUBANK","CREDITO A VISTA",{"$f":"VLOOKUP(tbldados[[#This Row],[APP]],tblbandeira[],3,0)","v":3.49E-2},44819,44847,880,{"$f":"tbldados[[#This Row],[VALOR PAGO]]+(tbldados[[#This Row],[VALOR PAGO]]*tbldados[[#This Row],[TAXA]])","v":910.71199999999999},{"$f":"tbldados[[#This Row],[TOTAL BRUTO]]-tbldados[[#This Row],[VALOR PAGO]]","v":30.711999999999989},{"$f":"CHOOSE(MONTH(tbldados[[#This Row],[DATA]]),\"JANEIRO\",\"FEVEREIRO\",\"MARÇO\",\"ABRIL\",\"MAIO\",\"JUNHO\",\"JULHO\",\"AGOSTO\",\"SETEMBRO\",\"OUTUBRO\",\"NOVEMBRO\",\"DEZEMBRO\")","v":"OUTUBRO"},{"$f":"YEAR(tbldados[[#This Row],[DATA]])","v":2022}]
[1217,"GASTOS","01 DE 01","JUROS-ATRASO","JUNIOR","GERAL","PANMAE","CREDITO A VISTA",{"$f":"VLOOKUP(tbldados[[#This Row],[APP]],tblbandeira[],3,0)","v":0},44780,44821,2.19,{"$f":"tbldados[[#This Row],[VALOR PAGO]]+(tbldados[[#This Row],[VALOR PAGO]]*tbldados[[#This Row],[TAXA]])","v":2.19},{"$f":"tbldados[[#This Row],[TOTAL BRUTO]]-tbldados[[#This Row],[VALOR PAGO]]","v":0},{"$f":"CHOOSE(MONTH(tbldados[[#This Row],[DATA]]),\"JANEIRO\",\"FEVEREIRO\",\"MARÇO\",\"ABRIL\",\"MAIO\",\"JUNHO\",\"JULHO\",\"AGOSTO\",\"SETEMBRO\",\"OUTUBRO\",\"NOVEMBRO\",\"DEZEMBRO\")","v":"SETEMBRO"},{"$f":"YEAR(tbldados[[#This Row],[DATA]])","v":2022}]
[1218,"GASTOS","01 DE 01","PGTO-PANMAE","JUNIOR","RECARGAPAY","PANMAE","CREDITO A VISTA",3.9899999999999998E-2,44795,44821,3559,{"$f":"tbldados[[#This Row],[VALOR PAGO]]+(tbldados[[#This Row],[VALOR PAGO]]*tbldados[[#This Row],[TAXA]])","v":3701.0041000000001},{"$f":"tbldados[[#This Row],[TOTAL BRUTO]]-tbldados[[#This Row],[VALOR PAGO]]","v":142.00410000000011},{"$f":"CHOOSE(MONTH(tbldados[[#This Row],[DATA]]),\"JANEIRO\",\"FEVEREIRO\",\"MARÇO\",\"ABRIL\",\"MAIO\",\"JUNHO\",\"JULHO\",\"AGOSTO\",\"SETEMBRO\",\"OUTUBRO\",\"NOVEMBRO\",\"DEZEMBRO\")","v":"SETEMBRO"},{"$f":"YEAR(tbldados[[#This Row],[DATA]])","v":2022}]
[1219,"PGTO","01 DE 01","PANMAE","SETEMBRO","RECARGAPAY","DIGIO","CREDITO A VISTA",{"$f":"VLOOKUP(tbldados[[#This Row],[APP]],tblbandeira[],3,0)","v":3.49E-2},44821,44849,850.32,{"$f":"tbldados[[#This Row],[VALOR PAGO]]+(tbldados[[#This Row],[VALOR PAGO]]*tbldados[[#This Row],[TAXA]])","v":879.99616800000001},{"$f":"tbldados[[#This Row],[TOTAL BRUTO]]-tbldados[[#This Row],[VALOR PAGO]]","v":29.676167999999961},{"$f":"CHOOSE(MONTH(tbldados[[#This Row],[DATA]]),\"JANEIRO\",\"FEVEREIRO\",\"MARÇO\",\"ABRIL\",\"MAIO\",\"JUNHO\",\"JULHO\",\"AGOSTO\",\"SETEMBRO\",\"OUTUBRO\",\"NOVEMBRO\",\"DEZEMBRO\")","v":"OUTUBRO"},{"$f":"YEAR(tbldados[[#This Row],[DATA]])","v":2022}]
[1220,"GASTOS","01 DE 01","PGTOPANMAE","JUNIOR","RECARGAPAY","DIGIO","CREDITO A VISTA",{"$f":"VLOOKUP(tbldados[[#This Row],[APP]],tblbandeira[],3,0)","v":3.49E-2},44821,44849,850.32,{"$f":"tbldados[[#This Row],[VALOR PAGO]]+(tbldados[[#This Row],[VALOR PAGO]]*tbldados[[#This Row],[TAXA]])","v":879.99616800000001},{"$f":"tbldados[[#This Row],[TOTAL BRUTO]]-tbldados[[#This Row],[VALOR PAGO]]","v":29.676167999999961},{"$f":"CHOOSE(MONTH(tbldados[[#This Row],[DATA]]),\"JANEIRO\",\"FEVEREIRO\",\"MARÇO\",\"ABRIL\",\"MAIO\",\"JUNHO\",\"JULHO\",\"AGOSTO\",\"SETEMBRO\",\"OUTUBRO\",\"NOVEMBRO\",\"DEZEMBRO\")","v":"OUTUBRO"},{"$f":"YEAR(tbldados[[#This Row],[DATA]])","v":2022}]
[1221,"PGTO","01 DE 01","PANMAE","SETEMBRO","RECARGAPAY","C6","CREDITO A VISTA",{"$f":"VLOOKUP(tbldados[[#This Row],[APP]],tblbandeira[],3,0)","v":3.49E-2},44821,44835,3260.18,{"$f":"tbldados[[#This Row],[VALOR PAGO]]+(tbldados[[#This Row],[VALOR PAGO]]*tbldados[[#This Row],[TAXA]])","v":3373.960282},{"$f":"tbldados[[#This Row],[TOTAL BRUTO]]-tbldados[[#This Row],[VALOR PAGO]]","v":113.78028200000017},{"$f":"CHOOSE(MONTH(tbldados[[#This Row],[DATA]]),\"JANEIRO\",\"FEVEREIRO\",\"MARÇO\",\"ABRIL\",\"MAIO\",\"JUNHO\",\"JULHO\",\"AGOSTO\",\"SETEMBRO\",\"OUTUBRO\",\"NOVEMBRO\",\"DEZEMBRO\")","v":"OUTUBRO"},{"$f":"YEAR(tbldados[[#This Row],[DATA]])","v":2022}]
[1222,"GASTOS","01 DE 01","PGTOPANMAE","JUNIOR","RECARGAPAY","C6","CREDITO A VISTA",{"$f":"VLOOKUP(tbldados[[#This Row],[APP]],tblbandeira[],3,0)","v":3.49E-2},44821,44835,3260.18,{"$f":"tbldados[[#This Row],[VALOR PAGO]]+(tbldados[[#This Row],[VALOR PAGO]]*tbldados[[#This Row],[TAXA]])","v":3373.960282},{"$f":"tbldados[[#This Row],[TOTAL BRUTO]]-tbldados[[#This Row],[VALOR PAGO]]","v":113.78028200000017},{"$f":"CHOOSE(MONTH(tbldados[[#This Row],[DATA]]),\"JANEIRO\",\"FEVEREIRO\",\"MARÇO\",\"ABRIL\",\"MAIO\",\"JUNHO\",\"JULHO\",\"AGOSTO\",\"SETEMBRO\",\"OUTUBRO\",\"NOVEMBRO\",\"DEZEMBRO\")","v":"OUTUBRO"},{"$f":"YEAR(tbldados[[#This Row],[DATA]])","v":2022}]
[1223,"PGTO","01 DE 01","CLICK","SETEMBRO","RECARGAPAY","PANMAE","CREDITO A VISTA",{"$f":"VLOOKUP(tbldados[[#This Row],[APP]],tblbandeira[],3,0)","v":3.49E-2},44821,44851,2300,{"$f":"tbldados[[#This Row],[VALOR PAGO]]+(tbldados[[#This Row],[VALOR PAGO]]*tbldados[[#This Row],[TAXA]])","v":2380.27},{"$f":"tbldados[[#This Row],[TOTAL BRUTO]]-tbldados[[#This Row],[VALOR PAGO]]","v":80.269999999999982},{"$f":"CHOOSE(MONTH(tbldados[[#This Row],[DATA]]),\"JANEIRO\",\"FEVEREIRO\",\"MARÇO\",\"ABRIL\",\"MAIO\",\"JUNHO\",\"JULHO\",\"AGOSTO\",\"SETEMBRO\",\"OUTUBRO\",\"NOVEMBRO\",\"DEZEMBRO\")","v":"OUTUBRO"},{"$f":"YEAR(tbldados[[#This Row],[DATA]])","v":2022}]
[1224,"GASTOS","01 DE 01","PGTOCLICK","JUNIOR","RECARGAPAY","PANMAE","CREDITO A VISTA",{"$f":"VLOOKUP(tbldados[[#This Row],[APP]],tblbandeira[],3,0)","v":3.49E-2},44821,44851,2300,{"$f":"tbldados[[#This Row],[VALOR PAGO]]+(tbldados[[#This Row],[VALOR PAGO]]*tbldados[[#This Row],[TAXA]])","v":2380.27},{"$f":"tbldados[[#This Row],[TOTAL BRUTO]]-tbldados[[#This Row],[VALOR PAGO]]","v":80.269999999999982},{"$f":"CHOOSE(MONTH(tbldados[[#This Row],[DATA]]),\"JANEIRO\",\"FEVEREIRO\",\"MARÇO\",\"ABRIL\",\"MAIO\",\"JUNHO\",\"JULHO\",\"AGOSTO\",\"SETEMBRO\",\"OUTUBRO\",\"NOVEMBRO\",\"DEZEMBRO\")","v":"OUTUBRO"},{"$f":"YEAR(tbldados[[#This Row],[DATA]])","v":2022}]
[1225,"GASTOS","01 DE 01","PGTO-DIVERSOS","JUNIOR","GERAL","TRIGMAE","CREDITO A VISTA",{"$f":"VLOOKUP(tbldados[[#This Row],[APP]],tblbandeira[],3,0)","v":0},44798,44824,1000,{"$f":"tbldados[[#This Row],[VALOR PAGO]]+(tbldados[[#This Row],[VALOR PAGO]]*tbldados[[#This Row],[TAXA]])","v":1000},{"$f":"tbldados[[#This Row],[TOTAL BRUTO]]-tbldados[[#This Row],[VALOR PAGO]]","v":0},{"$f":"CHOOSE(MONTH(tbldados[[#This Row],[DATA]]),\"JANEIRO\",\"FEVEREIRO\",\"MARÇO\",\"ABRIL\",\"MAIO\",\"JUNHO\",\"JULHO\",\"AGOSTO\",\"SETEMBRO\",\"OUTUBRO\",\"NOVEMBRO\",\"DEZEMBRO\")","v":"SETEMBRO"},{"$f":"YEAR(tbldados[[#This Row],[DATA]])","v":2022}]
[1226,"GASTOS","01 DE 01","PGTODIVERSOS","JUNIOR","RECARGAPAY","TRIGMAE","CREDITO A VISTA",3.9899999999999998E-2,44798,44824,192,{"$f":"tbldados[[#This Row],[VALOR PAGO]]+(tbldados[[#This Row],[VALOR PAGO]]*tbldados[[#This Row],[TAXA]])","v":199.66079999999999},{"$f":"tbldados[[#This Row],[TOTAL BRUTO]]-tbldados[[#This Row],[VALOR PAGO]]","v":7.6607999999999947},{"$f":"CHOOSE(MONTH(tbldados[[#This Row],[DATA]]),\"JANEIRO\",\"FEVEREIRO\",\"MARÇO\",\"ABRIL\",\"MAIO\",\"JUNHO\",\"JULHO\",\"AGOSTO\",\"SETEMBRO\",\"OUTUBRO\",\"NOVEMBRO\",\"DEZEMBRO\")","v":"SETEMBRO"},{"$f":"YEAR(tbldados[[#This Row],[DATA]])","v":2022}]
[1227,"GASTOS","01 DE 01","ANUIDADE","JUNIOR","GERAL","TRIGMAE","CREDITO A VISTA",{"$f":"VLOOKUP(tbldados[[#This Row],[APP]],tblbandeira[],3,0)","v":0},44811,44824,13.9,{"$f":"tbldados[[#This Row],[VALOR PAGO]]+(tbldados[[#This Row],[VALOR PAGO]]*tbldados[[#This Row],[TAXA]])","v":13.9},{"$f":"tbldados[[#This Row],[TOTAL BRUTO]]-tbldados[[#This Row],[VALOR PAGO]]","v":0},{"$f":"CHOOSE(MONTH(tbldados[[#This Row],[DATA]]),\"JANEIRO\",\"FEVEREIRO\",\"MARÇO\",\"ABRIL\",\"MAIO\",\"JUNHO\",\"JULHO\",\"AGOSTO\",\"SETEMBRO\",\"OUTUBRO\",\"NOVEMBRO\",\"DEZEMBRO\")","v":"SETEMBRO"},{"$f":"YEAR(tbldados[[#This Row],[DATA]])","v":2022}]
[1228,"PGTO","01 DE 01","TRIGMAE","SETEMBRO","GERAL","PANMAE","CREDITO A VISTA",{"$f":"VLOOKUP(tbldados[[#This Row],[APP]],tblbandeira[],3,0)","v":0},44824,44851,1000,{"$f":"tbldados[[#This Row],[VALOR PAGO]]+(tbldados[[#This Row],[VALOR PAGO]]*tbldados[[#This Row],[TAXA]])","v":1000},{"$f":"tbldados[[#This Row],[TOTAL BRUTO]]-tbldados[[#This Row],[VALOR PAGO]]","v":0},{"$f":"CHOOSE(MONTH(tbldados[[#This Row],[DATA]]),\"JANEIRO\",\"FEVEREIRO\",\"MARÇO\",\"ABRIL\",\"MAIO\",\"JUNHO\",\"JULHO\",\"AGOSTO\",\"SETEMBRO\",\"OUTUBRO\",\"NOVEMBRO\",\"DEZEMBRO\")","v":"OUTUBRO"},{"$f":"YEAR(tbldados[[#This Row],[DATA]])","v":2022}]
[1229,"GASTOS","01 DE 01","PGTOTRIGMAE","JUNIOR","GERAL","PANMAE","CREDITO A VISTA",{"$f":"VLOOKUP(tbldados[[#This Row],[APP]],tblbandeira[],3,0)","v":0},44824,44851,1000,{"$f":"tbldados[[#This Row],[VALOR PAGO]]+(tbldados[[#This Row],[VALOR PAGO]]*tbldados[[#This Row],[TAXA]])","v":1000},{"$f":"tbldados[[#This Row],[TOTAL BRUTO]]-tbldados[[#This Row],[VALOR PAGO]]","v":0},{"$f":"CHOOSE(MONTH(tbldados[[#This Row],[DATA]]),\"JANEIRO\",\"FEVEREIRO\",\"MARÇO\",\"ABRIL\",\"MAIO\",\"JUNHO\",\"JULHO\",\"AGOSTO\",\"SETEMBRO\",\"OUTUBRO\",\"NOVEMBRO\",\"DEZEMBRO\")","v":"OUTUBRO"},{"$f":"YEAR(tbldados[[#This Row],[DATA]])","v":2022}]
[1230,"PGTO","01 DE 01","TRIGMAE","SETEMBRO","REC.BOLETO","PANMAE","CREDITO A VISTA",{"$f":"VLOOKUP(tbldados[[#This Row],[APP]],tblbandeira[],3,0)","v":3.9899999999999998E-2},44824,44851,213.56,{"$f":"tbldados[[#This Row],[VALOR PAGO]]+(tbldados[[#This Row],[VALOR PAGO]]*tbldados[[#This Row],[TAXA]])","v":222.08104399999999},{"$f":"tbldados[[#This Row],[TOTAL BRUTO]]-tbldados[[#This Row],[VALOR PAGO]]","v":8.5210439999999892},{"$f":"CHOOSE(MONTH(tbldados[[#This Row],[DATA]]),\"JANEIRO\",\"FEVEREIRO\",\"MARÇO\",\"ABRIL\",\"MAIO\",\"JUNHO\",\"JULHO\",\"AGOSTO\",\"SETEMBRO\",\"OUTUBRO\",\"NOVEMBRO\",\"DEZEMBRO\")","v":"OUTUBRO"},{"$f":"YEAR(tbldados[[#This Row],[DATA]])","v":2022}]
[1231,"GASTOS","01 DE 01","PGTOTRIGMAE","JUNIOR","REC.BOLETO","PANMAE","CREDITO A VISTA",{"$f":"VLOOKUP(tbldados[[#This Row],[APP]],tblbandeira[],3,0)","v":3.9899999999999998E-2},44824,44851,213.56,{"$f":"tbldados[[#This Row],[VALOR PAGO]]+(tbldados[[#This Row],[VALOR PAGO]]*tbldados[[#This Row],[TAXA]])","v":222.08104399999999},{"$f":"tbldados[[#This Row],[TOTAL BRUTO]]-tbldados[[#This Row],[VALOR PAGO]]","v":8.5210439999999892},{"$f":"CHOOSE(MONTH(tbldados[[#This Row],[DATA]]),\"JANEIRO\",\"FEVEREIRO\",\"MARÇO\",\"ABRIL\",\"MAIO\",\"JUNHO\",\"JULHO\",\"AGOSTO\",\"SETEMBRO\",\"OUTUBRO\",\"NOVEMBRO\",\"DEZEMBRO\")","v":"OUTUBRO"},{"$f":"YEAR(tbldados[[#This Row],[DATA]])","v":2022}]
[1232,"PGTO","01 DE 01","WILL","SETEMBRO","RECARGAPAY","CLICK","CREDITO A VISTA",{"$f":"VLOOKUP(tbldados[[#This Row],[APP]],tblbandeira[],3,0)","v":3.49E-2},44824,44851,2222.44,{"$f":"tbldados[[#This Row],[VALOR PAGO]]+(tbldados[[#This Row],[VALOR PAGO]]*tbldados[[#This Row],[TAXA]])","v":2300.0031560000002},{"$f":"tbldados[[#This Row],[TOTAL BRUTO]]-tbldados[[#This Row],[VALOR PAGO]]","v":77.563156000000163},{"$f":"CHOOSE(MONTH(tbldados[[#This Row],[DATA]]),\"JANEIRO\",\"FEVEREIRO\",\"MARÇO\",\"ABRIL\",\"MAIO\",\"JUNHO\",\"JULHO\",\"AGOSTO\",\"SETEMBRO\",\"OUTUBRO\",\"NOVEMBRO\",\"DEZEMBRO\")","v":"OUTUBRO"},{"$f":"YEAR(tbldados[[#This Row],[DATA]])","v":2022}]
[1233,"GASTOS","01 DE 01","PGTOWILL","JUNIOR","RECARGAPAY","CLICK","CREDITO A VISTA",{"$f":"VLOOKUP(tbldados[[#This Row],[APP]],tblbandeira[],3,0)","v":3.49E-2},44824,44851,2222.44,{"$f":"tbldados[[#This Row],[VALOR PAGO]]+(tbldados[[#This Row],[VALOR PAGO]]*tbldados[[#This Row],[TAXA]])","v":2300.0031560000002},{"$f":"tbldados[[#This Row],[TOTAL BRUTO]]-tbldados[[#This Row],[VALOR PAGO]]","v":77.563156000000163},{"$f":"CHOOSE(MONTH(tbldados[[#This Row],[DATA]]),\"JANEIRO\",\"FEVEREIRO\",\"MARÇO\",\"ABRIL\",\"MAIO\",\"JUNHO\",\"JULHO\",\"AGOSTO\",\"SETEMBRO\",\"OUTUBRO\",\"NOVEMBRO\",\"DEZEMBRO\")","v":"OUTUBRO"},{"$f":"YEAR(tbldados[[#This Row],[DATA]])","v":2022}]
[1234,"PGTO","01 DE 01","WILL","SETEMBRO","RECARGAPAY","WILL","CREDITO A VISTA",{"$f":"VLOOKUP(tbldados[[#This Row],[APP]],tblbandeira[],3,0)","v":3.49E-2},44824,44854,1277.56,{"$f":"tbldados[[#This Row],[VALOR PAGO]]+(tbldados[[#This Row],[VALOR PAGO]]*tbldados[[#This Row],[TAXA]])","v":1322.1468439999999},{"$f":"tbldados[[#This Row],[TOTAL BRUTO]]-tbldados[[#This Row],[VALOR PAGO]]","v":44.586843999999928},{"$f":"CHOOSE(MONTH(tbldados[[#This Row],[DATA]]),\"JANEIRO\",\"FEVEREIRO\",\"MARÇO\",\"ABRIL\",\"MAIO\",\"JUNHO\",\"JULHO\",\"AGOSTO\",\"SETEMBRO\",\"OUTUBRO\",\"NOVEMBRO\",\"DEZEMBRO\")","v":"OUTUBRO"},{"$f":"YEAR(tbldados[[#This Row],[DATA]])","v":2022}]
[1235,"GASTOS","01 DE 01","PGTOWILL","JUNIOR","RECARGAPAY","WILL","CREDITO A VISTA",{"$f":"VLOOKUP(tbldados[[#This Row],[APP]],tblbandeira[],3,0)","v":3.49E-2},44824,44854,1277.56,{"$f":"tbldados[[#This Row],[VALOR PAGO]]+(tbldados[[#This Row],[VALOR PAGO]]*tbldados[[#This Row],[TAXA]])","v":1322.1468439999999},{"$f":"tbldados[[#This Row],[TOTAL BRUTO]]-tbldados[[#This Row],[VALOR PAGO]]","v":44.586843999999928},{"$f":"CHOOSE(MONTH(tbldados[[#This Row],[DATA]]),\"JANEIRO\",\"FEVEREIRO\",\"MARÇO\",\"ABRIL\",\"MAIO\",\"JUNHO\",\"JULHO\",\"AGOSTO\",\"SETEMBRO\",\"OUTUBRO\",\"NOVEMBRO\",\"DEZEMBRO\")","v":"OUTUBRO"},{"$f":"YEAR(tbldados[[#This Row],[DATA]])","v":2022}]
[1236,"GASTOS","01 DE 01","TESTE","JUNIOR","GERAL","NEON","CREDITO A VISTA",{"$f":"VLOOKUP(tbldados[[#This Row],[APP]],tblbandeira[],3,0)","v":0},44794,44819,1,{"$f":"tbldados[[#This Row],[VALOR PAGO]]+(tbldados[[#This Row],[VALOR PAGO]]*tbldados[[#This Row],[TAXA]])","v":1},{"$f":"tbldados[[#This Row],[TOTAL BRUTO]]-tbldados[[#This Row],[VALOR PAGO]]","v":0},{"$f":"CHOOSE(MONTH(tbldados[[#This Row],[DATA]]),\"JANEIRO\",\"FEVEREIRO\",\"MARÇO\",\"ABRIL\",\"MAIO\",\"JUNHO\",\"JULHO\",\"AGOSTO\",\"SETEMBRO\",\"OUTUBRO\",\"NOVEMBRO\",\"DEZEMBRO\")","v":"SETEMBRO"},{"$f":"YEAR(tbldados[[#This Row],[DATA]])","v":2022}]
[1237,"PGTO","01 DE 01","NEON","SETEMBRO","RECARGAPAY","TRIGMAE","CREDITO A VISTA",{"$f":"VLOOKUP(tbldados[[#This Row],[APP]],tblbandeira[],3,0)","v":3.49E-2},44825,44854,1110,{"$f":"tbldados[[#This Row],[VALOR PAGO]]+(tbldados[[#This Row],[VALOR PAGO]]*tbldados[[#This Row],[TAXA]])","v":1148.739},{"$f":"tbldados[[#This Row],[TOTAL BRUTO]]-tbldados[[#This Row],[VALOR PAGO]]","v":38.739000000000033},{"$f":"CHOOSE(MONTH(tbldados[[#This Row],[DATA]]),\"JANEIRO\",\"FEVEREIRO\",\"MARÇO\",\"ABRIL\",\"MAIO\",\"JUNHO\",\"JULHO\",\"AGOSTO\",\"SETEMBRO\",\"OUTUBRO\",\"NOVEMBRO\",\"DEZEMBRO\")","v":"OUTUBRO"},{"$f":"YEAR(tbldados[[#This Row],[DATA]])","v":2022}]
[1238,"GASTOS","01 DE 01","PGTONEON","JUNIOR","RECARGAPAY","TRIGMAE","CREDITO A VISTA",{"$f":"VLOOKUP(tbldados[[#This Row],[APP]],tblbandeira[],3,0)","v":3.49E-2},44825,44854,1110,{"$f":"tbldados[[#This Row],[VALOR PAGO]]+(tbldados[[#This Row],[VALOR PAGO]]*tbldados[[#This Row],[TAXA]])","v":1148.739},{"$f":"tbldados[[#This Row],[TOTAL BRUTO]]-tbldados[[#This Row],[VALOR PAGO]]","v":38.739000000000033},{"$f":"CHOOSE(MONTH(tbldados[[#This Row],[DATA]]),\"JANEIRO\",\"FEVEREIRO\",\"MARÇO\",\"ABRIL\",\"MAIO\",\"JUNHO\",\"JULHO\",\"AGOSTO\",\"SETEMBRO\",\"OUTUBRO\",\"NOVEMBRO\",\"DEZEMBRO\")","v":"OUTUBRO"},{"$f":"YEAR(tbldados[[#This Row],[DATA]])","v":2022}]

{"sheet":"AUXILIAR","index":3,"n_rows":27,"n_cols":27,"rows_kept":27,"cut":false,"hidden":false,"merged":[]}
[]
[null,null,null,null,null,null,null,null,null,null,null,null,null,null,null,null,null,null,null,null,null,null,null,null,null,"ID","NÃO"]
[null,"CARTÕES","VENCIMENTO","LIMITE","GASTOS",null,null,null,null,null,null,null,null,null,null,null,null,null,null,null,null,null,null,null,null,"TIPO","SIM"]
[null,"AZUL",6,2150,2150,null,null,null,null,null,null,null,null,null,null,2000,null,null,null,null,null,null,null,null,null,"PARCELA","SIM"]
[null,"BMG",25,350,350,null,null,null,null,null,null,null,null,null,null,{"$f":"P4-SUM(P6:P12)","v":681.31},null,null,null,null,null,null,null,null,null,"DESCRIÇÃO","SIM"]
[null,"CLICK",17,2300,2300,null,null,null,null,null,null,{"$f":"560/6","v":93.333333333333329},null,null,null,149.30000000000001,null,null,null,null,null,null,null,null,null,"REFERENTE","SIM"]
[null,"CLICKV",15,750,null,null,null,null,null,null,null,null,null,null,null,314.51,null,null,null,null,null,null,null,null,null,"APP","SIM"]
[null,"C6",1,13500,2000,null,null,null,null,null,null,null,null,null,null,680.23,null,null,null,null,null,null,null,null,null,"CARTÃO","SIM"]
[null,"C6MAE",5,210,null,null,null,null,null,null,null,null,null,null,null,115.65,null,null,null,null,null,null,null,null,null,"FORMA","SIM"]
[null,"DIGIO",15,880,null,null,null,null,null,null,null,null,null,null,null,59,null,null,null,null,null,null,null,null,null,"TAXA","NÃO"]
[null,"FREE",30,1490,1490,null,null,null,null,null,null,null,null,null,null,null,null,null,null,null,null,null,null,null,null,"DATA DA\nVENDA","NÃO"]
[null,"GOLD",23,2500,2500,null,null,null,null,null,null,null,null,null,null,null,null,null,null,null,null,null,null,null,null,"DATA","SIM"]
[null,"INTER",15,6500,4500,null,null,null,null,null,null,null,null,null,null,null,null,null,null,null,null,null,null,null,null,"VALOR PAGO","NÃO"]
[null,"MELIUZ",1,1330,950,null,null,null,null,null,null,null,null,null,null,null,null,null,null,null,null,null,null,null,null,"TOTAL BRUTO","SIM"]
[null,"NEON",15,850,null,null,null,null,null,null,null,null,null,null,null,null,null,null,null,null,null,null,null,null,null,"JUROS","SIM"]
[null,"NCARD",9,1600,1600]
[null,"NUBANK",13,4350,4000]
[null,"LATAM",25,3800,3800]
[null,"WILL",20,4300,2500]
[null,"PAN",13,560,560]
[null,"PANMAE",17,4110]
[null,"ZERO",3,1600,1600]
[null,"ORIGINAL",10,528,528]
[null,"TRIGMAE",20,700]
[null,"MNEXT",4,1200]
[null,"PAGMAE",10,5400]
[null,null,"TOTAL",{"$f":"SUM(D4:D26)","v":60958},{"$f":"SUM(E4:E26)","v":30828}]

{"sheet":"relatório","index":4,"n_rows":11,"n_cols":15,"rows_kept":11,"cut":false,"hidden":false,"merged":[[3,1,3,3],[4,1,4,3],[5,1,5,3],[6,1,6,3]]}
["RELATÓRIO DE RECEBIMENTOS"]
[null,"RELATÓRIO DE JUNIOR",null,null,null,null,null,null,"RELATÓRIO EMETIDO EM:",44825]
[null,null,null,null,null,null,null,null,"HORA:","22:16:09"]
[null,"PARÂMETROS DO RELATÓRIO:"]
[null,"BANDEIRAS:",null,null,"AZUL",null,null,null,"TOTAL BRUTO:"]
[null,"FORMAS DE PAGEMENTOS:",null,null,"CREDITO A VISTA",null,null,null,"TAXAS:"]
[null,"PERÍODO DO RELATÓRIO:",null,null,"01/08/2022 à 30/08/2022",null,null,null,"TOTAL LÍQUIDO:"]
[]
[null,"PARCELA","CARTÃO","FORMA","DESCRIÇÃO","JUROS","DATA DA\nVENDA","VALOR PAGO","TOTAL BRUTO"]
[null,906,"GASTOS","01 DE 01","PGTOAZUL","JUNIOR","RECARGAPAY","AZUL","CREDITO A VISTA",3.49E-2,44746,44779,603.82000000000005,624.89331800000002,21.073317999999972]
[null,910,"GASTOS","01 DE 01","PGTONCARD","JUNIOR","RECARGAPAY","AZUL","CREDITO A VISTA",3.49E-2,44747,44779,1464.06,1515.155694,51.095694000000094]

{"sheet":"ANALISE","index":5,"n_rows":50,"n_cols":25,"rows_kept":50,"cut":false,"hidden":false,"merged":[]}
[]
[null,null,"ANALISE DE PAGAMENTO MENSAL -",null,null,{"$f":"INDEX({\"JANEIRO\";\"FEVEREIRO\";\"MARÇO\";\"ABRIL\";\"MAIO\";\"JUNHO\";\"JULHO\";\"AGOSTO\";\"SETEMBRO\";\"OUTUBRO\";\"NOVEMBRO\";\"DEZEMBRO\"},E5)","v":"SETEMBRO"},null,null,null,null,null,null,null,"HAVER",{"$f":"SUM(F11:F20)-D6","v":1.1600000000271393E-3}]
[null,null,null,null,null,null,null,null,null,null,null,null,"SIMULADOR",null,null,null,null,"SUBTOTAL",{"$f":"R10+S6","v":879.99616800000001}]
[null,null,"CARTÃO","NEON","TIPO","PGTO","JUNIOR",null,null,null,null,null,"LIMTE",{"$f":"VLOOKUP(D4,TBLVENLIM[],3,0)","v":850},"TAXA",3.49E-2,null,null,850.32,null,null,null,null,"SIMULADOR"]
[null,null,"VENCIMENTO",{"$f":"DATE(ANNO,E5,VLOOKUP(D4,TBLVENLIM[],2,0))","v":44819},9,{"$f":"E5+1","v":10},null,null,null,null,null,null,"DISPONIVEL",{"$f":"N4-R10","v":850},"JUROS",{"$f":"SUMIFS(tbldados[JUROS],tbldados[DESCRIÇÃO],ANALISE!D4,tbldados[REFERENTE],ANALISE!F2)","v":38.739000000000033},null,"TAXA",{"$f":"S4*P4","v":29.676168000000001},null,null,null,null,"VALOR"]
[null,null,"VALOR",{"$f":"SUM(ANALISE!$O$11:$O$40)","v":1109.99884},null,null,null,null,null,null,null,null,"UTILIZAR",{"$f":"N5-R10","v":850},null,null,null,"FINAL",{"$f":"S4+S5","v":879.99616800000001},null,null,null,null,"TAXA"]
[null,null,"RESTANTE",{"$f":"D6-SUM(F11:F40)","v":-1.1600000000271393E-3},null,null,null,null,null,null,null,null,null,null,null,null,null,"ANTERIOR",{"$f":"SUM(ANALISE!$O$11:$O$20)","v":1109.99884},null,null,null,null,"TOTAL",{"$f":"Y5*Y6","v":0}]
[null,null,"DINHEIRO",{"$f":"SUMIF(C11:C121,\"DINHEIRO\",F11:F121)","v":0},null,{"$f":"DATE(ANNO,F5,VLOOKUP(D4,TBLVENLIM[],2,0))","v":44849},null,null,null,null,null,null,"TIPO","GASTOS","JUNIOR",{"$f":"D4","v":"NEON"},null,"TOTAL",{"$f":"SUM(S6:S7)","v":1989.9950079999999}]
[null,null,"JUROS",{"$f":"SUM(G11:G40)-SUM(F11:F40)","v":38.739000000000033},null,null,null,null,null,null,null,null,null,null,null,null,null,"PR. FATURA",{"$f":"S6+R10","v":879.99616800000001}]
[null,"ID","TIPO","FORMA","DESCRIÇÃO","VALOR PAGO","TOTAL BRUTO","CARTÃO",null,null,null,"ID","DATA DA\nVENDA","DESCRIÇÃO","TOTAL BRUTO","PARCELA",null,{"$f":"SUM(R11:R30)","v":0},1500]
[null,{"$f":"IFERROR(INDEX(tbldados[ID],SMALL(IF(FREQUENCY(IF((tbldados[REFERENTE]=$F$2)*(tbldados[DESCRIÇÃO]=$D$4)*(tbldados[TIPO]=$F$4),MATCH(tbldados[ID],tbldados[ID],0)),ROW(tbldados[ID])-ROW('BASE DE DADOS'!$J$2)+1),ROW(tbldados[])-ROW('BASE DE DADOS'!$J$2)+1),ROWS($1:1))),\"\")","v":1237},{"$f":"IFERROR(INDEX(tbldados[],MATCH(ANALISE!$B11,tbldados[[ID]:[ID]],0),MATCH(ANALISE!C$10,'BASE DE DADOS'!$A$1:$N$1,0)),\"\")","v":"PGTO"},{"$f":"IFERROR(INDEX(tbldados[],MATCH(ANALISE!$B11,tbldados[[ID]:[ID]],0),MATCH(ANALISE!D$10,'BASE DE DADOS'!$A$1:$N$1,0)),\"\")","v":"CREDITO A VISTA"},{"$f":"IFERROR(INDEX(tbldados[],MATCH(ANALISE!$B11,tbldados[[ID]:[ID]],0),MATCH(ANALISE!E$10,'BASE DE DADOS'!$A$1:$N$1,0)),\"\")","v":"NEON"},{"$f":"IFERROR(INDEX(tbldados[],MATCH(ANALISE!$B11,tbldados[[ID]:[ID]],0),MATCH(ANALISE!F$10,'BASE DE DADOS'!$A$1:$N$1,0)),\"\")","v":1110},{"$f":"IFERROR(INDEX(tbldados[],MATCH(ANALISE!$B11,tbldados[[ID]:[ID]],0),MATCH(ANALISE!G$10,'BASE DE DADOS'!$A$1:$N$1,0)),\"\")","v":1148.739},{"$f":"IFERROR(INDEX(tbldados[],MATCH(ANALISE!$B11,tbldados[[ID]:[ID]],0),MATCH(ANALISE!H$10,'BASE DE DADOS'!$A$1:$N$1,0)),\"\")","v":"TRIGMAE"},null,null,{"$f":"IFERROR(INDEX(tbldados[ID],SMALL(IF(FREQUENCY(IF((tbldados[REFERENTE]=$O$8)*(tbldados[DATA]=$F$8)*(tbldados[TIPO]=$N$8)*(tbldados[CARTÃO]=$P$8),MATCH(tbldados[ID],tbldados[ID],0)),ROW(tbldados[ID])-ROW('BASE DE DADOS'!$J$2)+1),ROW(tbldados[])-ROW('BASE DE DADOS'!$J$2)+1),ROWS($1:1))),\"\")","v":""},{"$f":"IFERROR(INDEX(tbldados[ID],SMALL(IF(FREQUENCY(IF((tbldados[REFERENTE]=$O$8)*(tbldados[DATA]=$D$5)*(tbldados[TIPO]=$N$8)*(tbldados[CARTÃO]=$P$8),MATCH(tbldados[ID],tbldados[ID],0)),ROW(tbldados[ID])-ROW('BASE DE DADOS'!$J$2)+1),ROW(tbldados[])-ROW('BASE DE DADOS'!$J$2)+1),ROWS($1:1))),\"\")","v":1114},{"$f":"IFERROR(INDEX(tbldados[],MATCH(ANALISE!$L11,tbldados[[ID]:[ID]],0),MATCH(ANALISE!M$10,'BASE DE DADOS'!$A$1:$N$1,0)),\"\")","v":44800},{"$f":"IFERROR(INDEX(tbldados[],MATCH(ANALISE!$L11,tbldados[[ID]:[ID]],0),MATCH(ANALISE!N$10,'BASE DE DADOS'!$A$1:$N$1,0)),\"\")","v":"PGTOPANMELIUZ"},{"$f":"IFERROR(INDEX(tbldados[],MATCH(ANALISE!$L11,tbldados[[ID]:[ID]],0),MATCH(ANALISE!O$10,'BASE DE DADOS'!$A$1:$N$1,0)),\"\")","v":1108.99884},{"$f":"IFERROR(INDEX(tbldados[],MATCH(ANALISE!$L11,tbldados[[ID]:[ID]],0),MATCH(ANALISE!P$10,'BASE DE DADOS'!$A$1:$N$1,0)),\"\")","v":"01 DE 01"},null,{"$f":"IFERROR(INDEX(tbldados[],MATCH(ANALISE!$K11,tbldados[[ID]:[ID]],0),MATCH(ANALISE!O$10,'BASE DE DADOS'!$A$1:$N$1,0)),\"\")","v":""},210]
[null,{"$f":"IFERROR(INDEX(tbldados[ID],SMALL(IF(FREQUENCY(IF((tbldados[REFERENTE]=$F$2)*(tbldados[DESCRIÇÃO]=$D$4)*(tbldados[TIPO]=$F$4),MATCH(tbldados[ID],tbldados[ID],0)),ROW(tbldados[ID])-ROW('BASE DE DADOS'!$J$2)+1),ROW(tbldados[])-ROW('BASE DE DADOS'!$J$2)+1),ROWS($1:2))),\"\")","v":""},{"$f":"IFERROR(INDEX(tbldados[],MATCH(ANALISE!$B12,tbldados[[ID]:[ID]],0),MATCH(ANALISE!C$10,'BASE DE DADOS'!$A$1:$N$1,0)),\"\")","v":""},{"$f":"IFERROR(INDEX(tbldados[],MATCH(ANALISE!$B12,tbldados[[ID]:[ID]],0),MATCH(ANALISE!D$10,'BASE DE DADOS'!$A$1:$N$1,0)),\"\")","v":""},{"$f":"IFERROR(INDEX(tbldados[],MATCH(ANALISE!$B12,tbldados[[ID]:[ID]],0),MATCH(ANALISE!E$10,'BASE DE DADOS'!$A$1:$N$1,0)),\"\")","v":""},{"$f":"IFERROR(INDEX(tbldados[],MATCH(ANALISE!$B12,tbldados[[ID]:[ID]],0),MATCH(ANALISE!F$10,'BASE DE DADOS'!$A$1:$N$1,0)),\"\")","v":""},{"$f":"IFERROR(INDEX(tbldados[],MATCH(ANALISE!$B12,tbldados[[ID]:[ID]],0),MATCH(ANALISE!G$10,'BASE DE DADOS'!$A$1:$N$1,0)),\"\")","v":""},{"$f":"IFERROR(INDEX(tbldados[],MATCH(ANALISE!$B12,tbldados[[ID]:[ID]],0),MATCH(ANALISE!H$10,'BASE DE DADOS'!$A$1:$N$1,0)),\"\")","v":""},null,null,{"$f":"IFERROR(INDEX(tbldados[ID],SMALL(IF(FREQUENCY(IF((tbldados[REFERENTE]=$O$8)*(tbldados[DATA]=$F$8)*(tbldados[TIPO]=$N$8)*(tbldados[CARTÃO]=$P$8),MATCH(tbldados[ID],tbldados[ID],0)),ROW(tbldados[ID])-ROW('BASE DE DADOS'!$J$2)+1),ROW(tbldados[])-ROW('BASE DE DADOS'!$J$2)+1),ROWS($1:2))),\"\")","v":""},{"$f":"IFERROR(INDEX(tbldados[ID],SMALL(IF(FREQUENCY(IF((tbldados[REFERENTE]=$O$8)*(tbldados[DATA]=$D$5)*(tbldados[TIPO]=$N$8)*(tbldados[CARTÃO]=$P$8),MATCH(tbldados[ID],tbldados[ID],0)),ROW(tbldados[ID])-ROW('BASE DE DADOS'!$J$2)+1),ROW(tbldados[])-ROW('BASE DE DADOS'!$J$2)+1),ROWS($1:2))),\"\")","v":1236},{"$f":"IFERROR(INDEX(tbldados[],MATCH(ANALISE!$L12,tbldados[[ID]:[ID]],0),MATCH(ANALISE!M$10,'BASE DE DADOS'!$A$1:$N$1,0)),\"\")","v":44794},{"$f":"IFERROR(INDEX(tbldados[],MATCH(ANALISE!$L12,tbldados[[ID]:[ID]],0),MATCH(ANALISE!N$10,'BASE DE DADOS'!$A$1:$N$1,0)),\"\")","v":"TESTE"},{"$f":"IFERROR(INDEX(tbldados[],MATCH(ANALISE!$L12,tbldados[[ID]:[ID]],0),MATCH(ANALISE!O$10,'BASE DE DADOS'!$A$1:$N$1,0)),\"\")","v":1},{"$f":"IFERROR(INDEX(tbldados[],MATCH(ANALISE!$L12,tbldados[[ID]:[ID]],0),MATCH(ANALISE!P$10,'BASE DE DADOS'!$A$1:$N$1,0)),\"\")","v":"01 DE 01"},null,{"$f":"IFERROR(INDEX(tbldados[],MATCH(ANALISE!$K12,tbldados[[ID]:[ID]],0),MATCH(ANALISE!O$10,'BASE DE DADOS'!$A$1:$N$1,0)),\"\")","v":""}]
[null,{"$f":"IFERROR(INDEX(tbldados[ID],SMALL(IF(FREQUENCY(IF((tbldados[REFERENTE]=$F$2)*(tbldados[DESCRIÇÃO]=$D$4)*(tbldados[TIPO]=$F$4),MATCH(tbldados[ID],tbldados[ID],0)),ROW(tbldados[ID])-ROW('BASE DE DADOS'!$J$2)+1),ROW(tbldados[])-ROW('BASE DE DADOS'!$J$2)+1),ROWS($1:3))),\"\")","v":""},{"$f":"IFERROR(INDEX(tbldados[],MATCH(ANALISE!$B13,tbldados[[ID]:[ID]],0),MATCH(ANALISE!C$10,'BASE DE DADOS'!$A$1:$N$1,0)),\"\")","v":""},{"$f":"IFERROR(INDEX(tbldados[],MATCH(ANALISE!$B13,tbldados[[ID]:[ID]],0),MATCH(ANALISE!D$10,'BASE DE DADOS'!$A$1:$N$1,0)),\"\")","v":""},{"$f":"IFERROR(INDEX(tbldados[],MATCH(ANALISE!$B13,tbldados[[ID]:[ID]],0),MATCH(ANALISE!E$10,'BASE DE DADOS'!$A$1:$N$1,0)),\"\")","v":""},{"$f":"IFERROR(INDEX(tbldados[],MATCH(ANALISE!$B13,tbldados[[ID]:[ID]],0),MATCH(ANALISE!F$10,'BASE DE DADOS'!$A$1:$N$1,0)),\"\")","v":""},{"$f":"IFERROR(INDEX(tbldados[],MATCH(ANALISE!$B13,tbldados[[ID]:[ID]],0),MATCH(ANALISE!G$10,'BASE DE DADOS'!$A$1:$N$1,0)),\"\")","v":""},{"$f":"IFERROR(INDEX(tbldados[],MATCH(ANALISE!$B13,tbldados[[ID]:[ID]],0),MATCH(ANALISE!H$10,'BASE DE DADOS'!$A$1:$N$1,0)),\"\")","v":""},{"$f":"IFERROR(INDEX(tbldados[TIPO],SMALL(IF(FREQUENCY(IF((tbldados[CARTÃO]=$D$4)*(tbldados[DATA]=$D$5),MATCH(tbldados[TIPO],tbldados[TIPO],0)),ROW(tbldados[TIPO])-ROW('BASE DE DADOS'!#REF!)+1),ROW(tbldados[])-ROW('BASE DE DADOS'!#REF!)+1),ROWS($1:2))),\"\")","v":""},null,{"$f":"IFERROR(INDEX(tbldados[ID],SMALL(IF(FREQUENCY(IF((tbldados[REFERENTE]=$O$8)*(tbldados[DATA]=$F$8)*(tbldados[TIPO]=$N$8)*(tbldados[CARTÃO]=$P$8),MATCH(tbldados[ID],tbldados[ID],0)),ROW(tbldados[ID])-ROW('BASE DE DADOS'!$J$2)+1),ROW(tbldados[])-ROW('BASE DE DADOS'!$J$2)+1),ROWS($1:3))),\"\")","v":""},{"$f":"IFERROR(INDEX(tbldados[ID],SMALL(IF(FREQUENCY(IF((tbldados[REFERENTE]=$O$8)*(tbldados[DATA]=$D$5)*(tbldados[TIPO]=$N$8)*(tbldados[CARTÃO]=$P$8),MATCH(tbldados[ID],tbldados[ID],0)),ROW(tbldados[ID])-ROW('BASE DE DADOS'!$J$2)+1),ROW(tbldados[])-ROW('BASE DE DADOS'!$J$2)+1),ROWS($1:3))),\"\")","v":""},{"$f":"IFERROR(INDEX(tbldados[],MATCH(ANALISE!$L13,tbldados[[ID]:[ID]],0),MATCH(ANALISE!M$10,'BASE DE DADOS'!$A$1:$N$1,0)),\"\")","v":""},{"$f":"IFERROR(INDEX(tbldados[],MATCH(ANALISE!$L13,tbldados[[ID]:[ID]],0),MATCH(ANALISE!N$10,'BASE DE DADOS'!$A$1:$N$1,0)),\"\")","v":""},{"$f":"IFERROR(INDEX(tbldados[],MATCH(ANALISE!$L13,tbldados[[ID]:[ID]],0),MATCH(ANALISE!O$10,'BASE DE DADOS'!$A$1:$N$1,0)),\"\")","v":""},{"$f":"IFERROR(INDEX(tbldados[],MATCH(ANALISE!$L13,tbldados[[ID]:[ID]],0),MATCH(ANALISE!P$10,'BASE DE DADOS'!$A$1:$N$1,0)),\"\")","v":""},null,{"$f":"IFERROR(INDEX(tbldados[],MATCH(ANALISE!$K13,tbldados[[ID]:[ID]],0),MATCH(ANALISE!O$10,'BASE DE DADOS'!$A$1:$N$1,0)),\"\")","v":""}]
[null,{"$f":"IFERROR(INDEX(tbldados[ID],SMALL(IF(FREQUENCY(IF((tbldados[REFERENTE]=$F$2)*(tbldados[DESCRIÇÃO]=$D$4)*(tbldados[TIPO]=$F$4),MATCH(tbldados[ID],tbldados[ID],0)),ROW(tbldados[ID])-ROW('BASE DE DADOS'!$J$2)+1),ROW(tbldados[])-ROW('BASE DE DADOS'!$J$2)+1),ROWS($1:4))),\"\")","v":""},{"$f":"IFERROR(INDEX(tbldados[],MATCH(ANALISE!$B14,tbldados[[ID]:[ID]],0),MATCH(ANALISE!C$10,'BASE DE DADOS'!$A$1:$N$1,0)),\"\")","v":""},{"$f":"IFERROR(INDEX(tbldados[],MATCH(ANALISE!$B14,tbldados[[ID]:[ID]],0),MATCH(ANALISE!D$10,'BASE DE DADOS'!$A$1:$N$1,0)),\"\")","v":""},{"$f":"IFERROR(INDEX(tbldados[],MATCH(ANALISE!$B14,tbldados[[ID]:[ID]],0),MATCH(ANALISE!E$10,'BASE DE DADOS'!$A$1:$N$1,0)),\"\")","v":""},{"$f":"IFERROR(INDEX(tbldados[],MATCH(ANALISE!$B14,tbldados[[ID]:[ID]],0),MATCH(ANALISE!F$10,'BASE DE DADOS'!$A$1:$N$1,0)),\"\")","v":""},{"$f":"IFERROR(INDEX(tbldados[],MATCH(ANALISE!$B14,tbldados[[ID]:[ID]],0),MATCH(ANALISE!G$10,'BASE DE DADOS'!$A$1:$N$1,0)),\"\")","v":""},{"$f":"IFERROR(INDEX(tbldados[],MATCH(ANALISE!$B14,tbldados[[ID]:[ID]],0),MATCH(ANALISE!H$10,'BASE DE DADOS'!$A$1:$N$1,0)),\"\")","v":""},{"$f":"IFERROR(INDEX(tbldados[TIPO],SMALL(IF(FREQUENCY(IF((tbldados[CARTÃO]=$D$4)*(tbldados[DATA]=$D$5),MATCH(tbldados[TIPO],tbldados[TIPO],0)),ROW(tbldados[TIPO])-ROW('BASE DE DADOS'!#REF!)+1),ROW(tbldados[])-ROW('BASE DE DADOS'!#REF!)+1),ROWS($1:3))),\"\")","v":""},null,{"$f":"IFERROR(INDEX(tbldados[ID],SMALL(IF(FREQUENCY(IF((tbldados[REFERENTE]=$O$8)*(tbldados[DATA]=$F$8)*(tbldados[TIPO]=$N$8)*(tbldados[CARTÃO]=$P$8),MATCH(tbldados[ID],tbldados[ID],0)),ROW(tbldados[ID])-ROW('BASE DE DADOS'!$J$2)+1),ROW(tbldados[])-ROW('BASE DE DADOS'!$J$2)+1),ROWS($1:4))),\"\")","v":""},{"$f":"IFERROR(INDEX(tbldados[ID],SMALL(IF(FREQUENCY(IF((tbldados[REFERENTE]=$O$8)*(tbldados[DATA]=$D$5)*(tbldados[TIPO]=$N$8)*(tbldados[CARTÃO]=$P$8),MATCH(tbldados[ID],tbldados[ID],0)),ROW(tbldados[ID])-ROW('BASE DE DADOS'!$J$2)+1),ROW(tbldados[])-ROW('BASE DE DADOS'!$J$2)+1),ROWS($1:4))),\"\")","v":""},{"$f":"IFERROR(INDEX(tbldados[],MATCH(ANALISE!$L14,tbldados[[ID]:[ID]],0),MATCH(ANALISE!M$10,'BASE DE DADOS'!$A$1:$N$1,0)),\"\")","v":""},{"$f":"IFERROR(INDEX(tbldados[],MATCH(ANALISE!$L14,tbldados[[ID]:[ID]],0),MATCH(ANALISE!N$10,'BASE DE DADOS'!$A$1:$N$1,0)),\"\")","v":""},{"$f":"IFERROR(INDEX(tbldados[],MATCH(ANALISE!$L14,tbldados[[ID]:[ID]],0),MATCH(ANALISE!O$10,'BASE DE DADOS'!$A$1:$N$1,0)),\"\")","v":""},{"$f":"IFERROR(INDEX(tbldados[],MATCH(ANALISE!$L14,tbldados[[ID]:[ID]],0),MATCH(ANALISE!P$10,'BASE DE DADOS'!$A$1:$N$1,0)),\"\")","v":""},null,{"$f":"IFERROR(INDEX(tbldados[],MATCH(ANALISE!$K14,tbldados[[ID]:[ID]],0),MATCH(ANALISE!O$10,'BASE DE DADOS'!$A$1:$N$1,0)),\"\")","v":""}]
[null,{"$f":"IFERROR(INDEX(tbldados[ID],SMALL(IF(FREQUENCY(IF((tbldados[REFERENTE]=$F$2)*(tbldados[DESCRIÇÃO]=$D$4)*(tbldados[TIPO]=$F$4),MATCH(tbldados[ID],tbldados[ID],0)),ROW(tbldados[ID])-ROW('BASE DE DADOS'!$J$2)+1),ROW(tbldados[])-ROW('BASE DE DADOS'!$J$2)+1),ROWS($1:5))),\"\")","v":""},{"$f":"IFERROR(INDEX(tbldados[],MATCH(ANALISE!$B15,tbldados[[ID]:[ID]],0),MATCH(ANALISE!C$10,'BASE DE DADOS'!$A$1:$N$1,0)),\"\")","v":""},{"$f":"IFERROR(INDEX(tbldados[],MATCH(ANALISE!$B15,tbldados[[ID]:[ID]],0),MATCH(ANALISE!D$10,'BASE DE DADOS'!$A$1:$N$1,0)),\"\")","v":""},{"$f":"IFERROR(INDEX(tbldados[],MATCH(ANALISE!$B15,tbldados[[ID]:[ID]],0),MATCH(ANALISE!E$10,'BASE DE DADOS'!$A$1:$N$1,0)),\"\")","v":""},{"$f":"IFERROR(INDEX(tbldados[],MATCH(ANALISE!$B15,tbldados[[ID]:[ID]],0),MATCH(ANALISE!F$10,'BASE DE DADOS'!$A$1:$N$1,0)),\"\")","v":""},{"$f":"IFERROR(INDEX(tbldados[],MATCH(ANALISE!$B15,tbldados[[ID]:[ID]],0),MATCH(ANALISE!G$10,'BASE DE DADOS'!$A$1:$N$1,0)),\"\")","v":""},{"$f":"IFERROR(INDEX(tbldados[],MATCH(ANALISE!$B15,tbldados[[ID]:[ID]],0),MATCH(ANALISE!H$10,'BASE DE DADOS'!$A$1:$N$1,0)),\"\")","v":""},null,null,{"$f":"IFERROR(INDEX(tbldados[ID],SMALL(IF(FREQUENCY(IF((tbldados[REFERENTE]=$O$8)*(tbldados[DATA]=$F$8)*(tbldados[TIPO]=$N$8)*(tbldados[CARTÃO]=$P$8),MATCH(tbldados[ID],tbldados[ID],0)),ROW(tbldados[ID])-ROW('BASE DE DADOS'!$J$2)+1),ROW(tbldados[])-ROW('BASE DE DADOS'!$J$2)+1),ROWS($1:5))),\"\")","v":""},{"$f":"IFERROR(INDEX(tbldados[ID],SMALL(IF(FREQUENCY(IF((tbldados[REFERENTE]=$O$8)*(tbldados[DATA]=$D$5)*(tbldados[TIPO]=$N$8)*(tbldados[CARTÃO]=$P$8),MATCH(tbldados[ID],tbldados[ID],0)),ROW(tbldados[ID])-ROW('BASE DE DADOS'!$J$2)+1),ROW(tbldados[])-ROW('BASE DE DADOS'!$J$2)+1),ROWS($1:5))),\"\")","v":""},{"$f":"IFERROR(INDEX(tbldados[],MATCH(ANALISE!$L15,tbldados[[ID]:[ID]],0),MATCH(ANALISE!M$10,'BASE DE DADOS'!$A$1:$N$1,0)),\"\")","v":""},{"$f":"IFERROR(INDEX(tbldados[],MATCH(ANALISE!$L15,tbldados[[ID]:[ID]],0),MATCH(ANALISE!N$10,'BASE DE DADOS'!$A$1:$N$1,0)),\"\")","v":""},{"$f":"IFERROR(INDEX(tbldados[],MATCH(ANALISE!$L15,tbldados[[ID]:[ID]],0),MATCH(ANALISE!O$10,'BASE DE DADOS'!$A$1:$N$1,0)),\"\")","v":""},{"$f":"IFERROR(INDEX(tbldados[],MATCH(ANALISE!$L15,tbldados[[ID]:[ID]],0),MATCH(ANALISE!P$10,'BASE DE DADOS'!$A$1:$N$1,0)),\"\")","v":""},null,{"$f":"IFERROR(INDEX(tbldados[],MATCH(ANALISE!$K15,tbldados[[ID]:[ID]],0),MATCH(ANALISE!O$10,'BASE DE DADOS'!$A$1:$N$1,0)),\"\")","v":""}]
[null,{"$f":"IFERROR(INDEX(tbldados[ID],SMALL(IF(FREQUENCY(IF((tbldados[REFERENTE]=$F$2)*(tbldados[DESCRIÇÃO]=$D$4)*(tbldados[TIPO]=$F$4),MATCH(tbldados[ID],tbldados[ID],0)),ROW(tbldados[ID])-ROW('BASE DE DADOS'!$J$2)+1),ROW(tbldados[])-ROW('BASE DE DADOS'!$J$2)+1),ROWS($1:6))),\"\")","v":""},{"$f":"IFERROR(INDEX(tbldados[],MATCH(ANALISE!$B16,tbldados[[ID]:[ID]],0),MATCH(ANALISE!C$10,'BASE DE DADOS'!$A$1:$N$1,0)),\"\")","v":""},{"$f":"IFERROR(INDEX(tbldados[],MATCH(ANALISE!$B16,tbldados[[ID]:[ID]],0),MATCH(ANALISE!D$10,'BASE DE DADOS'!$A$1:$N$1,0)),\"\")","v":""},{"$f":"IFERROR(INDEX(tbldados[],MATCH(ANALISE!$B16,tbldados[[ID]:[ID]],0),MATCH(ANALISE!E$10,'BASE DE DADOS'!$A$1:$N$1,0)),\"\")","v":""},{"$f":"IFERROR(INDEX(tbldados[],MATCH(ANALISE!$B16,tbldados[[ID]:[ID]],0),MATCH(ANALISE!F$10,'BASE DE DADOS'!$A$1:$N$1,0)),\"\")","v":""},{"$f":"IFERROR(INDEX(tbldados[],MATCH(ANALISE!$B16,tbldados[[ID]:[ID]],0),MATCH(ANALISE!G$10,'BASE DE DADOS'!$A$1:$N$1,0)),\"\")","v":""},{"$f":"IFERROR(INDEX(tbldados[],MATCH(ANALISE!$B16,tbldados[[ID]:[ID]],0),MATCH(ANALISE!H$10,'BASE DE DADOS'!$A$1:$N$1,0)),\"\")","v":""},null,null,{"$f":"IFERROR(INDEX(tbldados[ID],SMALL(IF(FREQUENCY(IF((tbldados[REFERENTE]=$O$8)*(tbldados[DATA]=$F$8)*(tbldados[TIPO]=$N$8)*(tbldados[CARTÃO]=$P$8),MATCH(tbldados[ID],tbldados[ID],0)),ROW(tbldados[ID])-ROW('BASE DE DADOS'!$J$2)+1),ROW(tbldados[])-ROW('BASE DE DADOS'!$J$2)+1),ROWS($1:6))),\"\")","v":""},{"$f":"IFERROR(INDEX(tbldados[ID],SMALL(IF(FREQUENCY(IF((tbldados[REFERENTE]=$O$8)*(tbldados[DATA]=$D$5)*(tbldados[TIPO]=$N$8)*(tbldados[CARTÃO]=$P$8),MATCH(tbldados[ID],tbldados[ID],0)),ROW(tbldados[ID])-ROW('BASE DE DADOS'!$J$2)+1),ROW(tbldados[])-ROW('BASE DE DADOS'!$J$2)+1),ROWS($1:6))),\"\")","v":""},{"$f":"IFERROR(INDEX(tbldados[],MATCH(ANALISE!$L16,tbldados[[ID]:[ID]],0),MATCH(ANALISE!M$10,'BASE DE DADOS'!$A$1:$N$1,0)),\"\")","v":""},{"$f":"IFERROR(INDEX(tbldados[],MATCH(ANALISE!$L16,tbldados[[ID]:[ID]],0),MATCH(ANALISE!N$10,'BASE DE DADOS'!$A$1:$N$1,0)),\"\")","v":""},{"$f":"IFERROR(INDEX(tbldados[],MATCH(ANALISE!$L16,tbldados[[ID]:[ID]],0),MATCH(ANALISE!O$10,'BASE DE DADOS'!$A$1:$N$1,0)),\"\")","v":""},{"$f":"IFERROR(INDEX(tbldados[],MATCH(ANALISE!$L16,tbldados[[ID]:[ID]],0),MATCH(ANALISE!P$10,'BASE DE DADOS'!$A$1:$N$1,0)),\"\")","v":""},null,{"$f":"IFERROR(INDEX(tbldados[],MATCH(ANALISE!$K16,tbldados[[ID]:[ID]],0),MATCH(ANALISE!O$10,'BASE DE DADOS'!$A$1:$N$1,0)),\"\")","v":""}]
[null,{"$f":"IFERROR(INDEX(tbldados[ID],SMALL(IF(FREQUENCY(IF((tbldados[REFERENTE]=$F$2)*(tbldados[DESCRIÇÃO]=$D$4)*(tbldados[TIPO]=$F$4),MATCH(tbldados[ID],tbldados[ID],0)),ROW(tbldados[ID])-ROW('BASE DE DADOS'!$J$2)+1),ROW(tbldados[])-ROW('BASE DE DADOS'!$J$2)+1),ROWS($1:7))),\"\")","v":""},{"$f":"IFERROR(INDEX(tbldados[],MATCH(ANALISE!$B17,tbldados[[ID]:[ID]],0),MATCH(ANALISE!C$10,'BASE DE DADOS'!$A$1:$N$1,0)),\"\")","v":""},{"$f":"IFERROR(INDEX(tbldados[],MATCH(ANALISE!$B17,tbldados[[ID]:[ID]],0),MATCH(ANALISE!D$10,'BASE DE DADOS'!$A$1:$N$1,0)),\"\")","v":""},{"$f":"IFERROR(INDEX(tbldados[],MATCH(ANALISE!$B17,tbldados[[ID]:[ID]],0),MATCH(ANALISE!E$10,'BASE DE DADOS'!$A$1:$N$1,0)),\"\")","v":""},{"$f":"IFERROR(INDEX(tbldados[],MATCH(ANALISE!$B17,tbldados[[ID]:[ID]],0),MATCH(ANALISE!F$10,'BASE DE DADOS'!$A$1:$N$1,0)),\"\")","v":""},{"$f":"IFERROR(INDEX(tbldados[],MATCH(ANALISE!$B17,tbldados[[ID]:[ID]],0),MATCH(ANALISE!G$10,'BASE DE DADOS'!$A$1:$N$1,0)),\"\")","v":""},{"$f":"IFERROR(INDEX(tbldados[],MATCH(ANALISE!$B17,tbldados[[ID]:[ID]],0),MATCH(ANALISE!H$10,'BASE DE DADOS'!$A$1:$N$1,0)),\"\")","v":""},null,null,{"$f":"IFERROR(INDEX(tbldados[ID],SMALL(IF(FREQUENCY(IF((tbldados[REFERENTE]=$O$8)*(tbldados[DATA]=$F$8)*(tbldados[TIPO]=$N$8)*(tbldados[CARTÃO]=$P$8),MATCH(tbldados[ID],tbldados[ID],0)),ROW(tbldados[ID])-ROW('BASE DE DADOS'!$J$2)+1),ROW(tbldados[])-ROW('BASE DE DADOS'!$J$2)+1),ROWS($1:7))),\"\")","v":""},{"$f":"IFERROR(INDEX(tbldados[ID],SMALL(IF(FREQUENCY(IF((tbldados[REFERENTE]=$O$8)*(tbldados[DATA]=$D$5)*(tbldados[TIPO]=$N$8)*(tbldados[CARTÃO]=$P$8),MATCH(tbldados[ID],tbldados[ID],0)),ROW(tbldados[ID])-ROW('BASE DE DADOS'!$J$2)+1),ROW(tbldados[])-ROW('BASE DE DADOS'!$J$2)+1),ROWS($1:7))),\"\")","v":""},{"$f":"IFERROR(INDEX(tbldados[],MATCH(ANALISE!$L17,tbldados[[ID]:[ID]],0),MATCH(ANALISE!M$10,'BASE DE DADOS'!$A$1:$N$1,0)),\"\")","v":""},{"$f":"IFERROR(INDEX(tbldados[],MATCH(ANALISE!$L17,tbldados[[ID]:[ID]],0),MATCH(ANALISE!N$10,'BASE DE DADOS'!$A$1:$N$1,0)),\"\")","v":""},{"$f":"IFERROR(INDEX(tbldados[],MATCH(ANALISE!$L17,tbldados[[ID]:[ID]],0),MATCH(ANALISE!O$10,'BASE DE DADOS'!$A$1:$N$1,0)),\"\")","v":""},{"$f":"IFERROR(INDEX(tbldados[],MATCH(ANALISE!$L17,tbldados[[ID]:[ID]],0),MATCH(ANALISE!P$10,'BASE DE DADOS'!$A$1:$N$1,0)),\"\")","v":""},null,{"$f":"IFERROR(INDEX(tbldados[],MATCH(ANALISE!$K17,tbldados[[ID]:[ID]],0),MATCH(ANALISE!O$10,'BASE DE DADOS'!$A$1:$N$1,0)),\"\")","v":""}]
[null,{"$f":"IFERROR(INDEX(tbldados[ID],SMALL(IF(FREQUENCY(IF((tbldados[REFERENTE]=$F$2)*(tbldados[DESCRIÇÃO]=$D$4)*(tbldados[TIPO]=$F$4),MATCH(tbldados[ID],tbldados[ID],0)),ROW(tbldados[ID])-ROW('BASE DE DADOS'!$J$2)+1),ROW(tbldados[])-ROW('BASE DE DADOS'!$J$2)+1),ROWS($1:8))),\"\")","v":""},{"$f":"IFERROR(INDEX(tbldados[],MATCH(ANALISE!$B18,tbldados[[ID]:[ID]],0),MATCH(ANALISE!C$10,'BASE DE DADOS'!$A$1:$N$1,0)),\"\")","v":""},{"$f":"IFERROR(INDEX(tbldados[],MATCH(ANALISE!$B18,tbldados[[ID]:[ID]],0),MATCH(ANALISE!D$10,'BASE DE DADOS'!$A$1:$N$1,0)),\"\")","v":""},{"$f":"IFERROR(INDEX(tbldados[],MATCH(ANALISE!$B18,tbldados[[ID]:[ID]],0),MATCH(ANALISE!E$10,'BASE DE DADOS'!$A$1:$N$1,0)),\"\")","v":""},{"$f":"IFERROR(INDEX(tbldados[],MATCH(ANALISE!$B18,tbldados[[ID]:[ID]],0),MATCH(ANALISE!F$10,'BASE DE DADOS'!$A$1:$N$1,0)),\"\")","v":""},{"$f":"IFERROR(INDEX(tbldados[],MATCH(ANALISE!$B18,tbldados[[ID]:[ID]],0),MATCH(ANALISE!G$10,'BASE DE DADOS'!$A$1:$N$1,0)),\"\")","v":""},{"$f":"IFERROR(INDEX(tbldados[],MATCH(ANALISE!$B18,tbldados[[ID]:[ID]],0),MATCH(ANALISE!H$10,'BASE DE DADOS'!$A$1:$N$1,0)),\"\")","v":""},null,null,{"$f":"IFERROR(INDEX(tbldados[ID],SMALL(IF(FREQUENCY(IF((tbldados[REFERENTE]=$O$8)*(tbldados[DATA]=$F$8)*(tbldados[TIPO]=$N$8)*(tbldados[CARTÃO]=$P$8),MATCH(tbldados[ID],tbldados[ID],0)),ROW(tbldados[ID])-ROW('BASE DE DADOS'!$J$2)+1),ROW(tbldados[])-ROW('BASE DE DADOS'!$J$2)+1),ROWS($1:8))),\"\")","v":""},{"$f":"IFERROR(INDEX(tbldados[ID],SMALL(IF(FREQUENCY(IF((tbldados[REFERENTE]=$O$8)*(tbldados[DATA]=$D$5)*(tbldados[TIPO]=$N$8)*(tbldados[CARTÃO]=$P$8),MATCH(tbldados[ID],tbldados[ID],0)),ROW(tbldados[ID])-ROW('BASE DE DADOS'!$J$2)+1),ROW(tbldados[])-ROW('BASE DE DADOS'!$J$2)+1),ROWS($1:8))),\"\")","v":""},{"$f":"IFERROR(INDEX(tbldados[],MATCH(ANALISE!$L18,tbldados[[ID]:[ID]],0),MATCH(ANALISE!M$10,'BASE DE DADOS'!$A$1:$N$1,0)),\"\")","v":""},{"$f":"IFERROR(INDEX(tbldados[],MATCH(ANALISE!$L18,tbldados[[ID]:[ID]],0),MATCH(ANALISE!N$10,'BASE DE DADOS'!$A$1:$N$1,0)),\"\")","v":""},{"$f":"IFERROR(INDEX(tbldados[],MATCH(ANALISE!$L18,tbldados[[ID]:[ID]],0),MATCH(ANALISE!O$10,'BASE DE DADOS'!$A$1:$N$1,0)),\"\")","v":""},{"$f":"IFERROR(INDEX(tbldados[],MATCH(ANALISE!$L18,tbldados[[ID]:[ID]],0),MATCH(ANALISE!P$10,'BASE DE DADOS'!$A$1:$N$1,0)),\"\")","v":""},null,{"$f":"IFERROR(INDEX(tbldados[],MATCH(ANALISE!$K18,tbldados[[ID]:[ID]],0),MATCH(ANALISE!O$10,'BASE DE DADOS'!$A$1:$N$1,0)),\"\")","v":""}]
[null,{"$f":"IFERROR(INDEX(tbldados[ID],SMALL(IF(FREQUENCY(IF((tbldados[REFERENTE]=$F$2)*(tbldados[DESCRIÇÃO]=$D$4)*(tbldados[TIPO]=$F$4),MATCH(tbldados[ID],tbldados[ID],0)),ROW(tbldados[ID])-ROW('BASE DE DADOS'!$J$2)+1),ROW(tbldados[])-ROW('BASE DE DADOS'!$J$2)+1),ROWS($1:9))),\"\")","v":""},{"$f":"IFERROR(INDEX(tbldados[],MATCH(ANALISE!$B19,tbldados[[ID]:[ID]],0),MATCH(ANALISE!C$10,'BASE DE DADOS'!$A$1:$N$1,0)),\"\")","v":""},{"$f":"IFERROR(INDEX(tbldados[],MATCH(ANALISE!$B19,tbldados[[ID]:[ID]],0),MATCH(ANALISE!D$10,'BASE DE DADOS'!$A$1:$N$1,0)),\"\")","v":""},{"$f":"IFERROR(INDEX(tbldados[],MATCH(ANALISE!$B19,tbldados[[ID]:[ID]],0),MATCH(ANALISE!E$10,'BASE DE DADOS'!$A$1:$N$1,0)),\"\")","v":""},{"$f":"IFERROR(INDEX(tbldados[],MATCH(ANALISE!$B19,tbldados[[ID]:[ID]],0),MATCH(ANALISE!F$10,'BASE DE DADOS'!$A$1:$N$1,0)),\"\")","v":""},{"$f":"IFERROR(INDEX(tbldados[],MATCH(ANALISE!$B19,tbldados[[ID]:[ID]],0),MATCH(ANALISE!G$10,'BASE DE DADOS'!$A$1:$N$1,0)),\"\")","v":""},{"$f":"IFERROR(INDEX(tbldados[],MATCH(ANALISE!$B19,tbldados[[ID]:[ID]],0),MATCH(ANALISE!H$10,'BASE DE DADOS'!$A$1:$N$1,0)),\"\")","v":""},null,null,{"$f":"IFERROR(INDEX(tbldados[ID],SMALL(IF(FREQUENCY(IF((tbldados[REFERENTE]=$O$8)*(tbldados[DATA]=$F$8)*(tbldados[TIPO]=$N$8)*(tbldados[CARTÃO]=$P$8),MATCH(tbldados[ID],tbldados[ID],0)),ROW(tbldados[ID])-ROW('BASE DE DADOS'!$J$2)+1),ROW(tbldados[])-ROW('BASE DE DADOS'!$J$2)+1),ROWS($1:9))),\"\")","v":""},{"$f":"IFERROR(INDEX(tbldados[ID],SMALL(IF(FREQUENCY(IF((tbldados[REFERENTE]=$O$8)*(tbldados[DATA]=$D$5)*(tbldados[TIPO]=$N$8)*(tbldados[CARTÃO]=$P$8),MATCH(tbldados[ID],tbldados[ID],0)),ROW(tbldados[ID])-ROW('BASE DE DADOS'!$J$2)+1),ROW(tbldados[])-ROW('BASE DE DADOS'!$J$2)+1),ROWS($1:9))),\"\")","v":""},{"$f":"IFERROR(INDEX(tbldados[],MATCH(ANALISE!$L19,tbldados[[ID]:[ID]],0),MATCH(ANALISE!M$10,'BASE DE DADOS'!$A$1:$N$1,0)),\"\")","v":""},{"$f":"IFERROR(INDEX(tbldados[],MATCH(ANALISE!$L19,tbldados[[ID]:[ID]],0),MATCH(ANALISE!N$10,'BASE DE DADOS'!$A$1:$N$1,0)),\"\")","v":""},{"$f":"IFERROR(INDEX(tbldados[],MATCH(ANALISE!$L19,tbldados[[ID]:[ID]],0),MATCH(ANALISE!O$10,'BASE DE DADOS'!$A$1:$N$1,0)),\"\")","v":""},{"$f":"IFERROR(INDEX(tbldados[],MATCH(ANALISE!$L19,tbldados[[ID]:[ID]],0),MATCH(ANALISE!P$10,'BASE DE DADOS'!$A$1:$N$1,0)),\"\")","v":""},null,{"$f":"IFERROR(INDEX(tbldados[],MATCH(ANALISE!$K19,tbldados[[ID]:[ID]],0),MATCH(ANALISE!O$10,'BASE DE DADOS'!$A$1:$N$1,0)),\"\")","v":""}]
[null,{"$f":"IFERROR(INDEX(tbldados[ID],SMALL(IF(FREQUENCY(IF((tbldados[REFERENTE]=$F$2)*(tbldados[DESCRIÇÃO]=$D$4)*(tbldados[TIPO]=$F$4),MATCH(tbldados[ID],tbldados[ID],0)),ROW(tbldados[ID])-ROW('BASE DE DADOS'!$J$2)+1),ROW(tbldados[])-ROW('BASE DE DADOS'!$J$2)+1),ROWS($1:10))),\"\")","v":""},{"$f":"IFERROR(INDEX(tbldados[],MATCH(ANALISE!$B20,tbldados[[ID]:[ID]],0),MATCH(ANALISE!C$10,'BASE DE DADOS'!$A$1:$N$1,0)),\"\")","v":""},{"$f":"IFERROR(INDEX(tbldados[],MATCH(ANALISE!$B20,tbldados[[ID]:[ID]],0),MATCH(ANALISE!D$10,'BASE DE DADOS'!$A$1:$N$1,0)),\"\")","v":""},{"$f":"IFERROR(INDEX(tbldados[],MATCH(ANALISE!$B20,tbldados[[ID]:[ID]],0),MATCH(ANALISE!E$10,'BASE DE DADOS'!$A$1:$N$1,0)),\"\")","v":""},{"$f":"IFERROR(INDEX(tbldados[],MATCH(ANALISE!$B20,tbldados[[ID]:[ID]],0),MATCH(ANALISE!F$10,'BASE DE DADOS'!$A$1:$N$1,0)),\"\")","v":""},{"$f":"IFERROR(INDEX(tbldados[],MATCH(ANALISE!$B20,tbldados[[ID]:[ID]],0),MATCH(ANALISE!G$10,'BASE DE DADOS'!$A$1:$N$1,0)),\"\")","v":""},{"$f":"IFERROR(INDEX(tbldados[],MATCH(ANALISE!$B20,tbldados[[ID]:[ID]],0),MATCH(ANALISE!H$10,'BASE DE DADOS'!$A$1:$N$1,0)),\"\")","v":""},null,null,{"$f":"IFERROR(INDEX(tbldados[ID],SMALL(IF(FREQUENCY(IF((tbldados[REFERENTE]=$O$8)*(tbldados[DATA]=$F$8)*(tbldados[TIPO]=$N$8)*(tbldados[CARTÃO]=$P$8),MATCH(tbldados[ID],tbldados[ID],0)),ROW(tbldados[ID])-ROW('BASE DE DADOS'!$J$2)+1),ROW(tbldados[])-ROW('BASE DE DADOS'!$J$2)+1),ROWS($1:10))),\"\")","v":""},{"$f":"IFERROR(INDEX(tbldados[ID],SMALL(IF(FREQUENCY(IF((tbldados[REFERENTE]=$O$8)*(tbldados[DATA]=$D$5)*(tbldados[TIPO]=$N$8)*(tbldados[CARTÃO]=$P$8),MATCH(tbldados[ID],tbldados[ID],0)),ROW(tbldados[ID])-ROW('BASE DE DADOS'!$J$2)+1),ROW(tbldados[])-ROW('BASE DE DADOS'!$J$2)+1),ROWS($1:10))),\"\")","v":""},{"$f":"IFERROR(INDEX(tbldados[],MATCH(ANALISE!$L20,tbldados[[ID]:[ID]],0),MATCH(ANALISE!M$10,'BASE DE DADOS'!$A$1:$N$1,0)),\"\")","v":""},{"$f":"IFERROR(INDEX(tbldados[],MATCH(ANALISE!$L20,tbldados[[ID]:[ID]],0),MATCH(ANALISE!N$10,'BASE DE DADOS'!$A$1:$N$1,0)),\"\")","v":""},{"$f":"IFERROR(INDEX(tbldados[],MATCH(ANALISE!$L20,tbldados[[ID]:[ID]],0),MATCH(ANALISE!O$10,'BASE DE DADOS'!$A$1:$N$1,0)),\"\")","v":""},{"$f":"IFERROR(INDEX(tbldados[],MATCH(ANALISE!$L20,tbldados[[ID]:[ID]],0),MATCH(ANALISE!P$10,'BASE DE DADOS'!$A$1:$N$1,0)),\"\")","v":""},null,{"$f":"IFERROR(INDEX(tbldados[],MATCH(ANALISE!$K20,tbldados[[ID]:[ID]],0),MATCH(ANALISE!O$10,'BASE DE DADOS'!$A$1:$N$1,0)),\"\")","v":""},{"$f":"SUM(S11:S12)-S10","v":-1290}]
[null,{"$f":"IFERROR(INDEX(tbldados[ID],SMALL(IF(FREQUENCY(IF((tbldados[REFERENTE]=$F$2)*(tbldados[DESCRIÇÃO]=$D$4)*(tbldados[TIPO]=$F$4),MATCH(tbldados[ID],tbldados[ID],0)),ROW(tbldados[ID])-ROW('BASE DE DADOS'!$J$2)+1),ROW(tbldados[])-ROW('BASE DE DADOS'!$J$2)+1),ROWS($1:11))),\"\")","v":""},{"$f":"IFERROR(INDEX(tbldados[],MATCH(ANALISE!$B21,tbldados[[ID]:[ID]],0),MATCH(ANALISE!C$10,'BASE DE DADOS'!$A$1:$N$1,0)),\"\")","v":""},{"$f":"IFERROR(INDEX(tbldados[],MATCH(ANALISE!$B21,tbldados[[ID]:[ID]],0),MATCH(ANALISE!D$10,'BASE DE DADOS'!$A$1:$N$1,0)),\"\")","v":""},{"$f":"IFERROR(INDEX(tbldados[],MATCH(ANALISE!$B21,tbldados[[ID]:[ID]],0),MATCH(ANALISE!E$10,'BASE DE DADOS'!$A$1:$N$1,0)),\"\")","v":""},{"$f":"IFERROR(INDEX(tbldados[],MATCH(ANALISE!$B21,tbldados[[ID]:[ID]],0),MATCH(ANALISE!F$10,'BASE DE DADOS'!$A$1:$N$1,0)),\"\")","v":""},{"$f":"IFERROR(INDEX(tbldados[],MATCH(ANALISE!$B21,tbldados[[ID]:[ID]],0),MATCH(ANALISE!G$10,'BASE DE DADOS'!$A$1:$N$1,0)),\"\")","v":""},{"$f":"IFERROR(INDEX(tbldados[],MATCH(ANALISE!$B21,tbldados[[ID]:[ID]],0),MATCH(ANALISE!H$10,'BASE DE DADOS'!$A$1:$N$1,0)),\"\")","v":""},null,null,{"$f":"IFERROR(INDEX(tbldados[ID],SMALL(IF(FREQUENCY(IF((tbldados[REFERENTE]=$O$8)*(tbldados[DATA]=$F$8)*(tbldados[TIPO]=$N$8)*(tbldados[CARTÃO]=$P$8),MATCH(tbldados[ID],tbldados[ID],0)),ROW(tbldados[ID])-ROW('BASE DE DADOS'!$J$2)+1),ROW(tbldados[])-ROW('BASE DE DADOS'!$J$2)+1),ROWS($1:11))),\"\")","v":""},{"$f":"IFERROR(INDEX(tbldados[ID],SMALL(IF(FREQUENCY(IF((tbldados[REFERENTE]=$O$8)*(tbldados[DATA]=$D$5)*(tbldados[TIPO]=$N$8)*(tbldados[CARTÃO]=$P$8),MATCH(tbldados[ID],tbldados[ID],0)),ROW(tbldados[ID])-ROW('BASE DE DADOS'!$J$2)+1),ROW(tbldados[])-ROW('BASE DE DADOS'!$J$2)+1),ROWS($1:11))),\"\")","v":""},{"$f":"IFERROR(INDEX(tbldados[],MATCH(ANALISE!$L21,tbldados[[ID]:[ID]],0),MATCH(ANALISE!M$10,'BASE DE DADOS'!$A$1:$N$1,0)),\"\")","v":""},{"$f":"IFERROR(INDEX(tbldados[],MATCH(ANALISE!$L21,tbldados[[ID]:[ID]],0),MATCH(ANALISE!N$10,'BASE DE DADOS'!$A$1:$N$1,0)),\"\")","v":""},{"$f":"IFERROR(INDEX(tbldados[],MATCH(ANALISE!$L21,tbldados[[ID]:[ID]],0),MATCH(ANALISE!O$10,'BASE DE DADOS'!$A$1:$N$1,0)),\"\")","v":""},{"$f":"IFERROR(INDEX(tbldados[],MATCH(ANALISE!$L21,tbldados[[ID]:[ID]],0),MATCH(ANALISE!P$10,'BASE DE DADOS'!$A$1:$N$1,0)),\"\")","v":""},null,{"$f":"IFERROR(INDEX(tbldados[],MATCH(ANALISE!$K21,tbldados[[ID]:[ID]],0),MATCH(ANALISE!O$10,'BASE DE DADOS'!$A$1:$N$1,0)),\"\")","v":""}]
[null,{"$f":"IFERROR(INDEX(tbldados[ID],SMALL(IF(FREQUENCY(IF((tbldados[REFERENTE]=$F$2)*(tbldados[DESCRIÇÃO]=$D$4)*(tbldados[TIPO]=$F$4),MATCH(tbldados[ID],tbldados[ID],0)),ROW(tbldados[ID])-ROW('BASE DE DADOS'!$J$2)+1),ROW(tbldados[])-ROW('BASE DE DADOS'!$J$2)+1),ROWS($1:12))),\"\")","v":""},{"$f":"IFERROR(INDEX(tbldados[],MATCH(ANALISE!$B22,tbldados[[ID]:[ID]],0),MATCH(ANALISE!C$10,'BASE DE DADOS'!$A$1:$N$1,0)),\"\")","v":""},{"$f":"IFERROR(INDEX(tbldados[],MATCH(ANALISE!$B22,tbldados[[ID]:[ID]],0),MATCH(ANALISE!D$10,'BASE DE DADOS'!$A$1:$N$1,0)),\"\")","v":""},{"$f":"IFERROR(INDEX(tbldados[],MATCH(ANALISE!$B22,tbldados[[ID]:[ID]],0),MATCH(ANALISE!E$10,'BASE DE DADOS'!$A$1:$N$1,0)),\"\")","v":""},{"$f":"IFERROR(INDEX(tbldados[],MATCH(ANALISE!$B22,tbldados[[ID]:[ID]],0),MATCH(ANALISE!F$10,'BASE DE DADOS'!$A$1:$N$1,0)),\"\")","v":""},{"$f":"IFERROR(INDEX(tbldados[],MATCH(ANALISE!$B22,tbldados[[ID]:[ID]],0),MATCH(ANALISE!G$10,'BASE DE DADOS'!$A$1:$N$1,0)),\"\")","v":""},{"$f":"IFERROR(INDEX(tbldados[],MATCH(ANALISE!$B22,tbldados[[ID]:[ID]],0),MATCH(ANALISE!H$10,'BASE DE DADOS'!$A$1:$N$1,0)),\"\")","v":""},null,null,{"$f":"IFERROR(INDEX(tbldados[ID],SMALL(IF(FREQUENCY(IF((tbldados[REFERENTE]=$O$8)*(tbldados[DATA]=$F$8)*(tbldados[TIPO]=$N$8)*(tbldados[CARTÃO]=$P$8),MATCH(tbldados[ID],tbldados[ID],0)),ROW(tbldados[ID])-ROW('BASE DE DADOS'!$J$2)+1),ROW(tbldados[])-ROW('BASE DE DADOS'!$J$2)+1),ROWS($1:12))),\"\")","v":""},{"$f":"IFERROR(INDEX(tbldados[ID],SMALL(IF(FREQUENCY(IF((tbldados[REFERENTE]=$O$8)*(tbldados[DATA]=$D$5)*(tbldados[TIPO]=$N$8)*(tbldados[CARTÃO]=$P$8),MATCH(tbldados[ID],tbldados[ID],0)),ROW(tbldados[ID])-ROW('BASE DE DADOS'!$J$2)+1),ROW(tbldados[])-ROW('BASE DE DADOS'!$J$2)+1),ROWS($1:12))),\"\")","v":""},{"$f":"IFERROR(INDEX(tbldados[],MATCH(ANALISE!$L22,tbldados[[ID]:[ID]],0),MATCH(ANALISE!M$10,'BASE DE DADOS'!$A$1:$N$1,0)),\"\")","v":""},{"$f":"IFERROR(INDEX(tbldados[],MATCH(ANALISE!$L22,tbldados[[ID]:[ID]],0),MATCH(ANALISE!N$10,'BASE DE DADOS'!$A$1:$N$1,0)),\"\")","v":""},{"$f":"IFERROR(INDEX(tbldados[],MATCH(ANALISE!$L22,tbldados[[ID]:[ID]],0),MATCH(ANALISE!O$10,'BASE DE DADOS'!$A$1:$N$1,0)),\"\")","v":""},{"$f":"IFERROR(INDEX(tbldados[],MATCH(ANALISE!$L22,tbldados[[ID]:[ID]],0),MATCH(ANALISE!P$10,'BASE DE DADOS'!$A$1:$N$1,0)),\"\")","v":""},null,{"$f":"IFERROR(INDEX(tbldados[],MATCH(ANALISE!$K22,tbldados[[ID]:[ID]],0),MATCH(ANALISE!O$10,'BASE DE DADOS'!$A$1:$N$1,0)),\"\")","v":""}]
[null,{"$f":"IFERROR(INDEX(tbldados[ID],SMALL(IF(FREQUENCY(IF((tbldados[REFERENTE]=$F$2)*(tbldados[DESCRIÇÃO]=$D$4)*(tbldados[TIPO]=$F$4),MATCH(tbldados[ID],tbldados[ID],0)),ROW(tbldados[ID])-ROW('BASE DE DADOS'!$J$2)+1),ROW(tbldados[])-ROW('BASE DE DADOS'!$J$2)+1),ROWS($1:13))),\"\")","v":""},{"$f":"IFERROR(INDEX(tbldados[],MATCH(ANALISE!$B23,tbldados[[ID]:[ID]],0),MATCH(ANALISE!C$10,'BASE DE DADOS'!$A$1:$N$1,0)),\"\")","v":""},{"$f":"IFERROR(INDEX(tbldados[],MATCH(ANALISE!$B23,tbldados[[ID]:[ID]],0),MATCH(ANALISE!D$10,'BASE DE DADOS'!$A$1:$N$1,0)),\"\")","v":""},{"$f":"IFERROR(INDEX(tbldados[],MATCH(ANALISE!$B23,tbldados[[ID]:[ID]],0),MATCH(ANALISE!E$10,'BASE DE DADOS'!$A$1:$N$1,0)),\"\")","v":""},{"$f":"IFERROR(INDEX(tbldados[],MATCH(ANALISE!$B23,tbldados[[ID]:[ID]],0),MATCH(ANALISE!F$10,'BASE DE DADOS'!$A$1:$N$1,0)),\"\")","v":""},{"$f":"IFERROR(INDEX(tbldados[],MATCH(ANALISE!$B23,tbldados[[ID]:[ID]],0),MATCH(ANALISE!G$10,'BASE DE DADOS'!$A$1:$N$1,0)),\"\")","v":""},{"$f":"IFERROR(INDEX(tbldados[],MATCH(ANALISE!$B23,tbldados[[ID]:[ID]],0),MATCH(ANALISE!H$10,'BASE DE DADOS'!$A$1:$N$1,0)),\"\")","v":""},null,null,{"$f":"IFERROR(INDEX(tbldados[ID],SMALL(IF(FREQUENCY(IF((tbldados[REFERENTE]=$O$8)*(tbldados[DATA]=$F$8)*(tbldados[TIPO]=$N$8)*(tbldados[CARTÃO]=$P$8),MATCH(tbldados[ID],tbldados[ID],0)),ROW(tbldados[ID])-ROW('BASE DE DADOS'!$J$2)+1),ROW(tbldados[])-ROW('BASE DE DADOS'!$J$2)+1),ROWS($1:13))),\"\")","v":""},{"$f":"IFERROR(INDEX(tbldados[ID],SMALL(IF(FREQUENCY(IF((tbldados[REFERENTE]=$O$8)*(tbldados[DATA]=$D$5)*(tbldados[TIPO]=$N$8)*(tbldados[CARTÃO]=$P$8),MATCH(tbldados[ID],tbldados[ID],0)),ROW(tbldados[ID])-ROW('BASE DE DADOS'!$J$2)+1),ROW(tbldados[])-ROW('BASE DE DADOS'!$J$2)+1),ROWS($1:13))),\"\")","v":""},{"$f":"IFERROR(INDEX(tbldados[],MATCH(ANALISE!$L23,tbldados[[ID]:[ID]],0),MATCH(ANALISE!M$10,'BASE DE DADOS'!$A$1:$N$1,0)),\"\")","v":""},{"$f":"IFERROR(INDEX(tbldados[],MATCH(ANALISE!$L23,tbldados[[ID]:[ID]],0),MATCH(ANALISE!N$10,'BASE DE DADOS'!$A$1:$N$1,0)),\"\")","v":""},{"$f":"IFERROR(INDEX(tbldados[],MATCH(ANALISE!$L23,tbldados[[ID]:[ID]],0),MATCH(ANALISE!O$10,'BASE DE DADOS'!$A$1:$N$1,0)),\"\")","v":""},{"$f":"IFERROR(INDEX(tbldados[],MATCH(ANALISE!$L23,tbldados[[ID]:[ID]],0),MATCH(ANALISE!P$10,'BASE DE DADOS'!$A$1:$N$1,0)),\"\")","v":""},null,{"$f":"IFERROR(INDEX(tbldados[],MATCH(ANALISE!$K23,tbldados[[ID]:[ID]],0),MATCH(ANALISE!O$10,'BASE DE DADOS'!$A$1:$N$1,0)),\"\")","v":""},{"$f":"7000*15%","v":1050}]
[null,{"$f":"IFERROR(INDEX(tbldados[ID],SMALL(IF(FREQUENCY(IF((tbldados[REFERENTE]=$F$2)*(tbldados[DESCRIÇÃO]=$D$4)*(tbldados[TIPO]=$F$4),MATCH(tbldados[ID],tbldados[ID],0)),ROW(tbldados[ID])-ROW('BASE DE DADOS'!$J$2)+1),ROW(tbldados[])-ROW('BASE DE DADOS'!$J$2)+1),ROWS($1:14))),\"\")","v":""},{"$f":"IFERROR(INDEX(tbldados[],MATCH(ANALISE!$B24,tbldados[[ID]:[ID]],0),MATCH(ANALISE!C$10,'BASE DE DADOS'!$A$1:$N$1,0)),\"\")","v":""},{"$f":"IFERROR(INDEX(tbldados[],MATCH(ANALISE!$B24,tbldados[[ID]:[ID]],0),MATCH(ANALISE!D$10,'BASE DE DADOS'!$A$1:$N$1,0)),\"\")","v":""},null,{"$f":"IFERROR(INDEX(tbldados[],MATCH(ANALISE!$B24,tbldados[[ID]:[ID]],0),MATCH(ANALISE!F$10,'BASE DE DADOS'!$A$1:$N$1,0)),\"\")","v":""},{"$f":"IFERROR(INDEX(tbldados[],MATCH(ANALISE!$B24,tbldados[[ID]:[ID]],0),MATCH(ANALISE!G$10,'BASE DE DADOS'!$A$1:$N$1,0)),\"\")","v":""},{"$f":"IFERROR(INDEX(tbldados[],MATCH(ANALISE!$B24,tbldados[[ID]:[ID]],0),MATCH(ANALISE!H$10,'BASE DE DADOS'!$A$1:$N$1,0)),\"\")","v":""},null,null,{"$f":"IFERROR(INDEX(tbldados[ID],SMALL(IF(FREQUENCY(IF((tbldados[REFERENTE]=$O$8)*(tbldados[DATA]=$F$8)*(tbldados[TIPO]=$N$8)*(tbldados[CARTÃO]=$P$8),MATCH(tbldados[ID],tbldados[ID],0)),ROW(tbldados[ID])-ROW('BASE DE DADOS'!$J$2)+1),ROW(tbldados[])-ROW('BASE DE DADOS'!$J$2)+1),ROWS($1:14))),\"\")","v":""},{"$f":"IFERROR(INDEX(tbldados[ID],SMALL(IF(FREQUENCY(IF((tbldados[REFERENTE]=$O$8)*(tbldados[DATA]=$D$5)*(tbldados[TIPO]=$N$8)*(tbldados[CARTÃO]=$P$8),MATCH(tbldados[ID],tbldados[ID],0)),ROW(tbldados[ID])-ROW('BASE DE DADOS'!$J$2)+1),ROW(tbldados[])-ROW('BASE DE DADOS'!$J$2)+1),ROWS($1:14))),\"\")","v":""},{"$f":"IFERROR(INDEX(tbldados[],MATCH(ANALISE!$L24,tbldados[[ID]:[ID]],0),MATCH(ANALISE!M$10,'BASE DE DADOS'!$A$1:$N$1,0)),\"\")","v":""},{"$f":"IFERROR(INDEX(tbldados[],MATCH(ANALISE!$L24,tbldados[[ID]:[ID]],0),MATCH(ANALISE!N$10,'BASE DE DADOS'!$A$1:$N$1,0)),\"\")","v":""},{"$f":"IFERROR(INDEX(tbldados[],MATCH(ANALISE!$L24,tbldados[[ID]:[ID]],0),MATCH(ANALISE!O$10,'BASE DE DADOS'!$A$1:$N$1,0)),\"\")","v":""},{"$f":"IFERROR(INDEX(tbldados[],MATCH(ANALISE!$L24,tbldados[[ID]:[ID]],0),MATCH(ANALISE!P$10,'BASE DE DADOS'!$A$1:$N$1,0)),\"\")","v":""},null,{"$f":"IFERROR(INDEX(tbldados[],MATCH(ANALISE!$K24,tbldados[[ID]:[ID]],0),MATCH(ANALISE!O$10,'BASE DE DADOS'!$A$1:$N$1,0)),\"\")","v":""}]
[null,{"$f":"IFERROR(INDEX(tbldados[ID],SMALL(IF(FREQUENCY(IF((tbldados[REFERENTE]=$F$2)*(tbldados[DESCRIÇÃO]=$D$4)*(tbldados[TIPO]=$F$4),MATCH(tbldados[ID],tbldados[ID],0)),ROW(tbldados[ID])-ROW('BASE DE DADOS'!$J$2)+1),ROW(tbldados[])-ROW('BASE DE DADOS'!$J$2)+1),ROWS($1:15))),\"\")","v":""},{"$f":"IFERROR(INDEX(tbldados[],MATCH(ANALISE!$B25,tbldados[[ID]:[ID]],0),MATCH(ANALISE!C$10,'BASE DE DADOS'!$A$1:$N$1,0)),\"\")","v":""},{"$f":"IFERROR(INDEX(tbldados[],MATCH(ANALISE!$B25,tbldados[[ID]:[ID]],0),MATCH(ANALISE!D$10,'BASE DE DADOS'!$A$1:$N$1,0)),\"\")","v":""},{"$f":"IFERROR(INDEX(tbldados[],MATCH(ANALISE!$B25,tbldados[[ID]:[ID]],0),MATCH(ANALISE!E$10,'BASE DE DADOS'!$A$1:$N$1,0)),\"\")","v":""},{"$f":"IFERROR(INDEX(tbldados[],MATCH(ANALISE!$B25,tbldados[[ID]:[ID]],0),MATCH(ANALISE!F$10,'BASE DE DADOS'!$A$1:$N$1,0)),\"\")","v":""},{"$f":"IFERROR(INDEX(tbldados[],MATCH(ANALISE!$B25,tbldados[[ID]:[ID]],0),MATCH(ANALISE!G$10,'BASE DE DADOS'!$A$1:$N$1,0)),\"\")","v":""},{"$f":"IFERROR(INDEX(tbldados[],MATCH(ANALISE!$B25,tbldados[[ID]:[ID]],0),MATCH(ANALISE!H$10,'BASE DE DADOS'!$A$1:$N$1,0)),\"\")","v":""},null,null,{"$f":"IFERROR(INDEX(tbldados[ID],SMALL(IF(FREQUENCY(IF((tbldados[REFERENTE]=$O$8)*(tbldados[DATA]=$F$8)*(tbldados[TIPO]=$N$8)*(tbldados[CARTÃO]=$P$8),MATCH(tbldados[ID],tbldados[ID],0)),ROW(tbldados[ID])-ROW('BASE DE DADOS'!$J$2)+1),ROW(tbldados[])-ROW('BASE DE DADOS'!$J$2)+1),ROWS($1:15))),\"\")","v":""},{"$f":"IFERROR(INDEX(tbldados[ID],SMALL(IF(FREQUENCY(IF((tbldados[REFERENTE]=$O$8)*(tbldados[DATA]=$D$5)*(tbldados[TIPO]=$N$8)*(tbldados[CARTÃO]=$P$8),MATCH(tbldados[ID],tbldados[ID],0)),ROW(tbldados[ID])-ROW('BASE DE DADOS'!$J$2)+1),ROW(tbldados[])-ROW('BASE DE DADOS'!$J$2)+1),ROWS($1:15))),\"\")","v":""},{"$f":"IFERROR(INDEX(tbldados[],MATCH(ANALISE!$L25,tbldados[[ID]:[ID]],0),MATCH(ANALISE!M$10,'BASE DE DADOS'!$A$1:$N$1,0)),\"\")","v":""},{"$f":"IFERROR(INDEX(tbldados[],MATCH(ANALISE!$L25,tbldados[[ID]:[ID]],0),MATCH(ANALISE!N$10,'BASE DE DADOS'!$A$1:$N$1,0)),\"\")","v":""},{"$f":"IFERROR(INDEX(tbldados[],MATCH(ANALISE!$L25,tbldados[[ID]:[ID]],0),MATCH(ANALISE!O$10,'BASE DE DADOS'!$A$1:$N$1,0)),\"\")","v":""},{"$f":"IFERROR(INDEX(tbldados[],MATCH(ANALISE!$L25,tbldados[[ID]:[ID]],0),MATCH(ANALISE!P$10,'BASE DE DADOS'!$A$1:$N$1,0)),\"\")","v":""},null,{"$f":"IFERROR(INDEX(tbldados[],MATCH(ANALISE!$K25,tbldados[[ID]:[ID]],0),MATCH(ANALISE!O$10,'BASE DE DADOS'!$A$1:$N$1,0)),\"\")","v":""}]
[null,{"$f":"IFERROR(INDEX(tbldados[ID],SMALL(IF(FREQUENCY(IF((tbldados[REFERENTE]=$F$2)*(tbldados[DESCRIÇÃO]=$D$4)*(tbldados[TIPO]=$F$4),MATCH(tbldados[ID],tbldados[ID],0)),ROW(tbldados[ID])-ROW('BASE DE DADOS'!$J$2)+1),ROW(tbldados[])-ROW('BASE DE DADOS'!$J$2)+1),ROWS($1:16))),\"\")","v":""},{"$f":"IFERROR(INDEX(tbldados[],MATCH(ANALISE!$B26,tbldados[[ID]:[ID]],0),MATCH(ANALISE!C$10,'BASE DE DADOS'!$A$1:$N$1,0)),\"\")","v":""},{"$f":"IFERROR(INDEX(tbldados[],MATCH(ANALISE!$B26,tbldados[[ID]:[ID]],0),MATCH(ANALISE!D$10,'BASE DE DADOS'!$A$1:$N$1,0)),\"\")","v":""},{"$f":"IFERROR(INDEX(tbldados[],MATCH(ANALISE!$B26,tbldados[[ID]:[ID]],0),MATCH(ANALISE!E$10,'BASE DE DADOS'!$A$1:$N$1,0)),\"\")","v":""},{"$f":"IFERROR(INDEX(tbldados[],MATCH(ANALISE!$B26,tbldados[[ID]:[ID]],0),MATCH(ANALISE!F$10,'BASE DE DADOS'!$A$1:$N$1,0)),\"\")","v":""},{"$f":"IFERROR(INDEX(tbldados[],MATCH(ANALISE!$B26,tbldados[[ID]:[ID]],0),MATCH(ANALISE!G$10,'BASE DE DADOS'!$A$1:$N$1,0)),\"\")","v":""},{"$f":"IFERROR(INDEX(tbldados[],MATCH(ANALISE!$B26,tbldados[[ID]:[ID]],0),MATCH(ANALISE!H$10,'BASE DE DADOS'!$A$1:$N$1,0)),\"\")","v":""},null,null,{"$f":"IFERROR(INDEX(tbldados[ID],SMALL(IF(FREQUENCY(IF((tbldados[REFERENTE]=$O$8)*(tbldados[DATA]=$F$8)*(tbldados[TIPO]=$N$8)*(tbldados[CARTÃO]=$P$8),MATCH(tbldados[ID],tbldados[ID],0)),ROW(tbldados[ID])-ROW('BASE DE DADOS'!$J$2)+1),ROW(tbldados[])-ROW('BASE DE DADOS'!$J$2)+1),ROWS($1:16))),\"\")","v":""},{"$f":"IFERROR(INDEX(tbldados[ID],SMALL(IF(FREQUENCY(IF((tbldados[REFERENTE]=$O$8)*(tbldados[DATA]=$D$5)*(tbldados[TIPO]=$N$8)*(tbldados[CARTÃO]=$P$8),MATCH(tbldados[ID],tbldados[ID],0)),ROW(tbldados[ID])-ROW('BASE DE DADOS'!$J$2)+1),ROW(tbldados[])-ROW('BASE DE DADOS'!$J$2)+1),ROWS($1:16))),\"\")","v":""},{"$f":"IFERROR(INDEX(tbldados[],MATCH(ANALISE!$L26,tbldados[[ID]:[ID]],0),MATCH(ANALISE!M$10,'BASE DE DADOS'!$A$1:$N$1,0)),\"\")","v":""},{"$f":"IFERROR(INDEX(tbldados[],MATCH(ANALISE!$L26,tbldados[[ID]:[ID]],0),MATCH(ANALISE!N$10,'BASE DE DADOS'!$A$1:$N$1,0)),\"\")","v":""},{"$f":"IFERROR(INDEX(tbldados[],MATCH(ANALISE!$L26,tbldados[[ID]:[ID]],0),MATCH(ANALISE!O$10,'BASE DE DADOS'!$A$1:$N$1,0)),\"\")","v":""},{"$f":"IFERROR(INDEX(tbldados[],MATCH(ANALISE!$L26,tbldados[[ID]:[ID]],0),MATCH(ANALISE!P$10,'BASE DE DADOS'!$A$1:$N$1,0)),\"\")","v":""},null,{"$f":"IFERROR(INDEX(tbldados[],MATCH(ANALISE!$K26,tbldados[[ID]:[ID]],0),MATCH(ANALISE!O$10,'BASE DE DADOS'!$A$1:$N$1,0)),\"\")","v":""}]
[null,{"$f":"IFERROR(INDEX(tbldados[ID],SMALL(IF(FREQUENCY(IF((tbldados[REFERENTE]=$F$2)*(tbldados[DESCRIÇÃO]=$D$4)*(tbldados[TIPO]=$F$4),MATCH(tbldados[ID],tbldados[ID],0)),ROW(tbldados[ID])-ROW('BASE DE DADOS'!$J$2)+1),ROW(tbldados[])-ROW('BASE DE DADOS'!$J$2)+1),ROWS($1:17))),\"\")","v":""},{"$f":"IFERROR(INDEX(tbldados[],MATCH(ANALISE!$B27,tbldados[[ID]:[ID]],0),MATCH(ANALISE!C$10,'BASE DE DADOS'!$A$1:$N$1,0)),\"\")","v":""},{"$f":"IFERROR(INDEX(tbldados[],MATCH(ANALISE!$B27,tbldados[[ID]:[ID]],0),MATCH(ANALISE!D$10,'BASE DE DADOS'!$A$1:$N$1,0)),\"\")","v":""},{"$f":"IFERROR(INDEX(tbldados[],MATCH(ANALISE!$B27,tbldados[[ID]:[ID]],0),MATCH(ANALISE!E$10,'BASE DE DADOS'!$A$1:$N$1,0)),\"\")","v":""},{"$f":"IFERROR(INDEX(tbldados[],MATCH(ANALISE!$B27,tbldados[[ID]:[ID]],0),MATCH(ANALISE!F$10,'BASE DE DADOS'!$A$1:$N$1,0)),\"\")","v":""},{"$f":"IFERROR(INDEX(tbldados[],MATCH(ANALISE!$B27,tbldados[[ID]:[ID]],0),MATCH(ANALISE!G$10,'BASE DE DADOS'!$A$1:$N$1,0)),\"\")","v":""},{"$f":"IFERROR(INDEX(tbldados[],MATCH(ANALISE!$B27,tbldados[[ID]:[ID]],0),MATCH(ANALISE!H$10,'BASE DE DADOS'!$A$1:$N$1,0)),\"\")","v":""},null,null,{"$f":"IFERROR(INDEX(tbldados[ID],SMALL(IF(FREQUENCY(IF((tbldados[REFERENTE]=$O$8)*(tbldados[DATA]=$F$8)*(tbldados[TIPO]=$N$8)*(tbldados[CARTÃO]=$P$8),MATCH(tbldados[ID],tbldados[ID],0)),ROW(tbldados[ID])-ROW('BASE DE DADOS'!$J$2)+1),ROW(tbldados[])-ROW('BASE DE DADOS'!$J$2)+1),ROWS($1:17))),\"\")","v":""},{"$f":"IFERROR(INDEX(tbldados[ID],SMALL(IF(FREQUENCY(IF((tbldados[REFERENTE]=$O$8)*(tbldados[DATA]=$D$5)*(tbldados[TIPO]=$N$8)*(tbldados[CARTÃO]=$P$8),MATCH(tbldados[ID],tbldados[ID],0)),ROW(tbldados[ID])-ROW('BASE DE DADOS'!$J$2)+1),ROW(tbldados[])-ROW('BASE DE DADOS'!$J$2)+1),ROWS($1:17))),\"\")","v":""},{"$f":"IFERROR(INDEX(tbldados[],MATCH(ANALISE!$L27,tbldados[[ID]:[ID]],0),MATCH(ANALISE!M$10,'BASE DE DADOS'!$A$1:$N$1,0)),\"\")","v":""},{"$f":"IFERROR(INDEX(tbldados[],MATCH(ANALISE!$L27,tbldados[[ID]:[ID]],0),MATCH(ANALISE!N$10,'BASE DE DADOS'!$A$1:$N$1,0)),\"\")","v":""},{"$f":"IFERROR(INDEX(tbldados[],MATCH(ANALISE!$L27,tbldados[[ID]:[ID]],0),MATCH(ANALISE!O$10,'BASE DE DADOS'!$A$1:$N$1,0)),\"\")","v":""},{"$f":"IFERROR(INDEX(tbldados[],MATCH(ANALISE!$L27,tbldados[[ID]:[ID]],0),MATCH(ANALISE!P$10,'BASE DE DADOS'!$A$1:$N$1,0)),\"\")","v":""},null,{"$f":"IFERROR(INDEX(tbldados[],MATCH(ANALISE!$K27,tbldados[[ID]:[ID]],0),MATCH(ANALISE!O$10,'BASE DE DADOS'!$A$1:$N$1,0)),\"\")","v":""}]
[null,{"$f":"IFERROR(INDEX(tbldados[ID],SMALL(IF(FREQUENCY(IF((tbldados[REFERENTE]=$F$2)*(tbldados[DESCRIÇÃO]=$D$4)*(tbldados[TIPO]=$F$4),MATCH(tbldados[ID],tbldados[ID],0)),ROW(tbldados[ID])-ROW('BASE DE DADOS'!$J$2)+1),ROW(tbldados[])-ROW('BASE DE DADOS'!$J$2)+1),ROWS($1:18))),\"\")","v":""},{"$f":"IFERROR(INDEX(tbldados[],MATCH(ANALISE!$B28,tbldados[[ID]:[ID]],0),MATCH(ANALISE!C$10,'BASE DE DADOS'!$A$1:$N$1,0)),\"\")","v":""},{"$f":"IFERROR(INDEX(tbldados[],MATCH(ANALISE!$B28,tbldados[[ID]:[ID]],0),MATCH(ANALISE!D$10,'BASE DE DADOS'!$A$1:$N$1,0)),\"\")","v":""},{"$f":"IFERROR(INDEX(tbldados[],MATCH(ANALISE!$B28,tbldados[[ID]:[ID]],0),MATCH(ANALISE!E$10,'BASE DE DADOS'!$A$1:$N$1,0)),\"\")","v":""},{"$f":"IFERROR(INDEX(tbldados[],MATCH(ANALISE!$B28,tbldados[[ID]:[ID]],0),MATCH(ANALISE!F$10,'BASE DE DADOS'!$A$1:$N$1,0)),\"\")","v":""},{"$f":"IFERROR(INDEX(tbldados[],MATCH(ANALISE!$B28,tbldados[[ID]:[ID]],0),MATCH(ANALISE!G$10,'BASE DE DADOS'!$A$1:$N$1,0)),\"\")","v":""},{"$f":"IFERROR(INDEX(tbldados[],MATCH(ANALISE!$B28,tbldados[[ID]:[ID]],0),MATCH(ANALISE!H$10,'BASE DE DADOS'!$A$1:$N$1,0)),\"\")","v":""},null,null,{"$f":"IFERROR(INDEX(tbldados[ID],SMALL(IF(FREQUENCY(IF((tbldados[REFERENTE]=$O$8)*(tbldados[DATA]=$F$8)*(tbldados[TIPO]=$N$8)*(tbldados[CARTÃO]=$P$8),MATCH(tbldados[ID],tbldados[ID],0)),ROW(tbldados[ID])-ROW('BASE DE DADOS'!$J$2)+1),ROW(tbldados[])-ROW('BASE DE DADOS'!$J$2)+1),ROWS($1:18))),\"\")","v":""},{"$f":"IFERROR(INDEX(tbldados[ID],SMALL(IF(FREQUENCY(IF((tbldados[REFERENTE]=$O$8)*(tbldados[DATA]=$D$5)*(tbldados[TIPO]=$N$8)*(tbldados[CARTÃO]=$P$8),MATCH(tbldados[ID],tbldados[ID],0)),ROW(tbldados[ID])-ROW('BASE DE DADOS'!$J$2)+1),ROW(tbldados[])-ROW('BASE DE DADOS'!$J$2)+1),ROWS($1:18))),\"\")","v":""},{"$f":"IFERROR(INDEX(tbldados[],MATCH(ANALISE!$L28,tbldados[[ID]:[ID]],0),MATCH(ANALISE!M$10,'BASE DE DADOS'!$A$1:$N$1,0)),\"\")","v":""},{"$f":"IFERROR(INDEX(tbldados[],MATCH(ANALISE!$L28,tbldados[[ID]:[ID]],0),MATCH(ANALISE!N$10,'BASE DE DADOS'!$A$1:$N$1,0)),\"\")","v":""},{"$f":"IFERROR(INDEX(tbldados[],MATCH(ANALISE!$L28,tbldados[[ID]:[ID]],0),MATCH(ANALISE!O$10,'BASE DE DADOS'!$A$1:$N$1,0)),\"\")","v":""},{"$f":"IFERROR(INDEX(tbldados[],MATCH(ANALISE!$L28,tbldados[[ID]:[ID]],0),MATCH(ANALISE!P$10,'BASE DE DADOS'!$A$1:$N$1,0)),\"\")","v":""},null,{"$f":"IFERROR(INDEX(tbldados[],MATCH(ANALISE!$K28,tbldados[[ID]:[ID]],0),MATCH(ANALISE!O$10,'BASE DE DADOS'!$A$1:$N$1,0)),\"\")","v":""}]
[null,{"$f":"IFERROR(INDEX(tbldados[ID],SMALL(IF(FREQUENCY(IF((tbldados[REFERENTE]=$F$2)*(tbldados[DESCRIÇÃO]=$D$4)*(tbldados[TIPO]=$F$4),MATCH(tbldados[ID],tbldados[ID],0)),ROW(tbldados[ID])-ROW('BASE DE DADOS'!$J$2)+1),ROW(tbldados[])-ROW('BASE DE DADOS'!$J$2)+1),ROWS($1:19))),\"\")","v":""},{"$f":"IFERROR(INDEX(tbldados[],MATCH(ANALISE!$B29,tbldados[[ID]:[ID]],0),MATCH(ANALISE!C$10,'BASE DE DADOS'!$A$1:$N$1,0)),\"\")","v":""},{"$f":"IFERROR(INDEX(tbldados[],MATCH(ANALISE!$B29,tbldados[[ID]:[ID]],0),MATCH(ANALISE!D$10,'BASE DE DADOS'!$A$1:$N$1,0)),\"\")","v":""},{"$f":"IFERROR(INDEX(tbldados[],MATCH(ANALISE!$B29,tbldados[[ID]:[ID]],0),MATCH(ANALISE!E$10,'BASE DE DADOS'!$A$1:$N$1,0)),\"\")","v":""},{"$f":"IFERROR(INDEX(tbldados[],MATCH(ANALISE!$B29,tbldados[[ID]:[ID]],0),MATCH(ANALISE!F$10,'BASE DE DADOS'!$A$1:$N$1,0)),\"\")","v":""},{"$f":"IFERROR(INDEX(tbldados[],MATCH(ANALISE!$B29,tbldados[[ID]:[ID]],0),MATCH(ANALISE!G$10,'BASE DE DADOS'!$A$1:$N$1,0)),\"\")","v":""},{"$f":"IFERROR(INDEX(tbldados[],MATCH(ANALISE!$B29,tbldados[[ID]:[ID]],0),MATCH(ANALISE!H$10,'BASE DE DADOS'!$A$1:$N$1,0)),\"\")","v":""},null,null,{"$f":"IFERROR(INDEX(tbldados[ID],SMALL(IF(FREQUENCY(IF((tbldados[REFERENTE]=$O$8)*(tbldados[DATA]=$F$8)*(tbldados[TIPO]=$N$8)*(tbldados[CARTÃO]=$P$8),MATCH(tbldados[ID],tbldados[ID],0)),ROW(tbldados[ID])-ROW('BASE DE DADOS'!$J$2)+1),ROW(tbldados[])-ROW('BASE DE DADOS'!$J$2)+1),ROWS($1:19))),\"\")","v":""},{"$f":"IFERROR(INDEX(tbldados[ID],SMALL(IF(FREQUENCY(IF((tbldados[REFERENTE]=$O$8)*(tbldados[DATA]=$D$5)*(tbldados[TIPO]=$N$8)*(tbldados[CARTÃO]=$P$8),MATCH(tbldados[ID],tbldados[ID],0)),ROW(tbldados[ID])-ROW('BASE DE DADOS'!$J$2)+1),ROW(tbldados[])-ROW('BASE DE DADOS'!$J$2)+1),ROWS($1:19))),\"\")","v":""},{"$f":"IFERROR(INDEX(tbldados[],MATCH(ANALISE!$L29,tbldados[[ID]:[ID]],0),MATCH(ANALISE!M$10,'BASE DE DADOS'!$A$1:$N$1,0)),\"\")","v":""},{"$f":"IFERROR(INDEX(tbldados[],MATCH(ANALISE!$L29,tbldados[[ID]:[ID]],0),MATCH(ANALISE!N$10,'BASE DE DADOS'!$A$1:$N$1,0)),\"\")","v":""},{"$f":"IFERROR(INDEX(tbldados[],MATCH(ANALISE!$L29,tbldados[[ID]:[ID]],0),MATCH(ANALISE!O$10,'BASE DE DADOS'!$A$1:$N$1,0)),\"\")","v":""},{"$f":"IFERROR(INDEX(tbldados[],MATCH(ANALISE!$L29,tbldados[[ID]:[ID]],0),MATCH(ANALISE!P$10,'BASE DE DADOS'!$A$1:$N$1,0)),\"\")","v":""},null,{"$f":"IFERROR(INDEX(tbldados[],MATCH(ANALISE!$K29,tbldados[[ID]:[ID]],0),MATCH(ANALISE!O$10,'BASE DE DADOS'!$A$1:$N$1,0)),\"\")","v":""}]
[null,{"$f":"IFERROR(INDEX(tbldados[ID],SMALL(IF(FREQUENCY(IF((tbldados[REFERENTE]=$F$2)*(tbldados[DESCRIÇÃO]=$D$4)*(tbldados[TIPO]=$F$4),MATCH(tbldados[ID],tbldados[ID],0)),ROW(tbldados[ID])-ROW('BASE DE DADOS'!$J$2)+1),ROW(tbldados[])-ROW('BASE DE DADOS'!$J$2)+1),ROWS($1:20))),\"\")","v":""},{"$f":"IFERROR(INDEX(tbldados[],MATCH(ANALISE!$B30,tbldados[[ID]:[ID]],0),MATCH(ANALISE!C$10,'BASE DE DADOS'!$A$1:$N$1,0)),\"\")","v":""},{"$f":"IFERROR(INDEX(tbldados[],MATCH(ANALISE!$B30,tbldados[[ID]:[ID]],0),MATCH(ANALISE!D$10,'BASE DE DADOS'!$A$1:$N$1,0)),\"\")","v":""},{"$f":"IFERROR(INDEX(tbldados[],MATCH(ANALISE!$B30,tbldados[[ID]:[ID]],0),MATCH(ANALISE!E$10,'BASE DE DADOS'!$A$1:$N$1,0)),\"\")","v":""},{"$f":"IFERROR(INDEX(tbldados[],MATCH(ANALISE!$B30,tbldados[[ID]:[ID]],0),MATCH(ANALISE!F$10,'BASE DE DADOS'!$A$1:$N$1,0)),\"\")","v":""},{"$f":"IFERROR(INDEX(tbldados[],MATCH(ANALISE!$B30,tbldados[[ID]:[ID]],0),MATCH(ANALISE!G$10,'BASE DE DADOS'!$A$1:$N$1,0)),\"\")","v":""},{"$f":"IFERROR(INDEX(tbldados[],MATCH(ANALISE!$B30,tbldados[[ID]:[ID]],0),MATCH(ANALISE!H$10,'BASE DE DADOS'!$A$1:$N$1,0)),\"\")","v":""},null,null,{"$f":"IFERROR(INDEX(tbldados[ID],SMALL(IF(FREQUENCY(IF((tbldados[REFERENTE]=$O$8)*(tbldados[DATA]=$F$8)*(tbldados[TIPO]=$N$8)*(tbldados[CARTÃO]=$P$8),MATCH(tbldados[ID],tbldados[ID],0)),ROW(tbldados[ID])-ROW('BASE DE DADOS'!$J$2)+1),ROW(tbldados[])-ROW('BASE DE DADOS'!$J$2)+1),ROWS($1:20))),\"\")","v":""},{"$f":"IFERROR(INDEX(tbldados[ID],SMALL(IF(FREQUENCY(IF((tbldados[REFERENTE]=$O$8)*(tbldados[DATA]=$D$5)*(tbldados[TIPO]=$N$8)*(tbldados[CARTÃO]=$P$8),MATCH(tbldados[ID],tbldados[ID],0)),ROW(tbldados[ID])-ROW('BASE DE DADOS'!$J$2)+1),ROW(tbldados[])-ROW('BASE DE DADOS'!$J$2)+1),ROWS($1:20))),\"\")","v":""},{"$f":"IFERROR(INDEX(tbldados[],MATCH(ANALISE!$L30,tbldados[[ID]:[ID]],0),MATCH(ANALISE!M$10,'BASE DE DADOS'!$A$1:$N$1,0)),\"\")","v":""},{"$f":"IFERROR(INDEX(tbldados[],MATCH(ANALISE!$L30,tbldados[[ID]:[ID]],0),MATCH(ANALISE!N$10,'BASE DE DADOS'!$A$1:$N$1,0)),\"\")","v":""},{"$f":"IFERROR(INDEX(tbldados[],MATCH(ANALISE!$L30,tbldados[[ID]:[ID]],0),MATCH(ANALISE!O$10,'BASE DE DADOS'!$A$1:$N$1,0)),\"\")","v":""},{"$f":"IFERROR(INDEX(tbldados[],MATCH(ANALISE!$L30,tbldados[[ID]:[ID]],0),MATCH(ANALISE!P$10,'BASE DE DADOS'!$A$1:$N$1,0)),\"\")","v":""},null,{"$f":"IFERROR(INDEX(tbldados[],MATCH(ANALISE!$K30,tbldados[[ID]:[ID]],0),MATCH(ANALISE!O$10,'BASE DE DADOS'!$A$1:$N$1,0)),\"\")","v":""}]
[null,{"$f":"IFERROR(INDEX(tbldados[ID],SMALL(IF(FREQUENCY(IF((tbldados[REFERENTE]=$F$2)*(tbldados[DESCRIÇÃO]=$D$4)*(tbldados[TIPO]=$F$4),MATCH(tbldados[ID],tbldados[ID],0)),ROW(tbldados[ID])-ROW('BASE DE DADOS'!$J$2)+1),ROW(tbldados[])-ROW('BASE DE DADOS'!$J$2)+1),ROWS($1:21))),\"\")","v":""},{"$f":"IFERROR(INDEX(tbldados[],MATCH(ANALISE!$B31,tbldados[[ID]:[ID]],0),MATCH(ANALISE!C$10,'BASE DE DADOS'!$A$1:$N$1,0)),\"\")","v":""},{"$f":"IFERROR(INDEX(tbldados[],MATCH(ANALISE!$B31,tbldados[[ID]:[ID]],0),MATCH(ANALISE!D$10,'BASE DE DADOS'!$A$1:$N$1,0)),\"\")","v":""},{"$f":"IFERROR(INDEX(tbldados[],MATCH(ANALISE!$B31,tbldados[[ID]:[ID]],0),MATCH(ANALISE!E$10,'BASE DE DADOS'!$A$1:$N$1,0)),\"\")","v":""},{"$f":"IFERROR(INDEX(tbldados[],MATCH(ANALISE!$B31,tbldados[[ID]:[ID]],0),MATCH(ANALISE!F$10,'BASE DE DADOS'!$A$1:$N$1,0)),\"\")","v":""},{"$f":"IFERROR(INDEX(tbldados[],MATCH(ANALISE!$B31,tbldados[[ID]:[ID]],0),MATCH(ANALISE!G$10,'BASE DE DADOS'!$A$1:$N$1,0)),\"\")","v":""},{"$f":"IFERROR(INDEX(tbldados[],MATCH(ANALISE!$B31,tbldados[[ID]:[ID]],0),MATCH(ANALISE!H$10,'BASE DE DADOS'!$A$1:$N$1,0)),\"\")","v":""},null,null,null,{"$f":"IFERROR(INDEX(tbldados[ID],SMALL(IF(FREQUENCY(IF((tbldados[REFERENTE]=$O$8)*(tbldados[DATA]=$D$5)*(tbldados[TIPO]=$N$8)*(tbldados[CARTÃO]=$P$8),MATCH(tbldados[ID],tbldados[ID],0)),ROW(tbldados[ID])-ROW('BASE DE DADOS'!$J$2)+1),ROW(tbldados[])-ROW('BASE DE DADOS'!$J$2)+1),ROWS($1:21))),\"\")","v":""},{"$f":"IFERROR(INDEX(tbldados[],MATCH(ANALISE!$L31,tbldados[[ID]:[ID]],0),MATCH(ANALISE!M$10,'BASE DE DADOS'!$A$1:$N$1,0)),\"\")","v":""},{"$f":"IFERROR(INDEX(tbldados[],MATCH(ANALISE!$L31,tbldados[[ID]:[ID]],0),MATCH(ANALISE!N$10,'BASE DE DADOS'!$A$1:$N$1,0)),\"\")","v":""},{"$f":"IFERROR(INDEX(tbldados[],MATCH(ANALISE!$L31,tbldados[[ID]:[ID]],0),MATCH(ANALISE!O$10,'BASE DE DADOS'!$A$1:$N$1,0)),\"\")","v":""},{"$f":"IFERROR(INDEX(tbldados[],MATCH(ANALISE!$L31,tbldados[[ID]:[ID]],0),MATCH(ANALISE!P$10,'BASE DE DADOS'!$A$1:$N$1,0)),\"\")","v":""}]
[null,{"$f":"IFERROR(INDEX(tbldados[ID],SMALL(IF(FREQUENCY(IF((tbldados[REFERENTE]=$F$2)*(tbldados[DESCRIÇÃO]=$D$4)*(tbldados[TIPO]=$F$4),MATCH(tbldados[ID],tbldados[ID],0)),ROW(tbldados[ID])-ROW('BASE DE DADOS'!$J$2)+1),ROW(tbldados[])-ROW('BASE DE DADOS'!$J$2)+1),ROWS($1:22))),\"\")","v":""},{"$f":"IFERROR(INDEX(tbldados[],MATCH(ANALISE!$B32,tbldados[[ID]:[ID]],0),MATCH(ANALISE!C$10,'BASE DE DADOS'!$A$1:$N$1,0)),\"\")","v":""},{"$f":"IFERROR(INDEX(tbldados[],MATCH(ANALISE!$B32,tbldados[[ID]:[ID]],0),MATCH(ANALISE!D$10,'BASE DE DADOS'!$A$1:$N$1,0)),\"\")","v":""},{"$f":"IFERROR(INDEX(tbldados[],MATCH(ANALISE!$B32,tbldados[[ID]:[ID]],0),MATCH(ANALISE!E$10,'BASE DE DADOS'!$A$1:$N$1,0)),\"\")","v":""},{"$f":"IFERROR(INDEX(tbldados[],MATCH(ANALISE!$B32,tbldados[[ID]:[ID]],0),MATCH(ANALISE!F$10,'BASE DE DADOS'!$A$1:$N$1,0)),\"\")","v":""},{"$f":"IFERROR(INDEX(tbldados[],MATCH(ANALISE!$B32,tbldados[[ID]:[ID]],0),MATCH(ANALISE!G$10,'BASE DE DADOS'!$A$1:$N$1,0)),\"\")","v":""},{"$f":"IFERROR(INDEX(tbldados[],MATCH(ANALISE!$B32,tbldados[[ID]:[ID]],0),MATCH(ANALISE!H$10,'BASE DE DADOS'!$A$1:$N$1,0)),\"\")","v":""},null,null,null,{"$f":"IFERROR(INDEX(tbldados[ID],SMALL(IF(FREQUENCY(IF((tbldados[REFERENTE]=$O$8)*(tbldados[DATA]=$D$5)*(tbldados[TIPO]=$N$8)*(tbldados[CARTÃO]=$P$8),MATCH(tbldados[ID],tbldados[ID],0)),ROW(tbldados[ID])-ROW('BASE DE DADOS'!$J$2)+1),ROW(tbldados[])-ROW('BASE DE DADOS'!$J$2)+1),ROWS($1:22))),\"\")","v":""},{"$f":"IFERROR(INDEX(tbldados[],MATCH(ANALISE!$L32,tbldados[[ID]:[ID]],0),MATCH(ANALISE!M$10,'BASE DE DADOS'!$A$1:$N$1,0)),\"\")","v":""},{"$f":"IFERROR(INDEX(tbldados[],MATCH(ANALISE!$L32,tbldados[[ID]:[ID]],0),MATCH(ANALISE!N$10,'BASE DE DADOS'!$A$1:$N$1,0)),\"\")","v":""},{"$f":"IFERROR(INDEX(tbldados[],MATCH(ANALISE!$L32,tbldados[[ID]:[ID]],0),MATCH(ANALISE!O$10,'BASE DE DADOS'!$A$1:$N$1,0)),\"\")","v":""},{"$f":"IFERROR(INDEX(tbldados[],MATCH(ANALISE!$L32,tbldados[[ID]:[ID]],0),MATCH(ANALISE!P$10,'BASE DE DADOS'!$A$1:$N$1,0)),\"\")","v":""}]
[null,{"$f":"IFERROR(INDEX(tbldados[ID],SMALL(IF(FREQUENCY(IF((tbldados[REFERENTE]=$F$2)*(tbldados[DESCRIÇÃO]=$D$4)*(tbldados[TIPO]=$F$4),MATCH(tbldados[ID],tbldados[ID],0)),ROW(tbldados[ID])-ROW('BASE DE DADOS'!$J$2)+1),ROW(tbldados[])-ROW('BASE DE DADOS'!$J$2)+1),ROWS($1:23))),\"\")","v":""},{"$f":"IFERROR(INDEX(tbldados[],MATCH(ANALISE!$B33,tbldados[[ID]:[ID]],0),MATCH(ANALISE!C$10,'BASE DE DADOS'!$A$1:$N$1,0)),\"\")","v":""},{"$f":"IFERROR(INDEX(tbldados[],MATCH(ANALISE!$B33,tbldados[[ID]:[ID]],0),MATCH(ANALISE!D$10,'BASE DE DADOS'!$A$1:$N$1,0)),\"\")","v":""},{"$f":"IFERROR(INDEX(tbldados[],MATCH(ANALISE!$B33,tbldados[[ID]:[ID]],0),MATCH(ANALISE!E$10,'BASE DE DADOS'!$A$1:$N$1,0)),\"\")","v":""},{"$f":"IFERROR(INDEX(tbldados[],MATCH(ANALISE!$B33,tbldados[[ID]:[ID]],0),MATCH(ANALISE!F$10,'BASE DE DADOS'!$A$1:$N$1,0)),\"\")","v":""},{"$f":"IFERROR(INDEX(tbldados[],MATCH(ANALISE!$B33,tbldados[[ID]:[ID]],0),MATCH(ANALISE!G$10,'BASE DE DADOS'!$A$1:$N$1,0)),\"\")","v":""},{"$f":"IFERROR(INDEX(tbldados[],MATCH(ANALISE!$B33,tbldados[[ID]:[ID]],0),MATCH(ANALISE!H$10,'BASE DE DADOS'!$A$1:$N$1,0)),\"\")","v":""},null,null,null,{"$f":"IFERROR(INDEX(tbldados[ID],SMALL(IF(FREQUENCY(IF((tbldados[REFERENTE]=$O$8)*(tbldados[DATA]=$D$5)*(tbldados[TIPO]=$N$8)*(tbldados[CARTÃO]=$P$8),MATCH(tbldados[ID],tbldados[ID],0)),ROW(tbldados[ID])-ROW('BASE DE DADOS'!$J$2)+1),ROW(tbldados[])-ROW('BASE DE DADOS'!$J$2)+1),ROWS($1:23))),\"\")","v":""},{"$f":"IFERROR(INDEX(tbldados[],MATCH(ANALISE!$L33,tbldados[[ID]:[ID]],0),MATCH(ANALISE!M$10,'BASE DE DADOS'!$A$1:$N$1,0)),\"\")","v":""},{"$f":"IFERROR(INDEX(tbldados[],MATCH(ANALISE!$L33,tbldados[[ID]:[ID]],0),MATCH(ANALISE!N$10,'BASE DE DADOS'!$A$1:$N$1,0)),\"\")","v":""},{"$f":"IFERROR(INDEX(tbldados[],MATCH(ANALISE!$L33,tbldados[[ID]:[ID]],0),MATCH(ANALISE!O$10,'BASE DE DADOS'!$A$1:$N$1,0)),\"\")","v":""},{"$f":"IFERROR(INDEX(tbldados[],MATCH(ANALISE!$L33,tbldados[[ID]:[ID]],0),MATCH(ANALISE!P$10,'BASE DE DADOS'!$A$1:$N$1,0)),\"\")","v":""}]
[null,{"$f":"IFERROR(INDEX(tbldados[ID],SMALL(IF(FREQUENCY(IF((tbldados[REFERENTE]=$F$2)*(tbldados[DESCRIÇÃO]=$D$4)*(tbldados[TIPO]=$F$4),MATCH(tbldados[ID],tbldados[ID],0)),ROW(tbldados[ID])-ROW('BASE DE DADOS'!$J$2)+1),ROW(tbldados[])-ROW('BASE DE DADOS'!$J$2)+1),ROWS($1:24))),\"\")","v":""},{"$f":"IFERROR(INDEX(tbldados[],MATCH(ANALISE!$B34,tbldados[[ID]:[ID]],0),MATCH(ANALISE!C$10,'BASE DE DADOS'!$A$1:$N$1,0)),\"\")","v":""},{"$f":"IFERROR(INDEX(tbldados[],MATCH(ANALISE!$B34,tbldados[[ID]:[ID]],0),MATCH(ANALISE!D$10,'BASE DE DADOS'!$A$1:$N$1,0)),\"\")","v":""},{"$f":"IFERROR(INDEX(tbldados[],MATCH(ANALISE!$B34,tbldados[[ID]:[ID]],0),MATCH(ANALISE!E$10,'BASE DE DADOS'!$A$1:$N$1,0)),\"\")","v":""},{"$f":"IFERROR(INDEX(tbldados[],MATCH(ANALISE!$B34,tbldados[[ID]:[ID]],0),MATCH(ANALISE!F$10,'BASE DE DADOS'!$A$1:$N$1,0)),\"\")","v":""},{"$f":"IFERROR(INDEX(tbldados[],MATCH(ANALISE!$B34,tbldados[[ID]:[ID]],0),MATCH(ANALISE!G$10,'BASE DE DADOS'!$A$1:$N$1,0)),\"\")","v":""},{"$f":"IFERROR(INDEX(tbldados[],MATCH(ANALISE!$B34,tbldados[[ID]:[ID]],0),MATCH(ANALISE!H$10,'BASE DE DADOS'!$A$1:$N$1,0)),\"\")","v":""},null,null,null,{"$f":"IFERROR(INDEX(tbldados[ID],SMALL(IF(FREQUENCY(IF((tbldados[REFERENTE]=$O$8)*(tbldados[DATA]=$D$5)*(tbldados[TIPO]=$N$8)*(tbldados[CARTÃO]=$P$8),MATCH(tbldados[ID],tbldados[ID],0)),ROW(tbldados[ID])-ROW('BASE DE DADOS'!$J$2)+1),ROW(tbldados[])-ROW('BASE DE DADOS'!$J$2)+1),ROWS($1:24))),\"\")","v":""},{"$f":"IFERROR(INDEX(tbldados[],MATCH(ANALISE!$L34,tbldados[[ID]:[ID]],0),MATCH(ANALISE!M$10,'BASE DE DADOS'!$A$1:$N$1,0)),\"\")","v":""},{"$f":"IFERROR(INDEX(tbldados[],MATCH(ANALISE!$L34,tbldados[[ID]:[ID]],0),MATCH(ANALISE!N$10,'BASE DE DADOS'!$A$1:$N$1,0)),\"\")","v":""},{"$f":"IFERROR(INDEX(tbldados[],MATCH(ANALISE!$L34,tbldados[[ID]:[ID]],0),MATCH(ANALISE!O$10,'BASE DE DADOS'!$A$1:$N$1,0)),\"\")","v":""},{"$f":"IFERROR(INDEX(tbldados[],MATCH(ANALISE!$L34,tbldados[[ID]:[ID]],0),MATCH(ANALISE!P$10,'BASE DE DADOS'!$A$1:$N$1,0)),\"\")","v":""}]
[null,{"$f":"IFERROR(INDEX(tbldados[ID],SMALL(IF(FREQUENCY(IF((tbldados[REFERENTE]=$F$2)*(tbldados[DESCRIÇÃO]=$D$4)*(tbldados[TIPO]=$F$4),MATCH(tbldados[ID],tbldados[ID],0)),ROW(tbldados[ID])-ROW('BASE DE DADOS'!$J$2)+1),ROW(tbldados[])-ROW('BASE DE DADOS'!$J$2)+1),ROWS($1:25))),\"\")","v":""},{"$f":"IFERROR(INDEX(tbldados[],MATCH(ANALISE!$B35,tbldados[[ID]:[ID]],0),MATCH(ANALISE!C$10,'BASE DE DADOS'!$A$1:$N$1,0)),\"\")","v":""},{"$f":"IFERROR(INDEX(tbldados[],MATCH(ANALISE!$B35,tbldados[[ID]:[ID]],0),MATCH(ANALISE!D$10,'BASE DE DADOS'!$A$1:$N$1,0)),\"\")","v":""},{"$f":"IFERROR(INDEX(tbldados[],MATCH(ANALISE!$B35,tbldados[[ID]:[ID]],0),MATCH(ANALISE!E$10,'BASE DE DADOS'!$A$1:$N$1,0)),\"\")","v":""},{"$f":"IFERROR(INDEX(tbldados[],MATCH(ANALISE!$B35,tbldados[[ID]:[ID]],0),MATCH(ANALISE!F$10,'BASE DE DADOS'!$A$1:$N$1,0)),\"\")","v":""},{"$f":"IFERROR(INDEX(tbldados[],MATCH(ANALISE!$B35,tbldados[[ID]:[ID]],0),MATCH(ANALISE!G$10,'BASE DE DADOS'!$A$1:$N$1,0)),\"\")","v":""},{"$f":"IFERROR(INDEX(tbldados[],MATCH(ANALISE!$B35,tbldados[[ID]:[ID]],0),MATCH(ANALISE!H$10,'BASE DE DADOS'!$A$1:$N$1,0)),\"\")","v":""},null,null,null,{"$f":"IFERROR(INDEX(tbldados[ID],SMALL(IF(FREQUENCY(IF((tbldados[REFERENTE]=$O$8)*(tbldados[DATA]=$D$5)*(tbldados[TIPO]=$N$8)*(tbldados[CARTÃO]=$P$8),MATCH(tbldados[ID],tbldados[ID],0)),ROW(tbldados[ID])-ROW('BASE DE DADOS'!$J$2)+1),ROW(tbldados[])-ROW('BASE DE DADOS'!$J$2)+1),ROWS($1:25))),\"\")","v":""},{"$f":"IFERROR(INDEX(tbldados[],MATCH(ANALISE!$L35,tbldados[[ID]:[ID]],0),MATCH(ANALISE!M$10,'BASE DE DADOS'!$A$1:$N$1,0)),\"\")","v":""},{"$f":"IFERROR(INDEX(tbldados[],MATCH(ANALISE!$L35,tbldados[[ID]:[ID]],0),MATCH(ANALISE!N$10,'BASE DE DADOS'!$A$1:$N$1,0)),\"\")","v":""},{"$f":"IFERROR(INDEX(tbldados[],MATCH(ANALISE!$L35,tbldados[[ID]:[ID]],0),MATCH(ANALISE!O$10,'BASE DE DADOS'!$A$1:$N$1,0)),\"\")","v":""},{"$f":"IFERROR(INDEX(tbldados[],MATCH(ANALISE!$L35,tbldados[[ID]:[ID]],0),MATCH(ANALISE!P$10,'BASE DE DADOS'!$A$1:$N$1,0)),\"\")","v":""}]
[null,{"$f":"IFERROR(INDEX(tbldados[ID],SMALL(IF(FREQUENCY(IF((tbldados[REFERENTE]=$F$2)*(tbldados[DESCRIÇÃO]=$D$4)*(tbldados[TIPO]=$F$4),MATCH(tbldados[ID],tbldados[ID],0)),ROW(tbldados[ID])-ROW('BASE DE DADOS'!$J$2)+1),ROW(tbldados[])-ROW('BASE DE DADOS'!$J$2)+1),ROWS($1:26))),\"\")","v":""},{"$f":"IFERROR(INDEX(tbldados[],MATCH(ANALISE!$B36,tbldados[[ID]:[ID]],0),MATCH(ANALISE!C$10,'BASE DE DADOS'!$A$1:$N$1,0)),\"\")","v":""},{"$f":"IFERROR(INDEX(tbldados[],MATCH(ANALISE!$B36,tbldados[[ID]:[ID]],0),MATCH(ANALISE!D$10,'BASE DE DADOS'!$A$1:$N$1,0)),\"\")","v":""},{"$f":"IFERROR(INDEX(tbldados[],MATCH(ANALISE!$B36,tbldados[[ID]:[ID]],0),MATCH(ANALISE!E$10,'BASE DE DADOS'!$A$1:$N$1,0)),\"\")","v":""},{"$f":"IFERROR(INDEX(tbldados[],MATCH(ANALISE!$B36,tbldados[[ID]:[ID]],0),MATCH(ANALISE!F$10,'BASE DE DADOS'!$A$1:$N$1,0)),\"\")","v":""},{"$f":"IFERROR(INDEX(tbldados[],MATCH(ANALISE!$B36,tbldados[[ID]:[ID]],0),MATCH(ANALISE!G$10,'BASE DE DADOS'!$A$1:$N$1,0)),\"\")","v":""},{"$f":"IFERROR(INDEX(tbldados[],MATCH(ANALISE!$B36,tbldados[[ID]:[ID]],0),MATCH(ANALISE!H$10,'BASE DE DADOS'!$A$1:$N$1,0)),\"\")","v":""},null,null,null,{"$f":"IFERROR(INDEX(tbldados[ID],SMALL(IF(FREQUENCY(IF((tbldados[REFERENTE]=$O$8)*(tbldados[DATA]=$D$5)*(tbldados[TIPO]=$N$8)*(tbldados[CARTÃO]=$P$8),MATCH(tbldados[ID],tbldados[ID],0)),ROW(tbldados[ID])-ROW('BASE DE DADOS'!$J$2)+1),ROW(tbldados[])-ROW('BASE DE DADOS'!$J$2)+1),ROWS($1:26))),\"\")","v":""},{"$f":"IFERROR(INDEX(tbldados[],MATCH(ANALISE!$L36,tbldados[[ID]:[ID]],0),MATCH(ANALISE!M$10,'BASE DE DADOS'!$A$1:$N$1,0)),\"\")","v":""},{"$f":"IFERROR(INDEX(tbldados[],MATCH(ANALISE!$L36,tbldados[[ID]:[ID]],0),MATCH(ANALISE!N$10,'BASE DE DADOS'!$A$1:$N$1,0)),\"\")","v":""},{"$f":"IFERROR(INDEX(tbldados[],MATCH(ANALISE!$L36,tbldados[[ID]:[ID]],0),MATCH(ANALISE!O$10,'BASE DE DADOS'!$A$1:$N$1,0)),\"\")","v":""},{"$f":"IFERROR(INDEX(tbldados[],MATCH(ANALISE!$L36,tbldados[[ID]:[ID]],0),MATCH(ANALISE!P$10,'BASE DE DADOS'!$A$1:$N$1,0)),\"\")","v":""}]
[null,{"$f":"IFERROR(INDEX(tbldados[ID],SMALL(IF(FREQUENCY(IF((tbldados[REFERENTE]=$F$2)*(tbldados[DESCRIÇÃO]=$D$4)*(tbldados[TIPO]=$F$4),MATCH(tbldados[ID],tbldados[ID],0)),ROW(tbldados[ID])-ROW('BASE DE DADOS'!$J$2)+1),ROW(tbldados[])-ROW('BASE DE DADOS'!$J$2)+1),ROWS($1:27))),\"\")","v":""},{"$f":"IFERROR(INDEX(tbldados[],MATCH(ANALISE!$B37,tbldados[[ID]:[ID]],0),MATCH(ANALISE!C$10,'BASE DE DADOS'!$A$1:$N$1,0)),\"\")","v":""},{"$f":"IFERROR(INDEX(tbldados[],MATCH(ANALISE!$B37,tbldados[[ID]:[ID]],0),MATCH(ANALISE!D$10,'BASE DE DADOS'!$A$1:$N$1,0)),\"\")","v":""},{"$f":"IFERROR(INDEX(tbldados[],MATCH(ANALISE!$B37,tbldados[[ID]:[ID]],0),MATCH(ANALISE!E$10,'BASE DE DADOS'!$A$1:$N$1,0)),\"\")","v":""},{"$f":"IFERROR(INDEX(tbldados[],MATCH(ANALISE!$B37,tbldados[[ID]:[ID]],0),MATCH(ANALISE!F$10,'BASE DE DADOS'!$A$1:$N$1,0)),\"\")","v":""},{"$f":"IFERROR(INDEX(tbldados[],MATCH(ANALISE!$B37,tbldados[[ID]:[ID]],0),MATCH(ANALISE!G$10,'BASE DE DADOS'!$A$1:$N$1,0)),\"\")","v":""},{"$f":"IFERROR(INDEX(tbldados[],MATCH(ANALISE!$B37,tbldados[[ID]:[ID]],0),MATCH(ANALISE!H$10,'BASE DE DADOS'!$A$1:$N$1,0)),\"\")","v":""},null,null,null,{"$f":"IFERROR(INDEX(tbldados[ID],SMALL(IF(FREQUENCY(IF((tbldados[REFERENTE]=$O$8)*(tbldados[DATA]=$D$5)*(tbldados[TIPO]=$N$8)*(tbldados[CARTÃO]=$P$8),MATCH(tbldados[ID],tbldados[ID],0)),ROW(tbldados[ID])-ROW('BASE DE DADOS'!$J$2)+1),ROW(tbldados[])-ROW('BASE DE DADOS'!$J$2)+1),ROWS($1:27))),\"\")","v":""},{"$f":"IFERROR(INDEX(tbldados[],MATCH(ANALISE!$L37,tbldados[[ID]:[ID]],0),MATCH(ANALISE!M$10,'BASE DE DADOS'!$A$1:$N$1,0)),\"\")","v":""},{"$f":"IFERROR(INDEX(tbldados[],MATCH(ANALISE!$L37,tbldados[[ID]:[ID]],0),MATCH(ANALISE!N$10,'BASE DE DADOS'!$A$1:$N$1,0)),\"\")","v":""},{"$f":"IFERROR(INDEX(tbldados[],MATCH(ANALISE!$L37,tbldados[[ID]:[ID]],0),MATCH(ANALISE!O$10,'BASE DE DADOS'!$A$1:$N$1,0)),\"\")","v":""},{"$f":"IFERROR(INDEX(tbldados[],MATCH(ANALISE!$L37,tbldados[[ID]:[ID]],0),MATCH(ANALISE!P$10,'BASE DE DADOS'!$A$1:$N$1,0)),\"\")","v":""}]
[null,{"$f":"IFERROR(INDEX(tbldados[ID],SMALL(IF(FREQUENCY(IF((tbldados[REFERENTE]=$F$2)*(tbldados[DESCRIÇÃO]=$D$4)*(tbldados[TIPO]=$F$4),MATCH(tbldados[ID],tbldados[ID],0)),ROW(tbldados[ID])-ROW('BASE DE DADOS'!$J$2)+1),ROW(tbldados[])-ROW('BASE DE DADOS'!$J$2)+1),ROWS($1:28))),\"\")","v":""},{"$f":"IFERROR(INDEX(tbldados[],MATCH(ANALISE!$B38,tbldados[[ID]:[ID]],0),MATCH(ANALISE!C$10,'BASE DE DADOS'!$A$1:$N$1,0)),\"\")","v":""},{"$f":"IFERROR(INDEX(tbldados[],MATCH(ANALISE!$B38,tbldados[[ID]:[ID]],0),MATCH(ANALISE!D$10,'BASE DE DADOS'!$A$1:$N$1,0)),\"\")","v":""},{"$f":"IFERROR(INDEX(tbldados[],MATCH(ANALISE!$B38,tbldados[[ID]:[ID]],0),MATCH(ANALISE!E$10,'BASE DE DADOS'!$A$1:$N$1,0)),\"\")","v":""},{"$f":"IFERROR(INDEX(tbldados[],MATCH(ANALISE!$B38,tbldados[[ID]:[ID]],0),MATCH(ANALISE!F$10,'BASE DE DADOS'!$A$1:$N$1,0)),\"\")","v":""},{"$f":"IFERROR(INDEX(tbldados[],MATCH(ANALISE!$B38,tbldados[[ID]:[ID]],0),MATCH(ANALISE!G$10,'BASE DE DADOS'!$A$1:$N$1,0)),\"\")","v":""},{"$f":"IFERROR(INDEX(tbldados[],MATCH(ANALISE!$B38,tbldados[[ID]:[ID]],0),MATCH(ANALISE!H$10,'BASE DE DADOS'!$A$1:$N$1,0)),\"\")","v":""},null,null,null,{"$f":"IFERROR(INDEX(tbldados[ID],SMALL(IF(FREQUENCY(IF((tbldados[REFERENTE]=$O$8)*(tbldados[DATA]=$D$5)*(tbldados[TIPO]=$N$8)*(tbldados[CARTÃO]=$P$8),MATCH(tbldados[ID],tbldados[ID],0)),ROW(tbldados[ID])-ROW('BASE DE DADOS'!$J$2)+1),ROW(tbldados[])-ROW('BASE DE DADOS'!$J$2)+1),ROWS($1:28))),\"\")","v":""},{"$f":"IFERROR(INDEX(tbldados[],MATCH(ANALISE!$L38,tbldados[[ID]:[ID]],0),MATCH(ANALISE!M$10,'BASE DE DADOS'!$A$1:$N$1,0)),\"\")","v":""},{"$f":"IFERROR(INDEX(tbldados[],MATCH(ANALISE!$L38,tbldados[[ID]:[ID]],0),MATCH(ANALISE!N$10,'BASE DE DADOS'!$A$1:$N$1,0)),\"\")","v":""},{"$f":"IFERROR(INDEX(tbldados[],MATCH(ANALISE!$L38,tbldados[[ID]:[ID]],0),MATCH(ANALISE!O$10,'BASE DE DADOS'!$A$1:$N$1,0)),\"\")","v":""},{"$f":"IFERROR(INDEX(tbldados[],MATCH(ANALISE!$L38,tbldados[[ID]:[ID]],0),MATCH(ANALISE!P$10,'BASE DE DADOS'!$A$1:$N$1,0)),\"\")","v":""}]
[null,{"$f":"IFERROR(INDEX(tbldados[ID],SMALL(IF(FREQUENCY(IF((tbldados[REFERENTE]=$F$2)*(tbldados[DESCRIÇÃO]=$D$4)*(tbldados[TIPO]=$F$4),MATCH(tbldados[ID],tbldados[ID],0)),ROW(tbldados[ID])-ROW('BASE DE DADOS'!$J$2)+1),ROW(tbldados[])-ROW('BASE DE DADOS'!$J$2)+1),ROWS($1:29))),\"\")","v":""},{"$f":"IFERROR(INDEX(tbldados[],MATCH(ANALISE!$B39,tbldados[[ID]:[ID]],0),MATCH(ANALISE!C$10,'BASE DE DADOS'!$A$1:$N$1,0)),\"\")","v":""},{"$f":"IFERROR(INDEX(tbldados[],MATCH(ANALISE!$B39,tbldados[[ID]:[ID]],0),MATCH(ANALISE!D$10,'BASE DE DADOS'!$A$1:$N$1,0)),\"\")","v":""},{"$f":"IFERROR(INDEX(tbldados[],MATCH(ANALISE!$B39,tbldados[[ID]:[ID]],0),MATCH(ANALISE!E$10,'BASE DE DADOS'!$A$1:$N$1,0)),\"\")","v":""},{"$f":"IFERROR(INDEX(tbldados[],MATCH(ANALISE!$B39,tbldados[[ID]:[ID]],0),MATCH(ANALISE!F$10,'BASE DE DADOS'!$A$1:$N$1,0)),\"\")","v":""},{"$f":"IFERROR(INDEX(tbldados[],MATCH(ANALISE!$B39,tbldados[[ID]:[ID]],0),MATCH(ANALISE!G$10,'BASE DE DADOS'!$A$1:$N$1,0)),\"\")","v":""},{"$f":"IFERROR(INDEX(tbldados[],MATCH(ANALISE!$B39,tbldados[[ID]:[ID]],0),MATCH(ANALISE!H$10,'BASE DE DADOS'!$A$1:$N$1,0)),\"\")","v":""},null,null,null,{"$f":"IFERROR(INDEX(tbldados[ID],SMALL(IF(FREQUENCY(IF((tbldados[REFERENTE]=$O$8)*(tbldados[DATA]=$D$5)*(tbldados[TIPO]=$N$8)*(tbldados[CARTÃO]=$P$8),MATCH(tbldados[ID],tbldados[ID],0)),ROW(tbldados[ID])-ROW('BASE DE DADOS'!$J$2)+1),ROW(tbldados[])-ROW('BASE DE DADOS'!$J$2)+1),ROWS($1:29))),\"\")","v":""},{"$f":"IFERROR(INDEX(tbldados[],MATCH(ANALISE!$L39,tbldados[[ID]:[ID]],0),MATCH(ANALISE!M$10,'BASE DE DADOS'!$A$1:$N$1,0)),\"\")","v":""},{"$f":"IFERROR(INDEX(tbldados[],MATCH(ANALISE!$L39,tbldados[[ID]:[ID]],0),MATCH(ANALISE!N$10,'BASE DE DADOS'!$A$1:$N$1,0)),\"\")","v":""},{"$f":"IFERROR(INDEX(tbldados[],MATCH(ANALISE!$L39,tbldados[[ID]:[ID]],0),MATCH(ANALISE!O$10,'BASE DE DADOS'!$A$1:$N$1,0)),\"\")","v":""},{"$f":"IFERROR(INDEX(tbldados[],MATCH(ANALISE!$L39,tbldados[[ID]:[ID]],0),MATCH(ANALISE!P$10,'BASE DE DADOS'!$A$1:$N$1,0)),\"\")","v":""}]
[null,{"$f":"IFERROR(INDEX(tbldados[ID],SMALL(IF(FREQUENCY(IF((tbldados[REFERENTE]=$F$2)*(tbldados[DESCRIÇÃO]=$D$4)*(tbldados[TIPO]=$F$4),MATCH(tbldados[ID],tbldados[ID],0)),ROW(tbldados[ID])-ROW('BASE DE DADOS'!$J$2)+1),ROW(tbldados[])-ROW('BASE DE DADOS'!$J$2)+1),ROWS($1:30))),\"\")","v":""},{"$f":"IFERROR(INDEX(tbldados[],MATCH(ANALISE!$B40,tbldados[[ID]:[ID]],0),MATCH(ANALISE!C$10,'BASE DE DADOS'!$A$1:$N$1,0)),\"\")","v":""},{"$f":"IFERROR(INDEX(tbldados[],MATCH(ANALISE!$B40,tbldados[[ID]:[ID]],0),MATCH(ANALISE!D$10,'BASE DE DADOS'!$A$1:$N$1,0)),\"\")","v":""},{"$f":"IFERROR(INDEX(tbldados[],MATCH(ANALISE!$B40,tbldados[[ID]:[ID]],0),MATCH(ANALISE!E$10,'BASE DE DADOS'!$A$1:$N$1,0)),\"\")","v":""},{"$f":"IFERROR(INDEX(tbldados[],MATCH(ANALISE!$B40,tbldados[[ID]:[ID]],0),MATCH(ANALISE!F$10,'BASE DE DADOS'!$A$1:$N$1,0)),\"\")","v":""},{"$f":"IFERROR(INDEX(tbldados[],MATCH(ANALISE!$B40,tbldados[[ID]:[ID]],0),MATCH(ANALISE!G$10,'BASE DE DADOS'!$A$1:$N$1,0)),\"\")","v":""},{"$f":"IFERROR(INDEX(tbldados[],MATCH(ANALISE!$B40,tbldados[[ID]:[ID]],0),MATCH(ANALISE!H$10,'BASE DE DADOS'!$A$1:$N$1,0)),\"\")","v":""},null,null,null,{"$f":"IFERROR(INDEX(tbldados[ID],SMALL(IF(FREQUENCY(IF((tbldados[REFERENTE]=$O$8)*(tbldados[DATA]=$D$5)*(tbldados[TIPO]=$N$8)*(tbldados[CARTÃO]=$P$8),MATCH(tbldados[ID],tbldados[ID],0)),ROW(tbldados[ID])-ROW('BASE DE DADOS'!$J$2)+1),ROW(tbldados[])-ROW('BASE DE DADOS'!$J$2)+1),ROWS($1:30))),\"\")","v":""},{"$f":"IFERROR(INDEX(tbldados[],MATCH(ANALISE!$L40,tbldados[[ID]:[ID]],0),MATCH(ANALISE!M$10,'BASE DE DADOS'!$A$1:$N$1,0)),\"\")","v":""},{"$f":"IFERROR(INDEX(tbldados[],MATCH(ANALISE!$L40,tbldados[[ID]:[ID]],0),MATCH(ANALISE!N$10,'BASE DE DADOS'!$A$1:$N$1,0)),\"\")","v":""},{"$f":"IFERROR(INDEX(tbldados[],MATCH(ANALISE!$L40,tbldados[[ID]:[ID]],0),MATCH(ANALISE!O$10,'BASE DE DADOS'!$A$1:$N$1,0)),\"\")","v":""},{"$f":"IFERROR(INDEX(tbldados[],MATCH(ANALISE!$L40,tbldados[[ID]:[ID]],0),MATCH(ANALISE!P$10,'BASE DE DADOS'!$A$1:$N$1,0)),\"\")","v":""}]
[]
[]
[]
[]
[]
[]
[]
[]
[null,null,"TOTAL A PAGAR",{"$f":"D6+(D6*P4)","v":1148.737799516},"JUROS",{"$f":"D6*P4","v":38.738959516000001},null,null,null,null,null,null,"HOJE 10/08/2022 VOU FAZER UM PAGAMENTO DE 1067,40 PARA O CARD DA MAE."]
[null,null,null,null,null,null,null,null,null,null,null,null,"ESSE VALOR VAI SER RETORNADO DO CARTÃO NEON DA MAE PARA A FATURA DO CARD PAN MEU"]

{"sheet":"CALENDARIO","index":6,"n_rows":23,"n_cols":50,"rows_kept":23,"cut":false,"hidden":false,"merged":[[0,22,0,24]]}
[null,null,null,null,null,null,null,null,null,null,null,null,"ANO",null,2022,null,null,null,null,null,"CARD - ",null,"NUBANK",null,null,null,null,null,null,"MÊS - ",null,{"$f":"INDEX({\"JANEIRO\";\"FEVEREIRO\";\"MARCO\";\"ABRIL\";\"MAIO\";\"JUNHO\";\"JULHO\";\"AGOSTO\";\"SETEMBRO\";\"OUTUBRO\";\"NOVEMBRO\";\"DEZEMBRO\"},AG2)","v":"SETEMBRO"}]
[null,null,null,null,null,null,null,null,null,null,null,null,null,null,null,null,null,null,null,null,null,null,null,null,null,null,null,null,null,null,null,null,9]
[null,null,null,1,null,null,null,null,null,null,null,{"$f":"D3+1","v":2},null,null,null,null,null,null,null,{"$f":"L3+1","v":3},null,null,null,null,null,null,null,{"$f":"T3+1","v":4},null,null,null,null,null,null,null,{"$f":"AB3+1","v":5},null,null,null,null,null,null,null,{"$f":"AJ3+1","v":6}]
[null,null,null,{"$f":"DATE(O1,D3,1)","v":"2022-01-01"},null,null,null,null,null,null,null,{"$f":"DATE(ANNO,L3,1)","v":"2022-02-01"},null,null,null,null,null,null,null,{"$f":"DATE(ANNO,T3,1)","v":"2022-03-01"},null,null,null,null,null,null,null,{"$f":"DATE(ANNO,AB3,1)","v":"2022-04-01"},null,null,null,null,null,null,null,{"$f":"DATE(ANNO,AJ3,1)","v":"2022-05-01"},null,null,null,null,null,null,null,{"$f":"DATE(ANNO,AR3,1)","v":"2022-06-01"}]
[null,null,null,1,2,3,4,5,6,7,null,1,2,3,4,5,6,7,null,1,2,3,4,5,6,7,null,1,2,3,4,5,6,7,null,1,2,3,4,5,6,7,null,1,2,3,4,5,6,7]
[null,null,null,"D","S","T","Q","Q","S","S",null,"D","S","T","Q","Q","S","S",null,"D","S","T","Q","Q","S","S",null,"D","S","T","Q","Q","S","S",null,"D","S","T","Q","Q","S","S",null,"D","S","T","Q","Q","S","S"]
[null,null,null,{"$f":"IF(WEEKDAY(D4)=D5,D4,IF(WEEKDAY(D4)>D5,\"\",C7+1))","v":""},{"$f":"IF(WEEKDAY(D4)=E5,D4,IF(WEEKDAY(D4)>E5,\"\",D7+1))","v":""},{"$f":"IF(WEEKDAY(D4)=F5,D4,IF(WEEKDAY(D4)>F5,\"\",E7+1))","v":""},{"$f":"IF(WEEKDAY(D4)=G5,D4,IF(WEEKDAY(D4)>G5,\"\",F7+1))","v":""},{"$f":"IF(WEEKDAY(D4)=H5,D4,IF(WEEKDAY(D4)>H5,\"\",G7+1))","v":""},{"$f":"IF(WEEKDAY(D4)=I5,D4,IF(WEEKDAY(D4)>I5,\"\",H7+1))","v":""},{"$f":"IF(WEEKDAY(D4)=J5,D4,IF(WEEKDAY(D4)>J5,\"\",I7+1))","v":"2022-01-01"},null,{"$f":"IF(WEEKDAY(L4)=L5,L4,IF(WEEKDAY(L4)>L5,\"\",K7+1))","v":""},{"$f":"IF(WEEKDAY(L4)=M5,L4,IF(WEEKDAY(L4)>M5,\"\",L7+1))","v":""},{"$f":"IF(WEEKDAY(L4)=N5,L4,IF(WEEKDAY(L4)>N5,\"\",M7+1))","v":"2022-02-01"},{"$f":"IF(WEEKDAY(L4)=O5,L4,IF(WEEKDAY(L4)>O5,\"\",N7+1))","v":"2022-02-02"},{"$f":"IF(WEEKDAY(L4)=P5,L4,IF(WEEKDAY(L4)>P5,\"\",O7+1))","v":"2022-02-03"},{"$f":"IF(WEEKDAY(L4)=Q5,L4,IF(WEEKDAY(L4)>Q5,\"\",P7+1))","v":"2022-02-04"},{"$f":"IF(WEEKDAY(L4)=R5,L4,IF(WEEKDAY(L4)>R5,\"\",Q7+1))","v":"2022-02-05"},null,{"$f":"IF(WEEKDAY(T4)=T5,T4,IF(WEEKDAY(T4)>T5,\"\",S7+1))","v":""},{"$f":"IF(WEEKDAY(T4)=U5,T4,IF(WEEKDAY(T4)>U5,\"\",T7+1))","v":""},{"$f":"IF(WEEKDAY(T4)=V5,T4,IF(WEEKDAY(T4)>V5,\"\",U7+1))","v":"2022-03-01"},{"$f":"IF(WEEKDAY(T4)=W5,T4,IF(WEEKDAY(T4)>W5,\"\",V7+1))","v":"2022-03-02"},{"$f":"IF(WEEKDAY(T4)=X5,T4,IF(WEEKDAY(T4)>X5,\"\",W7+1))","v":"2022-03-03"},{"$f":"IF(WEEKDAY(T4)=Y5,T4,IF(WEEKDAY(T4)>Y5,\"\",X7+1))","v":"2022-03-04"},{"$f":"IF(WEEKDAY(T4)=Z5,T4,IF(WEEKDAY(T4)>Z5,\"\",Y7+1))","v":"2022-03-05"},null,{"$f":"IF(WEEKDAY(AB4)=AB5,AB4,IF(WEEKDAY(AB4)>AB5,\"\",AA7+1))","v":""},{"$f":"IF(WEEKDAY(AB4)=AC5,AB4,IF(WEEKDAY(AB4)>AC5,\"\",AB7+1))","v":""},{"$f":"IF(WEEKDAY(AB4)=AD5,AB4,IF(WEEKDAY(AB4)>AD5,\"\",AC7+1))","v":""},{"$f":"IF(WEEKDAY(AB4)=AE5,AB4,IF(WEEKDAY(AB4)>AE5,\"\",AD7+1))","v":""},{"$f":"IF(WEEKDAY(AB4)=AF5,AB4,IF(WEEKDAY(AB4)>AF5,\"\",AE7+1))","v":""},{"$f":"IF(WEEKDAY(AB4)=AG5,AB4,IF(WEEKDAY(AB4)>AG5,\"\",AF7+1))","v":"2022-04-01"},{"$f":"IF(WEEKDAY(AB4)=AH5,AB4,IF(WEEKDAY(AB4)>AH5,\"\",AG7+1))","v":"2022-04-02"},null,{"$f":"IF(WEEKDAY(AJ4)=AJ5,AJ4,IF(WEEKDAY(AJ4)>AJ5,\"\",AI7+1))","v":"2022-05-01"},{"$f":"IF(WEEKDAY(AJ4)=AK5,AJ4,IF(WEEKDAY(AJ4)>AK5,\"\",AJ7+1))","v":"2022-05-02"},{"$f":"IF(WEEKDAY(AJ4)=AL5,AJ4,IF(WEEKDAY(AJ4)>AL5,\"\",AK7+1))","v":"2022-05-03"},{"$f":"IF(WEEKDAY(AJ4)=AM5,AJ4,IF(WEEKDAY(AJ4)>AM5,\"\",AL7+1))","v":"2022-05-04"},{"$f":"IF(WEEKDAY(AJ4)=AN5,AJ4,IF(WEEKDAY(AJ4)>AN5,\"\",AM7+1))","v":"2022-05-05"},{"$f":"IF(WEEKDAY(AJ4)=AO5,AJ4,IF(WEEKDAY(AJ4)>AO5,\"\",AN7+1))","v":"2022-05-06"},{"$f":"IF(WEEKDAY(AJ4)=AP5,AJ4,IF(WEEKDAY(AJ4)>AP5,\"\",AO7+1))","v":"2022-05-07"},null,{"$f":"IF(WEEKDAY(AR4)=AR5,AR4,IF(WEEKDAY(AR4)>AR5,\"\",AQ7+1))","v":""},{"$f":"IF(WEEKDAY(AR4)=AS5,AR4,IF(WEEKDAY(AR4)>AS5,\"\",AR7+1))","v":""},{"$f":"IF(WEEKDAY(AR4)=AT5,AR4,IF(WEEKDAY(AR4)>AT5,\"\",AS7+1))","v":""},{"$f":"IF(WEEKDAY(AR4)=AU5,AR4,IF(WEEKDAY(AR4)>AU5,\"\",AT7+1))","v":"2022-06-01"},{"$f":"IF(WEEKDAY(AR4)=AV5,AR4,IF(WEEKDAY(AR4)>AV5,\"\",AU7+1))","v":"2022-06-02"},{"$f":"IF(WEEKDAY(AR4)=AW5,AR4,IF(WEEKDAY(AR4)>AW5,\"\",AV7+1))","v":"2022-06-03"},{"$f":"IF(WEEKDAY(AR4)=AX5,AR4,IF(WEEKDAY(AR4)>AX5,\"\",AW7+1))","v":"2022-06-04"}]
[null,null,null,{"$f":"J7+1","v":"2022-01-02"},{"$f":"D8+1","v":"2022-01-03"},{"$f":"E8+1","v":"2022-01-04"},"2022-01-05","2022-01-06","2022-01-07","2022-01-08",null,{"$f":"R7+1","v":"2022-02-06"},{"$f":"L8+1","v":"2022-02-07"},{"$f":"M8+1","v":"2022-02-08"},"2022-02-09","2022-02-10","2022-02-11","2022-02-12",null,{"$f":"Z7+1","v":"2022-03-06"},{"$f":"T8+1","v":"2022-03-07"},{"$f":"U8+1","v":"2022-03-08"},"2022-03-09","2022-03-10","2022-03-11","2022-03-12",null,{"$f":"AH7+1","v":"2022-04-03"},{"$f":"AB8+1","v":"2022-04-04"},{"$f":"AC8+1","v":"2022-04-05"},"2022-04-06","2022-04-07","2022-04-08","2022-04-09",null,{"$f":"AP7+1","v":"2022-05-08"},{"$f":"AJ8+1","v":"2022-05-09"},{"$f":"AK8+1","v":"2022-05-10"},"2022-05-11","2022-05-12","2022-05-13","2022-05-14",null,{"$f":"AX7+1","v":"2022-06-05"},{"$f":"AR8+1","v":"2022-06-06"},{"$f":"AS8+1","v":"2022-06-07"},"2022-06-08","2022-06-09","2022-06-10","2022-06-11"]
[null,null,null,{"$f":"J8+1","v":"2022-01-09"},{"$f":"D9+1","v":"2022-01-10"},"2022-01-11","2022-01-12","2022-01-13","2022-01-14","2022-01-15",null,{"$f":"R8+1","v":"2022-02-13"},{"$f":"L9+1","v":"2022-02-14"},"2022-02-15","2022-02-16","2022-02-17","2022-02-18","2022-02-19",null,{"$f":"Z8+1","v":"2022-03-13"},{"$f":"T9+1","v":"2022-03-14"},"2022-03-15","2022-03-16","2022-03-17","2022-03-18","2022-03-19",null,{"$f":"AH8+1","v":"2022-04-10"},{"$f":"AB9+1","v":"2022-04-11"},"2022-04-12","2022-04-13","2022-04-14","2022-04-15","2022-04-16",null,{"$f":"AP8+1","v":"2022-05-15"},{"$f":"AJ9+1","v":"2022-05-16"},"2022-05-17","2022-05-18","2022-05-19","2022-05-20","2022-05-21",null,{"$f":"AX8+1","v":"2022-06-12"},{"$f":"AR9+1","v":"2022-06-13"},"2022-06-14","2022-06-15","2022-06-16","2022-06-17","2022-06-18"]
[null,null,null,{"$f":"J9+1","v":"2022-01-16"},{"$f":"D10+1","v":"2022-01-17"},"2022-01-18","2022-01-19","2022-01-20","2022-01-21","2022-01-22",null,{"$f":"R9+1","v":"2022-02-20"},{"$f":"L10+1","v":"2022-02-21"},"2022-02-22","2022-02-23","2022-02-24","2022-02-25","2022-02-26",null,{"$f":"Z9+1","v":"2022-03-20"},{"$f":"T10+1","v":"2022-03-21"},"2022-03-22","2022-03-23","2022-03-24","2022-03-25","2022-03-26",null,{"$f":"AH9+1","v":"2022-04-17"},{"$f":"AB10+1","v":"2022-04-18"},"2022-04-19","2022-04-20","2022-04-21","2022-04-22","2022-04-23",null,{"$f":"AP9+1","v":"2022-05-22"},{"$f":"AJ10+1","v":"2022-05-23"},"2022-05-24","2022-05-25","2022-05-26","2022-05-27","2022-05-28",null,{"$f":"AX9+1","v":"2022-06-19"},{"$f":"AR10+1","v":"2022-06-20"},"2022-06-21","2022-06-22","2022-06-23","2022-06-24","2022-06-25"]
[null,null,null,{"$f":"IFERROR(IF(MONTH(J10+1)<>MONTH(J10),\"\",J10+1),\"\")","v":"2022-01-23"},{"$f":"IFERROR(IF(MONTH(D11+1)<>MONTH(D11),\"\",D11+1),\"\")","v":"2022-01-24"},{"$f":"IFERROR(IF(MONTH(E11+1)<>MONTH(E11),\"\",E11+1),\"\")","v":"2022-01-25"},"2022-01-26","2022-01-27","2022-01-28","2022-01-29",null,{"$f":"IFERROR(IF(MONTH(R10+1)<>MONTH(R10),\"\",R10+1),\"\")","v":"2022-02-27"},{"$f":"IFERROR(IF(MONTH(L11+1)<>MONTH(L11),\"\",L11+1),\"\")","v":"2022-02-28"},{"$f":"IFERROR(IF(MONTH(M11+1)<>MONTH(M11),\"\",M11+1),\"\")","v":""},"","","","",null,{"$f":"IFERROR(IF(MONTH(Z10+1)<>MONTH(Z10),\"\",Z10+1),\"\")","v":"2022-03-27"},{"$f":"IFERROR(IF(MONTH(T11+1)<>MONTH(T11),\"\",T11+1),\"\")","v":"2022-03-28"},{"$f":"IFERROR(IF(MONTH(U11+1)<>MONTH(U11),\"\",U11+1),\"\")","v":"2022-03-29"},"2022-03-30","2022-03-31","","",null,{"$f":"IFERROR(IF(MONTH(AH10+1)<>MONTH(AH10),\"\",AH10+1),\"\")","v":"2022-04-24"},{"$f":"IFERROR(IF(MONTH(AB11+1)<>MONTH(AB11),\"\",AB11+1),\"\")","v":"2022-04-25"},{"$f":"IFERROR(IF(MONTH(AC11+1)<>MONTH(AC11),\"\",AC11+1),\"\")","v":"2022-04-26"},"2022-04-27","2022-04-28","2022-04-29","2022-04-30",null,{"$f":"IFERROR(IF(MONTH(AP10+1)<>MONTH(AP10),\"\",AP10+1),\"\")","v":"2022-05-29"},{"$f":"IFERROR(IF(MONTH(AJ11+1)<>MONTH(AJ11),\"\",AJ11+1),\"\")","v":"2022-05-30"},{"$f":"IFERROR(IF(MONTH(AK11+1)<>MONTH(AK11),\"\",AK11+1),\"\")","v":"2022-05-31"},"","","","",null,{"$f":"IFERROR(IF(MONTH(AX10+1)<>MONTH(AX10),\"\",AX10+1),\"\")","v":"2022-06-26"},{"$f":"IFERROR(IF(MONTH(AR11+1)<>MONTH(AR11),\"\",AR11+1),\"\")","v":"2022-06-27"},{"$f":"IFERROR(IF(MONTH(AS11+1)<>MONTH(AS11),\"\",AS11+1),\"\")","v":"2022-06-28"},"2022-06-29","2022-06-30","",""]
[null,null,null,{"$f":"IFERROR(IF(MONTH(J11+1)<>MONTH(J11),\"\",J11+1),\"\")","v":"2022-01-30"},{"$f":"IFERROR(IF(MONTH(D12+1)<>MONTH(D12),\"\",D12+1),\"\")","v":"2022-01-31"},"","","","","",null,{"$f":"IFERROR(IF(MONTH(R11+1)<>MONTH(R11),\"\",R11+1),\"\")","v":""},{"$f":"IFERROR(IF(MONTH(L12+1)<>MONTH(L12),\"\",L12+1),\"\")","v":""},"","","","","",null,{"$f":"IFERROR(IF(MONTH(Z11+1)<>MONTH(Z11),\"\",Z11+1),\"\")","v":""},{"$f":"IFERROR(IF(MONTH(T12+1)<>MONTH(T12),\"\",T12+1),\"\")","v":""},"","","","","",null,{"$f":"IFERROR(IF(MONTH(AH11+1)<>MONTH(AH11),\"\",AH11+1),\"\")","v":""},{"$f":"IFERROR(IF(MONTH(AB12+1)<>MONTH(AB12),\"\",AB12+1),\"\")","v":""},"","","","","",null,{"$f":"IFERROR(IF(MONTH(AP11+1)<>MONTH(AP11),\"\",AP11+1),\"\")","v":""},{"$f":"IFERROR(IF(MONTH(AJ12+1)<>MONTH(AJ12),\"\",AJ12+1),\"\")","v":""},"","","","","",null,{"$f":"IFERROR(IF(MONTH(AX11+1)<>MONTH(AX11),\"\",AX11+1),\"\")","v":""},{"$f":"IFERROR(IF(MONTH(AR12+1)<>MONTH(AR12),\"\",AR12+1),\"\")","v":""},"","","","",""]
[]
[null,null,null,{"$f":"AR3+1","v":7},null,null,null,null,null,null,null,{"$f":"D14+1","v":8},null,null,null,null,null,null,null,{"$f":"L14+1","v":9},null,null,null,null,null,null,null,{"$f":"T14+1","v":10},null,null,null,null,null,null,null,{"$f":"AB14+1","v":11},null,null,null,null,null,null,null,{"$f":"AJ14+1","v":12}]
[null,null,null,{"$f":"DATE(ANNO,D14,1)","v":"2022-07-01"},null,null,null,null,null,null,null,{"$f":"DATE(ANNO,L14,1)","v":"2022-08-01"},null,null,null,null,null,null,null,{"$f":"DATE(ANNO,T14,1)","v":"2022-09-01"},null,null,null,null,null,null,null,{"$f":"DATE(ANNO,AB14,1)","v":"2022-10-01"},null,null,null,null,null,null,null,{"$f":"DATE(ANNO,AJ14,1)","v":"2022-11-01"},null,null,null,null,null,null,null,{"$f":"DATE(ANNO,AR14,1)","v":"2022-12-01"}]
[null,null,null,1,2,3,4,5,6,7,null,1,2,3,4,5,6,7,null,1,2,3,4,5,6,7,null,1,2,3,4,5,6,7,null,1,2,3,4,5,6,7,null,1,2,3,4,5,6,7]
[null,null,null,"D","S","T","Q","Q","S","S",null,"D","S","T","Q","Q","S","S",null,"D","S","T","Q","Q","S","S",null,"D","S","T","Q","Q","S","S",null,"D","S","T","Q","Q","S","S",null,"D","S","T","Q","Q","S","S"]
[null,null,null,{"$f":"IF(WEEKDAY(D15)=D16,D15,IF(WEEKDAY(D15)>D16,\"\",C18+1))","v":""},{"$f":"IF(WEEKDAY(D15)=E16,D15,IF(WEEKDAY(D15)>E16,\"\",D18+1))","v":""},{"$f":"IF(WEEKDAY(D15)=F16,D15,IF(WEEKDAY(D15)>F16,\"\",E18+1))","v":""},{"$f":"IF(WEEKDAY(D15)=G16,D15,IF(WEEKDAY(D15)>G16,\"\",F18+1))","v":""},{"$f":"IF(WEEKDAY(D15)=H16,D15,IF(WEEKDAY(D15)>H16,\"\",G18+1))","v":""},{"$f":"IF(WEEKDAY(D15)=I16,D15,IF(WEEKDAY(D15)>I16,\"\",H18+1))","v":"2022-07-01"},{"$f":"IF(WEEKDAY(D15)=J16,D15,IF(WEEKDAY(D15)>J16,\"\",I18+1))","v":"2022-07-02"},null,{"$f":"IF(WEEKDAY(L15)=L16,L15,IF(WEEKDAY(L15)>L16,\"\",K18+1))","v":""},{"$f":"IF(WEEKDAY(L15)=M16,L15,IF(WEEKDAY(L15)>M16,\"\",L18+1))","v":"2022-08-01"},{"$f":"IF(WEEKDAY(L15)=N16,L15,IF(WEEKDAY(L15)>N16,\"\",M18+1))","v":"2022-08-02"},{"$f":"IF(WEEKDAY(L15)=O16,L15,IF(WEEKDAY(L15)>O16,\"\",N18+1))","v":"2022-08-03"},{"$f":"IF(WEEKDAY(L15)=P16,L15,IF(WEEKDAY(L15)>P16,\"\",O18+1))","v":"2022-08-04"},{"$f":"IF(WEEKDAY(L15)=Q16,L15,IF(WEEKDAY(L15)>Q16,\"\",P18+1))","v":"2022-08-05"},{"$f":"IF(WEEKDAY(L15)=R16,L15,IF(WEEKDAY(L15)>R16,\"\",Q18+1))","v":"2022-08-06"},null,{"$f":"IF(WEEKDAY(T15)=T16,T15,IF(WEEKDAY(T15)>T16,\"\",S18+1))","v":""},{"$f":"IF(WEEKDAY(T15)=U16,T15,IF(WEEKDAY(T15)>U16,\"\",T18+1))","v":""},{"$f":"IF(WEEKDAY(T15)=V16,T15,IF(WEEKDAY(T15)>V16,\"\",U18+1))","v":""},{"$f":"IF(WEEKDAY(T15)=W16,T15,IF(WEEKDAY(T15)>W16,\"\",V18+1))","v":""},{"$f":"IF(WEEKDAY(T15)=X16,T15,IF(WEEKDAY(T15)>X16,\"\",W18+1))","v":"2022-09-01"},{"$f":"IF(WEEKDAY(T15)=Y16,T15,IF(WEEKDAY(T15)>Y16,\"\",X18+1))","v":"2022-09-02"},{"$f":"IF(WEEKDAY(T15)=Z16,T15,IF(WEEKDAY(T15)>Z16,\"\",Y18+1))","v":"2022-09-03"},null,{"$f":"IF(WEEKDAY(AB15)=AB16,AB15,IF(WEEKDAY(AB15)>AB16,\"\",AA18+1))","v":""},{"$f":"IF(WEEKDAY(AB15)=AC16,AB15,IF(WEEKDAY(AB15)>AC16,\"\",AB18+1))","v":""},{"$f":"IF(WEEKDAY(AB15)=AD16,AB15,IF(WEEKDAY(AB15)>AD16,\"\",AC18+1))","v":""},{"$f":"IF(WEEKDAY(AB15)=AE16,AB15,IF(WEEKDAY(AB15)>AE16,\"\",AD18+1))","v":""},{"$f":"IF(WEEKDAY(AB15)=AF16,AB15,IF(WEEKDAY(AB15)>AF16,\"\",AE18+1))","v":""},{"$f":"IF(WEEKDAY(AB15)=AG16,AB15,IF(WEEKDAY(AB15)>AG16,\"\",AF18+1))","v":""},{"$f":"IF(WEEKDAY(AB15)=AH16,AB15,IF(WEEKDAY(AB15)>AH16,\"\",AG18+1))","v":"2022-10-01"},null,{"$f":"IF(WEEKDAY(AJ15)=AJ16,AJ15,IF(WEEKDAY(AJ15)>AJ16,\"\",AI18+1))","v":""},{"$f":"IF(WEEKDAY(AJ15)=AK16,AJ15,IF(WEEKDAY(AJ15)>AK16,\"\",AJ18+1))","v":""},{"$f":"IF(WEEKDAY(AJ15)=AL16,AJ15,IF(WEEKDAY(AJ15)>AL16,\"\",AK18+1))","v":"2022-11-01"},{"$f":"IF(WEEKDAY(AJ15)=AM16,AJ15,IF(WEEKDAY(AJ15)>AM16,\"\",AL18+1))","v":"2022-11-02"},{"$f":"IF(WEEKDAY(AJ15)=AN16,AJ15,IF(WEEKDAY(AJ15)>AN16,\"\",AM18+1))","v":"2022-11-03"},{"$f":"IF(WEEKDAY(AJ15)=AO16,AJ15,IF(WEEKDAY(AJ15)>AO16,\"\",AN18+1))","v":"2022-11-04"},{"$f":"IF(WEEKDAY(AJ15)=AP16,AJ15,IF(WEEKDAY(AJ15)>AP16,\"\",AO18+1))","v":"2022-11-05"},null,{"$f":"IF(WEEKDAY(AR15)=AR16,AR15,IF(WEEKDAY(AR15)>AR16,\"\",AQ18+1))","v":""},{"$f":"IF(WEEKDAY(AR15)=AS16,AR15,IF(WEEKDAY(AR15)>AS16,\"\",AR18+1))","v":""},{"$f":"IF(WEEKDAY(AR15)=AT16,AR15,IF(WEEKDAY(AR15)>AT16,\"\",AS18+1))","v":""},{"$f":"IF(WEEKDAY(AR15)=AU16,AR15,IF(WEEKDAY(AR15)>AU16,\"\",AT18+1))","v":""},{"$f":"IF(WEEKDAY(AR15)=AV16,AR15,IF(WEEKDAY(AR15)>AV16,\"\",AU18+1))","v":"2022-12-01"},{"$f":"IF(WEEKDAY(AR15)=AW16,AR15,IF(WEEKDAY(AR15)>AW16,\"\",AV18+1))","v":"2022-12-02"},{"$f":"IF(WEEKDAY(AR15)=AX16,AR15,IF(WEEKDAY(AR15)>AX16,\"\",AW18+1))","v":"2022-12-03"}]
[null,null,null,{"$f":"J18+1","v":"2022-07-03"},{"$f":"D19+1","v":"2022-07-04"},{"$f":"E19+1","v":"2022-07-05"},"2022-07-06","2022-07-07","2022-07-08","2022-07-09",null,{"$f":"R18+1","v":"2022-08-07"},{"$f":"L19+1","v":"2022-08-08"},{"$f":"M19+1","v":"2022-08-09"},"2022-08-10","2022-08-11","2022-08-12","2022-08-13",null,{"$f":"Z18+1","v":"2022-09-04"},{"$f":"T19+1","v":"2022-09-05"},{"$f":"U19+1","v":"2022-09-06"},"2022-09-07","2022-09-08","2022-09-09","2022-09-10",null,{"$f":"AH18+1","v":"2022-10-02"},{"$f":"AB19+1","v":"2022-10-03"},{"$f":"AC19+1","v":"2022-10-04"},"2022-10-05","2022-10-06","2022-10-07","2022-10-08",null,{"$f":"AP18+1","v":"2022-11-06"},{"$f":"AJ19+1","v":"2022-11-07"},{"$f":"AK19+1","v":"2022-11-08"},"2022-11-09","2022-11-10","2022-11-11","2022-11-12",null,{"$f":"AX18+1","v":"2022-12-04"},{"$f":"AR19+1","v":"2022-12-05"},{"$f":"AS19+1","v":"2022-12-06"},"2022-12-07","2022-12-08","2022-12-09","2022-12-10"]
[null,null,null,{"$f":"J19+1","v":"2022-07-10"},{"$f":"D20+1","v":"2022-07-11"},"2022-07-12","2022-07-13","2022-07-14","2022-07-15","2022-07-16",null,{"$f":"R19+1","v":"2022-08-14"},{"$f":"L20+1","v":"2022-08-15"},"2022-08-16","2022-08-17","2022-08-18","2022-08-19","2022-08-20",null,{"$f":"Z19+1","v":"2022-09-11"},{"$f":"T20+1","v":"2022-09-12"},"2022-09-13","2022-09-14","2022-09-15","2022-09-16","2022-09-17",null,{"$f":"AH19+1","v":"2022-10-09"},{"$f":"AB20+1","v":"2022-10-10"},"2022-10-11","2022-10-12","2022-10-13","2022-10-14","2022-10-15",null,{"$f":"AP19+1","v":"2022-11-13"},{"$f":"AJ20+1","v":"2022-11-14"},"2022-11-15","2022-11-16","2022-11-17","2022-11-18","2022-11-19",null,{"$f":"AX19+1","v":"2022-12-11"},{"$f":"AR20+1","v":"2022-12-12"},"2022-12-13","2022-12-14","2022-12-15","2022-12-16","2022-12-17"]
[null,null,null,{"$f":"J20+1","v":"2022-07-17"},{"$f":"D21+1","v":"2022-07-18"},"2022-07-19","2022-07-20","2022-07-21","2022-07-22","2022-07-23",null,{"$f":"R20+1","v":"2022-08-21"},{"$f":"L21+1","v":"2022-08-22"},"2022-08-23","2022-08-24","2022-08-25","2022-08-26","2022-08-27",null,{"$f":"Z20+1","v":"2022-09-18"},{"$f":"T21+1","v":"2022-09-19"},"2022-09-20","2022-09-21","2022-09-22","2022-09-23","2022-09-24",null,{"$f":"AH20+1","v":"2022-10-16"},{"$f":"AB21+1","v":"2022-10-17"},"2022-10-18","2022-10-19","2022-10-20","2022-10-21","2022-10-22",null,{"$f":"AP20+1","v":"2022-11-20"},{"$f":"AJ21+1","v":"2022-11-21"},"2022-11-22","2022-11-23","2022-11-24","2022-11-25","2022-11-26",null,{"$f":"AX20+1","v":"2022-12-18"},{"$f":"AR21+1","v":"2022-12-19"},"2022-12-20","2022-12-21","2022-12-22","2022-12-23","2022-12-24"]
[null,null,null,{"$f":"IFERROR(IF(MONTH(J21+1)<>MONTH(J21),\"\",J21+1),\"\")","v":"2022-07-24"},{"$f":"IFERROR(IF(MONTH(D22+1)<>MONTH(D22),\"\",D22+1),\"\")","v":"2022-07-25"},{"$f":"IFERROR(IF(MONTH(E22+1)<>MONTH(E22),\"\",E22+1),\"\")","v":"2022-07-26"},"2022-07-27","2022-07-28","2022-07-29","2022-07-30",null,{"$f":"IFERROR(IF(MONTH(R21+1)<>MONTH(R21),\"\",R21+1),\"\")","v":"2022-08-28"},{"$f":"IFERROR(IF(MONTH(L22+1)<>MONTH(L22),\"\",L22+1),\"\")","v":"2022-08-29"},{"$f":"IFERROR(IF(MONTH(M22+1)<>MONTH(M22),\"\",M22+1),\"\")","v":"2022-08-30"},"2022-08-31","","","",null,{"$f":"IFERROR(IF(MONTH(Z21+1)<>MONTH(Z21),\"\",Z21+1),\"\")","v":"2022-09-25"},{"$f":"IFERROR(IF(MONTH(T22+1)<>MONTH(T22),\"\",T22+1),\"\")","v":"2022-09-26"},{"$f":"IFERROR(IF(MONTH(U22+1)<>MONTH(U22),\"\",U22+1),\"\")","v":"2022-09-27"},"2022-09-28","2022-09-29","2022-09-30","",null,{"$f":"IFERROR(IF(MONTH(AH21+1)<>MONTH(AH21),\"\",AH21+1),\"\")","v":"2022-10-23"},{"$f":"IFERROR(IF(MONTH(AB22+1)<>MONTH(AB22),\"\",AB22+1),\"\")","v":"2022-10-24"},{"$f":"IFERROR(IF(MONTH(AC22+1)<>MONTH(AC22),\"\",AC22+1),\"\")","v":"2022-10-25"},"2022-10-26","2022-10-27","2022-10-28","2022-10-29",null,{"$f":"IFERROR(IF(MONTH(AP21+1)<>MONTH(AP21),\"\",AP21+1),\"\")","v":"2022-11-27"},{"$f":"IFERROR(IF(MONTH(AJ22+1)<>MONTH(AJ22),\"\",AJ22+1),\"\")","v":"2022-11-28"},{"$f":"IFERROR(IF(MONTH(AK22+1)<>MONTH(AK22),\"\",AK22+1),\"\")","v":"2022-11-29"},"2022-11-30","","","",null,{"$f":"IFERROR(IF(MONTH(AX21+1)<>MONTH(AX21),\"\",AX21+1),\"\")","v":"2022-12-25"},{"$f":"IFERROR(IF(MONTH(AR22+1)<>MONTH(AR22),\"\",AR22+1),\"\")","v":"2022-12-26"},{"$f":"IFERROR(IF(MONTH(AS22+1)<>MONTH(AS22),\"\",AS22+1),\"\")","v":"2022-12-27"},"2022-12-28","2022-12-29","2022-12-30","2022-12-31"]
[null,null,null,{"$f":"IFERROR(IF(MONTH(J22+1)<>MONTH(J22),\"\",J22+1),\"\")","v":"2022-07-31"},{"$f":"IFERROR(IF(MONTH(D23+1)<>MONTH(D23),\"\",D23+1),\"\")","v":""},"","","","","",null,{"$f":"IFERROR(IF(MONTH(R22+1)<>MONTH(R22),\"\",R22+1),\"\")","v":""},{"$f":"IFERROR(IF(MONTH(L23+1)<>MONTH(L23),\"\",L23+1),\"\")","v":""},"","","","","",null,{"$f":"IFERROR(IF(MONTH(Z22+1)<>MONTH(Z22),\"\",Z22+1),\"\")","v":""},{"$f":"IFERROR(IF(MONTH(T23+1)<>MONTH(T23),\"\",T23+1),\"\")","v":""},"","","","","",null,{"$f":"IFERROR(IF(MONTH(AH22+1)<>MONTH(AH22),\"\",AH22+1),\"\")","v":"2022-10-30"},{"$f":"IFERROR(IF(MONTH(AB23+1)<>MONTH(AB23),\"\",AB23+1),\"\")","v":"2022-10-31"},"","","","","",null,{"$f":"IFERROR(IF(MONTH(AP22+1)<>MONTH(AP22),\"\",AP22+1),\"\")","v":""},{"$f":"IFERROR(IF(MONTH(AJ23+1)<>MONTH(AJ23),\"\",AJ23+1),\"\")","v":""},"","","","","",null,{"$f":"IFERROR(IF(MONTH(AX22+1)<>MONTH(AX22),\"\",AX22+1),\"\")","v":""},{"$f":"IFERROR(IF(MONTH(AR23+1)<>MONTH(AR23),\"\",AR23+1),\"\")","v":""},"","","","",""]

{"sheet":"FERIADOS","index":7,"n_rows":28,"n_cols":19,"rows_kept":28,"cut":false,"hidden":false,"merged":[]}
["DATA DO FERIADO","DESCRIÇÃO DO FERIADO","ANO","MÊS ","DIA",null,null,{"$f":"ANNO","v":2022},"TITULAR","DIA","FECHAMENTO","VENCIMENTO",null,null,null,null,"CARTÕES","FECHAMENTO","VENCIMENTO"]
[{"$f":"DATE(C2,D2,E2)","v":44562},"INICIO DO ANO",{"$f":"$H$1","v":2022},1,1,null,null,null,null,{"$f":"DAY(L2)","v":13},{"$f":"VLOOKUP(CALENDARIO!W1,CONFIG!$A$2:$C$15,3,0)","v":44810},{"$f":"VLOOKUP(CALENDARIO!W1,CONFIG!$A$2:$C$15,2,0)","v":44817}]
[{"$f":"A4-1","v":44620},"CARNAVAL",{"$f":"$H$1","v":2022},"X","X"]
[{"$f":"A6-47","v":44621},"CARNAVAL",2022,"X","X"]
[{"$f":"A6-2","v":44666},"SEXTA SANTA",2022,"X","X"]
[{"$f":"FLOOR(DAY(MINUTE(H1/38)/2+56)&\"/5\"&\"/\"&H1,7)-34","v":44668},"PASCOA",2022,"X","X"]
[{"$f":"DATE(C7,D7,E7)","v":44672},"TIRADENTES",2022,4,21]
[{"$f":"DATE(C8,D8,E8)","v":44682},"DIA DO TRABALHADOR",2022,5,1]
[{"$f":"A6+60","v":44728},"CORPUS CRISTHI",2022,"X","X"]
[{"$f":"DATE(C10,D10,E10)","v":44811},"INDEPENDÊNCIA",2022,9,7]
[{"$f":"DATE(C11,D11,E11)","v":44846},"NOSSA SENHORA APARECIDA",2022,10,12]
[{"$f":"DATE(C12,D12,E12)","v":44867},"FINADOS",2022,11,2]
[44880,"PROCLAMAÇÃO DA REPÚBLICA",2022,11,15]
[44920,"NATAL",2022,12,25]
[44896,"NIVER",2022,12,1]
[null,null,2022]
[null,null,2022,null,null,null,null,null,null,null,null,"SE(CALENDÁRIO!AD1<>\"\";DATA(ANO(HOJE());SE(MÊS(L2)=MÊS(DATA(ANO(HOJE());CALENDÁRIO!AG2;PROCV(CALENDÁRIO!AD1;AUXILIAR!D2:G15;4;0)));MÊS(L2)-1;CALENDÁRIO!AG2);PROCV(CALENDÁRIO!AD1;AUXILIAR!D2:G15;4;0)))"]
[null,null,2022]
[null,null,2022,null,null,null,null,null,null,null,null,77175]
[null,null,2022]
[null,null,2022]
[null,null,2022]
[null,null,2022]
[null,null,2022]
[null,null,2022]
[null,null,2022]
[null,null,2022]
[null,null,2022]

{"sheet":"GASTOS_MENSAIS","index":8,"n_rows":29,"n_cols":30,"rows_kept":29,"cut":false,"hidden":false,"merged":[]}
[]
[null,null,null,null,null,null,null,null,null,null,null,null,null,null,null,null,null,"LIMITE D"]
[null,null,null,null,null,null,null,null,null,null,null,null,null,null,null,null,null,"LIMITE G"]
[null,"GASTOS"]
["CARTÃO","JANEIRO","FEVEREIRO","MARÇO","ABRIL","MAIO","JUNHO","JULHO","AGOSTO","SETEMBRO","OUTUBRO","NOVEMBRO","DEZEMBRO","TOTAL",null,null,null,"CARDS","JANEIRO","FEVEREIRO","MARÇO","ABRIL","MAIO","JUNHO","JULHO","AGOSTO","SETEMBRO","OUTUBRO","NOVEMBRO","DEZEMBRO"]
["CARTÃO","2021-01-01","2021-02-01","2021-03-01","2021-04-01","2021-05-01","2021-06-01","2021-07-01","2021-08-01","2021-09-01","2021-10-01","2021-11-01","2021-12-01"]
[{"$f":"CONFIG!A2","v":"CLICK"},{"$f":"SUMIFS('BASE DE DADOS'!$M:$M,'BASE DE DADOS'!$B:$B,GASTOS_MENSAIS!$B$4,'BASE DE DADOS'!$G:$G,GASTOS_MENSAIS!$A7,'BASE DE DADOS'!$K:$K,DATE(YEAR(TODAY()),MONTH(B$6),DAY(VLOOKUP($A7,CONFIG!$A$2:$C$100,2,0))))","v":2311.1593779999998},{"$f":"SUMIFS('BASE DE DADOS'!$M:$M,'BASE DE DADOS'!$B:$B,GASTOS_MENSAIS!$B$4,'BASE DE DADOS'!$G:$G,GASTOS_MENSAIS!$A7,'BASE DE DADOS'!$K:$K,DATE(YEAR(TODAY()),MONTH(C$6),DAY(VLOOKUP($A7,CONFIG!$A$2:$C$100,2,0))))","v":2311.1697269999995},{"$f":"SUMIFS('BASE DE DADOS'!$M:$M,'BASE DE DADOS'!$B:$B,GASTOS_MENSAIS!$B$4,'BASE DE DADOS'!$G:$G,GASTOS_MENSAIS!$A7,'BASE DE DADOS'!$K:$K,DATE(YEAR(TODAY()),MONTH(D$6),DAY(VLOOKUP($A7,CONFIG!$A$2:$C$100,2,0))))","v":2315.6597730000003},{"$f":"SUMIFS('BASE DE DADOS'!$M:$M,'BASE DE DADOS'!$B:$B,GASTOS_MENSAIS!$B$4,'BASE DE DADOS'!$G:$G,GASTOS_MENSAIS!$A7,'BASE DE DADOS'!$K:$K,DATE(YEAR(TODAY()),MONTH(E$6),DAY(VLOOKUP($A7,CONFIG!$A$2:$C$100,2,0))))","v":2300.6861899999999},{"$f":"SUMIFS('BASE DE DADOS'!$M:$M,'BASE DE DADOS'!$B:$B,GASTOS_MENSAIS!$B$4,'BASE DE DADOS'!$G:$G,GASTOS_MENSAIS!$A7,'BASE DE DADOS'!$K:$K,DATE(YEAR(TODAY()),MONTH(F$6),DAY(VLOOKUP($A7,CONFIG!$A$2:$C$100,2,0))))","v":2359.8203759999997},{"$f":"SUMIFS('BASE DE DADOS'!$M:$M,'BASE DE DADOS'!$B:$B,GASTOS_MENSAIS!$B$4,'BASE DE DADOS'!$G:$G,GASTOS_MENSAIS!$A7,'BASE DE DADOS'!$K:$K,DATE(YEAR(TODAY()),MONTH(G$6),DAY(VLOOKUP($A7,CONFIG!$A$2:$C$100,2,0))))","v":2299.9949319999996},{"$f":"SUMIFS('BASE DE DADOS'!$M:$M,'BASE DE DADOS'!$B:$B,GASTOS_MENSAIS!$B$4,'BASE DE DADOS'!$G:$G,GASTOS_MENSAIS!$A7,'BASE DE DADOS'!$K:$K,DATE(YEAR(TODAY()),MONTH(H$6),DAY(VLOOKUP($A7,CONFIG!$A$2:$C$100,2,0))))","v":2305.8361759999998},{"$f":"SUMIFS('BASE DE DADOS'!$M:$M,'BASE DE DADOS'!$B:$B,GASTOS_MENSAIS!$B$4,'BASE DE DADOS'!$G:$G,GASTOS_MENSAIS!$A7,'BASE DE DADOS'!$K:$K,DATE(YEAR(TODAY()),MONTH(I$6),DAY(VLOOKUP($A7,CONFIG!$A$2:$C$100,2,0))))","v":2288.940075},{"$f":"SUMIFS('BASE DE DADOS'!$M:$M,'BASE DE DADOS'!$B:$B,GASTOS_MENSAIS!$B$4,'BASE DE DADOS'!$G:$G,GASTOS_MENSAIS!$A7,'BASE DE DADOS'!$K:$K,DATE(YEAR(TODAY()),MONTH(J$6),DAY(VLOOKUP($A7,CONFIG!$A$2:$C$100,2,0))))","v":2293.7491879999998},{"$f":"SUMIFS('BASE DE DADOS'!$M:$M,'BASE DE DADOS'!$B:$B,GASTOS_MENSAIS!$B$4,'BASE DE DADOS'!$G:$G,GASTOS_MENSAIS!$A7,'BASE DE DADOS'!$K:$K,DATE(YEAR(TODAY()),MONTH(K$6),DAY(VLOOKUP($A7,CONFIG!$A$2:$C$100,2,0))))","v":2300.0031560000002},{"$f":"SUMIFS('BASE DE DADOS'!$M:$M,'BASE DE DADOS'!$B:$B,GASTOS_MENSAIS!$B$4,'BASE DE DADOS'!$G:$G,GASTOS_MENSAIS!$A7,'BASE DE DADOS'!$K:$K,DATE(YEAR(TODAY()),MONTH(L$6),DAY(VLOOKUP($A7,CONFIG!$A$2:$C$100,2,0))))","v":0},{"$f":"SUMIFS('BASE DE DADOS'!$M:$M,'BASE DE DADOS'!$B:$B,GASTOS_MENSAIS!$B$4,'BASE DE DADOS'!$G:$G,GASTOS_MENSAIS!$A7,'BASE DE DADOS'!$K:$K,DATE(YEAR(TODAY()),MONTH(M$6),DAY(VLOOKUP($A7,CONFIG!$A$2:$C$100,2,0))))","v":0},{"$f":"SUM(B7:M7)","v":23087.018970999998}]
["DIGIO",{"$f":"SUMIFS('BASE DE DADOS'!$M:$M,'BASE DE DADOS'!$B:$B,GASTOS_MENSAIS!$B$4,'BASE DE DADOS'!$G:$G,GASTOS_MENSAIS!$A8,'BASE DE DADOS'!$K:$K,DATE(YEAR(TODAY()),MONTH(B$6),DAY(VLOOKUP($A8,CONFIG!$A$2:$C$100,2,0))))","v":0},{"$f":"SUMIFS('BASE DE DADOS'!$M:$M,'BASE DE DADOS'!$B:$B,GASTOS_MENSAIS!$B$4,'BASE DE DADOS'!$G:$G,GASTOS_MENSAIS!$A8,'BASE DE DADOS'!$K:$K,DATE(YEAR(TODAY()),MONTH(C$6),DAY(VLOOKUP($A8,CONFIG!$A$2:$C$100,2,0))))","v":884.27030500000001},{"$f":"SUMIFS('BASE DE DADOS'!$M:$M,'BASE DE DADOS'!$B:$B,GASTOS_MENSAIS!$B$4,'BASE DE DADOS'!$G:$G,GASTOS_MENSAIS!$A8,'BASE DE DADOS'!$K:$K,DATE(YEAR(TODAY()),MONTH(D$6),DAY(VLOOKUP($A8,CONFIG!$A$2:$C$100,2,0))))","v":879.99805500000002},{"$f":"SUMIFS('BASE DE DADOS'!$M:$M,'BASE DE DADOS'!$B:$B,GASTOS_MENSAIS!$B$4,'BASE DE DADOS'!$G:$G,GASTOS_MENSAIS!$A8,'BASE DE DADOS'!$K:$K,DATE(YEAR(TODAY()),MONTH(E$6),DAY(VLOOKUP($A8,CONFIG!$A$2:$C$100,2,0))))","v":879.66499999999996},{"$f":"SUMIFS('BASE DE DADOS'!$M:$M,'BASE DE DADOS'!$B:$B,GASTOS_MENSAIS!$B$4,'BASE DE DADOS'!$G:$G,GASTOS_MENSAIS!$A8,'BASE DE DADOS'!$K:$K,DATE(YEAR(TODAY()),MONTH(F$6),DAY(VLOOKUP($A8,CONFIG!$A$2:$C$100,2,0))))","v":879.66499999999996},{"$f":"SUMIFS('BASE DE DADOS'!$M:$M,'BASE DE DADOS'!$B:$B,GASTOS_MENSAIS!$B$4,'BASE DE DADOS'!$G:$G,GASTOS_MENSAIS!$A8,'BASE DE DADOS'!$K:$K,DATE(YEAR(TODAY()),MONTH(G$6),DAY(VLOOKUP($A8,CONFIG!$A$2:$C$100,2,0))))","v":879.66499999999996},{"$f":"SUMIFS('BASE DE DADOS'!$M:$M,'BASE DE DADOS'!$B:$B,GASTOS_MENSAIS!$B$4,'BASE DE DADOS'!$G:$G,GASTOS_MENSAIS!$A8,'BASE DE DADOS'!$K:$K,DATE(YEAR(TODAY()),MONTH(H$6),DAY(VLOOKUP($A8,CONFIG!$A$2:$C$100,2,0))))","v":0},{"$f":"SUMIFS('BASE DE DADOS'!$M:$M,'BASE DE DADOS'!$B:$B,GASTOS_MENSAIS!$B$4,'BASE DE DADOS'!$G:$G,GASTOS_MENSAIS!$A8,'BASE DE DADOS'!$K:$K,DATE(YEAR(TODAY()),MONTH(I$6),DAY(VLOOKUP($A8,CONFIG!$A$2:$C$100,2,0))))","v":0},{"$f":"SUMIFS('BASE DE DADOS'!$M:$M,'BASE DE DADOS'!$B:$B,GASTOS_MENSAIS!$B$4,'BASE DE DADOS'!$G:$G,GASTOS_MENSAIS!$A8,'BASE DE DADOS'!$K:$K,DATE(YEAR(TODAY()),MONTH(J$6),DAY(VLOOKUP($A8,CONFIG!$A$2:$C$100,2,0))))","v":875.773776},{"$f":"SUMIFS('BASE DE DADOS'!$M:$M,'BASE DE DADOS'!$B:$B,GASTOS_MENSAIS!$B$4,'BASE DE DADOS'!$G:$G,GASTOS_MENSAIS!$A8,'BASE DE DADOS'!$K:$K,DATE(YEAR(TODAY()),MONTH(K$6),DAY(VLOOKUP($A8,CONFIG!$A$2:$C$100,2,0))))","v":879.99616800000001},{"$f":"SUMIFS('BASE DE DADOS'!$M:$M,'BASE DE DADOS'!$B:$B,GASTOS_MENSAIS!$B$4,'BASE DE DADOS'!$G:$G,GASTOS_MENSAIS!$A8,'BASE DE DADOS'!$K:$K,DATE(YEAR(TODAY()),MONTH(L$6),DAY(VLOOKUP($A8,CONFIG!$A$2:$C$100,2,0))))","v":0},{"$f":"SUMIFS('BASE DE DADOS'!$M:$M,'BASE DE DADOS'!$B:$B,GASTOS_MENSAIS!$B$4,'BASE DE DADOS'!$G:$G,GASTOS_MENSAIS!$A8,'BASE DE DADOS'!$K:$K,DATE(YEAR(TODAY()),MONTH(M$6),DAY(VLOOKUP($A8,CONFIG!$A$2:$C$100,2,0))))","v":0},{"$f":"SUM(B8:M8)","v":6159.0333039999996}]
[{"$f":"CONFIG!A3","v":"MELIUZ"},{"$f":"SUMIFS('BASE DE DADOS'!$M:$M,'BASE DE DADOS'!$B:$B,GASTOS_MENSAIS!$B$4,'BASE DE DADOS'!$G:$G,GASTOS_MENSAIS!$A9,'BASE DE DADOS'!$K:$K,DATE(YEAR(TODAY()),MONTH(B$6),DAY(VLOOKUP($A9,CONFIG!$A$2:$C$100,2,0))))","v":1026.6229719999999},{"$f":"SUMIFS('BASE DE DADOS'!$M:$M,'BASE DE DADOS'!$B:$B,GASTOS_MENSAIS!$B$4,'BASE DE DADOS'!$G:$G,GASTOS_MENSAIS!$A9,'BASE DE DADOS'!$K:$K,DATE(YEAR(TODAY()),MONTH(C$6),DAY(VLOOKUP($A9,CONFIG!$A$2:$C$100,2,0))))","v":0},{"$f":"SUMIFS('BASE DE DADOS'!$M:$M,'BASE DE DADOS'!$B:$B,GASTOS_MENSAIS!$B$4,'BASE DE DADOS'!$G:$G,GASTOS_MENSAIS!$A9,'BASE DE DADOS'!$K:$K,DATE(YEAR(TODAY()),MONTH(D$6),DAY(VLOOKUP($A9,CONFIG!$A$2:$C$100,2,0))))","v":1869.5362739999998},{"$f":"SUMIFS('BASE DE DADOS'!$M:$M,'BASE DE DADOS'!$B:$B,GASTOS_MENSAIS!$B$4,'BASE DE DADOS'!$G:$G,GASTOS_MENSAIS!$A9,'BASE DE DADOS'!$K:$K,DATE(YEAR(TODAY()),MONTH(E$6),DAY(VLOOKUP($A9,CONFIG!$A$2:$C$100,2,0))))","v":1870.072232},{"$f":"SUMIFS('BASE DE DADOS'!$M:$M,'BASE DE DADOS'!$B:$B,GASTOS_MENSAIS!$B$4,'BASE DE DADOS'!$G:$G,GASTOS_MENSAIS!$A9,'BASE DE DADOS'!$K:$K,DATE(YEAR(TODAY()),MONTH(F$6),DAY(VLOOKUP($A9,CONFIG!$A$2:$C$100,2,0))))","v":1869.8937599999999},{"$f":"SUMIFS('BASE DE DADOS'!$M:$M,'BASE DE DADOS'!$B:$B,GASTOS_MENSAIS!$B$4,'BASE DE DADOS'!$G:$G,GASTOS_MENSAIS!$A9,'BASE DE DADOS'!$K:$K,DATE(YEAR(TODAY()),MONTH(G$6),DAY(VLOOKUP($A9,CONFIG!$A$2:$C$100,2,0))))","v":1870.2609309999998},{"$f":"SUMIFS('BASE DE DADOS'!$M:$M,'BASE DE DADOS'!$B:$B,GASTOS_MENSAIS!$B$4,'BASE DE DADOS'!$G:$G,GASTOS_MENSAIS!$A9,'BASE DE DADOS'!$K:$K,DATE(YEAR(TODAY()),MONTH(H$6),DAY(VLOOKUP($A9,CONFIG!$A$2:$C$100,2,0))))","v":1861.0089250000001},{"$f":"SUMIFS('BASE DE DADOS'!$M:$M,'BASE DE DADOS'!$B:$B,GASTOS_MENSAIS!$B$4,'BASE DE DADOS'!$G:$G,GASTOS_MENSAIS!$A9,'BASE DE DADOS'!$K:$K,DATE(YEAR(TODAY()),MONTH(I$6),DAY(VLOOKUP($A9,CONFIG!$A$2:$C$100,2,0))))","v":1687.24},{"$f":"SUMIFS('BASE DE DADOS'!$M:$M,'BASE DE DADOS'!$B:$B,GASTOS_MENSAIS!$B$4,'BASE DE DADOS'!$G:$G,GASTOS_MENSAIS!$A9,'BASE DE DADOS'!$K:$K,DATE(YEAR(TODAY()),MONTH(J$6),DAY(VLOOKUP($A9,CONFIG!$A$2:$C$100,2,0))))","v":11143.420695999999},{"$f":"SUMIFS('BASE DE DADOS'!$M:$M,'BASE DE DADOS'!$B:$B,GASTOS_MENSAIS!$B$4,'BASE DE DADOS'!$G:$G,GASTOS_MENSAIS!$A9,'BASE DE DADOS'!$K:$K,DATE(YEAR(TODAY()),MONTH(K$6),DAY(VLOOKUP($A9,CONFIG!$A$2:$C$100,2,0))))","v":6448.9566910000003},{"$f":"SUMIFS('BASE DE DADOS'!$M:$M,'BASE DE DADOS'!$B:$B,GASTOS_MENSAIS!$B$4,'BASE DE DADOS'!$G:$G,GASTOS_MENSAIS!$A9,'BASE DE DADOS'!$K:$K,DATE(YEAR(TODAY()),MONTH(L$6),DAY(VLOOKUP($A9,CONFIG!$A$2:$C$100,2,0))))","v":218.48678299999997},{"$f":"SUMIFS('BASE DE DADOS'!$M:$M,'BASE DE DADOS'!$B:$B,GASTOS_MENSAIS!$B$4,'BASE DE DADOS'!$G:$G,GASTOS_MENSAIS!$A9,'BASE DE DADOS'!$K:$K,DATE(YEAR(TODAY()),MONTH(M$6),DAY(VLOOKUP($A9,CONFIG!$A$2:$C$100,2,0))))","v":218.48678299999997},30083.986046999999]
[{"$f":"CONFIG!A4","v":"ZERO"},{"$f":"SUMIFS('BASE DE DADOS'!$M:$M,'BASE DE DADOS'!$B:$B,GASTOS_MENSAIS!$B$4,'BASE DE DADOS'!$G:$G,GASTOS_MENSAIS!$A10,'BASE DE DADOS'!$K:$K,DATE(YEAR(TODAY()),MONTH(B$6),DAY(VLOOKUP($A10,CONFIG!$A$2:$C$100,2,0))))","v":1607.7688950000002},{"$f":"SUMIFS('BASE DE DADOS'!$M:$M,'BASE DE DADOS'!$B:$B,GASTOS_MENSAIS!$B$4,'BASE DE DADOS'!$G:$G,GASTOS_MENSAIS!$A10,'BASE DE DADOS'!$K:$K,DATE(YEAR(TODAY()),MONTH(C$6),DAY(VLOOKUP($A10,CONFIG!$A$2:$C$100,2,0))))","v":1601.8222040000001},{"$f":"SUMIFS('BASE DE DADOS'!$M:$M,'BASE DE DADOS'!$B:$B,GASTOS_MENSAIS!$B$4,'BASE DE DADOS'!$G:$G,GASTOS_MENSAIS!$A10,'BASE DE DADOS'!$K:$K,DATE(YEAR(TODAY()),MONTH(D$6),DAY(VLOOKUP($A10,CONFIG!$A$2:$C$100,2,0))))","v":1607.758546},{"$f":"SUMIFS('BASE DE DADOS'!$M:$M,'BASE DE DADOS'!$B:$B,GASTOS_MENSAIS!$B$4,'BASE DE DADOS'!$G:$G,GASTOS_MENSAIS!$A10,'BASE DE DADOS'!$K:$K,DATE(YEAR(TODAY()),MONTH(E$6),DAY(VLOOKUP($A10,CONFIG!$A$2:$C$100,2,0))))","v":1600.0047509999999},{"$f":"SUMIFS('BASE DE DADOS'!$M:$M,'BASE DE DADOS'!$B:$B,GASTOS_MENSAIS!$B$4,'BASE DE DADOS'!$G:$G,GASTOS_MENSAIS!$A10,'BASE DE DADOS'!$K:$K,DATE(YEAR(TODAY()),MONTH(F$6),DAY(VLOOKUP($A10,CONFIG!$A$2:$C$100,2,0))))","v":1599.9967959999999},{"$f":"SUMIFS('BASE DE DADOS'!$M:$M,'BASE DE DADOS'!$B:$B,GASTOS_MENSAIS!$B$4,'BASE DE DADOS'!$G:$G,GASTOS_MENSAIS!$A10,'BASE DE DADOS'!$K:$K,DATE(YEAR(TODAY()),MONTH(G$6),DAY(VLOOKUP($A10,CONFIG!$A$2:$C$100,2,0))))","v":1599.9967959999999},{"$f":"SUMIFS('BASE DE DADOS'!$M:$M,'BASE DE DADOS'!$B:$B,GASTOS_MENSAIS!$B$4,'BASE DE DADOS'!$G:$G,GASTOS_MENSAIS!$A10,'BASE DE DADOS'!$K:$K,DATE(YEAR(TODAY()),MONTH(H$6),DAY(VLOOKUP($A10,CONFIG!$A$2:$C$100,2,0))))","v":1599.9967959999999},{"$f":"SUMIFS('BASE DE DADOS'!$M:$M,'BASE DE DADOS'!$B:$B,GASTOS_MENSAIS!$B$4,'BASE DE DADOS'!$G:$G,GASTOS_MENSAIS!$A10,'BASE DE DADOS'!$K:$K,DATE(YEAR(TODAY()),MONTH(I$6),DAY(VLOOKUP($A10,CONFIG!$A$2:$C$100,2,0))))","v":1592.2971399999999},{"$f":"SUMIFS('BASE DE DADOS'!$M:$M,'BASE DE DADOS'!$B:$B,GASTOS_MENSAIS!$B$4,'BASE DE DADOS'!$G:$G,GASTOS_MENSAIS!$A10,'BASE DE DADOS'!$K:$K,DATE(YEAR(TODAY()),MONTH(J$6),DAY(VLOOKUP($A10,CONFIG!$A$2:$C$100,2,0))))","v":1599.9974889999999},{"$f":"SUMIFS('BASE DE DADOS'!$M:$M,'BASE DE DADOS'!$B:$B,GASTOS_MENSAIS!$B$4,'BASE DE DADOS'!$G:$G,GASTOS_MENSAIS!$A10,'BASE DE DADOS'!$K:$K,DATE(YEAR(TODAY()),MONTH(K$6),DAY(VLOOKUP($A10,CONFIG!$A$2:$C$100,2,0))))","v":1655.7986040000001},{"$f":"SUMIFS('BASE DE DADOS'!$M:$M,'BASE DE DADOS'!$B:$B,GASTOS_MENSAIS!$B$4,'BASE DE DADOS'!$G:$G,GASTOS_MENSAIS!$A10,'BASE DE DADOS'!$K:$K,DATE(YEAR(TODAY()),MONTH(L$6),DAY(VLOOKUP($A10,CONFIG!$A$2:$C$100,2,0))))","v":0},{"$f":"SUMIFS('BASE DE DADOS'!$M:$M,'BASE DE DADOS'!$B:$B,GASTOS_MENSAIS!$B$4,'BASE DE DADOS'!$G:$G,GASTOS_MENSAIS!$A10,'BASE DE DADOS'!$K:$K,DATE(YEAR(TODAY()),MONTH(M$6),DAY(VLOOKUP($A10,CONFIG!$A$2:$C$100,2,0))))","v":0},16065.438016999999]
[{"$f":"CONFIG!A5","v":"NUBANK"},{"$f":"SUMIFS('BASE DE DADOS'!$M:$M,'BASE DE DADOS'!$B:$B,GASTOS_MENSAIS!$B$4,'BASE DE DADOS'!$G:$G,GASTOS_MENSAIS!$A11,'BASE DE DADOS'!$K:$K,DATE(YEAR(TODAY()),MONTH(B$6),DAY(VLOOKUP($A11,CONFIG!$A$2:$C$100,2,0))))","v":3588.1031279999997},{"$f":"SUMIFS('BASE DE DADOS'!$M:$M,'BASE DE DADOS'!$B:$B,GASTOS_MENSAIS!$B$4,'BASE DE DADOS'!$G:$G,GASTOS_MENSAIS!$A11,'BASE DE DADOS'!$K:$K,DATE(YEAR(TODAY()),MONTH(C$6),DAY(VLOOKUP($A11,CONFIG!$A$2:$C$100,2,0))))","v":3824.7326010000002},{"$f":"SUMIFS('BASE DE DADOS'!$M:$M,'BASE DE DADOS'!$B:$B,GASTOS_MENSAIS!$B$4,'BASE DE DADOS'!$G:$G,GASTOS_MENSAIS!$A11,'BASE DE DADOS'!$K:$K,DATE(YEAR(TODAY()),MONTH(D$6),DAY(VLOOKUP($A11,CONFIG!$A$2:$C$100,2,0))))","v":3647.8476449999998},{"$f":"SUMIFS('BASE DE DADOS'!$M:$M,'BASE DE DADOS'!$B:$B,GASTOS_MENSAIS!$B$4,'BASE DE DADOS'!$G:$G,GASTOS_MENSAIS!$A11,'BASE DE DADOS'!$K:$K,DATE(YEAR(TODAY()),MONTH(E$6),DAY(VLOOKUP($A11,CONFIG!$A$2:$C$100,2,0))))","v":3659.6827910000002},{"$f":"SUMIFS('BASE DE DADOS'!$M:$M,'BASE DE DADOS'!$B:$B,GASTOS_MENSAIS!$B$4,'BASE DE DADOS'!$G:$G,GASTOS_MENSAIS!$A11,'BASE DE DADOS'!$K:$K,DATE(YEAR(TODAY()),MONTH(F$6),DAY(VLOOKUP($A11,CONFIG!$A$2:$C$100,2,0))))","v":3699.9951779999997},{"$f":"SUMIFS('BASE DE DADOS'!$M:$M,'BASE DE DADOS'!$B:$B,GASTOS_MENSAIS!$B$4,'BASE DE DADOS'!$G:$G,GASTOS_MENSAIS!$A11,'BASE DE DADOS'!$K:$K,DATE(YEAR(TODAY()),MONTH(G$6),DAY(VLOOKUP($A11,CONFIG!$A$2:$C$100,2,0))))","v":3924.2911840000002},{"$f":"SUMIFS('BASE DE DADOS'!$M:$M,'BASE DE DADOS'!$B:$B,GASTOS_MENSAIS!$B$4,'BASE DE DADOS'!$G:$G,GASTOS_MENSAIS!$A11,'BASE DE DADOS'!$K:$K,DATE(YEAR(TODAY()),MONTH(H$6),DAY(VLOOKUP($A11,CONFIG!$A$2:$C$100,2,0))))","v":4130.7578000000003},{"$f":"SUMIFS('BASE DE DADOS'!$M:$M,'BASE DE DADOS'!$B:$B,GASTOS_MENSAIS!$B$4,'BASE DE DADOS'!$G:$G,GASTOS_MENSAIS!$A11,'BASE DE DADOS'!$K:$K,DATE(YEAR(TODAY()),MONTH(I$6),DAY(VLOOKUP($A11,CONFIG!$A$2:$C$100,2,0))))","v":4056.859148},{"$f":"SUMIFS('BASE DE DADOS'!$M:$M,'BASE DE DADOS'!$B:$B,GASTOS_MENSAIS!$B$4,'BASE DE DADOS'!$G:$G,GASTOS_MENSAIS!$A11,'BASE DE DADOS'!$K:$K,DATE(YEAR(TODAY()),MONTH(J$6),DAY(VLOOKUP($A11,CONFIG!$A$2:$C$100,2,0))))","v":3843.2379980000001},{"$f":"SUMIFS('BASE DE DADOS'!$M:$M,'BASE DE DADOS'!$B:$B,GASTOS_MENSAIS!$B$4,'BASE DE DADOS'!$G:$G,GASTOS_MENSAIS!$A11,'BASE DE DADOS'!$K:$K,DATE(YEAR(TODAY()),MONTH(K$6),DAY(VLOOKUP($A11,CONFIG!$A$2:$C$100,2,0))))","v":3476.777},{"$f":"SUMIFS('BASE DE DADOS'!$M:$M,'BASE DE DADOS'!$B:$B,GASTOS_MENSAIS!$B$4,'BASE DE DADOS'!$G:$G,GASTOS_MENSAIS!$A11,'BASE DE DADOS'!$K:$K,DATE(YEAR(TODAY()),MONTH(L$6),DAY(VLOOKUP($A11,CONFIG!$A$2:$C$100,2,0))))","v":30.56},{"$f":"SUMIFS('BASE DE DADOS'!$M:$M,'BASE DE DADOS'!$B:$B,GASTOS_MENSAIS!$B$4,'BASE DE DADOS'!$G:$G,GASTOS_MENSAIS!$A11,'BASE DE DADOS'!$K:$K,DATE(YEAR(TODAY()),MONTH(M$6),DAY(VLOOKUP($A11,CONFIG!$A$2:$C$100,2,0))))","v":30.56},37913.404472999995]
["NEON",{"$f":"SUMIFS('BASE DE DADOS'!$M:$M,'BASE DE DADOS'!$B:$B,GASTOS_MENSAIS!$B$4,'BASE DE DADOS'!$G:$G,GASTOS_MENSAIS!$A12,'BASE DE DADOS'!$K:$K,DATE(YEAR(TODAY()),MONTH(B$6),DAY(VLOOKUP($A12,CONFIG!$A$2:$C$100,2,0))))","v":0},{"$f":"SUMIFS('BASE DE DADOS'!$M:$M,'BASE DE DADOS'!$B:$B,GASTOS_MENSAIS!$B$4,'BASE DE DADOS'!$G:$G,GASTOS_MENSAIS!$A12,'BASE DE DADOS'!$K:$K,DATE(YEAR(TODAY()),MONTH(C$6),DAY(VLOOKUP($A12,CONFIG!$A$2:$C$100,2,0))))","v":927.58522700000003},{"$f":"SUMIFS('BASE DE DADOS'!$M:$M,'BASE DE DADOS'!$B:$B,GASTOS_MENSAIS!$B$4,'BASE DE DADOS'!$G:$G,GASTOS_MENSAIS!$A12,'BASE DE DADOS'!$K:$K,DATE(YEAR(TODAY()),MONTH(D$6),DAY(VLOOKUP($A12,CONFIG!$A$2:$C$100,2,0))))","v":849.99706800000001},{"$f":"SUMIFS('BASE DE DADOS'!$M:$M,'BASE DE DADOS'!$B:$B,GASTOS_MENSAIS!$B$4,'BASE DE DADOS'!$G:$G,GASTOS_MENSAIS!$A12,'BASE DE DADOS'!$K:$K,DATE(YEAR(TODAY()),MONTH(E$6),DAY(VLOOKUP($A12,CONFIG!$A$2:$C$100,2,0))))","v":850.00476600000002},{"$f":"SUMIFS('BASE DE DADOS'!$M:$M,'BASE DE DADOS'!$B:$B,GASTOS_MENSAIS!$B$4,'BASE DE DADOS'!$G:$G,GASTOS_MENSAIS!$A12,'BASE DE DADOS'!$K:$K,DATE(YEAR(TODAY()),MONTH(F$6),DAY(VLOOKUP($A12,CONFIG!$A$2:$C$100,2,0))))","v":850.00476600000002},{"$f":"SUMIFS('BASE DE DADOS'!$M:$M,'BASE DE DADOS'!$B:$B,GASTOS_MENSAIS!$B$4,'BASE DE DADOS'!$G:$G,GASTOS_MENSAIS!$A12,'BASE DE DADOS'!$K:$K,DATE(YEAR(TODAY()),MONTH(G$6),DAY(VLOOKUP($A12,CONFIG!$A$2:$C$100,2,0))))","v":850.00476600000002},{"$f":"SUMIFS('BASE DE DADOS'!$M:$M,'BASE DE DADOS'!$B:$B,GASTOS_MENSAIS!$B$4,'BASE DE DADOS'!$G:$G,GASTOS_MENSAIS!$A12,'BASE DE DADOS'!$K:$K,DATE(YEAR(TODAY()),MONTH(H$6),DAY(VLOOKUP($A12,CONFIG!$A$2:$C$100,2,0))))","v":1059.085613},{"$f":"SUMIFS('BASE DE DADOS'!$M:$M,'BASE DE DADOS'!$B:$B,GASTOS_MENSAIS!$B$4,'BASE DE DADOS'!$G:$G,GASTOS_MENSAIS!$A12,'BASE DE DADOS'!$K:$K,DATE(YEAR(TODAY()),MONTH(I$6),DAY(VLOOKUP($A12,CONFIG!$A$2:$C$100,2,0))))","v":0},{"$f":"SUMIFS('BASE DE DADOS'!$M:$M,'BASE DE DADOS'!$B:$B,GASTOS_MENSAIS!$B$4,'BASE DE DADOS'!$G:$G,GASTOS_MENSAIS!$A12,'BASE DE DADOS'!$K:$K,DATE(YEAR(TODAY()),MONTH(J$6),DAY(VLOOKUP($A12,CONFIG!$A$2:$C$100,2,0))))","v":1109.99884},{"$f":"SUMIFS('BASE DE DADOS'!$M:$M,'BASE DE DADOS'!$B:$B,GASTOS_MENSAIS!$B$4,'BASE DE DADOS'!$G:$G,GASTOS_MENSAIS!$A12,'BASE DE DADOS'!$K:$K,DATE(YEAR(TODAY()),MONTH(K$6),DAY(VLOOKUP($A12,CONFIG!$A$2:$C$100,2,0))))","v":0},{"$f":"SUMIFS('BASE DE DADOS'!$M:$M,'BASE DE DADOS'!$B:$B,GASTOS_MENSAIS!$B$4,'BASE DE DADOS'!$G:$G,GASTOS_MENSAIS!$A12,'BASE DE DADOS'!$K:$K,DATE(YEAR(TODAY()),MONTH(L$6),DAY(VLOOKUP($A12,CONFIG!$A$2:$C$100,2,0))))","v":0},{"$f":"SUMIFS('BASE DE DADOS'!$M:$M,'BASE DE DADOS'!$B:$B,GASTOS_MENSAIS!$B$4,'BASE DE DADOS'!$G:$G,GASTOS_MENSAIS!$A12,'BASE DE DADOS'!$K:$K,DATE(YEAR(TODAY()),MONTH(M$6),DAY(VLOOKUP($A12,CONFIG!$A$2:$C$100,2,0))))","v":0},6496.6810460000006]
[{"$f":"CONFIG!A6","v":"AZUL"},{"$f":"SUMIFS('BASE DE DADOS'!$M:$M,'BASE DE DADOS'!$B:$B,GASTOS_MENSAIS!$B$4,'BASE DE DADOS'!$G:$G,GASTOS_MENSAIS!$A13,'BASE DE DADOS'!$K:$K,DATE(YEAR(TODAY()),MONTH(B$6),DAY(VLOOKUP($A13,CONFIG!$A$2:$C$100,2,0))))","v":2160.4365420000004},{"$f":"SUMIFS('BASE DE DADOS'!$M:$M,'BASE DE DADOS'!$B:$B,GASTOS_MENSAIS!$B$4,'BASE DE DADOS'!$G:$G,GASTOS_MENSAIS!$A13,'BASE DE DADOS'!$K:$K,DATE(YEAR(TODAY()),MONTH(C$6),DAY(VLOOKUP($A13,CONFIG!$A$2:$C$100,2,0))))","v":2160.4365419999999},{"$f":"SUMIFS('BASE DE DADOS'!$M:$M,'BASE DE DADOS'!$B:$B,GASTOS_MENSAIS!$B$4,'BASE DE DADOS'!$G:$G,GASTOS_MENSAIS!$A13,'BASE DE DADOS'!$K:$K,DATE(YEAR(TODAY()),MONTH(D$6),DAY(VLOOKUP($A13,CONFIG!$A$2:$C$100,2,0))))","v":2149.253483},{"$f":"SUMIFS('BASE DE DADOS'!$M:$M,'BASE DE DADOS'!$B:$B,GASTOS_MENSAIS!$B$4,'BASE DE DADOS'!$G:$G,GASTOS_MENSAIS!$A13,'BASE DE DADOS'!$K:$K,DATE(YEAR(TODAY()),MONTH(E$6),DAY(VLOOKUP($A13,CONFIG!$A$2:$C$100,2,0))))","v":2157.7975470000001},{"$f":"SUMIFS('BASE DE DADOS'!$M:$M,'BASE DE DADOS'!$B:$B,GASTOS_MENSAIS!$B$4,'BASE DE DADOS'!$G:$G,GASTOS_MENSAIS!$A13,'BASE DE DADOS'!$K:$K,DATE(YEAR(TODAY()),MONTH(F$6),DAY(VLOOKUP($A13,CONFIG!$A$2:$C$100,2,0))))","v":2165.8904649999999},{"$f":"SUMIFS('BASE DE DADOS'!$M:$M,'BASE DE DADOS'!$B:$B,GASTOS_MENSAIS!$B$4,'BASE DE DADOS'!$G:$G,GASTOS_MENSAIS!$A13,'BASE DE DADOS'!$K:$K,DATE(YEAR(TODAY()),MONTH(G$6),DAY(VLOOKUP($A13,CONFIG!$A$2:$C$100,2,0))))","v":2150.0047500000001},{"$f":"SUMIFS('BASE DE DADOS'!$M:$M,'BASE DE DADOS'!$B:$B,GASTOS_MENSAIS!$B$4,'BASE DE DADOS'!$G:$G,GASTOS_MENSAIS!$A13,'BASE DE DADOS'!$K:$K,DATE(YEAR(TODAY()),MONTH(H$6),DAY(VLOOKUP($A13,CONFIG!$A$2:$C$100,2,0))))","v":2132.6083370000001},{"$f":"SUMIFS('BASE DE DADOS'!$M:$M,'BASE DE DADOS'!$B:$B,GASTOS_MENSAIS!$B$4,'BASE DE DADOS'!$G:$G,GASTOS_MENSAIS!$A13,'BASE DE DADOS'!$K:$K,DATE(YEAR(TODAY()),MONTH(I$6),DAY(VLOOKUP($A13,CONFIG!$A$2:$C$100,2,0))))","v":2140.0490119999999},{"$f":"SUMIFS('BASE DE DADOS'!$M:$M,'BASE DE DADOS'!$B:$B,GASTOS_MENSAIS!$B$4,'BASE DE DADOS'!$G:$G,GASTOS_MENSAIS!$A13,'BASE DE DADOS'!$K:$K,DATE(YEAR(TODAY()),MONTH(J$6),DAY(VLOOKUP($A13,CONFIG!$A$2:$C$100,2,0))))","v":0},{"$f":"SUMIFS('BASE DE DADOS'!$M:$M,'BASE DE DADOS'!$B:$B,GASTOS_MENSAIS!$B$4,'BASE DE DADOS'!$G:$G,GASTOS_MENSAIS!$A13,'BASE DE DADOS'!$K:$K,DATE(YEAR(TODAY()),MONTH(K$6),DAY(VLOOKUP($A13,CONFIG!$A$2:$C$100,2,0))))","v":2150.0047500000001},{"$f":"SUMIFS('BASE DE DADOS'!$M:$M,'BASE DE DADOS'!$B:$B,GASTOS_MENSAIS!$B$4,'BASE DE DADOS'!$G:$G,GASTOS_MENSAIS!$A13,'BASE DE DADOS'!$K:$K,DATE(YEAR(TODAY()),MONTH(L$6),DAY(VLOOKUP($A13,CONFIG!$A$2:$C$100,2,0))))","v":0},{"$f":"SUMIFS('BASE DE DADOS'!$M:$M,'BASE DE DADOS'!$B:$B,GASTOS_MENSAIS!$B$4,'BASE DE DADOS'!$G:$G,GASTOS_MENSAIS!$A13,'BASE DE DADOS'!$K:$K,DATE(YEAR(TODAY()),MONTH(M$6),DAY(VLOOKUP($A13,CONFIG!$A$2:$C$100,2,0))))","v":0},19366.481428000003]
[{"$f":"CONFIG!A7","v":"GOLD"},{"$f":"SUMIFS('BASE DE DADOS'!$M:$M,'BASE DE DADOS'!$B:$B,GASTOS_MENSAIS!$B$4,'BASE DE DADOS'!$G:$G,GASTOS_MENSAIS!$A14,'BASE DE DADOS'!$K:$K,DATE(YEAR(TODAY()),MONTH(B$6),DAY(VLOOKUP($A14,CONFIG!$A$2:$C$100,2,0))))","v":2511.8823070000003},{"$f":"SUMIFS('BASE DE DADOS'!$M:$M,'BASE DE DADOS'!$B:$B,GASTOS_MENSAIS!$B$4,'BASE DE DADOS'!$G:$G,GASTOS_MENSAIS!$A14,'BASE DE DADOS'!$K:$K,DATE(YEAR(TODAY()),MONTH(C$6),DAY(VLOOKUP($A14,CONFIG!$A$2:$C$100,2,0))))","v":2512.136958},{"$f":"SUMIFS('BASE DE DADOS'!$M:$M,'BASE DE DADOS'!$B:$B,GASTOS_MENSAIS!$B$4,'BASE DE DADOS'!$G:$G,GASTOS_MENSAIS!$A14,'BASE DE DADOS'!$K:$K,DATE(YEAR(TODAY()),MONTH(D$6),DAY(VLOOKUP($A14,CONFIG!$A$2:$C$100,2,0))))","v":2499.9998580000001},{"$f":"SUMIFS('BASE DE DADOS'!$M:$M,'BASE DE DADOS'!$B:$B,GASTOS_MENSAIS!$B$4,'BASE DE DADOS'!$G:$G,GASTOS_MENSAIS!$A14,'BASE DE DADOS'!$K:$K,DATE(YEAR(TODAY()),MONTH(E$6),DAY(VLOOKUP($A14,CONFIG!$A$2:$C$100,2,0))))","v":2499.9975810000001},{"$f":"SUMIFS('BASE DE DADOS'!$M:$M,'BASE DE DADOS'!$B:$B,GASTOS_MENSAIS!$B$4,'BASE DE DADOS'!$G:$G,GASTOS_MENSAIS!$A14,'BASE DE DADOS'!$K:$K,DATE(YEAR(TODAY()),MONTH(F$6),DAY(VLOOKUP($A14,CONFIG!$A$2:$C$100,2,0))))","v":2499.9975809999996},{"$f":"SUMIFS('BASE DE DADOS'!$M:$M,'BASE DE DADOS'!$B:$B,GASTOS_MENSAIS!$B$4,'BASE DE DADOS'!$G:$G,GASTOS_MENSAIS!$A14,'BASE DE DADOS'!$K:$K,DATE(YEAR(TODAY()),MONTH(G$6),DAY(VLOOKUP($A14,CONFIG!$A$2:$C$100,2,0))))","v":2500.0008819999998},{"$f":"SUMIFS('BASE DE DADOS'!$M:$M,'BASE DE DADOS'!$B:$B,GASTOS_MENSAIS!$B$4,'BASE DE DADOS'!$G:$G,GASTOS_MENSAIS!$A14,'BASE DE DADOS'!$K:$K,DATE(YEAR(TODAY()),MONTH(H$6),DAY(VLOOKUP($A14,CONFIG!$A$2:$C$100,2,0))))","v":2406.287386},{"$f":"SUMIFS('BASE DE DADOS'!$M:$M,'BASE DE DADOS'!$B:$B,GASTOS_MENSAIS!$B$4,'BASE DE DADOS'!$G:$G,GASTOS_MENSAIS!$A14,'BASE DE DADOS'!$K:$K,DATE(YEAR(TODAY()),MONTH(I$6),DAY(VLOOKUP($A14,CONFIG!$A$2:$C$100,2,0))))","v":2456.1281700000004},{"$f":"SUMIFS('BASE DE DADOS'!$M:$M,'BASE DE DADOS'!$B:$B,GASTOS_MENSAIS!$B$4,'BASE DE DADOS'!$G:$G,GASTOS_MENSAIS!$A14,'BASE DE DADOS'!$K:$K,DATE(YEAR(TODAY()),MONTH(J$6),DAY(VLOOKUP($A14,CONFIG!$A$2:$C$100,2,0))))","v":0},{"$f":"SUMIFS('BASE DE DADOS'!$M:$M,'BASE DE DADOS'!$B:$B,GASTOS_MENSAIS!$B$4,'BASE DE DADOS'!$G:$G,GASTOS_MENSAIS!$A14,'BASE DE DADOS'!$K:$K,DATE(YEAR(TODAY()),MONTH(K$6),DAY(VLOOKUP($A14,CONFIG!$A$2:$C$100,2,0))))","v":0},{"$f":"SUMIFS('BASE DE DADOS'!$M:$M,'BASE DE DADOS'!$B:$B,GASTOS_MENSAIS!$B$4,'BASE DE DADOS'!$G:$G,GASTOS_MENSAIS!$A14,'BASE DE DADOS'!$K:$K,DATE(YEAR(TODAY()),MONTH(L$6),DAY(VLOOKUP($A14,CONFIG!$A$2:$C$100,2,0))))","v":0},{"$f":"SUMIFS('BASE DE DADOS'!$M:$M,'BASE DE DADOS'!$B:$B,GASTOS_MENSAIS!$B$4,'BASE DE DADOS'!$G:$G,GASTOS_MENSAIS!$A14,'BASE DE DADOS'!$K:$K,DATE(YEAR(TODAY()),MONTH(M$6),DAY(VLOOKUP($A14,CONFIG!$A$2:$C$100,2,0))))","v":0},19886.430723000001]
[{"$f":"CONFIG!A8","v":"LATAM"},{"$f":"SUMIFS('BASE DE DADOS'!$M:$M,'BASE DE DADOS'!$B:$B,GASTOS_MENSAIS!$B$4,'BASE DE DADOS'!$G:$G,GASTOS_MENSAIS!$A15,'BASE DE DADOS'!$K:$K,DATE(YEAR(TODAY()),MONTH(B$6),DAY(VLOOKUP($A15,CONFIG!$A$2:$C$100,2,0))))","v":3818.4601810000004},{"$f":"SUMIFS('BASE DE DADOS'!$M:$M,'BASE DE DADOS'!$B:$B,GASTOS_MENSAIS!$B$4,'BASE DE DADOS'!$G:$G,GASTOS_MENSAIS!$A15,'BASE DE DADOS'!$K:$K,DATE(YEAR(TODAY()),MONTH(C$6),DAY(VLOOKUP($A15,CONFIG!$A$2:$C$100,2,0))))","v":3818.429134},{"$f":"SUMIFS('BASE DE DADOS'!$M:$M,'BASE DE DADOS'!$B:$B,GASTOS_MENSAIS!$B$4,'BASE DE DADOS'!$G:$G,GASTOS_MENSAIS!$A15,'BASE DE DADOS'!$K:$K,DATE(YEAR(TODAY()),MONTH(D$6),DAY(VLOOKUP($A15,CONFIG!$A$2:$C$100,2,0))))","v":3818.4601810000004},{"$f":"SUMIFS('BASE DE DADOS'!$M:$M,'BASE DE DADOS'!$B:$B,GASTOS_MENSAIS!$B$4,'BASE DE DADOS'!$G:$G,GASTOS_MENSAIS!$A15,'BASE DE DADOS'!$K:$K,DATE(YEAR(TODAY()),MONTH(E$6),DAY(VLOOKUP($A15,CONFIG!$A$2:$C$100,2,0))))","v":3800.0020500000005},{"$f":"SUMIFS('BASE DE DADOS'!$M:$M,'BASE DE DADOS'!$B:$B,GASTOS_MENSAIS!$B$4,'BASE DE DADOS'!$G:$G,GASTOS_MENSAIS!$A15,'BASE DE DADOS'!$K:$K,DATE(YEAR(TODAY()),MONTH(F$6),DAY(VLOOKUP($A15,CONFIG!$A$2:$C$100,2,0))))","v":3800.0079139999998},{"$f":"SUMIFS('BASE DE DADOS'!$M:$M,'BASE DE DADOS'!$B:$B,GASTOS_MENSAIS!$B$4,'BASE DE DADOS'!$G:$G,GASTOS_MENSAIS!$A15,'BASE DE DADOS'!$K:$K,DATE(YEAR(TODAY()),MONTH(G$6),DAY(VLOOKUP($A15,CONFIG!$A$2:$C$100,2,0))))","v":3799.9801560000001},{"$f":"SUMIFS('BASE DE DADOS'!$M:$M,'BASE DE DADOS'!$B:$B,GASTOS_MENSAIS!$B$4,'BASE DE DADOS'!$G:$G,GASTOS_MENSAIS!$A15,'BASE DE DADOS'!$K:$K,DATE(YEAR(TODAY()),MONTH(H$6),DAY(VLOOKUP($A15,CONFIG!$A$2:$C$100,2,0))))","v":3659.1672289999997},{"$f":"SUMIFS('BASE DE DADOS'!$M:$M,'BASE DE DADOS'!$B:$B,GASTOS_MENSAIS!$B$4,'BASE DE DADOS'!$G:$G,GASTOS_MENSAIS!$A15,'BASE DE DADOS'!$K:$K,DATE(YEAR(TODAY()),MONTH(I$6),DAY(VLOOKUP($A15,CONFIG!$A$2:$C$100,2,0))))","v":3661.3106160000002},{"$f":"SUMIFS('BASE DE DADOS'!$M:$M,'BASE DE DADOS'!$B:$B,GASTOS_MENSAIS!$B$4,'BASE DE DADOS'!$G:$G,GASTOS_MENSAIS!$A15,'BASE DE DADOS'!$K:$K,DATE(YEAR(TODAY()),MONTH(J$6),DAY(VLOOKUP($A15,CONFIG!$A$2:$C$100,2,0))))","v":0},{"$f":"SUMIFS('BASE DE DADOS'!$M:$M,'BASE DE DADOS'!$B:$B,GASTOS_MENSAIS!$B$4,'BASE DE DADOS'!$G:$G,GASTOS_MENSAIS!$A15,'BASE DE DADOS'!$K:$K,DATE(YEAR(TODAY()),MONTH(K$6),DAY(VLOOKUP($A15,CONFIG!$A$2:$C$100,2,0))))","v":0},{"$f":"SUMIFS('BASE DE DADOS'!$M:$M,'BASE DE DADOS'!$B:$B,GASTOS_MENSAIS!$B$4,'BASE DE DADOS'!$G:$G,GASTOS_MENSAIS!$A15,'BASE DE DADOS'!$K:$K,DATE(YEAR(TODAY()),MONTH(L$6),DAY(VLOOKUP($A15,CONFIG!$A$2:$C$100,2,0))))","v":0},{"$f":"SUMIFS('BASE DE DADOS'!$M:$M,'BASE DE DADOS'!$B:$B,GASTOS_MENSAIS!$B$4,'BASE DE DADOS'!$G:$G,GASTOS_MENSAIS!$A15,'BASE DE DADOS'!$K:$K,DATE(YEAR(TODAY()),MONTH(M$6),DAY(VLOOKUP($A15,CONFIG!$A$2:$C$100,2,0))))","v":0},30175.817460999999]
[{"$f":"CONFIG!A9","v":"FREE"},{"$f":"SUMIFS('BASE DE DADOS'!$M:$M,'BASE DE DADOS'!$B:$B,GASTOS_MENSAIS!$B$4,'BASE DE DADOS'!$G:$G,GASTOS_MENSAIS!$A16,'BASE DE DADOS'!$K:$K,DATE(YEAR(TODAY()),MONTH(B$6),DAY(VLOOKUP($A16,CONFIG!$A$2:$C$100,2,0))))","v":164.28},{"$f":"SUMIFS('BASE DE DADOS'!$M:$M,'BASE DE DADOS'!$B:$B,GASTOS_MENSAIS!$B$4,'BASE DE DADOS'!$G:$G,GASTOS_MENSAIS!$A16,'BASE DE DADOS'!$K:$K,DATE(YEAR(TODAY()),MONTH(C$6),DAY(VLOOKUP($A16,CONFIG!$A$2:$C$100,2,0))))","v":59.382562},{"$f":"SUMIFS('BASE DE DADOS'!$M:$M,'BASE DE DADOS'!$B:$B,GASTOS_MENSAIS!$B$4,'BASE DE DADOS'!$G:$G,GASTOS_MENSAIS!$A16,'BASE DE DADOS'!$K:$K,DATE(YEAR(TODAY()),MONTH(D$6),DAY(VLOOKUP($A16,CONFIG!$A$2:$C$100,2,0))))","v":0},{"$f":"SUMIFS('BASE DE DADOS'!$M:$M,'BASE DE DADOS'!$B:$B,GASTOS_MENSAIS!$B$4,'BASE DE DADOS'!$G:$G,GASTOS_MENSAIS!$A16,'BASE DE DADOS'!$K:$K,DATE(YEAR(TODAY()),MONTH(E$6),DAY(VLOOKUP($A16,CONFIG!$A$2:$C$100,2,0))))","v":0},{"$f":"SUMIFS('BASE DE DADOS'!$M:$M,'BASE DE DADOS'!$B:$B,GASTOS_MENSAIS!$B$4,'BASE DE DADOS'!$G:$G,GASTOS_MENSAIS!$A16,'BASE DE DADOS'!$K:$K,DATE(YEAR(TODAY()),MONTH(F$6),DAY(VLOOKUP($A16,CONFIG!$A$2:$C$100,2,0))))","v":0},{"$f":"SUMIFS('BASE DE DADOS'!$M:$M,'BASE DE DADOS'!$B:$B,GASTOS_MENSAIS!$B$4,'BASE DE DADOS'!$G:$G,GASTOS_MENSAIS!$A16,'BASE DE DADOS'!$K:$K,DATE(YEAR(TODAY()),MONTH(G$6),DAY(VLOOKUP($A16,CONFIG!$A$2:$C$100,2,0))))","v":0},{"$f":"SUMIFS('BASE DE DADOS'!$M:$M,'BASE DE DADOS'!$B:$B,GASTOS_MENSAIS!$B$4,'BASE DE DADOS'!$G:$G,GASTOS_MENSAIS!$A16,'BASE DE DADOS'!$K:$K,DATE(YEAR(TODAY()),MONTH(H$6),DAY(VLOOKUP($A16,CONFIG!$A$2:$C$100,2,0))))","v":0},{"$f":"SUMIFS('BASE DE DADOS'!$M:$M,'BASE DE DADOS'!$B:$B,GASTOS_MENSAIS!$B$4,'BASE DE DADOS'!$G:$G,GASTOS_MENSAIS!$A16,'BASE DE DADOS'!$K:$K,DATE(YEAR(TODAY()),MONTH(I$6),DAY(VLOOKUP($A16,CONFIG!$A$2:$C$100,2,0))))","v":0},{"$f":"SUMIFS('BASE DE DADOS'!$M:$M,'BASE DE DADOS'!$B:$B,GASTOS_MENSAIS!$B$4,'BASE DE DADOS'!$G:$G,GASTOS_MENSAIS!$A16,'BASE DE DADOS'!$K:$K,DATE(YEAR(TODAY()),MONTH(J$6),DAY(VLOOKUP($A16,CONFIG!$A$2:$C$100,2,0))))","v":0},{"$f":"SUMIFS('BASE DE DADOS'!$M:$M,'BASE DE DADOS'!$B:$B,GASTOS_MENSAIS!$B$4,'BASE DE DADOS'!$G:$G,GASTOS_MENSAIS!$A16,'BASE DE DADOS'!$K:$K,DATE(YEAR(TODAY()),MONTH(K$6),DAY(VLOOKUP($A16,CONFIG!$A$2:$C$100,2,0))))","v":0},{"$f":"SUMIFS('BASE DE DADOS'!$M:$M,'BASE DE DADOS'!$B:$B,GASTOS_MENSAIS!$B$4,'BASE DE DADOS'!$G:$G,GASTOS_MENSAIS!$A16,'BASE DE DADOS'!$K:$K,DATE(YEAR(TODAY()),MONTH(L$6),DAY(VLOOKUP($A16,CONFIG!$A$2:$C$100,2,0))))","v":0},{"$f":"SUMIFS('BASE DE DADOS'!$M:$M,'BASE DE DADOS'!$B:$B,GASTOS_MENSAIS!$B$4,'BASE DE DADOS'!$G:$G,GASTOS_MENSAIS!$A16,'BASE DE DADOS'!$K:$K,DATE(YEAR(TODAY()),MONTH(M$6),DAY(VLOOKUP($A16,CONFIG!$A$2:$C$100,2,0))))","v":0},223.66256200000001]
[{"$f":"CONFIG!A10","v":"WILL"},{"$f":"SUMIFS('BASE DE DADOS'!$M:$M,'BASE DE DADOS'!$B:$B,GASTOS_MENSAIS!$B$4,'BASE DE DADOS'!$G:$G,GASTOS_MENSAIS!$A17,'BASE DE DADOS'!$K:$K,DATE(YEAR(TODAY()),MONTH(B$6),DAY(VLOOKUP($A17,CONFIG!$A$2:$C$100,2,0))))","v":2548.3256600000004},{"$f":"SUMIFS('BASE DE DADOS'!$M:$M,'BASE DE DADOS'!$B:$B,GASTOS_MENSAIS!$B$4,'BASE DE DADOS'!$G:$G,GASTOS_MENSAIS!$A17,'BASE DE DADOS'!$K:$K,DATE(YEAR(TODAY()),MONTH(C$6),DAY(VLOOKUP($A17,CONFIG!$A$2:$C$100,2,0))))","v":2814.2070249999997},{"$f":"SUMIFS('BASE DE DADOS'!$M:$M,'BASE DE DADOS'!$B:$B,GASTOS_MENSAIS!$B$4,'BASE DE DADOS'!$G:$G,GASTOS_MENSAIS!$A17,'BASE DE DADOS'!$K:$K,DATE(YEAR(TODAY()),MONTH(D$6),DAY(VLOOKUP($A17,CONFIG!$A$2:$C$100,2,0))))","v":3117.2427820000003},{"$f":"SUMIFS('BASE DE DADOS'!$M:$M,'BASE DE DADOS'!$B:$B,GASTOS_MENSAIS!$B$4,'BASE DE DADOS'!$G:$G,GASTOS_MENSAIS!$A17,'BASE DE DADOS'!$K:$K,DATE(YEAR(TODAY()),MONTH(E$6),DAY(VLOOKUP($A17,CONFIG!$A$2:$C$100,2,0))))","v":3143.5897910000003},{"$f":"SUMIFS('BASE DE DADOS'!$M:$M,'BASE DE DADOS'!$B:$B,GASTOS_MENSAIS!$B$4,'BASE DE DADOS'!$G:$G,GASTOS_MENSAIS!$A17,'BASE DE DADOS'!$K:$K,DATE(YEAR(TODAY()),MONTH(F$6),DAY(VLOOKUP($A17,CONFIG!$A$2:$C$100,2,0))))","v":3299.0007240000004},{"$f":"SUMIFS('BASE DE DADOS'!$M:$M,'BASE DE DADOS'!$B:$B,GASTOS_MENSAIS!$B$4,'BASE DE DADOS'!$G:$G,GASTOS_MENSAIS!$A17,'BASE DE DADOS'!$K:$K,DATE(YEAR(TODAY()),MONTH(G$6),DAY(VLOOKUP($A17,CONFIG!$A$2:$C$100,2,0))))","v":3787.7669180000003},{"$f":"SUMIFS('BASE DE DADOS'!$M:$M,'BASE DE DADOS'!$B:$B,GASTOS_MENSAIS!$B$4,'BASE DE DADOS'!$G:$G,GASTOS_MENSAIS!$A17,'BASE DE DADOS'!$K:$K,DATE(YEAR(TODAY()),MONTH(H$6),DAY(VLOOKUP($A17,CONFIG!$A$2:$C$100,2,0))))","v":3870.429009},{"$f":"SUMIFS('BASE DE DADOS'!$M:$M,'BASE DE DADOS'!$B:$B,GASTOS_MENSAIS!$B$4,'BASE DE DADOS'!$G:$G,GASTOS_MENSAIS!$A17,'BASE DE DADOS'!$K:$K,DATE(YEAR(TODAY()),MONTH(I$6),DAY(VLOOKUP($A17,CONFIG!$A$2:$C$100,2,0))))","v":3351.3657600000001},{"$f":"SUMIFS('BASE DE DADOS'!$M:$M,'BASE DE DADOS'!$B:$B,GASTOS_MENSAIS!$B$4,'BASE DE DADOS'!$G:$G,GASTOS_MENSAIS!$A17,'BASE DE DADOS'!$K:$K,DATE(YEAR(TODAY()),MONTH(J$6),DAY(VLOOKUP($A17,CONFIG!$A$2:$C$100,2,0))))","v":3500.0039459999998},{"$f":"SUMIFS('BASE DE DADOS'!$M:$M,'BASE DE DADOS'!$B:$B,GASTOS_MENSAIS!$B$4,'BASE DE DADOS'!$G:$G,GASTOS_MENSAIS!$A17,'BASE DE DADOS'!$K:$K,DATE(YEAR(TODAY()),MONTH(K$6),DAY(VLOOKUP($A17,CONFIG!$A$2:$C$100,2,0))))","v":1322.1468439999999},{"$f":"SUMIFS('BASE DE DADOS'!$M:$M,'BASE DE DADOS'!$B:$B,GASTOS_MENSAIS!$B$4,'BASE DE DADOS'!$G:$G,GASTOS_MENSAIS!$A17,'BASE DE DADOS'!$K:$K,DATE(YEAR(TODAY()),MONTH(L$6),DAY(VLOOKUP($A17,CONFIG!$A$2:$C$100,2,0))))","v":0},{"$f":"SUMIFS('BASE DE DADOS'!$M:$M,'BASE DE DADOS'!$B:$B,GASTOS_MENSAIS!$B$4,'BASE DE DADOS'!$G:$G,GASTOS_MENSAIS!$A17,'BASE DE DADOS'!$K:$K,DATE(YEAR(TODAY()),MONTH(M$6),DAY(VLOOKUP($A17,CONFIG!$A$2:$C$100,2,0))))","v":0},30754.078459]
[{"$f":"CONFIG!A11","v":"NCARD"},{"$f":"SUMIFS('BASE DE DADOS'!$M:$M,'BASE DE DADOS'!$B:$B,GASTOS_MENSAIS!$B$4,'BASE DE DADOS'!$G:$G,GASTOS_MENSAIS!$A18,'BASE DE DADOS'!$K:$K,DATE(YEAR(TODAY()),MONTH(B$6),DAY(VLOOKUP($A18,CONFIG!$A$2:$C$100,2,0))))","v":1619.4764130000001},{"$f":"SUMIFS('BASE DE DADOS'!$M:$M,'BASE DE DADOS'!$B:$B,GASTOS_MENSAIS!$B$4,'BASE DE DADOS'!$G:$G,GASTOS_MENSAIS!$A18,'BASE DE DADOS'!$K:$K,DATE(YEAR(TODAY()),MONTH(C$6),DAY(VLOOKUP($A18,CONFIG!$A$2:$C$100,2,0))))","v":1598.679541},{"$f":"SUMIFS('BASE DE DADOS'!$M:$M,'BASE DE DADOS'!$B:$B,GASTOS_MENSAIS!$B$4,'BASE DE DADOS'!$G:$G,GASTOS_MENSAIS!$A18,'BASE DE DADOS'!$K:$K,DATE(YEAR(TODAY()),MONTH(D$6),DAY(VLOOKUP($A18,CONFIG!$A$2:$C$100,2,0))))","v":1593.0268659999999},{"$f":"SUMIFS('BASE DE DADOS'!$M:$M,'BASE DE DADOS'!$B:$B,GASTOS_MENSAIS!$B$4,'BASE DE DADOS'!$G:$G,GASTOS_MENSAIS!$A18,'BASE DE DADOS'!$K:$K,DATE(YEAR(TODAY()),MONTH(E$6),DAY(VLOOKUP($A18,CONFIG!$A$2:$C$100,2,0))))","v":1600.0045620000001},{"$f":"SUMIFS('BASE DE DADOS'!$M:$M,'BASE DE DADOS'!$B:$B,GASTOS_MENSAIS!$B$4,'BASE DE DADOS'!$G:$G,GASTOS_MENSAIS!$A18,'BASE DE DADOS'!$K:$K,DATE(YEAR(TODAY()),MONTH(F$6),DAY(VLOOKUP($A18,CONFIG!$A$2:$C$100,2,0))))","v":2151.2857919999997},{"$f":"SUMIFS('BASE DE DADOS'!$M:$M,'BASE DE DADOS'!$B:$B,GASTOS_MENSAIS!$B$4,'BASE DE DADOS'!$G:$G,GASTOS_MENSAIS!$A18,'BASE DE DADOS'!$K:$K,DATE(YEAR(TODAY()),MONTH(G$6),DAY(VLOOKUP($A18,CONFIG!$A$2:$C$100,2,0))))","v":1599.9531660000002},{"$f":"SUMIFS('BASE DE DADOS'!$M:$M,'BASE DE DADOS'!$B:$B,GASTOS_MENSAIS!$B$4,'BASE DE DADOS'!$G:$G,GASTOS_MENSAIS!$A18,'BASE DE DADOS'!$K:$K,DATE(YEAR(TODAY()),MONTH(H$6),DAY(VLOOKUP($A18,CONFIG!$A$2:$C$100,2,0))))","v":1592.3466510000001},{"$f":"SUMIFS('BASE DE DADOS'!$M:$M,'BASE DE DADOS'!$B:$B,GASTOS_MENSAIS!$B$4,'BASE DE DADOS'!$G:$G,GASTOS_MENSAIS!$A18,'BASE DE DADOS'!$K:$K,DATE(YEAR(TODAY()),MONTH(I$6),DAY(VLOOKUP($A18,CONFIG!$A$2:$C$100,2,0))))","v":1592.3382889999998},{"$f":"SUMIFS('BASE DE DADOS'!$M:$M,'BASE DE DADOS'!$B:$B,GASTOS_MENSAIS!$B$4,'BASE DE DADOS'!$G:$G,GASTOS_MENSAIS!$A18,'BASE DE DADOS'!$K:$K,DATE(YEAR(TODAY()),MONTH(J$6),DAY(VLOOKUP($A18,CONFIG!$A$2:$C$100,2,0))))","v":1599.955005},{"$f":"SUMIFS('BASE DE DADOS'!$M:$M,'BASE DE DADOS'!$B:$B,GASTOS_MENSAIS!$B$4,'BASE DE DADOS'!$G:$G,GASTOS_MENSAIS!$A18,'BASE DE DADOS'!$K:$K,DATE(YEAR(TODAY()),MONTH(K$6),DAY(VLOOKUP($A18,CONFIG!$A$2:$C$100,2,0))))","v":1591.0345620000001},{"$f":"SUMIFS('BASE DE DADOS'!$M:$M,'BASE DE DADOS'!$B:$B,GASTOS_MENSAIS!$B$4,'BASE DE DADOS'!$G:$G,GASTOS_MENSAIS!$A18,'BASE DE DADOS'!$K:$K,DATE(YEAR(TODAY()),MONTH(L$6),DAY(VLOOKUP($A18,CONFIG!$A$2:$C$100,2,0))))","v":0},{"$f":"SUMIFS('BASE DE DADOS'!$M:$M,'BASE DE DADOS'!$B:$B,GASTOS_MENSAIS!$B$4,'BASE DE DADOS'!$G:$G,GASTOS_MENSAIS!$A18,'BASE DE DADOS'!$K:$K,DATE(YEAR(TODAY()),MONTH(M$6),DAY(VLOOKUP($A18,CONFIG!$A$2:$C$100,2,0))))","v":0},16538.100846999998]
[{"$f":"CONFIG!A12","v":"INTER"},{"$f":"SUMIFS('BASE DE DADOS'!$M:$M,'BASE DE DADOS'!$B:$B,GASTOS_MENSAIS!$B$4,'BASE DE DADOS'!$G:$G,GASTOS_MENSAIS!$A19,'BASE DE DADOS'!$K:$K,DATE(YEAR(TODAY()),MONTH(B$6),DAY(VLOOKUP($A19,CONFIG!$A$2:$C$100,2,0))))","v":4475.1230589999996},{"$f":"SUMIFS('BASE DE DADOS'!$M:$M,'BASE DE DADOS'!$B:$B,GASTOS_MENSAIS!$B$4,'BASE DE DADOS'!$G:$G,GASTOS_MENSAIS!$A19,'BASE DE DADOS'!$K:$K,DATE(YEAR(TODAY()),MONTH(C$6),DAY(VLOOKUP($A19,CONFIG!$A$2:$C$100,2,0))))","v":4941.7750099999994},{"$f":"SUMIFS('BASE DE DADOS'!$M:$M,'BASE DE DADOS'!$B:$B,GASTOS_MENSAIS!$B$4,'BASE DE DADOS'!$G:$G,GASTOS_MENSAIS!$A19,'BASE DE DADOS'!$K:$K,DATE(YEAR(TODAY()),MONTH(D$6),DAY(VLOOKUP($A19,CONFIG!$A$2:$C$100,2,0))))","v":4411.7662469999996},{"$f":"SUMIFS('BASE DE DADOS'!$M:$M,'BASE DE DADOS'!$B:$B,GASTOS_MENSAIS!$B$4,'BASE DE DADOS'!$G:$G,GASTOS_MENSAIS!$A19,'BASE DE DADOS'!$K:$K,DATE(YEAR(TODAY()),MONTH(E$6),DAY(VLOOKUP($A19,CONFIG!$A$2:$C$100,2,0))))","v":4339.967506},{"$f":"SUMIFS('BASE DE DADOS'!$M:$M,'BASE DE DADOS'!$B:$B,GASTOS_MENSAIS!$B$4,'BASE DE DADOS'!$G:$G,GASTOS_MENSAIS!$A19,'BASE DE DADOS'!$K:$K,DATE(YEAR(TODAY()),MONTH(F$6),DAY(VLOOKUP($A19,CONFIG!$A$2:$C$100,2,0))))","v":4782.0821319999986},{"$f":"SUMIFS('BASE DE DADOS'!$M:$M,'BASE DE DADOS'!$B:$B,GASTOS_MENSAIS!$B$4,'BASE DE DADOS'!$G:$G,GASTOS_MENSAIS!$A19,'BASE DE DADOS'!$K:$K,DATE(YEAR(TODAY()),MONTH(G$6),DAY(VLOOKUP($A19,CONFIG!$A$2:$C$100,2,0))))","v":6447.2672699999985},{"$f":"SUMIFS('BASE DE DADOS'!$M:$M,'BASE DE DADOS'!$B:$B,GASTOS_MENSAIS!$B$4,'BASE DE DADOS'!$G:$G,GASTOS_MENSAIS!$A19,'BASE DE DADOS'!$K:$K,DATE(YEAR(TODAY()),MONTH(H$6),DAY(VLOOKUP($A19,CONFIG!$A$2:$C$100,2,0))))","v":5058.4456979999995},{"$f":"SUMIFS('BASE DE DADOS'!$M:$M,'BASE DE DADOS'!$B:$B,GASTOS_MENSAIS!$B$4,'BASE DE DADOS'!$G:$G,GASTOS_MENSAIS!$A19,'BASE DE DADOS'!$K:$K,DATE(YEAR(TODAY()),MONTH(I$6),DAY(VLOOKUP($A19,CONFIG!$A$2:$C$100,2,0))))","v":5024.1079039999995},{"$f":"SUMIFS('BASE DE DADOS'!$M:$M,'BASE DE DADOS'!$B:$B,GASTOS_MENSAIS!$B$4,'BASE DE DADOS'!$G:$G,GASTOS_MENSAIS!$A19,'BASE DE DADOS'!$K:$K,DATE(YEAR(TODAY()),MONTH(J$6),DAY(VLOOKUP($A19,CONFIG!$A$2:$C$100,2,0))))","v":5905.8740099999995},{"$f":"SUMIFS('BASE DE DADOS'!$M:$M,'BASE DE DADOS'!$B:$B,GASTOS_MENSAIS!$B$4,'BASE DE DADOS'!$G:$G,GASTOS_MENSAIS!$A19,'BASE DE DADOS'!$K:$K,DATE(YEAR(TODAY()),MONTH(K$6),DAY(VLOOKUP($A19,CONFIG!$A$2:$C$100,2,0))))","v":3771.2577679999999},{"$f":"SUMIFS('BASE DE DADOS'!$M:$M,'BASE DE DADOS'!$B:$B,GASTOS_MENSAIS!$B$4,'BASE DE DADOS'!$G:$G,GASTOS_MENSAIS!$A19,'BASE DE DADOS'!$K:$K,DATE(YEAR(TODAY()),MONTH(L$6),DAY(VLOOKUP($A19,CONFIG!$A$2:$C$100,2,0))))","v":217.08},{"$f":"SUMIFS('BASE DE DADOS'!$M:$M,'BASE DE DADOS'!$B:$B,GASTOS_MENSAIS!$B$4,'BASE DE DADOS'!$G:$G,GASTOS_MENSAIS!$A19,'BASE DE DADOS'!$K:$K,DATE(YEAR(TODAY()),MONTH(M$6),DAY(VLOOKUP($A19,CONFIG!$A$2:$C$100,2,0))))","v":103.92999999999999},49478.676604]
[{"$f":"CONFIG!A13","v":"C6"},{"$f":"SUMIFS('BASE DE DADOS'!$M:$M,'BASE DE DADOS'!$B:$B,GASTOS_MENSAIS!$B$4,'BASE DE DADOS'!$G:$G,GASTOS_MENSAIS!$A20,'BASE DE DADOS'!$K:$K,DATE(YEAR(TODAY()),MONTH(B$6),DAY(VLOOKUP($A20,CONFIG!$A$2:$C$100,2,0))))","v":1194.3801490000001},{"$f":"SUMIFS('BASE DE DADOS'!$M:$M,'BASE DE DADOS'!$B:$B,GASTOS_MENSAIS!$B$4,'BASE DE DADOS'!$G:$G,GASTOS_MENSAIS!$A20,'BASE DE DADOS'!$K:$K,DATE(YEAR(TODAY()),MONTH(C$6),DAY(VLOOKUP($A20,CONFIG!$A$2:$C$100,2,0))))","v":1905.2181100000003},{"$f":"SUMIFS('BASE DE DADOS'!$M:$M,'BASE DE DADOS'!$B:$B,GASTOS_MENSAIS!$B$4,'BASE DE DADOS'!$G:$G,GASTOS_MENSAIS!$A20,'BASE DE DADOS'!$K:$K,DATE(YEAR(TODAY()),MONTH(D$6),DAY(VLOOKUP($A20,CONFIG!$A$2:$C$100,2,0))))","v":1922.2849749999998},{"$f":"SUMIFS('BASE DE DADOS'!$M:$M,'BASE DE DADOS'!$B:$B,GASTOS_MENSAIS!$B$4,'BASE DE DADOS'!$G:$G,GASTOS_MENSAIS!$A20,'BASE DE DADOS'!$K:$K,DATE(YEAR(TODAY()),MONTH(E$6),DAY(VLOOKUP($A20,CONFIG!$A$2:$C$100,2,0))))","v":2243.5899999999997},{"$f":"SUMIFS('BASE DE DADOS'!$M:$M,'BASE DE DADOS'!$B:$B,GASTOS_MENSAIS!$B$4,'BASE DE DADOS'!$G:$G,GASTOS_MENSAIS!$A20,'BASE DE DADOS'!$K:$K,DATE(YEAR(TODAY()),MONTH(F$6),DAY(VLOOKUP($A20,CONFIG!$A$2:$C$100,2,0))))","v":2568.7387640000002},{"$f":"SUMIFS('BASE DE DADOS'!$M:$M,'BASE DE DADOS'!$B:$B,GASTOS_MENSAIS!$B$4,'BASE DE DADOS'!$G:$G,GASTOS_MENSAIS!$A20,'BASE DE DADOS'!$K:$K,DATE(YEAR(TODAY()),MONTH(G$6),DAY(VLOOKUP($A20,CONFIG!$A$2:$C$100,2,0))))","v":2715.29198},{"$f":"SUMIFS('BASE DE DADOS'!$M:$M,'BASE DE DADOS'!$B:$B,GASTOS_MENSAIS!$B$4,'BASE DE DADOS'!$G:$G,GASTOS_MENSAIS!$A20,'BASE DE DADOS'!$K:$K,DATE(YEAR(TODAY()),MONTH(H$6),DAY(VLOOKUP($A20,CONFIG!$A$2:$C$100,2,0))))","v":8439.3605549999993},{"$f":"SUMIFS('BASE DE DADOS'!$M:$M,'BASE DE DADOS'!$B:$B,GASTOS_MENSAIS!$B$4,'BASE DE DADOS'!$G:$G,GASTOS_MENSAIS!$A20,'BASE DE DADOS'!$K:$K,DATE(YEAR(TODAY()),MONTH(I$6),DAY(VLOOKUP($A20,CONFIG!$A$2:$C$100,2,0))))","v":3156.0696660000003},{"$f":"SUMIFS('BASE DE DADOS'!$M:$M,'BASE DE DADOS'!$B:$B,GASTOS_MENSAIS!$B$4,'BASE DE DADOS'!$G:$G,GASTOS_MENSAIS!$A20,'BASE DE DADOS'!$K:$K,DATE(YEAR(TODAY()),MONTH(J$6),DAY(VLOOKUP($A20,CONFIG!$A$2:$C$100,2,0))))","v":8492.2949139999982},{"$f":"SUMIFS('BASE DE DADOS'!$M:$M,'BASE DE DADOS'!$B:$B,GASTOS_MENSAIS!$B$4,'BASE DE DADOS'!$G:$G,GASTOS_MENSAIS!$A20,'BASE DE DADOS'!$K:$K,DATE(YEAR(TODAY()),MONTH(K$6),DAY(VLOOKUP($A20,CONFIG!$A$2:$C$100,2,0))))","v":10613.375984999999},{"$f":"SUMIFS('BASE DE DADOS'!$M:$M,'BASE DE DADOS'!$B:$B,GASTOS_MENSAIS!$B$4,'BASE DE DADOS'!$G:$G,GASTOS_MENSAIS!$A20,'BASE DE DADOS'!$K:$K,DATE(YEAR(TODAY()),MONTH(L$6),DAY(VLOOKUP($A20,CONFIG!$A$2:$C$100,2,0))))","v":1474.7600000000002},{"$f":"SUMIFS('BASE DE DADOS'!$M:$M,'BASE DE DADOS'!$B:$B,GASTOS_MENSAIS!$B$4,'BASE DE DADOS'!$G:$G,GASTOS_MENSAIS!$A20,'BASE DE DADOS'!$K:$K,DATE(YEAR(TODAY()),MONTH(M$6),DAY(VLOOKUP($A20,CONFIG!$A$2:$C$100,2,0))))","v":1384.8600000000001},46110.225098000003]
["C6MAE",{"$f":"SUMIFS('BASE DE DADOS'!$M:$M,'BASE DE DADOS'!$B:$B,GASTOS_MENSAIS!$B$4,'BASE DE DADOS'!$G:$G,GASTOS_MENSAIS!$A21,'BASE DE DADOS'!$K:$K,DATE(YEAR(TODAY()),MONTH(B$6),DAY(VLOOKUP($A21,CONFIG!$A$2:$C$100,2,0))))","v":0},{"$f":"SUMIFS('BASE DE DADOS'!$M:$M,'BASE DE DADOS'!$B:$B,GASTOS_MENSAIS!$B$4,'BASE DE DADOS'!$G:$G,GASTOS_MENSAIS!$A21,'BASE DE DADOS'!$K:$K,DATE(YEAR(TODAY()),MONTH(C$6),DAY(VLOOKUP($A21,CONFIG!$A$2:$C$100,2,0))))","v":209.99},{"$f":"SUMIFS('BASE DE DADOS'!$M:$M,'BASE DE DADOS'!$B:$B,GASTOS_MENSAIS!$B$4,'BASE DE DADOS'!$G:$G,GASTOS_MENSAIS!$A21,'BASE DE DADOS'!$K:$K,DATE(YEAR(TODAY()),MONTH(D$6),DAY(VLOOKUP($A21,CONFIG!$A$2:$C$100,2,0))))","v":210},{"$f":"SUMIFS('BASE DE DADOS'!$M:$M,'BASE DE DADOS'!$B:$B,GASTOS_MENSAIS!$B$4,'BASE DE DADOS'!$G:$G,GASTOS_MENSAIS!$A21,'BASE DE DADOS'!$K:$K,DATE(YEAR(TODAY()),MONTH(E$6),DAY(VLOOKUP($A21,CONFIG!$A$2:$C$100,2,0))))","v":0},{"$f":"SUMIFS('BASE DE DADOS'!$M:$M,'BASE DE DADOS'!$B:$B,GASTOS_MENSAIS!$B$4,'BASE DE DADOS'!$G:$G,GASTOS_MENSAIS!$A21,'BASE DE DADOS'!$K:$K,DATE(YEAR(TODAY()),MONTH(F$6),DAY(VLOOKUP($A21,CONFIG!$A$2:$C$100,2,0))))","v":210},{"$f":"SUMIFS('BASE DE DADOS'!$M:$M,'BASE DE DADOS'!$B:$B,GASTOS_MENSAIS!$B$4,'BASE DE DADOS'!$G:$G,GASTOS_MENSAIS!$A21,'BASE DE DADOS'!$K:$K,DATE(YEAR(TODAY()),MONTH(G$6),DAY(VLOOKUP($A21,CONFIG!$A$2:$C$100,2,0))))","v":0},{"$f":"SUMIFS('BASE DE DADOS'!$M:$M,'BASE DE DADOS'!$B:$B,GASTOS_MENSAIS!$B$4,'BASE DE DADOS'!$G:$G,GASTOS_MENSAIS!$A21,'BASE DE DADOS'!$K:$K,DATE(YEAR(TODAY()),MONTH(H$6),DAY(VLOOKUP($A21,CONFIG!$A$2:$C$100,2,0))))","v":0},{"$f":"SUMIFS('BASE DE DADOS'!$M:$M,'BASE DE DADOS'!$B:$B,GASTOS_MENSAIS!$B$4,'BASE DE DADOS'!$G:$G,GASTOS_MENSAIS!$A21,'BASE DE DADOS'!$K:$K,DATE(YEAR(TODAY()),MONTH(I$6),DAY(VLOOKUP($A21,CONFIG!$A$2:$C$100,2,0))))","v":0},{"$f":"SUMIFS('BASE DE DADOS'!$M:$M,'BASE DE DADOS'!$B:$B,GASTOS_MENSAIS!$B$4,'BASE DE DADOS'!$G:$G,GASTOS_MENSAIS!$A21,'BASE DE DADOS'!$K:$K,DATE(YEAR(TODAY()),MONTH(J$6),DAY(VLOOKUP($A21,CONFIG!$A$2:$C$100,2,0))))","v":0},{"$f":"SUMIFS('BASE DE DADOS'!$M:$M,'BASE DE DADOS'!$B:$B,GASTOS_MENSAIS!$B$4,'BASE DE DADOS'!$G:$G,GASTOS_MENSAIS!$A21,'BASE DE DADOS'!$K:$K,DATE(YEAR(TODAY()),MONTH(K$6),DAY(VLOOKUP($A21,CONFIG!$A$2:$C$100,2,0))))","v":0},{"$f":"SUMIFS('BASE DE DADOS'!$M:$M,'BASE DE DADOS'!$B:$B,GASTOS_MENSAIS!$B$4,'BASE DE DADOS'!$G:$G,GASTOS_MENSAIS!$A21,'BASE DE DADOS'!$K:$K,DATE(YEAR(TODAY()),MONTH(L$6),DAY(VLOOKUP($A21,CONFIG!$A$2:$C$100,2,0))))","v":0},{"$f":"SUMIFS('BASE DE DADOS'!$M:$M,'BASE DE DADOS'!$B:$B,GASTOS_MENSAIS!$B$4,'BASE DE DADOS'!$G:$G,GASTOS_MENSAIS!$A21,'BASE DE DADOS'!$K:$K,DATE(YEAR(TODAY()),MONTH(M$6),DAY(VLOOKUP($A21,CONFIG!$A$2:$C$100,2,0))))","v":0},629.99]
[{"$f":"CONFIG!A14","v":"BMG"},{"$f":"SUMIFS('BASE DE DADOS'!$M:$M,'BASE DE DADOS'!$B:$B,GASTOS_MENSAIS!$B$4,'BASE DE DADOS'!$G:$G,GASTOS_MENSAIS!$A22,'BASE DE DADOS'!$K:$K,DATE(YEAR(TODAY()),MONTH(B$6),DAY(VLOOKUP($A22,CONFIG!$A$2:$C$100,2,0))))","v":337.97},{"$f":"SUMIFS('BASE DE DADOS'!$M:$M,'BASE DE DADOS'!$B:$B,GASTOS_MENSAIS!$B$4,'BASE DE DADOS'!$G:$G,GASTOS_MENSAIS!$A22,'BASE DE DADOS'!$K:$K,DATE(YEAR(TODAY()),MONTH(C$6),DAY(VLOOKUP($A22,CONFIG!$A$2:$C$100,2,0))))","v":210.10337200000001},{"$f":"SUMIFS('BASE DE DADOS'!$M:$M,'BASE DE DADOS'!$B:$B,GASTOS_MENSAIS!$B$4,'BASE DE DADOS'!$G:$G,GASTOS_MENSAIS!$A22,'BASE DE DADOS'!$K:$K,DATE(YEAR(TODAY()),MONTH(D$6),DAY(VLOOKUP($A22,CONFIG!$A$2:$C$100,2,0))))","v":69.42},{"$f":"SUMIFS('BASE DE DADOS'!$M:$M,'BASE DE DADOS'!$B:$B,GASTOS_MENSAIS!$B$4,'BASE DE DADOS'!$G:$G,GASTOS_MENSAIS!$A22,'BASE DE DADOS'!$K:$K,DATE(YEAR(TODAY()),MONTH(E$6),DAY(VLOOKUP($A22,CONFIG!$A$2:$C$100,2,0))))","v":320.66000000000003},{"$f":"SUMIFS('BASE DE DADOS'!$M:$M,'BASE DE DADOS'!$B:$B,GASTOS_MENSAIS!$B$4,'BASE DE DADOS'!$G:$G,GASTOS_MENSAIS!$A22,'BASE DE DADOS'!$K:$K,DATE(YEAR(TODAY()),MONTH(F$6),DAY(VLOOKUP($A22,CONFIG!$A$2:$C$100,2,0))))","v":454.05295999999998},{"$f":"SUMIFS('BASE DE DADOS'!$M:$M,'BASE DE DADOS'!$B:$B,GASTOS_MENSAIS!$B$4,'BASE DE DADOS'!$G:$G,GASTOS_MENSAIS!$A22,'BASE DE DADOS'!$K:$K,DATE(YEAR(TODAY()),MONTH(G$6),DAY(VLOOKUP($A22,CONFIG!$A$2:$C$100,2,0))))","v":414.59},{"$f":"SUMIFS('BASE DE DADOS'!$M:$M,'BASE DE DADOS'!$B:$B,GASTOS_MENSAIS!$B$4,'BASE DE DADOS'!$G:$G,GASTOS_MENSAIS!$A22,'BASE DE DADOS'!$K:$K,DATE(YEAR(TODAY()),MONTH(H$6),DAY(VLOOKUP($A22,CONFIG!$A$2:$C$100,2,0))))","v":0},{"$f":"SUMIFS('BASE DE DADOS'!$M:$M,'BASE DE DADOS'!$B:$B,GASTOS_MENSAIS!$B$4,'BASE DE DADOS'!$G:$G,GASTOS_MENSAIS!$A22,'BASE DE DADOS'!$K:$K,DATE(YEAR(TODAY()),MONTH(I$6),DAY(VLOOKUP($A22,CONFIG!$A$2:$C$100,2,0))))","v":0},{"$f":"SUMIFS('BASE DE DADOS'!$M:$M,'BASE DE DADOS'!$B:$B,GASTOS_MENSAIS!$B$4,'BASE DE DADOS'!$G:$G,GASTOS_MENSAIS!$A22,'BASE DE DADOS'!$K:$K,DATE(YEAR(TODAY()),MONTH(J$6),DAY(VLOOKUP($A22,CONFIG!$A$2:$C$100,2,0))))","v":0},{"$f":"SUMIFS('BASE DE DADOS'!$M:$M,'BASE DE DADOS'!$B:$B,GASTOS_MENSAIS!$B$4,'BASE DE DADOS'!$G:$G,GASTOS_MENSAIS!$A22,'BASE DE DADOS'!$K:$K,DATE(YEAR(TODAY()),MONTH(K$6),DAY(VLOOKUP($A22,CONFIG!$A$2:$C$100,2,0))))","v":0},{"$f":"SUMIFS('BASE DE DADOS'!$M:$M,'BASE DE DADOS'!$B:$B,GASTOS_MENSAIS!$B$4,'BASE DE DADOS'!$G:$G,GASTOS_MENSAIS!$A22,'BASE DE DADOS'!$K:$K,DATE(YEAR(TODAY()),MONTH(L$6),DAY(VLOOKUP($A22,CONFIG!$A$2:$C$100,2,0))))","v":0},{"$f":"SUMIFS('BASE DE DADOS'!$M:$M,'BASE DE DADOS'!$B:$B,GASTOS_MENSAIS!$B$4,'BASE DE DADOS'!$G:$G,GASTOS_MENSAIS!$A22,'BASE DE DADOS'!$K:$K,DATE(YEAR(TODAY()),MONTH(M$6),DAY(VLOOKUP($A22,CONFIG!$A$2:$C$100,2,0))))","v":0},1806.7963319999999]
["ORIGINAL",{"$f":"SUMIFS('BASE DE DADOS'!$M:$M,'BASE DE DADOS'!$B:$B,GASTOS_MENSAIS!$B$4,'BASE DE DADOS'!$G:$G,GASTOS_MENSAIS!$A23,'BASE DE DADOS'!$K:$K,DATE(YEAR(TODAY()),MONTH(B$6),DAY(VLOOKUP($A23,CONFIG!$A$2:$C$100,2,0))))","v":271.21162600000002},{"$f":"SUMIFS('BASE DE DADOS'!$M:$M,'BASE DE DADOS'!$B:$B,GASTOS_MENSAIS!$B$4,'BASE DE DADOS'!$G:$G,GASTOS_MENSAIS!$A23,'BASE DE DADOS'!$K:$K,DATE(YEAR(TODAY()),MONTH(C$6),DAY(VLOOKUP($A23,CONFIG!$A$2:$C$100,2,0))))","v":530.32549399999994},{"$f":"SUMIFS('BASE DE DADOS'!$M:$M,'BASE DE DADOS'!$B:$B,GASTOS_MENSAIS!$B$4,'BASE DE DADOS'!$G:$G,GASTOS_MENSAIS!$A23,'BASE DE DADOS'!$K:$K,DATE(YEAR(TODAY()),MONTH(D$6),DAY(VLOOKUP($A23,CONFIG!$A$2:$C$100,2,0))))","v":548.45041000000003},{"$f":"SUMIFS('BASE DE DADOS'!$M:$M,'BASE DE DADOS'!$B:$B,GASTOS_MENSAIS!$B$4,'BASE DE DADOS'!$G:$G,GASTOS_MENSAIS!$A23,'BASE DE DADOS'!$K:$K,DATE(YEAR(TODAY()),MONTH(E$6),DAY(VLOOKUP($A23,CONFIG!$A$2:$C$100,2,0))))","v":543.51},{"$f":"SUMIFS('BASE DE DADOS'!$M:$M,'BASE DE DADOS'!$B:$B,GASTOS_MENSAIS!$B$4,'BASE DE DADOS'!$G:$G,GASTOS_MENSAIS!$A23,'BASE DE DADOS'!$K:$K,DATE(YEAR(TODAY()),MONTH(F$6),DAY(VLOOKUP($A23,CONFIG!$A$2:$C$100,2,0))))","v":543.49136299999998},{"$f":"SUMIFS('BASE DE DADOS'!$M:$M,'BASE DE DADOS'!$B:$B,GASTOS_MENSAIS!$B$4,'BASE DE DADOS'!$G:$G,GASTOS_MENSAIS!$A23,'BASE DE DADOS'!$K:$K,DATE(YEAR(TODAY()),MONTH(G$6),DAY(VLOOKUP($A23,CONFIG!$A$2:$C$100,2,0))))","v":632.91379300000006},{"$f":"SUMIFS('BASE DE DADOS'!$M:$M,'BASE DE DADOS'!$B:$B,GASTOS_MENSAIS!$B$4,'BASE DE DADOS'!$G:$G,GASTOS_MENSAIS!$A23,'BASE DE DADOS'!$K:$K,DATE(YEAR(TODAY()),MONTH(H$6),DAY(VLOOKUP($A23,CONFIG!$A$2:$C$100,2,0))))","v":0},{"$f":"SUMIFS('BASE DE DADOS'!$M:$M,'BASE DE DADOS'!$B:$B,GASTOS_MENSAIS!$B$4,'BASE DE DADOS'!$G:$G,GASTOS_MENSAIS!$A23,'BASE DE DADOS'!$K:$K,DATE(YEAR(TODAY()),MONTH(I$6),DAY(VLOOKUP($A23,CONFIG!$A$2:$C$100,2,0))))","v":15.67},{"$f":"SUMIFS('BASE DE DADOS'!$M:$M,'BASE DE DADOS'!$B:$B,GASTOS_MENSAIS!$B$4,'BASE DE DADOS'!$G:$G,GASTOS_MENSAIS!$A23,'BASE DE DADOS'!$K:$K,DATE(YEAR(TODAY()),MONTH(J$6),DAY(VLOOKUP($A23,CONFIG!$A$2:$C$100,2,0))))","v":0},{"$f":"SUMIFS('BASE DE DADOS'!$M:$M,'BASE DE DADOS'!$B:$B,GASTOS_MENSAIS!$B$4,'BASE DE DADOS'!$G:$G,GASTOS_MENSAIS!$A23,'BASE DE DADOS'!$K:$K,DATE(YEAR(TODAY()),MONTH(K$6),DAY(VLOOKUP($A23,CONFIG!$A$2:$C$100,2,0))))","v":0},{"$f":"SUMIFS('BASE DE DADOS'!$M:$M,'BASE DE DADOS'!$B:$B,GASTOS_MENSAIS!$B$4,'BASE DE DADOS'!$G:$G,GASTOS_MENSAIS!$A23,'BASE DE DADOS'!$K:$K,DATE(YEAR(TODAY()),MONTH(L$6),DAY(VLOOKUP($A23,CONFIG!$A$2:$C$100,2,0))))","v":0},{"$f":"SUMIFS('BASE DE DADOS'!$M:$M,'BASE DE DADOS'!$B:$B,GASTOS_MENSAIS!$B$4,'BASE DE DADOS'!$G:$G,GASTOS_MENSAIS!$A23,'BASE DE DADOS'!$K:$K,DATE(YEAR(TODAY()),MONTH(M$6),DAY(VLOOKUP($A23,CONFIG!$A$2:$C$100,2,0))))","v":0},3085.572686]
["TRIGG",{"$f":"SUMIFS('BASE DE DADOS'!$M:$M,'BASE DE DADOS'!$B:$B,GASTOS_MENSAIS!$B$4,'BASE DE DADOS'!$G:$G,GASTOS_MENSAIS!$A24,'BASE DE DADOS'!$K:$K,DATE(YEAR(TODAY()),MONTH(B$6),DAY(VLOOKUP($A24,CONFIG!$A$2:$C$100,2,0))))","v":0},{"$f":"SUMIFS('BASE DE DADOS'!$M:$M,'BASE DE DADOS'!$B:$B,GASTOS_MENSAIS!$B$4,'BASE DE DADOS'!$G:$G,GASTOS_MENSAIS!$A24,'BASE DE DADOS'!$K:$K,DATE(YEAR(TODAY()),MONTH(C$6),DAY(VLOOKUP($A24,CONFIG!$A$2:$C$100,2,0))))","v":0},{"$f":"SUMIFS('BASE DE DADOS'!$M:$M,'BASE DE DADOS'!$B:$B,GASTOS_MENSAIS!$B$4,'BASE DE DADOS'!$G:$G,GASTOS_MENSAIS!$A24,'BASE DE DADOS'!$K:$K,DATE(YEAR(TODAY()),MONTH(D$6),DAY(VLOOKUP($A24,CONFIG!$A$2:$C$100,2,0))))","v":0},{"$f":"SUMIFS('BASE DE DADOS'!$M:$M,'BASE DE DADOS'!$B:$B,GASTOS_MENSAIS!$B$4,'BASE DE DADOS'!$G:$G,GASTOS_MENSAIS!$A24,'BASE DE DADOS'!$K:$K,DATE(YEAR(TODAY()),MONTH(E$6),DAY(VLOOKUP($A24,CONFIG!$A$2:$C$100,2,0))))","v":0},{"$f":"SUMIFS('BASE DE DADOS'!$M:$M,'BASE DE DADOS'!$B:$B,GASTOS_MENSAIS!$B$4,'BASE DE DADOS'!$G:$G,GASTOS_MENSAIS!$A24,'BASE DE DADOS'!$K:$K,DATE(YEAR(TODAY()),MONTH(F$6),DAY(VLOOKUP($A24,CONFIG!$A$2:$C$100,2,0))))","v":0},{"$f":"SUMIFS('BASE DE DADOS'!$M:$M,'BASE DE DADOS'!$B:$B,GASTOS_MENSAIS!$B$4,'BASE DE DADOS'!$G:$G,GASTOS_MENSAIS!$A24,'BASE DE DADOS'!$K:$K,DATE(YEAR(TODAY()),MONTH(G$6),DAY(VLOOKUP($A24,CONFIG!$A$2:$C$100,2,0))))","v":0},{"$f":"SUMIFS('BASE DE DADOS'!$M:$M,'BASE DE DADOS'!$B:$B,GASTOS_MENSAIS!$B$4,'BASE DE DADOS'!$G:$G,GASTOS_MENSAIS!$A24,'BASE DE DADOS'!$K:$K,DATE(YEAR(TODAY()),MONTH(H$6),DAY(VLOOKUP($A24,CONFIG!$A$2:$C$100,2,0))))","v":0},{"$f":"SUMIFS('BASE DE DADOS'!$M:$M,'BASE DE DADOS'!$B:$B,GASTOS_MENSAIS!$B$4,'BASE DE DADOS'!$G:$G,GASTOS_MENSAIS!$A24,'BASE DE DADOS'!$K:$K,DATE(YEAR(TODAY()),MONTH(I$6),DAY(VLOOKUP($A24,CONFIG!$A$2:$C$100,2,0))))","v":0},{"$f":"SUMIFS('BASE DE DADOS'!$M:$M,'BASE DE DADOS'!$B:$B,GASTOS_MENSAIS!$B$4,'BASE DE DADOS'!$G:$G,GASTOS_MENSAIS!$A24,'BASE DE DADOS'!$K:$K,DATE(YEAR(TODAY()),MONTH(J$6),DAY(VLOOKUP($A24,CONFIG!$A$2:$C$100,2,0))))","v":0},{"$f":"SUMIFS('BASE DE DADOS'!$M:$M,'BASE DE DADOS'!$B:$B,GASTOS_MENSAIS!$B$4,'BASE DE DADOS'!$G:$G,GASTOS_MENSAIS!$A24,'BASE DE DADOS'!$K:$K,DATE(YEAR(TODAY()),MONTH(K$6),DAY(VLOOKUP($A24,CONFIG!$A$2:$C$100,2,0))))","v":0},{"$f":"SUMIFS('BASE DE DADOS'!$M:$M,'BASE DE DADOS'!$B:$B,GASTOS_MENSAIS!$B$4,'BASE DE DADOS'!$G:$G,GASTOS_MENSAIS!$A24,'BASE DE DADOS'!$K:$K,DATE(YEAR(TODAY()),MONTH(L$6),DAY(VLOOKUP($A24,CONFIG!$A$2:$C$100,2,0))))","v":0},{"$f":"SUMIFS('BASE DE DADOS'!$M:$M,'BASE DE DADOS'!$B:$B,GASTOS_MENSAIS!$B$4,'BASE DE DADOS'!$G:$G,GASTOS_MENSAIS!$A24,'BASE DE DADOS'!$K:$K,DATE(YEAR(TODAY()),MONTH(M$6),DAY(VLOOKUP($A24,CONFIG!$A$2:$C$100,2,0))))","v":0},0]
["PAGMAE",{"$f":"SUMIFS('BASE DE DADOS'!$M:$M,'BASE DE DADOS'!$B:$B,GASTOS_MENSAIS!$B$4,'BASE DE DADOS'!$G:$G,GASTOS_MENSAIS!$A25,'BASE DE DADOS'!$K:$K,DATE(YEAR(TODAY()),MONTH(B$6),DAY(VLOOKUP($A25,CONFIG!$A$2:$C$100,2,0))))","v":6072.9688900000001},{"$f":"SUMIFS('BASE DE DADOS'!$M:$M,'BASE DE DADOS'!$B:$B,GASTOS_MENSAIS!$B$4,'BASE DE DADOS'!$G:$G,GASTOS_MENSAIS!$A25,'BASE DE DADOS'!$K:$K,DATE(YEAR(TODAY()),MONTH(C$6),DAY(VLOOKUP($A25,CONFIG!$A$2:$C$100,2,0))))","v":6423.6733809999996},{"$f":"SUMIFS('BASE DE DADOS'!$M:$M,'BASE DE DADOS'!$B:$B,GASTOS_MENSAIS!$B$4,'BASE DE DADOS'!$G:$G,GASTOS_MENSAIS!$A25,'BASE DE DADOS'!$K:$K,DATE(YEAR(TODAY()),MONTH(D$6),DAY(VLOOKUP($A25,CONFIG!$A$2:$C$100,2,0))))","v":6308.2177730000003},{"$f":"SUMIFS('BASE DE DADOS'!$M:$M,'BASE DE DADOS'!$B:$B,GASTOS_MENSAIS!$B$4,'BASE DE DADOS'!$G:$G,GASTOS_MENSAIS!$A25,'BASE DE DADOS'!$K:$K,DATE(YEAR(TODAY()),MONTH(E$6),DAY(VLOOKUP($A25,CONFIG!$A$2:$C$100,2,0))))","v":7017.2436629999993},{"$f":"SUMIFS('BASE DE DADOS'!$M:$M,'BASE DE DADOS'!$B:$B,GASTOS_MENSAIS!$B$4,'BASE DE DADOS'!$G:$G,GASTOS_MENSAIS!$A25,'BASE DE DADOS'!$K:$K,DATE(YEAR(TODAY()),MONTH(F$6),DAY(VLOOKUP($A25,CONFIG!$A$2:$C$100,2,0))))","v":7346.0368799999997},{"$f":"SUMIFS('BASE DE DADOS'!$M:$M,'BASE DE DADOS'!$B:$B,GASTOS_MENSAIS!$B$4,'BASE DE DADOS'!$G:$G,GASTOS_MENSAIS!$A25,'BASE DE DADOS'!$K:$K,DATE(YEAR(TODAY()),MONTH(G$6),DAY(VLOOKUP($A25,CONFIG!$A$2:$C$100,2,0))))","v":8400.7700029999996},{"$f":"SUMIFS('BASE DE DADOS'!$M:$M,'BASE DE DADOS'!$B:$B,GASTOS_MENSAIS!$B$4,'BASE DE DADOS'!$G:$G,GASTOS_MENSAIS!$A25,'BASE DE DADOS'!$K:$K,DATE(YEAR(TODAY()),MONTH(H$6),DAY(VLOOKUP($A25,CONFIG!$A$2:$C$100,2,0))))","v":7414.049669},{"$f":"SUMIFS('BASE DE DADOS'!$M:$M,'BASE DE DADOS'!$B:$B,GASTOS_MENSAIS!$B$4,'BASE DE DADOS'!$G:$G,GASTOS_MENSAIS!$A25,'BASE DE DADOS'!$K:$K,DATE(YEAR(TODAY()),MONTH(I$6),DAY(VLOOKUP($A25,CONFIG!$A$2:$C$100,2,0))))","v":9665.4981230000012},{"$f":"SUMIFS('BASE DE DADOS'!$M:$M,'BASE DE DADOS'!$B:$B,GASTOS_MENSAIS!$B$4,'BASE DE DADOS'!$G:$G,GASTOS_MENSAIS!$A25,'BASE DE DADOS'!$K:$K,DATE(YEAR(TODAY()),MONTH(J$6),DAY(VLOOKUP($A25,CONFIG!$A$2:$C$100,2,0))))","v":7177.6947770000006},{"$f":"SUMIFS('BASE DE DADOS'!$M:$M,'BASE DE DADOS'!$B:$B,GASTOS_MENSAIS!$B$4,'BASE DE DADOS'!$G:$G,GASTOS_MENSAIS!$A25,'BASE DE DADOS'!$K:$K,DATE(YEAR(TODAY()),MONTH(K$6),DAY(VLOOKUP($A25,CONFIG!$A$2:$C$100,2,0))))","v":2501.0061040000001},{"$f":"SUMIFS('BASE DE DADOS'!$M:$M,'BASE DE DADOS'!$B:$B,GASTOS_MENSAIS!$B$4,'BASE DE DADOS'!$G:$G,GASTOS_MENSAIS!$A25,'BASE DE DADOS'!$K:$K,DATE(YEAR(TODAY()),MONTH(L$6),DAY(VLOOKUP($A25,CONFIG!$A$2:$C$100,2,0))))","v":43.16},{"$f":"SUMIFS('BASE DE DADOS'!$M:$M,'BASE DE DADOS'!$B:$B,GASTOS_MENSAIS!$B$4,'BASE DE DADOS'!$G:$G,GASTOS_MENSAIS!$A25,'BASE DE DADOS'!$K:$K,DATE(YEAR(TODAY()),MONTH(M$6),DAY(VLOOKUP($A25,CONFIG!$A$2:$C$100,2,0))))","v":43.16},68413.479263000001]
["PANMAE",{"$f":"SUMIFS('BASE DE DADOS'!$M:$M,'BASE DE DADOS'!$B:$B,GASTOS_MENSAIS!$B$4,'BASE DE DADOS'!$G:$G,GASTOS_MENSAIS!$A26,'BASE DE DADOS'!$K:$K,DATE(YEAR(TODAY()),MONTH(B$6),DAY(VLOOKUP($A26,CONFIG!$A$2:$C$100,2,0))))","v":2821.1787960000001},{"$f":"SUMIFS('BASE DE DADOS'!$M:$M,'BASE DE DADOS'!$B:$B,GASTOS_MENSAIS!$B$4,'BASE DE DADOS'!$G:$G,GASTOS_MENSAIS!$A26,'BASE DE DADOS'!$K:$K,DATE(YEAR(TODAY()),MONTH(C$6),DAY(VLOOKUP($A26,CONFIG!$A$2:$C$100,2,0))))","v":2530.4979629999998},{"$f":"SUMIFS('BASE DE DADOS'!$M:$M,'BASE DE DADOS'!$B:$B,GASTOS_MENSAIS!$B$4,'BASE DE DADOS'!$G:$G,GASTOS_MENSAIS!$A26,'BASE DE DADOS'!$K:$K,DATE(YEAR(TODAY()),MONTH(D$6),DAY(VLOOKUP($A26,CONFIG!$A$2:$C$100,2,0))))","v":2879.7239879999997},{"$f":"SUMIFS('BASE DE DADOS'!$M:$M,'BASE DE DADOS'!$B:$B,GASTOS_MENSAIS!$B$4,'BASE DE DADOS'!$G:$G,GASTOS_MENSAIS!$A26,'BASE DE DADOS'!$K:$K,DATE(YEAR(TODAY()),MONTH(E$6),DAY(VLOOKUP($A26,CONFIG!$A$2:$C$100,2,0))))","v":2879.785183},{"$f":"SUMIFS('BASE DE DADOS'!$M:$M,'BASE DE DADOS'!$B:$B,GASTOS_MENSAIS!$B$4,'BASE DE DADOS'!$G:$G,GASTOS_MENSAIS!$A26,'BASE DE DADOS'!$K:$K,DATE(YEAR(TODAY()),MONTH(F$6),DAY(VLOOKUP($A26,CONFIG!$A$2:$C$100,2,0))))","v":3040.6603879999998},{"$f":"SUMIFS('BASE DE DADOS'!$M:$M,'BASE DE DADOS'!$B:$B,GASTOS_MENSAIS!$B$4,'BASE DE DADOS'!$G:$G,GASTOS_MENSAIS!$A26,'BASE DE DADOS'!$K:$K,DATE(YEAR(TODAY()),MONTH(G$6),DAY(VLOOKUP($A26,CONFIG!$A$2:$C$100,2,0))))","v":3651.8102339999996},{"$f":"SUMIFS('BASE DE DADOS'!$M:$M,'BASE DE DADOS'!$B:$B,GASTOS_MENSAIS!$B$4,'BASE DE DADOS'!$G:$G,GASTOS_MENSAIS!$A26,'BASE DE DADOS'!$K:$K,DATE(YEAR(TODAY()),MONTH(H$6),DAY(VLOOKUP($A26,CONFIG!$A$2:$C$100,2,0))))","v":4020.5761510000002},{"$f":"SUMIFS('BASE DE DADOS'!$M:$M,'BASE DE DADOS'!$B:$B,GASTOS_MENSAIS!$B$4,'BASE DE DADOS'!$G:$G,GASTOS_MENSAIS!$A26,'BASE DE DADOS'!$K:$K,DATE(YEAR(TODAY()),MONTH(I$6),DAY(VLOOKUP($A26,CONFIG!$A$2:$C$100,2,0))))","v":4078.5334590000002},{"$f":"SUMIFS('BASE DE DADOS'!$M:$M,'BASE DE DADOS'!$B:$B,GASTOS_MENSAIS!$B$4,'BASE DE DADOS'!$G:$G,GASTOS_MENSAIS!$A26,'BASE DE DADOS'!$K:$K,DATE(YEAR(TODAY()),MONTH(J$6),DAY(VLOOKUP($A26,CONFIG!$A$2:$C$100,2,0))))","v":4110.5021320000005},{"$f":"SUMIFS('BASE DE DADOS'!$M:$M,'BASE DE DADOS'!$B:$B,GASTOS_MENSAIS!$B$4,'BASE DE DADOS'!$G:$G,GASTOS_MENSAIS!$A26,'BASE DE DADOS'!$K:$K,DATE(YEAR(TODAY()),MONTH(K$6),DAY(VLOOKUP($A26,CONFIG!$A$2:$C$100,2,0))))","v":3602.351044},{"$f":"SUMIFS('BASE DE DADOS'!$M:$M,'BASE DE DADOS'!$B:$B,GASTOS_MENSAIS!$B$4,'BASE DE DADOS'!$G:$G,GASTOS_MENSAIS!$A26,'BASE DE DADOS'!$K:$K,DATE(YEAR(TODAY()),MONTH(L$6),DAY(VLOOKUP($A26,CONFIG!$A$2:$C$100,2,0))))","v":0},{"$f":"SUMIFS('BASE DE DADOS'!$M:$M,'BASE DE DADOS'!$B:$B,GASTOS_MENSAIS!$B$4,'BASE DE DADOS'!$G:$G,GASTOS_MENSAIS!$A26,'BASE DE DADOS'!$K:$K,DATE(YEAR(TODAY()),MONTH(M$6),DAY(VLOOKUP($A26,CONFIG!$A$2:$C$100,2,0))))","v":0},33615.619338000004]
[{"$f":"CONFIG!A15","v":"PAN"},{"$f":"SUMIFS('BASE DE DADOS'!$M:$M,'BASE DE DADOS'!$B:$B,GASTOS_MENSAIS!$B$4,'BASE DE DADOS'!$G:$G,GASTOS_MENSAIS!$A27,'BASE DE DADOS'!$K:$K,DATE(YEAR(TODAY()),MONTH(B$6),DAY(VLOOKUP($A27,CONFIG!$A$2:$C$100,2,0))))","v":75.98},{"$f":"SUMIFS('BASE DE DADOS'!$M:$M,'BASE DE DADOS'!$B:$B,GASTOS_MENSAIS!$B$4,'BASE DE DADOS'!$G:$G,GASTOS_MENSAIS!$A27,'BASE DE DADOS'!$K:$K,DATE(YEAR(TODAY()),MONTH(C$6),DAY(VLOOKUP($A27,CONFIG!$A$2:$C$100,2,0))))","v":473.577628},{"$f":"SUMIFS('BASE DE DADOS'!$M:$M,'BASE DE DADOS'!$B:$B,GASTOS_MENSAIS!$B$4,'BASE DE DADOS'!$G:$G,GASTOS_MENSAIS!$A27,'BASE DE DADOS'!$K:$K,DATE(YEAR(TODAY()),MONTH(D$6),DAY(VLOOKUP($A27,CONFIG!$A$2:$C$100,2,0))))","v":543.79},{"$f":"SUMIFS('BASE DE DADOS'!$M:$M,'BASE DE DADOS'!$B:$B,GASTOS_MENSAIS!$B$4,'BASE DE DADOS'!$G:$G,GASTOS_MENSAIS!$A27,'BASE DE DADOS'!$K:$K,DATE(YEAR(TODAY()),MONTH(E$6),DAY(VLOOKUP($A27,CONFIG!$A$2:$C$100,2,0))))","v":702.45139399999994},{"$f":"SUMIFS('BASE DE DADOS'!$M:$M,'BASE DE DADOS'!$B:$B,GASTOS_MENSAIS!$B$4,'BASE DE DADOS'!$G:$G,GASTOS_MENSAIS!$A27,'BASE DE DADOS'!$K:$K,DATE(YEAR(TODAY()),MONTH(F$6),DAY(VLOOKUP($A27,CONFIG!$A$2:$C$100,2,0))))","v":680.02438599999994},{"$f":"SUMIFS('BASE DE DADOS'!$M:$M,'BASE DE DADOS'!$B:$B,GASTOS_MENSAIS!$B$4,'BASE DE DADOS'!$G:$G,GASTOS_MENSAIS!$A27,'BASE DE DADOS'!$K:$K,DATE(YEAR(TODAY()),MONTH(G$6),DAY(VLOOKUP($A27,CONFIG!$A$2:$C$100,2,0))))","v":562.45780100000002},{"$f":"SUMIFS('BASE DE DADOS'!$M:$M,'BASE DE DADOS'!$B:$B,GASTOS_MENSAIS!$B$4,'BASE DE DADOS'!$G:$G,GASTOS_MENSAIS!$A27,'BASE DE DADOS'!$K:$K,DATE(YEAR(TODAY()),MONTH(H$6),DAY(VLOOKUP($A27,CONFIG!$A$2:$C$100,2,0))))","v":676.73145899999997},{"$f":"SUMIFS('BASE DE DADOS'!$M:$M,'BASE DE DADOS'!$B:$B,GASTOS_MENSAIS!$B$4,'BASE DE DADOS'!$G:$G,GASTOS_MENSAIS!$A27,'BASE DE DADOS'!$K:$K,DATE(YEAR(TODAY()),MONTH(I$6),DAY(VLOOKUP($A27,CONFIG!$A$2:$C$100,2,0))))","v":0},{"$f":"SUMIFS('BASE DE DADOS'!$M:$M,'BASE DE DADOS'!$B:$B,GASTOS_MENSAIS!$B$4,'BASE DE DADOS'!$G:$G,GASTOS_MENSAIS!$A27,'BASE DE DADOS'!$K:$K,DATE(YEAR(TODAY()),MONTH(J$6),DAY(VLOOKUP($A27,CONFIG!$A$2:$C$100,2,0))))","v":0},{"$f":"SUMIFS('BASE DE DADOS'!$M:$M,'BASE DE DADOS'!$B:$B,GASTOS_MENSAIS!$B$4,'BASE DE DADOS'!$G:$G,GASTOS_MENSAIS!$A27,'BASE DE DADOS'!$K:$K,DATE(YEAR(TODAY()),MONTH(K$6),DAY(VLOOKUP($A27,CONFIG!$A$2:$C$100,2,0))))","v":0},{"$f":"SUMIFS('BASE DE DADOS'!$M:$M,'BASE DE DADOS'!$B:$B,GASTOS_MENSAIS!$B$4,'BASE DE DADOS'!$G:$G,GASTOS_MENSAIS!$A27,'BASE DE DADOS'!$K:$K,DATE(YEAR(TODAY()),MONTH(L$6),DAY(VLOOKUP($A27,CONFIG!$A$2:$C$100,2,0))))","v":0},{"$f":"SUMIFS('BASE DE DADOS'!$M:$M,'BASE DE DADOS'!$B:$B,GASTOS_MENSAIS!$B$4,'BASE DE DADOS'!$G:$G,GASTOS_MENSAIS!$A27,'BASE DE DADOS'!$K:$K,DATE(YEAR(TODAY()),MONTH(M$6),DAY(VLOOKUP($A27,CONFIG!$A$2:$C$100,2,0))))","v":0},3715.0126679999998]
[]
["TOTAIS",{"$f":"SUM(B7:B27)","v":36605.327996000007},{"$f":"SUM(C7:C27)","v":39738.012783999999},41242.433924000004,42408.715006999999,44800.645224999993,48087.020561999991,50226.687453999999,44766.407361999998,51652.502770999992,40312.708676000002,1984.0467830000002,1780.9967830000003,{"$f":"SUM(N7:N27)","v":443605.50532700011}]

{"sheet":"Planilha1","index":9,"n_rows":22,"n_cols":23,"rows_kept":22,"cut":false,"hidden":false,"merged":[]}
[]
[null,null,"PAINEL DE CARTÕES"]
[null,null,"C6",{"$f":"VLOOKUP(C3,$C$6:$E$20,2,0)","v":44798},{"$f":"VLOOKUP(C3,$C$6:$E$20,3,0)","v":44809},null,null,null,null,null,null,null,null,null,null,null,null,null,null,null,"CLICKV",{"$f":"VLOOKUP(U3,$U$6:$W$21,2,0)","v":44819},{"$f":"VLOOKUP(U3,$U$6:$W$21,3,0)","v":44805}]
[null,null,"MAE",null,null,null,null,null,null,1,{"$f":"K14-1","v":8},null,null,null,null,null,null,null,null,null,"JUNIOR"]
[null,null,"CARTÃO","DATA DO FECHAMENTO","DATA DO VENCIMENTO",null,null,null,null,{"$f":"DATE(ANNO,K4,J4)","v":"2022-08-01"},null,null,null,null,null,null,null,null,null,null,"CARTÃO","DATA DO FECHAMENTO","DATA DO VENCIMENTO"]
[null,null,"C6",{"$f":"DATE(ANNO,K14-1,25)","v":44798},{"$f":"DATE(ANNO,K14,5)","v":44809},null,null,null,null,1,2,3,4,5,6,7,null,null,null,null,"AZUL",{"$f":"VLOOKUP(U6,CONFIG!$A$2:$C$17,3,0)","v":44801},{"$f":"VLOOKUP(U6,CONFIG!$A$2:$C$17,2,0)","v":44810}]
[null,null,"TRIGG",{"$f":"DATE(ANNO,K14,10)","v":44814},{"$f":"DATE(ANNO,K14,20)","v":44824},null,null,null,null,"D","S","T","Q","Q","S","S",null,null,null,null,"BMG",{"$f":"VLOOKUP(U7,CONFIG!$A$2:$C$17,3,0)","v":44819},{"$f":"VLOOKUP(U7,CONFIG!$A$2:$C$17,2,0)","v":44829}]
[null,null,"NEON",{"$f":"DATE(ANNO,K14,5)","v":44809},{"$f":"DATE(ANNO,K14,15)","v":44819},null,null,null,null,{"$f":"IF(WEEKDAY($J$5)=J6,$J$5,IF(WEEKDAY($J$5)>J6,\"\",I8+1))","v":""},{"$f":"IF(WEEKDAY($J$5)=K6,$J$5,IF(WEEKDAY($J$5)>K6,\"\",J8+1))","v":"2022-08-01"},"2022-08-02","2022-08-03","2022-08-04","2022-08-05","2022-08-06",null,null,null,null,"C6",{"$f":"VLOOKUP(U8,CONFIG!$A$2:$C$17,3,0)","v":44794},{"$f":"VLOOKUP(U8,CONFIG!$A$2:$C$17,2,0)","v":44805}]
[null,null,"PAN",{"$f":"DATE(ANNO,K14,7)","v":44811},{"$f":"DATE(ANNO,K14,17)","v":44821},null,null,null,null,{"$f":"P8+1","v":"2022-08-07"},{"$f":"J9+1","v":"2022-08-08"},{"$f":"K9+1","v":"2022-08-09"},{"$f":"L9+1","v":"2022-08-10"},{"$f":"M9+1","v":"2022-08-11"},{"$f":"N9+1","v":"2022-08-12"},{"$f":"O9+1","v":"2022-08-13"},null,null,null,null,"CLICK",{"$f":"VLOOKUP(U9,CONFIG!$A$2:$C$17,3,0)","v":44813},{"$f":"VLOOKUP(U9,CONFIG!$A$2:$C$17,2,0)","v":44821}]
[null,null,"DIGIO",{"$f":"DATE(ANNO,K14,6)","v":44810},{"$f":"DATE(ANNO,K14,15)","v":44819},null,null,null,null,{"$f":"P9+1","v":"2022-08-14"},{"$f":"J10+1","v":"2022-08-15"},"2022-08-16","2022-08-17","2022-08-18","2022-08-19","2022-08-20",null,null,null,null,"FREE",{"$f":"VLOOKUP(U10,CONFIG!$A$2:$C$17,3,0)","v":44828},{"$f":"VLOOKUP(U10,CONFIG!$A$2:$C$17,2,0)","v":44834}]
[null,null,"PAG",{"$f":"DATE(ANNO,K14,4)","v":44808},{"$f":"DATE(ANNO,K14,10)","v":44814},null,null,null,null,{"$f":"P10+1","v":"2022-08-21"},{"$f":"J11+1","v":"2022-08-22"},"2022-08-23","2022-08-24","2022-08-25","2022-08-26","2022-08-27",null,null,null,null,"GOLD",{"$f":"VLOOKUP(U11,CONFIG!$A$2:$C$17,3,0)","v":44818},{"$f":"VLOOKUP(U11,CONFIG!$A$2:$C$17,2,0)","v":44827}]
[null,null,null,null,null,null,null,null,null,{"$f":"IFERROR(IF(MONTH(P11+1)<>MONTH(P11),\"\",P11+1),\"\")","v":"2022-08-28"},{"$f":"IFERROR(IF(MONTH(J12+1)<>MONTH(J12),\"\",J12+1),\"\")","v":"2022-08-29"},{"$f":"IFERROR(IF(MONTH(K12+1)<>MONTH(K12),\"\",K12+1),\"\")","v":"2022-08-30"},{"$f":"IFERROR(IF(MONTH(L12+1)<>MONTH(L12),\"\",L12+1),\"\")","v":"2022-08-31"},{"$f":"IFERROR(IF(MONTH(M12+1)<>MONTH(M12),\"\",M12+1),\"\")","v":""},{"$f":"IFERROR(IF(MONTH(N12+1)<>MONTH(N12),\"\",N12+1),\"\")","v":""},{"$f":"IFERROR(IF(MONTH(O12+1)<>MONTH(O12),\"\",O12+1),\"\")","v":""},null,null,null,null,"INTER",{"$f":"VLOOKUP(U12,CONFIG!$A$2:$C$17,3,0)","v":44810},{"$f":"VLOOKUP(U12,CONFIG!$A$2:$C$17,2,0)","v":44819}]
[null,null,null,null,null,null,null,null,null,null,null,null,null,null,null,null,null,null,null,null,"LATAM",{"$f":"VLOOKUP(U13,CONFIG!$A$2:$C$17,3,0)","v":44820},{"$f":"VLOOKUP(U13,CONFIG!$A$2:$C$17,2,0)","v":44829}]
[null,null,null,null,null,null,null,null,null,1,{"$f":"CALENDARIO!AG2","v":9},null,null,null,null,null,null,null,null,null,"MELIUZ",{"$f":"VLOOKUP(U14,CONFIG!$A$2:$C$17,3,0)","v":44793},{"$f":"VLOOKUP(U14,CONFIG!$A$2:$C$17,2,0)","v":44805}]
[null,null,null,null,null,null,null,null,null,{"$f":"DATE(ANNO,K14,J14)","v":"2022-09-01"},null,null,null,null,null,null,null,null,null,null,"NCARD",{"$f":"VLOOKUP(U15,CONFIG!$A$2:$C$17,3,0)","v":44805},{"$f":"VLOOKUP(U15,CONFIG!$A$2:$C$17,2,0)","v":44813}]
[null,null,null,null,null,null,null,null,null,1,2,3,4,5,6,7,null,null,null,null,"NUBANK",{"$f":"VLOOKUP(U16,CONFIG!$A$2:$C$17,3,0)","v":44810},{"$f":"VLOOKUP(U16,CONFIG!$A$2:$C$17,2,0)","v":44817}]
[null,null,null,null,null,null,null,null,null,"D","S","T","Q","Q","S","S",null,null,null,null,"ORIGINAL",{"$f":"VLOOKUP(U17,CONFIG!$A$2:$C$17,3,0)","v":44808},{"$f":"VLOOKUP(U17,CONFIG!$A$2:$C$17,2,0)","v":44814}]
[null,null,null,null,null,null,null,null,null,{"$f":"IF(WEEKDAY($J$15)=J16,$J$15,IF(WEEKDAY($J$15)>J16,\"\",I18+1))","v":""},"","","","2022-09-01","2022-09-02","2022-09-03",null,null,null,null,"PAN",{"$f":"VLOOKUP(U18,CONFIG!$A$2:$C$17,3,0)","v":44803},{"$f":"VLOOKUP(U18,CONFIG!$A$2:$C$17,2,0)","v":44817}]
[null,null,null,null,null,null,null,null,null,{"$f":"P18+1","v":"2022-09-04"},{"$f":"J19+1","v":"2022-09-05"},{"$f":"K19+1","v":"2022-09-06"},"2022-09-07","2022-09-08","2022-09-09","2022-09-10",null,null,null,null,"ZERO",{"$f":"VLOOKUP(U19,CONFIG!$A$2:$C$17,3,0)","v":44824},{"$f":"VLOOKUP(U19,CONFIG!$A$2:$C$17,2,0)","v":44807}]
[null,null,null,null,null,null,null,null,null,{"$f":"P19+1","v":"2022-09-11"},{"$f":"J20+1","v":"2022-09-12"},{"$f":"K20+1","v":"2022-09-13"},"2022-09-14","2022-09-15","2022-09-16","2022-09-17",null,null,null,null,"WILL",{"$f":"VLOOKUP(U20,CONFIG!$A$2:$C$17,3,0)","v":44818},{"$f":"VLOOKUP(U20,CONFIG!$A$2:$C$17,2,0)","v":44824}]
[null,null,null,null,null,null,null,null,null,{"$f":"P20+1","v":"2022-09-18"},{"$f":"J21+1","v":"2022-09-19"},{"$f":"K21+1","v":"2022-09-20"},"2022-09-21","2022-09-22","2022-09-23","2022-09-24",null,null,null,null,"CLICKV",{"$f":"VLOOKUP(U21,CONFIG!$A$2:$C$23,3,0)","v":44819},{"$f":"VLOOKUP(U21,CONFIG!$A$2:$C$23,2,0)","v":44805}]
[null,null,null,null,null,null,null,null,null,{"$f":"IFERROR(IF(MONTH(P21+1)<>MONTH(P21),\"\",P21+1),\"\")","v":"2022-09-25"},{"$f":"IFERROR(IF(MONTH(J22+1)<>MONTH(J22),\"\",J22+1),\"\")","v":"2022-09-26"},{"$f":"IFERROR(IF(MONTH(K22+1)<>MONTH(K22),\"\",K22+1),\"\")","v":"2022-09-27"},"2022-09-28","2022-09-29","2022-09-30",""]

{"sheet":"CONFIG","index":10,"n_rows":1048576,"n_cols":16380,"rows_kept":4500,"cut":true,"hidden":false,"merged":[],"bounds":{"rows_first":2000,"rows_last":500,"rows_between":2000,"halvings":0}}
["CARTÃO","DATA DO VENCIMENTO","DATA DO FECHAMENTO",null,null,null,null,null,null,"JUNIOR","MÊS",null,null,null,"TÍTULAR"]
["CLICK",{"$f":"DATE(ANNO,CALENDARIO!$AG$2,H2)","v":44821},{"$f":"DATE(ANNO,CALENDARIO!AG$2,I2)","v":44813},null,null,null,null,17,9,null,null,null,null,null,"JUNIOR"]
["MELIUZ",{"$f":"DATE(ANNO,CALENDARIO!$AG$2,H3)","v":44805},{"$f":"IF(MONTH(DATE(ANNO,CALENDARIO!$AG$2,I3))=MONTH(B3),DATE(ANNO,CALENDARIO!$AG$2-1,I3),DATE(ANNO,CALENDARIO!$AG$2,I3))","v":44793},null,null,null,null,1,20,"LIMITE","FATURA","DISPONIVEL",null,null,"MOCINHA"]
["ZERO",{"$f":"DATE(ANNO,CALENDARIO!$AG$2,H4)","v":44807},{"$f":"DATE(ANNO,CALENDARIO!AG$2,I4)","v":44824},null,null,null,null,3,20,1800,null,null,null,null,"MÃE"]
["NUBANK",{"$f":"DATE(ANNO,CALENDARIO!$AG$2,H5)","v":44817},{"$f":"DATE(ANNO,CALENDARIO!AG$2,I5)","v":44810},null,null,null,null,13,6,680,null,null,null,null,null,null,null,null,null,null,null,null,null,null,null,null,null,null,null,null,null,null,null,null,null,null,null,"PLANO DE PAGAMENTOS"]
["AZUL",{"$f":"DATE(ANNO,CALENDARIO!$AG$2,H6)","v":44810},{"$f":"IF(MONTH(DATE(ANNO,CALENDARIO!$AG$2,I6))=MONTH(B6),DATE(ANNO,CALENDARIO!$AG$2-1,I6),DATE(ANNO,CALENDARIO!$AG$2,I6))","v":44801},null,null,null,null,6,28,1100,null,null,null,null,null,null,null,null,null,null,null,null,null,null,null,null,null,null,null,null,null,null,null,null,null,null,null,"A PAGAR",null,"PAGO",null,null,"APAGAR",null,"PAGO"]
["GOLD",{"$f":"DATE(ANNO,CALENDARIO!$AG$2,H7)","v":44827},{"$f":"DATE(ANNO,CALENDARIO!AG$2,I7)","v":44818},null,null,null,null,23,14,null,null,null,null,null,null,null,null,null,null,null,null,null,null,null,null,null,null,null,null,null,null,null,null,null,null,null,null,"MELIUZ",1,"C6",1,null,"DIGIO",15,"PAN",17]
["LATAM",{"$f":"DATE(ANNO,CALENDARIO!$AG$2,H8)","v":44829},{"$f":"DATE(ANNO,CALENDARIO!AG$2,I8)","v":44820},null,null,null,null,25,16,null,null,null,null,null,null,null,null,null,null,null,null,null,null,null,null,null,null,null,null,null,null,null,null,null,null,null,null,"C6",1,"ZERO",3,null,"NEON",15,"PAN",17]
["FREE",{"$f":"DATE(ANNO,CALENDARIO!$AG$2,H9)","v":44834},{"$f":"DATE(ANNO,CALENDARIO!AG$2,I9)","v":44828},null,null,null,null,30,24,null,null,null,null,null,null,null,null,null,null,null,null,null,null,null,null,null,null,null,null,null,null,null,null,null,null,null,null,"ZERO",3,"AZUL",6,null,"PAN",17,"PAG",10]
["WILL",{"$f":"DATE(ANNO,CALENDARIO!$AG$2,H10)","v":44824},{"$f":"DATE(ANNO,CALENDARIO!AG$2,I10)","v":44818},null,null,null,null,20,14,null,null,null,null,null,null,null,null,null,null,null,null,null,null,null,null,null,null,null,null,null,null,null,null,null,null,null,null,"AZUL",6,"NCARD",9,null,null,null,"C6",5]
["NCARD",{"$f":"DATE(ANNO,CALENDARIO!$AG$2,H11)","v":44813},{"$f":"DATE(ANNO,CALENDARIO!AG$2,I11)","v":44805},null,null,null,null,9,1,null,null,null,null,null,null,null,null,null,null,null,null,null,null,null,null,null,null,null,null,null,null,null,null,null,null,null,null,"NCARD",9,"NUBANK",13,null,"C6",5,"C6",5]
["INTER",{"$f":"DATE(ANNO,CALENDARIO!$AG$2,H12)","v":44819},{"$f":"DATE(ANNO,CALENDARIO!AG$2,I12)","v":44810},null,null,null,null,15,6,null,1,{"$f":"SMALL($B$2:$B$15,K12)","v":44805},"C6",null,null,null,null,null,null,null,null,null,null,null,null,null,null,null,null,null,null,null,null,null,null,null,null,"NUBANK",13,"INTER",15]
["C6",{"$f":"DATE(ANNO,CALENDARIO!$AG$2,H13)","v":44805},{"$f":"IF(MONTH(DATE(ANNO,CALENDARIO!$AG$2,I13))=MONTH(B13),DATE(ANNO,CALENDARIO!$AG$2-1,I13),DATE(ANNO,CALENDARIO!$AG$2,I13))","v":44794},null,null,null,null,1,21,null,2,{"$f":"SMALL($B$2:$B$15,K13)","v":44805},"MELIUZ",null,null,null,null,null,null,null,null,null,null,null,null,null,null,null,null,null,null,null,null,null,null,null,null,"INTER",15,"CLICK",17]
["BMG",{"$f":"DATE(ANNO,CALENDARIO!$AG$2,H14)","v":44829},{"$f":"DATE(ANNO,CALENDARIO!AG$2,I14)","v":44819},null,null,null,null,25,15,null,3,44807,"AZUL",null,null,null,null,null,null,null,null,null,null,null,null,null,null,null,null,null,null,null,null,null,null,null,null,"CLICK",17,"WILL",20]
["PAN",{"$f":"DATE(ANNO,CALENDARIO!$AG$2,H15)","v":44817},{"$f":"IF(MONTH(DATE(ANNO,CALENDARIO!$AG$2,I15))=MONTH(B15),DATE(ANNO,CALENDARIO!$AG$2-1,I15),DATE(ANNO,CALENDARIO!$AG$2,I15))","v":44803},null,null,null,null,13,30,null,4,44810,"NCARD",null,null,null,null,null,null,null,null,null,null,null,null,null,null,null,null,null,null,null,null,null,null,null,null,"WILL",20,"GOLD",23]
["PAGMAE",{"$f":"DATE(ANNO,CALENDARIO!$AG$2,H16)","v":44814},{"$f":"DATE(ANNO,CALENDARIO!AG$2,I16)","v":44808},null,null,null,null,10,4,null,5,44813,"PAN",null,null,null,null,null,null,null,null,null,null,null,null,null,null,null,null,null,null,null,null,null,null,null,null,"GOLD",23,"LATAM",25]
["ORIGINAL",{"$f":"DATE(ANNO,CALENDARIO!$AG$2,H17)","v":44814},{"$f":"DATE(ANNO,CALENDARIO!AG$2,I17)","v":44808},null,null,null,null,10,4,null,6,44817,"NUBANK"]
["TRIGMAE",{"$f":"DATE(ANNO,CALENDARIO!$AG$2,H18)","v":44824},{"$f":"DATE(ANNO,CALENDARIO!$AG$2,I18)","v":44814},null,null,null,null,20,10,null,7,44817,"INTER",null,null,null,null,null,null,null,null,null,null,null,null,null,null,null,null,null,null,null,null,null,null,null,null,"ORIGINAL",10,"PAN",13]
["C6MAE",{"$f":"DATE(ANNO,CALENDARIO!$AG$2,H19)","v":44809},{"$f":"IF(MONTH(DATE(ANNO,CALENDARIO!$AG$2,I19))=MONTH(B19),DATE(ANNO,CALENDARIO!$AG$2-1,I19),DATE(ANNO,CALENDARIO!$AG$2,I19))","v":44798},null,null,null,null,5,25,null,8,44819,"CLICK",null,null,null,null,null,null,null,null,null,null,null,null,null,null,null,null,null,null,null,null,null,null,null,null,"PAN",13,"TRIG",20]
["NEON",{"$f":"DATE(ANNO,CALENDARIO!$AG$2,H20)","v":44819},{"$f":"DATE(ANNO,CALENDARIO!$AG$2,I20)","v":44809},null,null,null,null,15,5,null,9,44821,"PAG",null,null,null,null,null,null,null,null,null,null,null,null,null,null,null,null,null,null,null,null,null,null,null,null,"TRIG",20,"BMG",25]
["PANMAE",{"$f":"DATE(ANNO,CALENDARIO!$AG$2,H21)","v":44821},{"$f":"DATE(ANNO,CALENDARIO!$AG$2,I21)","v":44813},null,null,null,null,17,9,null,10,44824,"GOLD",null,null,null,null,null,null,null,null,null,null,null,null,null,null,null,null,null,null,null,null,null,null,null,null,"BMG",25,"FREE",30]
["DIGIO",{"$f":"DATE(ANNO,CALENDARIO!$AG$2,H22)","v":44819},{"$f":"DATE(ANNO,CALENDARIO!$AG$2,I22)","v":44809},null,null,null,null,15,5,null,11,44827,"LATAM"]
["CLICKV",{"$f":"DATE(ANNO,CALENDARIO!$AG$2,H23)","v":44805},{"$f":"DATE(ANNO,CALENDARIO!$AG$2,I23)","v":44819},null,null,null,null,1,15,null,12,44829,"BMG"]
[null,null,null,null,null,null,null,null,null,null,13,44829,"ZERO"]
[null,null,null,null,null,null,null,null,null,null,14,44834,"FREE"]
[]
[]
[]
[]
[]
[]
[]
[]
[]
[]
[]
[]
[]
[]
[]
[]
[]
[]
[]
[]
[]
[]
[]
[]
[]
[]
[]
[]
[]
[]
[]
[]
[]
[]
[]
[]
[]
[]
[]
[]
[]
[]
[]
[]
[]
[]
[]
[]
[]
[]
[]
[]
[]
[]
[]
[]
[]
[]
[]
[]
[]
[]
[]
[]
[]
[]
[]
[]
[]
[]
[]
[]
[]
[]
[]
[]
[]
[]
[]
[]
[]
[]
[]
[]
[]
[]
[]
[]
[]
[]
[]
[]
[]
[]
[]
[]
[]
[]
[]
[]
[]
[]
[]
[]
[]
[]
[]
[]
[]
[]
[]
[]
[]
[]
[]
[]
[]
[]
[]
[]
[]
[]
[]
[]
[]
[]
[]
[]
[]
[]
[]
[]
[]
[]
[]
[]
[]
[]
[]
[]
[]
[]
[]
[]
[]
[]
[]
[]
[]
[]
[]
[]
[]
[]
[]
[]
[]
[]
[]
[]
[]
[]
[]
[]
[]
[]
[]
[]
[]
[]
[]
[]
[]
[]
[]
[]
[]
[]
[]
[]
[]
[]
[]
[]
[]
[]
[]
[]
[]
[]
[]
[]
[]
[]
[]
[]
[]
[]
[]
[]
[]
[]
[]
[]
[]
[]
[]
[]
[]
[]
[]
[]
[]
[]
[]
[]
[]
[]
[]
[]
[]
[]
[]
[]
[]
[]
[]
[]
[]
[]
[]
[]
[]
[]
[]
[]
[]
[]
[]
[]
[]
[]
[]
[]
[]
[]
[]
[]
[]
[]
[]
[]
[]
[]
[]
[]
[]
[]
[]
[]
[]
[]
[]
[]
[]
[]
[]
[]
[]
[]
[]
[]
[]
[]
[]
[]
[]
[]
[]
[]
[]
[]
[]
[]
[]
[]
[]
[]
[]
[]
[]
[]
[]
[]
[]
[]
[]
[]
[]
[]
[]
[]
[]
[]
[]
[]
[]
[]
[]
[]
[]
[]
[]
[]
[]
[]
[]
[]
[]
[]
[]
[]
[]
[]
[]
[]
[]
[]
[]
[]
[]
[]
[]
[]
[]
[]
[]
[]
[]
[]
[]
[]
[]
[]
[]
[]
[]
[]
[]
[]
[]
[]
[]
[]
[]
[]
[]
[]
[]
[]
[]
[]
[]
[]
[]
[]
[]
[]
[]
[]
[]
[]
[]
[]
[]
[]
[]
[]
[]
[]
[]
[]
[]
[]
[]
[]
[]
[]
[]
[]
[]
[]
[]
[]
[]
[]
[]
[]
[]
[]
[]
[]
[]
[]
[]
[]
[]
[]
[]
[]
[]
[]
[]
[]
[]
[]
[]
[]
[]
[]
[]
[]
[]
[]
[]
[]
[]
[]
[]
[]
[]
[]
[]
[]
[]
[]
[]
[]
[]
[]
[]
[]
[]
[]
[]
[]
[]
[]
[]
[]
[]
[]
[]
[]
[]
[]
[]
[]
[]
[]
[]
[]
[]
[]
[]
[]
[]
[]
[]
[]
[]
[]
[]
[]
[]
[]
[]
[]
[]
[]
[]
[]
[]
[]
[]
[]
[]
[]
[]
[]
[]
[]
[]
[]
[]
[]
[]
[]
[]
[]
[]
[]
[]
[]
[]
[]
[]
[]
[]
[]
[]
[]
[]
[]
[]
[]
[]
[]
[]
[]
[]
[]
[]
[]
[]
[]
[]
[]
[]
[]
[]
[]
[]
[]
[]
[]
[]
[]
[]
[]
[]
[]
[]
[]
[]
[]
[]
[]
[]
[]
[]
[]
[]
[]
[]
[]
[]
[]
[]
[]
[]
[]
[]
[]
[]
[]
[]
[]
[]
[]
[]
[]
[]
[]
[]
[]
[]
[]
[]
[]
[]
[]
[]
[]
[]
[]
[]
[]
[]
[]
[]
[]
[]
[]
[]
[]
[]
[]
[]
[]
[]
[]
[]
[]
[]
[]
[]
[]
[]
[]
[]
[]
[]
[]
[]
[]
[]
[]
[]
[]
[]
[]
[]
[]
[]
[]
[]
[]
[]
[]
[]
[]
[]
[]
[]
[]
[]
[]
[]
[]
[]
[]
[]
[]
[]
[]
[]
[]
[]
[]
[]
[]
[]
[]
[]
[]
[]
[]
[]
[]
[]
[]
[]
[]
[]
[]
[]
[]
[]
[]
[]
[]
[]
[]
[]
[]
[]
[]
[]
[]
[]
[]
[]
[]
[]
[]
[]
[]
[]
[]
[]
[]
[]
[]
[]
[]
[]
[]
[]
[]
[]
[]
[]
[]
[]
[]
[]
[]
[]
[]
[]
[]
[]
[]
[]
[]
[]
[]
[]
[]
[]
[]
[]
[]
[]
[]
[]
[]
[]
[]
[]
[]
[]
[]
[]
[]
[]
[]
[]
[]
[]
[]
[]
[]
[]
[]
[]
[]
[]
[]
[]
[]
[]
[]
[]
[]
[]
[]
[]
[]
[]
[]
[]
[]
[]
[]
[]
[]
[]
[]
[]
[]
[]
[]
[]
[]
[]
[]
[]
[]
[]
[]
[]
[]
[]
[]
[]
[]
[]
[]
[]
[]
[]
[]
[]
[]
[]
[]
[]
[]
[]
[]
[]
[]
[]
[]
[]
[]
[]
[]
[]
[]
[]
[]
[]
[]
[]
[]
[]
[]
[]
[]
[]
[]
[]
[]
[]
[]
[]
[]
[]
[]
[]
[]
[]
[]
[]
[]
[]
[]
[]
[]
[]
[]
[]
[]
[]
[]
[]
[]
[]
[]
[]
[]
[]
[]
[]
[]
[]
[]
[]
[]
[]
[]
[]
[]
[]
[]
[]
[]
[]
[]
[]
[]
[]
[]
[]
[]
[]
[]
[]
[]
[]
[]
[]
[]
[]
[]
[]
[]
[]
[]
[]
[]
[]
[]
[]
[]
[]
[]
[]
[]
[]
[]
[]
[]
[]
[]
[]
[]
[]
[]
[]
[]
[]
[]
[]
[]
[]
[]
[]
[]
[]
[]
[]
[]
[]
[]
[]
[]
[]
[]
[]
[]
[]
[]
[]
[]
[]
[]
[]
[]
[]
[]
[]
[]
[]
[]
[]
[]
[]
[]
[]
[]
[]
[]
[]
[]
[]
[]
[]
[]
[]
[]
[]
[]
[]
[]
[]
[]
[]
[]
[]
[]
[]
[]
[]
[]
[]
[]
[]
[]
[]
[]
[]
[]
[]
[]
[]
[]
[]
[]
[]
[]
[]
[]
[]
[]
[]
[]
[]
[]
[]
[]
[]
[]
[]
[]
[]
[]
[]
[]
[]
[]
[]
[]
[]
[]
[]
[]
[]
[]
[]
[]
[]
[]
[]
[]
[]
[]
[]
[]
[]
[]
[]
[]
[]
[]
[]
[]
[]
[]
[]
[]
[]
[]
[]
[]
[]
[]
[]
[]
[]
[]
[]
[]
[]
[]
[]
[]
[]
[]
[]
[]
[]
[]
[]
[]
[]
[]
[]
[]
[]
[]
[]
[]
[]
[]
[]
[]
[]
[]
[]
[]
[]
[]
[]
[]
[]
[]
[]
[]
[]
[]
[]
[]
[]
[]
[]
[]
[]
[]
[]
[]
[]
[]
[]
[]
[]
[]
[]
[]
[]
[]
[]
[]
[]
[]
[]
[]
[]
[]
[]
[]
[]
[]
[]
[]
[]
[]
[]
[]
[]
[]
[]
[]
[]
[]
[]
[]
[]
[]
[]
[]
[]
[]
[]
[]
[]
[]
[]
[]
[]
[]
[]
[]
[]
[]
[]
[]
[]
[]
[]
[]
[]
[]
[]
[]
[]
[]
[]
[]
[]
[]
[]
[]
[]
[]
[]
[]
[]
[]
[]
[]
[]
[]
[]
[]
[]
[]
[]
[]
[]
[]
[]
[]
[]
[]
[]
[]
[]
[]
[]
[]
[]
[]
[]
[]
[]
[]
[]
[]
[]
[]
[]
[]
[]
[]
[]
[]
[]
[]
[]
[]
[]
[]
[]
[]
[]
[]
[]
[]
[]
[]
[]
[]
[]
[]
[]
[]
[]
[]
[]
[]
[]
[]
[]
[]
[]
[]
[]
[]
[]
[]
[]
[]
[]
[]
[]
[]
[]
[]
[]
[]
[]
[]
[]
[]
[]
[]
[]
[]
[]
[]
[]
[]
[]
[]
[]
[]
[]
[]
[]
[]
[]
[]
[]
[]
[]
[]
[]
[]
[]
[]
[]
[]
[]
[]
[]
[]
[]
[]
[]
[]
[]
[]
[]
[]
[]
[]
[]
[]
[]
[]
[]
[]
[]
[]
[]
[]
[]
[]
[]
[]
[]
[]
[]
[]
[]
[]
[]
[]
[]
[]
[]
[]
[]
[]
[]
[]
[]
[]
[]
[]
[]
[]
[]
[]
[]
[]
[]
[]
[]
[]
[]
[]
[]
[]
[]
[]
[]
[]
[]
[]
[]
[]
[]
[]
[]
[]
[]
[]
[]
[]
[]
[]
[]
[]
[]
[]
[]
[]
[]
[]
[]
[]
[]
[]
[]
[]
[]
[]
[]
[]
[]
[]
[]
[]
[]
[]
[]
[]
[]
[]
[]
[]
[]
[]
[]
[]
[]
[]
[]
[]
[]
[]
[]
[]
[]
[]
[]
[]
[]
[]
[]
[]
[]
[]
[]
[]
[]
[]
[]
[]
[]
[]
[]
[]
[]
[]
[]
[]
[]
[]
[]
[]
[]
[]
[]
[]
[]
[]
[]
[]
[]
[]
[]
[]
[]
[]
[]
[]
[]
[]
[]
[]
[]
[]
[]
[]
[]
[]
[]
[]
[]
[]
[]
[]
[]
[]
[]
[]
[]
[]
[]
[]
[]
[]
[]
[]
[]
[]
[]
[]
[]
[]
[]
[]
[]
[]
[]
[]
[]
[]
[]
[]
[]
[]
[]
[]
[]
[]
[]
[]
[]
[]
[]
[]
[]
[]
[]
[]
[]
[]
[]
[]
[]
[]
[]
[]
[]
[]
[]
[]
[]
[]
[]
[]
[]
[]
[]
[]
[]
[]
[]
[]
[]
[]
[]
[]
[]
[]
[]
[]
[]
[]
[]
[]
[]
[]
[]
[]
[]
[]
[]
[]
[]
[]
[]
[]
[]
[]
[]
[]
[]
[]
[]
[]
[]
[]
[]
[]
[]
[]
[]
[]
[]
[]
[]
[]
[]
[]
[]
[]
[]
[]
[]
[]
[]
[]
[]
[]
[]
[]
[]
[]
[]
[]
[]
[]
[]
[]
[]
[]
[]
[]
[]
[]
[]
[]
[]
[]
[]
[]
[]
[]
[]
[]
[]
[]
[]
[]
[]
[]
[]
[]
[]
[]
[]
[]
[]
[]
[]
[]
[]
[]
[]
[]
[]
[]
[]
[]
[]
[]
[]
[]
[]
[]
[]
[]
[]
[]
[]
[]
[]
[]
[]
[]
[]
[]
[]
[]
[]
[]
[]
[]
[]
[]
[]
[]
[]
[]
[]
[]
[]
[]
[]
[]
[]
[]
[]
[]
[]
[]
[]
[]
[]
[]
[]
[]
[]
[]
[]
[]
[]
[]
[]
[]
[]
[]
[]
[]
[]
[]
[]
[]
[]
[]
[]
[]
[]
[]
[]
[]
[]
[]
[]
[]
[]
[]
[]
[]
[]
[]
[]
[]
[]
[]
[]
[]
[]
[]
[]
[]
[]
[]
[]
[]
[]
[]
[]
[]
[]
[]
[]
[]
[]
[]
[]
[]
[]
[]
[]
[]
[]
[]
[]
[]
[]
[]
[]
[]
[]
[]
[]
[]
[]
[]
[]
[]
[]
[]
[]
[]
[]
[]
[]
[]
[]
[]
[]
[]
[]
[]
[]
[]
[]
[]
[]
[]
[]
[]
[]
[]
[]
[]
[]
[]
[]
[]
[]
[]
[]
[]
[]
[]
[]
[]
[]
[]
[]
[]
[]
[]
[]
[]
[]
[]
[]
[]
[]
[]
[]
[]
[]
[]
[]
[]
[]
[]
[]
[]
[]
[]
[]
[]
[]
[]
[]
[]
[]
[]
[]
[]
[]
[]
[]
[]
[]
[]
[]
[]
[]
[]
[]
[]
[]
[]
[]
[]
[]
[]
[]
[]
[]
[]
[]
[]
[]
[]
[]
[]
[]
[]
[]
[]
[]
[]
[]
[]
[]
[]
[]
[]
[]
[]
[]
[]
[]
[]
[]
[]
[]
[]
[]
[]
[]
[]
[]
[]
[]
[]
[]
[]
[]
[]
[]
[]
[]
[]
[]
[]
[]
[]
[]
[]
[]
[]
[]
[]
[]
[]
[]
[]
[]
[]
[]
[]
[]
[]
[]
[]
[]
[]
[]
[]
[]
[]
[]
[]
[]
[]
[]
[]
[]
[]
[]
[]
[]
[]
[]
[]
[]
[]
[]
[]
[]
[]
[]
[]
[]
[]
[]
[]
[]
[]
[]
[]
[]
[]
[]
[]
[]
[]
[]
[]
[]
[]
[]
[]
[]
[]
[]
[]
[]
[]
[]
[]
[]
[]
[]
[]
[]
[]
[]
[]
[]
[]
[]
[]
[]
[]
[]
[]
[]
[]
[]
[]
[]
[]
[]
[]
[]
[]
[]
[]
[]
[]
[]
[]
[]
[]
[]
[]
[]
[]
[]
[]
[]
[]
[]
[]
[]
[]
[]
[]
[]
[]
[]
[]
[]
[]
[]
[]
[]
[]
[]
[]
[]
[]
[]
[]
[]
[]
[]
[]
[]
[]
[]
[]
[]
[]
[]
[]
[]
[]
[]
[]
[]
[]
[]
[]
[]
[]
[]
[]
[]
[]
[]
[]
[]
[]
[]
[]
[]
[]
[]
[]
[]
[]
[]
[]
[]
[]
[]
[]
[]
[]
[]
[]
[]
[]
[]
[]
[]
[]
[]
[]
[]
[]
[]
[]
[]
[]
[]
[]
[]
[]
[]
[]
[]
[]
[]
[]
[]
[]
[]
[]
[]
[]
[]
[]
[]
[]
[]
[]
[]
[]
[]
[]
[]
[]
[]
[]
[]
[]
[]
[]
[]
[]
[]
[]
[]
[]
[]
[]
[]
[]
[]
[]
[]
[]
[]
[]
[]
[]
[]
[]
[]
[]
[]
[]
[]
[]
[]
[]
[]
[]
[]
[]
[]
[]
[]
[]
[]
[]
[]
[]
[]
[]
[]
[]
[]
[]
[]
[]
[]
[]
[]
[]
[]
[]
[]
[]
[]
[]
[]
[]
[]
[]
[]
[]
[]
[]
[]
[]
[]
[]
[]
[]
[]
[]
[]
[]
[]
[]
[]
[]
[]
[]
[]
[]
[]
[]
[]
[]
[]
[]
[]
[]
[]
[]
[]
[]
[]
[]
[]
[]
[]
[]
[]
[]
[]
[]
[]
[]
[]
[]
[]
[]
[]
[]
[]
[]
[]
[]
[]
[]
[]
[]
[]
[]
[]
[]
[]
[]
[]
[]
[]
[]
[]
[]
[]
[]
[]
[]
[]
[]
[]
[]
[]
[]
[]
[]
[]
[]
[]
[]
[]
[]
[]
[]
[]
[]
[]
[]
[]
[]
[]
[]
[]
[]
[]
[]
[]
[]
[]
[]
[]
[]
[]
[]
[]
[]
[]
[]
[]
[]
[]
[]
[]
[]
[]
[]
[]
[]
[]
[]
[]
[]
[]
[]
[]
[]
[]
[]
[]
[]
[]
[]
[]
[]
[]
[]
[]
[]
[]
[]
[]
[]
[]
[]
[]
[]
[]
[]
[]
[]
[]
[]
[]
[]
[]
[]
[]
[]
[]
[]
[]
[]
[]
[]
[]
[]
[]
[]
[]
[]
[]
[]
[]
[]
[]
[]
[]
[]
[]
[]
[]
[]
[]
[]
[]
[]
[]
[]
[]
[]
[]
[]
[]
[]
[]
[]
[]
[]
[]
[]
[]
[]
[]
[]
[]
[]
[]
[]
[]
[]
[]
[]
[]
[]
[]
[]
[]
[]
[]
[]
[]
[]
[]
[]
[]
[]
[]
[]
[]
[]
[]
[]
[]
[]
[]
[]
[]
[]
[]
[]
[]
[]
[]
[]
[]
[]
[]
[]
[]
[]
[]
[]
[]
[]
[]
[]
[]
[]
[]
[]
[]
[]
[]
[]
[]
[]
[]
[]
[]
[]
[]
[]
[]
[]
[]
[]
[]
[]
[]
[]
[]
[]
[]
[]
[]
[]
[]
[]
[]
[]
[]
[]
[]
[]
[]
[]
[]
[]
[]
[]
[]
[]
[]
[]
[]
[]
[]
[]
[]
[]
[]
[]
[]
[]
[]
[]
[]
[]
[]
[]
[]
[]
[]
[]
[]
[]
[]
[]
[]
[]
[]
[]
[]
[]
[]
[]
[]
[]
[]
[]
[]
[]
[]
[]
[]
[]
[]
[]
[]
[]
[]
[]
[]
[]
[]
[]
[]
[]
[]
[]
[]
[]
[]
[]
[]
[]
[]
[]
[]
[]
[]
[]
[]
[]
[]
[]
[]
[]
[]
[]
[]
[]
[]
[]
[]
[]
[]
[]
[]
[]
[]
[]
[]
[]
[]
[]
[]
[]
[]
[]
[]
[]
[]
[]
[]
[]
[]
[]
[]
[]
[]
[]
[]
[]
[]
[]
[]
[]
[]
[]
[]
[]
[]
[]
[]
[]
[]
[]
[]
[]
[]
[]
[]
[]
[]
[]
[]
[]
[]
[]
[]
[]
[]
[]
[]
[]
[]
[]
[]
[]
[]
[]
[]
[]
[]
[]
[]
[]
[]
[]
[]
[]
[]
[]
[]
[]
[]
[]
[]
[]
[]
[]
[]
[]
[]
[]
[]
[]
[]
[]
[]
[]
[]
[]
[]
[]
[]
[]
[]
[]
[]
[]
[]
[]
[]
[]
[]
[]
[]
[]
[]
[]
[]
[]
[]
[]
[]
[]
[]
[]
[]
[]
[]
[]
[]
[]
[]
[]
[]
[]
[]
[]
[]
[]
[]
[]
[]
[]
[]
[]
[]
[]
[]
[]
[]
[]
[]
[]
[]
[]
[]
[]
[]
[]
[]
[]
[]
[]
[]
[]
[]
[]
[]
[]
[]
[]
[]
[]
[]
[]
[]
[]
[]
[]
[]
[]
[]
[]
[]
[]
[]
[]
[]
[]
[]
[]
[]
[]
[]
[]
[]
[]
[]
[]
[]
[]
[]
[]
[]
[]
[]
[]
[]
[]
[]
[]
[]
[]
[]
[]
[]
[]
[]
[]
[]
[]
[]
[]
[]
[]
[]
[]
[]
[]
[]
[]
[]
[]
[]
[]
[]
[]
[]
[]
[]
[]
[]
[]
[]
[]
[]
[]
[]
[]
[]
[]
[]
[]
[]
[]
[]
[]
[]
[]
[]
[]
[]
[]
[]
[]
[]
[]
[]
[]
[]
[]
[]
[]
[]
[]
[]
[]
[]
[]
[]
[]
[]
[]
[]
[]
[]
[]
[]
[]
[]
[]
[]
[]
[]
[]
[]
[]
[]
[]
[]
[]
[]
[]
[]
[]
[]
[]
[]
[]
[]
[]
[]
[]
[]
[]
[]
[]
[]
[]
[]
[]
[]
[]
[]
[]
[]
[]
[]
[]
[]
[]
[]
[]
[]
[]
[]
[]
[]
[]
[]
[]
[]
[]
[]
[]
[]
[]
[]
[]
[]
[]
[]
[]
[]
[]
[]
[]
[]
[]
[]
[]
[]
[]
[]
[]
[]
[]
[]
[]
[]
[]
[]
[]
[]
[]
[]
[]
[]
[]
[]
[]
[]
[]
[]
[]
[]
[]
[]
[]
[]
[]
[]
[]
[]
[]
[]
[]
[]
[]
[]
[]
[]
[]
[]
[]
[]
[]
[]
[]
[]
[]
[]
[]
[]
[]
[]
[]
[]
[]
[]
[]
[]
[]
[]
[]
[]
[]
[]
[]
[]
[]
[]
[]
[]
[]
[]
[]
[]
[]
[]
[]
[]
[]
[]
[]
[]
[]
[]
[]
[]
[]
[]
[]
[]
[]
[]
[]
[]
[]
[]
[]
[]
[]
[]
[]
[]
[]
[]
[]
[]
[]
[]
[]
[]
[]
[]
[]
[]
[]
[]
[]
[]
[]
[]
[]
[]
[]
[]
[]
[]
[]
[]
[]
[]
[]
[]
[]
[]
[]
[]
[]
[]
[]
[]
[]
[]
[]
[]
[]
[]
[]
[]
[]
[]
[]
[]
[]
[]
[]
[]
[]
[]
[]
[]
[]
[]
[]
[]
[]
[]
[]
[]
[]
[]
[]
[]
[]
[]
[]
[]
[]
[]
[]
[]
[]
[]
[]
[]
[]
[]
[]
[]
[]
[]
[]
[]
[]
[]
[]
[]
[]
[]
[]
[]
[]
[]
[]
[]
[]
[]
[]
[]
[]
[]
[]
[]
[]
[]
[]
[]
[]
[]
[]
[]
[]
[]
[]
[]
[]
[]
[]
[]
[]
[]
[]
[]
[]
[]
[]
[]
[]
[]
[]
[]
[]
[]
[]
[]
[]
[]
[]
[]
[]
[]
[]
[]
[]
[]
[]
[]
[]
[]
[]
[]
[]
[]
[]
[]
[]
[]
[]
[]
[]
[]
[]
[]
[]
[]
[]
[]
[]
[]
[]
[]
[]
[]
[]
[]
[]
[]
[]
[]
[]
[]
[]
[]
[]
[]
[]
[]
[]
[]
[]
[]
[]
[]
[]
[]
[]
[]
[]
[]
[]
[]
[]
[]
[]
[]
[]
[]
[]
[]
[]
[]
[]
[]
[]
[]
[]
[]
[]
[]
[]
[]
[]
[]
[]
[]
[]
[]
[]
[]
[]
[]
[]
[]
[]
[]
[]
[]
[]
[]
[]
[]
[]
[]
[]
[]
[]
[]
[]
[]
[]
[]
[]
[]
[]
[]
[]
[]
[]
[]
[]
[]
[]
[]
[]
[]
[]
[]
[]
[]
[]
[]
[]
[]
[]
[]
[]
[]
[]
[]
[]
[]
[]
[]
[]
[]
[]
[]
[]
[]
[]
[]
[]
[]
[]
[]
[]
[]
[]
[]
[]
[]
[]
[]
[]
[]
[]
[]
[]
[]
[]
[]
[]
[]
[]
[]
[]
[]
[]
[]
[]
[]
[]
[]
[]
[]
[]
[]
[]
[]
[]
[]
[]
[]
[]
[]
[]
[]
[]
[]
[]
[]
[]
[]
[]
[]
[]
[]
[]
[]
[]
[]
[]
[]
[]
[]
[]
[]
[]
[]
[]
[]
[]
[]
[]
[]
[]
[]
[]
[]
[]
[]
[]
[]
[]
[]
[]
[]
[]
[]
[]
[]
[]
[]
[]
[]
[]
[]
[]
[]
[]
[]
[]
[]
[]
[]
[]
[]
[]
[]
[]
[]
[]
[]
[]
[]
[]
[]
[]
[]
[]
[]
[]
[]
[]
[]
[]
[]
[]
[]
[]
[]
[]
[]
[]
[]
[]
[]
[]
[]
[]
[]
[]
[]
[]
[]
[]
[]
[]
[]
[]
[]
[]
[]
[]
[]
[]
[]
[]
[]
[]
[]
[]
[]
[]
[]
[]
[]
[]
[]
[]
[]
[]
[]
[]
[]
[]
[]
[]
[]
[]
[]
[]
[]
[]
[]
[]
[]
[]
[]
[]
[]
[]
[]
[]
[]
[]
[]
[]
[]
[]
[]
[]
[]
[]
[]
[]
[]
[]
[]
[]
[]
[]
[]
[]
[]
[]
[]
[]
[]
[]
[]
[]
[]
[]
[]
[]
[]
[]
[]
[]
[]
[]
[]
[]
[]
[]
[]
[]
[]
[]
[]
[]
[]
[]
[]
[]
[]
[]
[]
[]
[]
[]
[]
[]
[]
[]
[]
[]
[]
[]
[]
[]
[]
[]
[]
[]
[]
[]
[]
[]
[]
[]
[]
[]
[]
[]
[]
[]
[]
[]
[]
[]
[]
[]
[]
[]
[]
[]
[]
[]
[]
[]
[]
[]
[]
[]
[]
[]
[]
[]
[]
[]
[]
[]
[]
[]
[]
[]
[]
[]
[]
[]
[]
[]
[]
[]
[]
[]
[]
[]
[]
[]
[]
[]
[]
[]
[]
[]
[]
[]
[]
[]
[]
[]
[]
[]
[]
[]
[]
[]
[]
[]
[]
[]
[]
[]
[]
[]
[]
[]
[]
[]
[]
[]
[]
[]
[]
[]
[]
[]
[]
[]
[]
[]
[]
[]
[]
[]
[]
[]
[]
[]
[]
[]
[]
[]
[]
[]
[]
[]
[]
[]
[]
[]
[]
[]
[]
[]
[]
[]
[]
[]
[]
[]
[]
[]
[]
[]
[]
[]
[]
[]
[]
[]
[]
[]
[]
[]
[]
[]
[]
[]
[]
[]
[]
[]
[]
[]
[]
[]
[]
[]
[]
[]
[]
[]
[]
[]
[]
[]
[]
[]
[]
[]
[]
[]
[]
[]
[]
[]
[]
[]
[]
[]
[]
[]
[]
[]
[]
[]
[]
[]
[]
[]
[]
[]
[]
[]
[]
[]
[]
[]
[]
[]
[]
[]
[]
[]
[]
[]
[]
[]
[]
[]
[]
[]
[]
[]
[]
[]
[]
[]
[]
[]
[]
[]
[]
[]
[]
[]
[]
[]
[]
[]
[]
[]
[]
[]
[]
[]
[]
[]
[]
[]
[]
[]
[]
[]
[]
[]
[]
[]
[]
[]
[]
[]
[]
[]
[]
[]
[]
[]
[]
[]
[]
[]
[]
[]
[]
[]
[]
[]
[]
[]
[]
[]
[]
[]
[]
[]
[]
[]
[]
[]
[]
[]
[]
[]
[]
[]
[]
[]
[]
[]
[]
[]
[]
[]
[]
[]
[]
[]
[]
[]
[]
[]
[]
[]
[]
[]
[]
[]
[]
[]
[]
[]
[]
[]
[]
[]
[]
[]
[]
[]
[]
[]
[]
[]
[]
[]
[]
[]
[]
[]
[]
[]
[]
[]
[]
[]
[]
[]
[]
[]
[]
[]
[]
[]
[]
[]
[]
[]
[]
[]
[]
[]
[]
[]
[]
[]
[]
[]
[]
[]
[]
[]
[]
[]
[]
[]
[]
[]
[]
[]
[]
[]
[]
[]
[]
[]
[]
[]
[]
[]
[]
[]
[]
[]
[]
[]
[]
[]
[]
[]
[]
[]
[]
[]
[]
[]
[]
[]
[]
[]
[]
[]
[]
[]
[]
[]
[]
[]
[]
[]
[]
[]
[]
[]
[]
[]
[]
[]
[]
[]
[]
[]
[]
[]
[]
[]
[]
[]
[]
[]
[]
[]
[]
[]
[]
[]
[]
[]
[]
[]
[]
[]
[]
[]
[]
[]
[]
[]
[]
[]
[]
[]
[]
[]
[]
[]
[]
[]
[]
[]
[]
[]
[]
[]
[]
[]
[]
[]
[]
[]
[]
[]
[]
[]
[]
[]
[]
[]
[]
[]
[]
[]
[]
[]
[]
[]
[]
[]
[]
[]
[]
[]
[]
[]
[]
[]
[]
[]
[]
[]
[]
[]
[]
[]
[]
[]
[]
[]
[]
[]
[]
[]
[]
[]
[]
[]
[]
[]
[]
[]
[]
[]
[]
[]
[]
[]
[]
[]
[]
[]
[]
[]
[]
[]
[]
[]
[]
[]
[]
[]
[]
[]
[]
[]
[]
[]
[]
[]
[]
[]
[]
[]
[]
[]
[]
[]
[]
[]
[]
[]
[]
[]
[]
[]
[]
[]
[]
[]
[]
[]
[]
[]
[]
[]
[]
[]
[]
[]
[]
[]
[]
[]
[]
[]
[]
[]
[]
[]
[]
[]
[]
[]
[]
[]
[]
[]
[]
[]
[]
[]
[]
[]
[]
[]
[]
[]
[]
[]
[]
[]
[]
[]
[]
[]
[]
[]
[]
[]
[]
[]
[]
[]
[]
[]
[]
[]
[]
[]
[]
[]
[]
[]
[]
[]
[]
[]
[]
[]
[]
[]
[]
[]
[]
[]
[]
[]
[]
[]
[]
[]
[]
[]
[]
[]
[]
[]
[]
[]
[]
[]
[]
[]
[]
[]
[]
[]
[]
[]
[]
[]
[]
[]
[]
[]
[]
[]
[]
[]
[]
[]
[]
[]
[]
[]
[]
[]
[]
[]
[]
[]
[]
[]
[]
[]
[]
[]
[]
[]
[]
[]
[]
[]
[]
[]
[]
[]
[]
[]
[]
[]
[]
[]
[]
[]
[]
[]
[]
[]
[]
[]
[]
[]
[]
[]
[]
[]
[]
[]
[]
[]
[]
[]
[]
[]
[]
[]
[]
[]
[]
[]
[]
[]
[]
[]
[]
[]
[]
[]
[]
[]
[]
[]
[]
[]
[]
[]
[]
[]
[]
[]
[]
[]
[]
[]
[]
[]
[]
[]
[]
[]
[]
[]
[]
[]
[]
[]
[]
[]
[]
[]
[]
[]
[]
[]
[]
[]
[]
[]
[]
[]
[]
[]
[]
[]
[]
[]
[]
[]
[]
[]
[]
[]
[]
[]
[]
[]
[]
[]
[]
[]
[]
[]
[]
[]
[]
[]
[]
[]
[]
[]
[]
[]
[]
[]
[]
[]
[]
[]
[]
[]
[]
[]
[]
[]
[null,null,null,null,null,null,null,null,null,null,null,null,null,null,null,null,null,null,null,null,null,null,null,null,null,null,null,null,null,null,null,null,null,null,null,null,null,null,null,null,null,null,null,null,null,null,null,null,null,null,null,null,null,null,null,null,null,null,null,null,null,null,null,null,null,null,null,null,null,null,null,null,null,null,null,null,null,null,null,null,null,null,null,null,null,null,null,null,null,null,null,null,null,null,null,null,null,null,null,null,null,null,null,null,null,null,null,null,null,null,null,null,null,null,null,null,null,null,null,null,null,null,null,null,null,null,null,null,null,null,null,null,null,null,null,null,null,null,null,null,null,null,null,null,null,null,null,null,null,null,null,null,null,null,null,null,null,null,null,null,null,null,null,null,null,null,null,null,null,null,null,null,null,null,null,null,null,null,null,null,null,null,null,null,null,null,null,null,null,null,null,null,null,null,null,null,null,null,null,null,null,null,null,null,null,null,null,null,null,null,null,null,null,null,null,null,null,null,null,null,null,null,null,null,null,null,null,null,null,null,null,null,null,null,null,null,null,null,null,null,null,null,null,null,null,null,null,null,null,null,null,null,null,null,null,null,null,null,null,null,null,null,null,null,null,null,null,null,null,null,null,null,null,null,null,null,null,null,null,null,null,null,null,null,null,null,null,null,null,null,null,null,null,null,null,null,null,null,null,null,null,null,null,null,null,null,null,null,null,null,null,null,null,null,null,null,null,null,null,null,null,null,null,null,null,null,null,null,null,null,null,null,null,null,null,null,null,null,null,null,null,null,null,null,null,null,null,null,null,null,null,null,null,null,null,null,null,null,null,null,null,null,null,null,null,null,null,null,null,null,null,null,null,null,null,null,null,null,null,null,null,null,null,null,null,null,null,null,null,null,null,null,null,null,null,null,null,null,null,null,null,null,null,null,null,null,null,null,null,null,null,null,null,null,null,null,null,null,null,null,null,null,null,null,null,null,null,null,null,null,null,null,null,null,null,null,null,null,null,null,null,null,null,null,null,null,null,null,null,null,null,null,null,null,null,null,null,null,null,null,null,null,null,null,null,null,null,null,null,null,null,null,null,null,null,null,null,null,null,null,null,null,null,null,null,null,null,null,null,null,null,null,null,null,null,null,null,null,null,null,null,null,null,null,null,null,null,null,null,null,null,null,null,null,null,null,null,null,null,null,null,null,null,null,null,null,null,null,null,null,null,null,null,null,null,null,null,null,null,null,null,null,null,null,null,null,null,null,null,null,null,null,null,null,null,null,null,null,null,null,null,null,null,null,null,null,null,null,null,null,null,null,null,null,null,null,null,null,null,null,null,null,null,null,null,null,null,null,null,null,null,null,null,null,null,null,null,null,null,null,null,null,null,null,null,null,null,null,null,null,null,null,null,null,null,null,null,null,null,null,null,null,null,null,null,null,null,null,null,null,null,null,null,null,null,null,null,null,null,null,null,null,null,null,null,null,null,null,null,null,null,null,null,null,null,null,null,null,null,null,null,null,null,null,null,null,null,null,null,null,null,null,null,null,null,null,null,null,null,null,null,null,null,null,null,null,null,null,null,null,null,null,null,null,null,null,null,null,null,null,null,null,null,null,null,null,null,null,null,null,null,null,null,null,null,null,null,null,null,null,null,null,null,null,null,null,null,null,null,null,null,null,null,null,null,null,null,null,null,null,null,null,null,null,null,null,null,null,null,null,null,null,null,null,null,null,null,null,null,null,null,null,null,null,null,null,null,null,null,null,null,null,null,null,null,null,null,null,null,null,null,null,null,null,null,null,null,null,null,null,null,null,null,null,null,null,null,null,null,null,null,null,null,null,null,null,null,null,null,null,null,null,null,null,null,null,null,null,null,null,null,null,null,null,null,null,null,null,null,null,null,null,null,null,null,null,null,null,null,null,null,null,null,null,null,null,null,null,null,null,null,null,null,null,null,null,null,null,null,null,null,null,null,null,null,null,null,null,null,null,null,null,null,null,null,null,null,null,null,null,null,null,null,null,null,null,null,null,null,null,null,null,null,null,null,null,null,null,null,null,null,null,null,null,null,null,null,null,null,null,null,null,null,null,null,null,null,null,null,null,null,null,null,null,null,null,null,null,null,null,null,null,null,null,null,null,null,null,null,null,null,null,null,null,null,null,null,null,null,null,null,null,null,null,null,null,null,null,null,null,null,null,null,null,null,null,null,null,null,null,null,null,null,null,null,null,null,null,null,null,null,null,null,null,null,null,null,null,null,null,null,null,null,null,null,null,null,null,null,null,null,null,null,null,null,null,null,null,null,null,null,null,null,null,null,null,null,null,null,null,null,null,null,null,null,null,null,null,null,null,null,null,null,null,null,null,null,null,null,null,null,null,null,null,null,null,null,null,null,null,null,null,null,null,null,null,null,null,null,null,null,null,null,null,null,null,null,null,null,null,null,null,null,null,null,null,null,null,null,null,null,null,null,null,null,null,null,null,null,null,null,null,null,null,null,null,null,null,null,null,null,null,null,null,null,null,null,null,null,null,null,null,null,null,null,null,null,null,null,null,null,null,null,null,null,null,null,null,null,null,null,null,null,null,null,null,null,null,null,null,null,null,null,null,null,null,null,null,null,null,null,null,null,null,null,null,null,null,null,null,null,null,null,null,null,null,null,null,null,null,null,null,null,null,null,null,null,null,null,null,null,null,null,null,null,null,null,null,null,null,null,null,null,null,null,null,null,null,null,null,null,null,null,null,null,null,null,null,null,null,null,null,null,null,null,null,null,null,null,null,null,null,null,null,null,null,null,null,null,null,null,null,null,null,null,null,null,null,null,null,null,null,null,null,null,null,null,null,null,null,null,null,null,null,null,null,null,null,null,null,null,null,null,null,null,null,null,null,null,null,null,null,null,null,null,null,null,null,null,null,null,null,null,null,null,null,null,null,null,null,null,null,null,null,null,null,null,null,null,null,null,null,null,null,null,null,null,null,null,null,null,null,null,null,null,null,null,null,null,null,null,null,null,null,null,null,null,null,null,null,null,null,null,null,null,null,null,null,null,null,null,null,null,null,null,null,null,null,null,null,null,null,null,null,null,null,null,null,null,null,null,null,null,null,null,null,null,null,null,null,null,null,null,null,null,null,null,null,null,null,null,null,null,null,null,null,null,null,null,null,null,null,null,null,null,null,null,null,null,null,null,null,null,null,null,null,null,null,null,null,null,null,null,null,null,null,null,null,null,null,null,null,null,null,null,null,null,null,null,null,null,null,null,null,null,null,null,null,null,null,null,null,null,null,null,null,null,null,null,null,null,null,null,null,null,null,null,null,null,null,null,null,null,null,null,null,null,null,null,null,null,null,null,null,null,null,null,null,null,null,null,null,null,null,null,null,null,null,null,null,null,null,null,null,null,null,null,null,null,null,null,null,null,null,null,null,null,null,null,null,null,null,null,null,null,null,null,null,null,null,null,null,null,null,null,null,null,null,null,null,null,null,null,null,null,null,null,null,null,null,null,null,null,null,null,null,null,null,null,null,null,null,null,null,null,null,null,null,null,null,null,null,null,null,null,null,null,null,null,null,null,null,null,null,null,null,null,null,null,null,null,null,null,null,null,null,null,null,null,null,null,null,null,null,null,null,null,null,null,null,null,null,null,null,null,null,null,null,null,null,null,null,null,null,null,null,null,null,null,null,null,null,null,null,null,null,null,null,null,null,null,null,null,null,null,null,null,null,null,null,null,null,null,null,null,null,null,null,null,null,null,null,null,null,null,null,null,null,null,null,null,null,null,null,null,null,null,null,null,null,null,null,null,null,null,null,null,null,null,null,null,null,null,null,null,null,null,null,null,null,null,null,null,null,null,null,null,null,null,null,null,null,null,null,null,null,null,null,null,null,null,null,null,null,null,null,null,null,null,null,null,null,null,null,null,null,null,null,null,null,null,null,null,null,null,null,null,null,null,null,null,null,null,null,null,null,null,null,null,null,null,null,null,null,null,null,null,null,null,null,null,null,null,null,null,null,null,null,null,null,null,null,null,null,null,null,null,null,null,null,null,null,null,null,null,null,null,null,null,null,null,null,null,null,null,null,null,null,null,null,null,null,null,null,null,null,null,null,null,null,null,null,null,null,null,null,null,null,null,null,null,null,null,null,null,null,null,null,null,null,null,null,null,null,null,null,null,null,null,null,null,null,null,null,null,null,null,null,null,null,null,null,null,null,null,null,null,null,null,null,null,null,null,null,null,null,null,null,null,null,null,null,null,null,null,null,null,null,null,null,null,null,null,null,null,null,null,null,null,null,null,null,null,null,null,null,null,null,null,null,null,null,null,null,null,null,null,null,null,null,null,null,null,null,null,null,null,null,null,null,null,null,null,null,null,null,null,null,null,null,null,null,null,null,null,null,null,null,null,null,null,null,null,null,null,null,null,null,null,null,null,null,null,null,null,null,null,null,null,null,null,null,null,null,null,null,null,null,null,null,null,null,null,null,null,null,null,null,null,null,null,null,null,null,null,null,null,null,null,null,null,null,null,null,null,null,null,null,null,null,null,null,null,null,null,null,null,null,null,null,null,null,null,null,null,null,null,null,null,null,null,null,null,null,null,null,null,null,null,null,null,null,null,null,null,null,null,null,null,null,null,null,null,null,null,null,null,null,null,null,null,null,null,null,null,null,null,null,null,null,null,null,null,null,null,null,null,null,null,null,null,null,null,null,null,null,null,null,null,null,null,null,null,null,null,null,null,null,null,null,null,null,null,null,null,null,null,null,null,null,null,null,null,null,null,null,null,null,null,null,null,null,null,null,null,null,null,null,null,null,null,null,null,null,null,null,null,null,null,null,null,null,null,null,null,null,null,null,null,null,null,null,null,null,null,null,null,null,null,null,null,null,null,null,null,null,null,null,null,null,null,null,null,null,null,null,null,null,null,null,null,null,null,null,null,null,null,null,null,null,null,null,null,null,null,null,null,null,null,null,null,null,null,null,null,null,null,null,null,null,null,null,null,null,null,null,null,null,null,null,null,null,null,null,null,null,null,null,null,null,null,null,null,null,null,null,null,null,null,null,null,null,null,null,null,null,null,null,null,null,null,null,null,null,null,null,null,null,null,null,null,null,null,null,null,null,null,null,null,null,null,null,null,null,null,null,null,null,null,null,null,null,null,null,null,null,null,null,null,null,null,null,null,null,null,null,null,null,null,null,null,null,null,null,null,null,null,null,null,null,null,null,null,null,null,null,null,null,null,null,null,null,null,null,null,null,null,null,null,null,null,null,null,null,null,null,null,null,null,null,null,null,null,null,null,null,null,null,null,null,null,null,null,null,null,null,null,null,null,null,null,null,null,null,null,null,null,null,null,null,null,null,null,null,null,null,null,null,null,null,null,null,null,null,null,null,null,null,null,null,null,null,null,null,null,null,null,null,null,null,null,null,null,null,null,null,null,null,null,null,null,null,null,null,null,null,null,null,null,null,null,null,null,null,null,null,null,null,null,null,null,null,null,null,null,null,null,null,null,null,null,null,null,null,null,null,null,null,null,null,null,null,null,null,null,null,null,null,null,null,null,null,null,null,null,null,null,null,null,null,null,null,null,null,null,null,null,null,null,null,null,null,null,null,null,null,null,null,null,null,null,null,null,null,null,null,null,null,null,null,null,null,null,null,null,null,null,null,null,null,null,null,null,null,null,null,null,null,null,null,null,null,null,null,null,null,null,null,null,null,null,null,null,null,null,null,null,null,null,null,null,null,null,null,null,null,null,null,null,null,null,null,null,null,null,null,null,null,null,null,null,null,null,null,null,null,null,null,null,null,null,null,null,null,null,null,null,null,null,null,null,null,null,null,null,null,null,null,null,null,null,null,null,null,null,null,null,null,null,null,null,null,null,null,null,null,null,null,null,null,null,null,null,null,null,null,null,null,null,null,null,null,null,null,null,null,null,null,null,null,null,null,null,null,null,null,null,null,null,null,null,null,null,null,null,null,null,null,null,null,null,null,null,null,null,null,null,null,null,null,null,null,null,null,null,null,null,null,null,null,null,null,null,null,null,null,null,null,null,null,null,null,null,null,null,null,null,null,null,null,null,null,null,null,null,null,null,null,null,null,null,null,null,null,null,null,null,null,null,null,null,null,null,null,null,null,null,null,null,null,null,null,null,null,null,null,null,null,null,null,null,null,null,null,null,null,null,null,null,null,null,null,null,null,null,null,null,null,null,null,null,null,null,null,null,null,null,null,null,null,null,null,null,null,null,null,null,null,null,null,null,null,null,null,null,null,null,null,null,null,null,null,null,null,null,null,null,null,null,null,null,null,null,null,null,null,null,null,null,null,null,null,null,null,null,null,null,null,null,null,null,null,null,null,null,null,null,null,null,null,null,null,null,null,null,null,null,null,null,null,null,null,null,null,null,null,null,null,null,null,null,null,null,null,null,null,null,null,null,null,null,null,null,null,null,null,null,null,null,null,null,null,null,null,null,null,null,null,null,null,null,null,null,null,null,null,null,null,null,null,null,null,null,null,null,null,null,null,null,null,null,null,null,null,null,null,null,null,null,null,null,null,null,null,null,null,null,null,null,null,null,null,null,null,null,null,null,null,null,null,null,null,null,null,null,null,null,null,null,null,null,null,null,null,null,null,null,null,null,null,null,null,null,null,null,null,null,null,null,null,null,null,null,null,null,null,null,null,null,null,null,null,null,null,null,null,null,null,null,null,null,null,null,null,null,null,null,null,null,null,null,null,null,null,null,null,null,null,null,null,null,null,null,null,null,null,null,null,null,null,null,null,null,null,null,null,null,null,null,null,null,null,null,null,null,null,null,null,null,null,null,null,null,null,null,null,null,null,null,null,null,null,null,null,null,null,null,null,null,null,null,null,null,null,null,null,null,null,null,null,null,null,null,null,null,null,null,null,null,null,null,null,null,null,null,null,null,null,null,null,null,null,null,null,null,null,null,null,null,null,null,null,null,null,null,null,null,null,null,null,null,null,null,null,null,null,null,null,null,null,null,null,null,null,null,null,null,null,null,null,null,null,null,null,null,null,null,null,null,null,null,null,null,null,null,null,null,null,null,null,null,null,null,null,null,null,null,null,null,null,null,null,null,null,null,null,null,null,null,null,null,null,null,null,null,null,null,null,null,null,null,null,null,null,null,null,null,null,null,null,null,null,null,null,null,null,null,null,null,null,null,null,null,null,null,null,null,null,null,null,null,null,null,null,null,null,null,null,null,null,null,null,null,null,null,null,null,null,null,null,null,null,null,null,null,null,null,null,null,null,null,null,null,null,null,null,null,null,null,null,null,null,null,null,null,null,null,null,null,null,null,null,null,null,null,null,null,null,null,null,null,null,null,null,null,null,null,null,null,null,null,null,null,null,null,null,null,null,null,null,null,null,null,null,null,null,null,null,null,null,null,null,null,null,null,null,null,null,null,null,null,null,null,null,null,null,null,null,null,null,null,null,null,null,null,null,null,null,null,null,null,null,null,null,null,null,null,null,null,null,null,null,null,null,null,null,null,null,null,null,null,null,null,null,null,null,null,null,null,null,null,null,null,null,null,null,null,null,null,null,null,null,null,null,null,null,null,null,null,null,null,null,null,null,null,null,null,null,null,null,null,null,null,null,null,null,null,null,null,null,null,null,null,null,null,null,null,null,null,null,null,null,null,null,null,null,null,null,null,null,null,null,null,null,null,null,null,null,null,null,null,null,null,null,null,null,null,null,null,null,null,null,null,null,null,null,null,null,null,null,null,null,null,null,null,null,null,null,null,null,null,null,null,null,null,null,null,null,null,null,null,null,null,null,null,null,null,null,null,null,null,null,null,null,null,null,null,null,null,null,null,null,null,null,null,null,null,null,null,null,null,null,null,null,null,null,null,null,null,null,null,null,null,null,null,null,null,null,null,null,null,null,null,null,null,null,null,null,null,null,null,null,null,null,null,null,null,null,null,null,null,null,null,null,null,null,null,null,null,null,null,null,null,null,null,null,null,null,null,null,null,null,null,null,null,null,null,null,null,null,null,null,null,null,null,null,null,null,null,null,null,null,null,null,null,null,null,null,null,null,null,null,null,null,null,null,null,null,null,null,null,null,null,null,null,null,null,null,null,null,null,null,null,null,null,null,null,null,null,null,null,null,null,null,null,null,null,null,null,null,null,null,null,null,null,null,null,null,null,null,null,null,null,null,null,null,null,null,null,null,null,null,null,null,null,null,null,null,null,null,null,null,null,null,null,null,null,null,null,null,null,null,null,null,null,null,null,null,null,null,null,null,null,null,null,null,null,null,null,null,null,null,null,null,null,null,null,null,null,null,null,null,null,null,null,null,null,null,null,null,null,null,null,null,null,null,null,null,null,null,null,null,null,null,null,null,null,null,null,null,null,null,null,null,null,null,null,null,null,null,null,null,null,null,null,null,null,null,null,null,null,null,null,null,null,null,null,null,null,null,null,null,null,null,null,null,null,null,null,null,null,null,null,null,null,null,null,null,null,null,null,null,null,null,null,null,null,null,null,null,null,null,null,null,null,null,null,null,null,null,null,null,null,null,null,null,null,null,null,null,null,null,null,null,null,null,null,null,null,null,null,null,null,null,null,null,null,null,null,null,null,null,null,null,null,null,null,null,null,null,null,null,null,null,null,null,null,null,null,null,null,null,null,null,null,null,null,null,null,null,null,null,null,null,null,null,null,null,null,null,null,null,null,null,null,null,null,null,null,null,null,null,null,null,null,null,null,null,null,null,null,null,null,null,null,null,null,null,null,null,null,null,null,null,null,null,null,null,null,null,null,null,null,null,null,null,null,null,null,null,null,null,null,null,null,null,null,null,null,null,null,null,null,null,null,null,null,null,null,null,null,null,null,null,null,null,null,null,null,null,null,null,null,null,null,null,null,null,null,null,null,null,null,null,null,null,null,null,null,null,null,null,null,null,null,null,null,null,null,null,null,null,null,null,null,null,null,null,null,null,null,null,null,null,null,null,null,null,null,null,null,null,null,null,null,null,null,null,null,null,null,null,null,null,null,null,null,null,null,null,null,null,null,null,null,null,null,null,null,null,null,null,null,null,null,null,null,null,null,null,null,null,null,null,null,null,null,null,null,null,null,null,null,null,null,null,null,null,null,null,null,null,null,null,null,null,null,null,null,null,null,null,null,null,null,null,null,null,null,null,null,null,null,null,null,null,null,null,null,null,null,null,null,null,null,null,null,null,null,null,null,null,null,null,null,null,null,null,null,null,null,null,null,null,null,null,null,null,null,null,null,null,null,null,null,null,null,null,null,null,null,null,null,null,null,null,null,null,null,null,null,null,null,null,null,null,null,null,null,null,null,null,null,null,null,null,null,null,null,null,null,null,null,null,null,null,null,null,null,null,null,null,null,null,null,null,null,null,null,null,null,null,null,null,null,null,null,null,null,null,null,null,null,null,null,null,null,null,null,null,null,null,null,null,null,null,null,null,null,null,null,null,null,null,null,null,null,null,null,null,null,null,null,null,null,null,null,null,null,null,null,null,null,null,null,null,null,null,null,null,null,null,null,null,null,null,null,null,null,null,null,null,null,null,null,null,null,null,null,null,null,null,null,null,null,null,null,null,null,null,null,null,null,null,null,null,null,null,null,null,null,null,null,null,null,null,null,null,null,null,null,null,null,null,null,null,null,null,null,null,null,null,null,null,null,null,null,null,null,null,null,null,null,null,null,null,null,null,null,null,null,null,null,null,null,null,null,null,null,null,null,null,null,null,null,null,null,null,null,null,null,null,null,null,null,null,null,null,null,null,null,null,null,null,null,null,null,null,null,null,null,null,null,null,null,null,null,null,null,null,null,null,null,null,null,null,null,null,null,null,null,null,null,null,null,null,null,null,null,null,null,null,null,null,null,null,null,null,null,null,null,null,null,null,null,null,null,null,null,null,null,null,null,null,null,null,null,null,null,null,null,null,null,null,null,null,null,null,null,null,null,null,null,null,null,null,null,null,null,null,null,null,null,null,null,null,null,null,null,null,null,null,null,null,null,null,null,null,null,null,null,null,null,null,null,null,null,null,null,null,null,null,null,null,null,null,null,null,null,null,null,null,null,null,null,null,null,null,null,null,null,null,null,null,null,null,null,null,null,null,null,null,null,null,null,null,null,null,null,null,null,null,null,null,null,null,null,null,null,null,null,null,null,null,null,null,null,null,null,null,null,null,null,null,null,null,null,null,null,null,null,null,null,null,null,null,null,null,null,null,null,null,null,null,null,null,null,null,null,null,null,null,null,null,null,null,null,null,null,null,null,null,null,null,null,null,null,null,null,null,null,null,null,null,null,null,null,null,null,null,null,null,null,null,null,null,null,null,null,null,null,null,null,null,null,null,null,null,null,null,null,null,null,null,null,null,null,null,null,null,null,null,null,null,null,null,null,null,null,null,null,null,null,null,null,null,null,null,null,null,null,null,null,null,null,null,null,null,null,null,null,null,null,null,null,null,null,null,null,null,null,null,null,null,null,null,null,null,null,null,null,null,null,null,null,null,null,null,null,null,null,null,null,null,null,null,null,null,null,null,null,null,null,null,null,null,null,null,null,null,null,null,null,null,null,null,null,null,null,null,null,null,null,null,null,null,null,null,null,null,null,null,null,null,null,null,null,null,null,null,null,null,null,null,null,null,null,null,null,null,null,null,null,null,null,null,null,null,null,null,null,null,null,null,null,null,null,null,null,null,null,null,null,null,null,null,null,null,null,null,null,null,null,null,null,null,null,null,null,null,null,null,null,null,null,null,null,null,null,null,null,null,null,null,null,null,null,null,null,null,null,null,null,null,null,null,null,null,null,null,null,null,null,null,null,null,null,null,null,null,null,null,null,null,null,null,null,null,null,null,null,null,null,null,null,null,null,null,null,null,null,null,null,null,null,null,null,null,null,null,null,null,null,null,null,null,null,null,null,null,null,null,null,null,null,null,null,null,null,null,null,null,null,null,null,null,null,null,null,null,null,null,null,null,null,null,null,null,null,null,null,null,null,null,null,null,null,null,null,null,null,null,null,null,null,null,null,null,null,null,null,null,null,null,null,null,null,null,null,null,null,null,null,null,null,null,null,null,null,null,null,null,null,null,null,null,null,null,null,null,null,null,null,null,null,null,null,null,null,null,null,null,null,null,null,null,null,null,null,null,null,null,null,null,null,null,null,null,null,null,null,null,null,null,null,null,null,null,null,null,null,null,null,null,null,null,null,null,null,null,null,null,null,null,null,null,null,null,null,null,null,null,null,null,null,null,null,null,null,null,null,null,null,null,null,null,null,null,null,null,null,null,null,null,null,null,null,null,null,null,null,null,null,null,null,null,null,null,null,null,null,null,null,null,null,null,null,null,null,null,null,null,null,null,null,null,null,null,null,null,null,null,null,null,null,null,null,null,null,null,null,null,null,null,null,null,null,null,null,null,null,null,null,null,null,null,null,null,null,null,null,null,null,null,null,null,null,null,null,null,null,null,null,null,null,null,null,null,null,null,null,null,null,null,null,null,null,null,null,null,null,null,null,null,null,null,null,null,null,null,null,null,null,null,null,null,null,null,null,null,null,null,null,null,null,null,null,null,null,null,null,null,null,null,null,null,null,null,null,null,null,null,null,null,null,null,null,null,null,null,null,null,null,null,null,null,null,null,null,null,null,null,null,null,null,null,null,null,null,null,null,null,null,null,null,null,null,null,null,null,null,null,null,null,null,null,null,null,null,null,null,null,null,null,null,null,null,null,null,null,null,null,null,null,null,null,null,null,null,null,null,null,null,null,null,null,null,null,null,null,null,null,null,null,null,null,null,null,null,null,null,null,null,null,null,null,null,null,null,null,null,null,null,null,null,null,null,null,null,null,null,null,null,null,null,null,null,null,null,null,null,null,null,null,null,null,null,null,null,null,null,null,null,null,null,null,null,null,null,null,null,null,null,null,null,null,null,null,null,null,null,null,null,null,null,null,null,null,null,null,null,null,null,null,null,null,null,null,null,null,null,null,null,null,null,null,null,null,null,null,null,null,null,null,null,null,null,null,null,null,null,null,null,null,null,null,null,null,null,null,null,null,null,null,null,null,null,null,null,null,null,null,null,null,null,null,null,null,null,null,null,null,null,null,null,null,null,null,null,null,null,null,null,null,null,null,null,null,null,null,null,null,null,null,null,null,null,null,null,null,null,null,null,null,null,null,null,null,null,null,null,null,null,null,null,null,null,null,null,null,null,null,null,null,null,null,null,null,null,null,null,null,null,null,null,null,null,null,null,null,null,null,null,null,null,null,null,null,null,null,null,null,null,null,null,null,null,null,null,null,null,null,null,null,null,null,null,null,null,null,null,null,null,null,null,null,null,null,null,null,null,null,null,null,null,null,null,null,null,null,null,null,null,null,null,null,null,null,null,null,null,null,null,null,null,null,null,null,null,null,null,null,null,null,null,null,null,null,null,null,null,null,null,null,null,null,null,null,null,null,null,null,null,null,null,null,null,null,null,null,null,null,null,null,null,null,null,null,null,null,null,null,null,null,null,null,null,null,null,null,null,null,null,null,null,null,null,null,null,null,null,null,null,null,null,null,null,null,null,null,null,null,null,null,null,null,null,null,null,null,null,null,null,null,null,null,null,null,null,null,null,null,null,null,null,null,null,null,null,null,null,null,null,null,null,null,null,null,null,null,null,null,null,null,null,null,null,null,null,null,null,null,null,null,null,null,null,null,null,null,null,null,null,null,null,null,null,null,null,null,null,null,null,null,null,null,null,null,null,null,null,null,null,null,null,null,null,null,null,null,null,null,null,null,null,null,null,null,null,null,null,null,null,null,null,null,null,null,null,null,null,null,null,null,null,null,null,null,null,null,null,null,null,null,null,null,null,null,null,null,null,null,null,null,null,null,null,null,null,null,null,null,null,null,null,null,null,null,null,null,null,null,null,null,null,null,null,null,null,null,null,null,null,null,null,null,null,null,null,null,null,null,null,null,null,null,null,null,null,null,null,null,null,null,null,null,null,null,null,null,null,null,null,null,null,null,null,null,null,null,null,null,null,null,null,null,null,null,null,null,null,null,null,null,null,null,null,null,null,null,null,null,null,null,null,null,null,null,null,null,null,null,null,null,null,null,null,null,null,null,null,null,null,null,null,null,null,null,null,null,null,null,null,null,null,null,null,null,null,null,null,null,null,null,null,null,null,null,null,null,null,null,null,null,null,null,null,null,null,null,null,null,null,null,null,null,null,null,null,null,null,null,null,null,null,null,null,null,null,null,null,null,null,null,null,null,null,null,null,null,null,null,null,null,null,null,null,null,null,null,null,null,null,null,null,null,null,null,null,null,null,null,null,null,null,null,null,null,null,null,null,null,null,null,null,null,null,null,null,null,null,null,null,null,null,null,null,null,null,null,null,null,null,null,null,null,null,null,null,null,null,null,null,null,null,null,null,null,null,null,null,null,null,null,null,null,null,null,null,null,null,null,null,null,null,null,null,null,null,null,null,null,null,null,null,null,null,null,null,null,null,null,null,null,null,null,null,null,null,null,null,null,null,null,null,null,null,null,null,null,null,null,null,null,null,null,null,null,null,null,null,null,null,null,null,null,null,null,null,null,null,null,null,null,null,null,null,null,null,null,null,null,null,null,null,null,null,null,null,null,null,null,null,null,null,null,null,null,null,null,null,null,null,null,null,null,null,null,null,null,null,null,null,null,null,null,null,null,null,null,null,null,null,null,null,null,null,null,null,null,null,null,null,null,null,null,null,null,null,null,null,null,null,null,null,null,null,null,null,null,null,null,null,null,null,null,null,null,null,null,null,null,null,null,null,null,null,null,null,null,null,null,null,null,null,null,null,null,null,null,null,null,null,null,null,null,null,null,null,null,null,null,null,null,null,null,null,null,null,null,null,null,null,null,null,null,null,null,null,null,null,null,null,null,null,null,null,null,null,null,null,null,null,null,null,null,null,null,null,null,null,null,null,null,null,null,null,null,null,null,null,null,null,null,null,null,null,null,null,null,null,null,null,null,null,null,null,null,null,null,null,null,null,null,null,null,null,null,null,null,null,null,null,null,null,null,null,null,null,null,null,null,null,null,null,null,null,null,null,null,null,null,null,null,null,null,null,null,null,null,null,null,null,null,null,null,null,null,null,null,null,null,null,null,null,null,null,null,null,null,null,null,null,null,null,null,null,null,null,null,null,null,null,null,null,null,null,null,null,null,null,null,null,null,null,null,null,null,null,null,null,null,null,null,null,null,null,null,null,null,null,null,null,null,null,null,null,null,null,null,null,null,null,null,null,null,null,null,null,null,null,null,null,null,null,null,null,null,null,null,null,null,null,null,null,null,null,null,null,null,null,null,null,null,null,null,null,null,null,null,null,null,null,null,null,null,null,null,null,null,null,null,null,null,null,null,null,null,null,null,null,null,null,null,null,null,null,null,null,null,null,null,null,null,null,null,null,null,null,null,null,null,null,null,null,null,null,null,null,null,null,null,null,null,null,null,null,null,null,null,null,null,null,null,null,null,null,null,null,null,null,null,null,null,null,null,null,null,null,null,null,null,null,null,null,null,null,null,null,null,null,null,null,null,null,null,null,null,null,null,null,null,null,null,null,null,null,null,null,null,null,null,null,null,null,null,null,null,null,null,null,null,null,null,null,null,null,null,null,null,null,null,null,null,null,null,null,null,null,null,null,null,null,null,null,null,null,null,null,null,null,null,null,null,null,null,null,null,null,null,null,null,null,null,null,null,null,null,null,null,null,null,null,null,null,null,null,null,null,null,null,null,null,null,null,null,null,null,null,null,null,null,null,null,null,null,null,null,null,null,null,null,null,null,null,null,null,null,null,null,null,null,null,null,null,null,null,null,null,null,null,null,null,null,null,null,null,null,null,null,null,null,null,null,null,null,null,null,null,null,null,null,null,null,null,null,null,null,null,null,null,null,null,null,null,null,null,null,null,null,null,null,null,null,null,null,null,null,null,null,null,null,null,null,null,null,null,null,null,null,null,null,null,null,null,null,null,null,null,null,null,null,null,null,null,null,null,null,null,null,null,null,null,null,null,null,null,null,null,null,null,null,null,null,null,null,null,null,null,null,null,null,null,null,null,null,null,null,null,null,null,null,null,null,null,null,null,null,null,null,null,null,null,null,null,null,null,null,null,null,null,null,null,null,null,null,null,null,null,null,null,null,null,null,null,null,null,null,null,null,null,null,null,null,null,null,null,null,null,null,null,null,null,null,null,null,null,null,null,null,null,null,null,null,null,null,null,null,null,null,null,null,null,null,null,null,null,null,null,null,null,null,null,null,null,null,null,null,null,null,null,null,null,null,null,null,null,null,null,null,null,null,null,null,null,null,null,null,null,null,null,null,null,null,null,null,null,null,null,null,null,null,null,null,null,null,null,null,null,null,null,null,null,null,null,null,null,null,null,null,null,null,null,null,null,null,null,null,null,null,null,null,null,null,null,null,null,null,null,null,null,null,null,null,null,null,null,null,null,null,null,null,null,null,null,null,null,null,null,null,null,null,null,null,null,null,null,null,null,null,null,null,null,null,null,null,null,null,null,null,null,null,null,null,null,null,null,null,null,null,null,null,null,null,null,null,null,null,null,null,null,null,null,null,null,null,null,null,null,null,null,null,null,null,null,null,null,null,null,null,null,null,null,null,null,null,null,null,null,null,null,null,null,null,null,null,null,null,null,null,null,null,null,null,null,null,null,null,null,null,null,null,null,null,null,null,null,null,null,null,null,null,null,null,null,null,null,null,null,null,null,null,null,null,null,null,null,null,null,null,null,null,null,null,null,null,null,null,null,null,null,null,null,null,null,null,null,null,null,null,null,null,null,null,null,null,null,null,null,null,null,null,null,null,null,null,null,null,null,null,null,null,null,null,null,null,null,null,null,null,null,null,null,null,null,null,null,null,null,null,null,null,null,null,null,null,null,null,null,null,null,null,null,null,null,null,null,null,null,null,null,null,null,null,null,null,null,null,null,null,null,null,null,null,null,null,null,null,null,null,null,null,null,null,null,null,null,null,null,null,null,null,null,null,null,null,null,null,null,null,null,null,null,null,null,null,null,null,null,null,null,null,null,null,null,null,null,null,null,null,null,null,null,null,null,null,null,null,null,null,null,null,null,null,null,null,null,null,null,null,null,null,null,null,null,null,null,null,null,null,null,null,null,null,null,null,null,null,null,null,null,null,null,null,null,null,null,null,null,null,null,null,null,null,null,null,null,null,null,null,null,null,null,null,null,null,null,null,null,null,null,null,null,null,null,null,null,null,null,null,null,null,null,null,null,null,null,null,null,null,null,null,null,null,null,null,null,null,null,null,null,null,null,null,null,null,null,null,null,null,null,null,null,null,null,null,null,null,null,null,null,null,null,null,null,null,null,null,null,null,null,null,null,null,null,null,null,null,null,null,null,null,null,null,null,null,null,null,null,null,null,null,null,null,null,null,null,null,null,null,null,null,null,null,null,null,null,null,null,null,null,null,null,null,null,null,null,null,null,null,null,null,null,null,null,null,null,null,null,null,null,null,null,null,null,null,null,null,null,null,null,null,null,null,null,null,null,null,null,null,null,null,null,null,null,null,null,null,null,null,null,null,null,null,null,null,null,null,null,null,null,null,null,null,null,null,null,null,null,null,null,null,null,null,null,null,null,null,null,null,null,null,null,null,null,null,null,null,null,null,null,null,null,null,null,null,null,null,null,null,null,null,null,null,null,null,null,null,null,null,null,null,null,null,null,null,null,null,null,null,null,null,null,null,null,null,null,null,null,null,null,null,null,null,null,null,null,null,null,null,null,null,null,null,null,null,null,null,null,null,null,null,null,null,null,null,null,null,null,null,null,null,null,null,null,null,null,null,null,null,null,null,null,null,null,null,null,null,null,null,null,null,null,null,null,null,null,null,null,null,null,null,null,null,null,null,null,null,null,null,null,null,null,null,null,null,null,null,null,null,null,null,null,null,null,null,null,null,null,null,null,null,null,null,null,null,null,null,null,null,null,null,null,null,null,null,null,null,null,null,null,null,null,null,null,null,null,null,null,null,null,null,null,null,null,null,null,null,null,null,null,null,null,null,null,null,null,null,null,null,null,null,null,null,null,null,null,null,null,null,null,null,null,null,null,null,null,null,null,null,null,null,null,null,null,null,null,null,null,null,null,null,null,null,null,null,null,null,null,null,null,null,null,null,null,null,null,null,null,null,null,null,null,null,null,null,null,null,null,null,null,null,null,null,null,null,null,null,null,null,null,null,null,null,null,null,null,null,null,null,null,null,null,null,null,null,null,null,null,null,null,null,null,null,null,null,null,null,null,null,null,null,null,null,null,null,null,null,null,null,null,null,null,null,null,null,null,null,null,null,null,null,null,null,null,null,null,null,null,null,null,null,null,null,null,null,null,null,null,null,null,null,null,null,null,null,null,null,null,null,null,null,null,null,null,null,null,null,null,null,null,null,null,null,null,null,null,null,null,null,null,null,null,null,null,null,null,null,null,null,null,null,null,null,null,null,null,null,null,null,null,null,null,null,null,null,null,null,null,null,null,null,null,null,null,null,null,null,null,null,null,null,null,null,null,null,null,null,null,null,null,null,null,null,null,null,null,null,null,null,null,null,null,null,null,null,null,null,null,null,null,null,null,null,null,null,null,null,null,null,null,null,null,null,null,null,null,null,null,null,null,null,null,null,null,null,null,null,null,null,null,null,null,null,null,null,null,null,null,null,null,null,null,null,null,null,null,null,null,null,null,null,null,null,null,null,null,null,null,null,null,null,null,null,null,null,null,null,null,null,null,null,null,null,null,null,null,null,null,null,null,null,null,null,null,null,null,null,null,null,null,null,null,null,null,null,null,null,null,null,null,null,null,null,null,null,null,null,null,null,null,null,null,null,null,null,null,null,null,null,null,null,null,null,null,null,null,null,null,null,null,null,null,null,null,null,null,null,null,null,null,null,null,null,null,null,null,null,null,null,null,null,null,null,null,null,null,null,null,null,null,null,null,null,null,null,null,null,null,null,null,null,null,null,null,null,null,null,null,null,null,null,null,null,null,null,null,null,null,null,null,null,null,null,null,null,null,null,null,null,null,null,null,null,null,null,null,null,null,null,null,null,null,null,null,null,null,null,null,null,null,null,null,null,null,null,null,null,null,null,null,null,null,null,null,null,null,null,null,null,null,null,null,null,null,null,null,null,null,null,null,null,null,null,null,null,null,null,null,null,null,null,null,null,null,null,null,null,null,null,null,null,null,null,null,null,null,null,null,null,null,null,null,null,null,null,null,null,null,null,null,null,null,null,null,null,null,null,null,null,null,null,null,null,null,null,null,null,null,null,null,null,null,null,null,null,null,null,null,null,null,null,null,null,null,null,null,null,null,null,null,null,null,null,null,null,null,null,null,null,null,null,null,null,null,null,null,null,null,null,null,null,null,null,null,null,null,null,null,null,null,null,null,null,null,null,null,null,null,null,null,null,null,null,null,null,null,null,null,null,null,null,null,null,null,null,null,null,null,null,null,null,null,null,null,null,null,null,null,null,null,null,null,null,null,null,null,null,null,null,null,null,null,null,null,null,null,null,null,null,null,null,null,null,null,null,null,null,null,null,null,null,null,null,null,null,null,null,null,null,null,null,null,null,null,null,null,null,null,null,null,null,null,null,null,null,null,null,null,null,null,null,null,null,null,null,null,null,null,null,null,null,null,null,null,null,null,null,null,null,null,null,null,null,null,null,null,null,null,null,null,null,null,null,null,null,null,null,null,null,null,null,null,null,null,null,null,null,null,null,null,null,null,null,null,null,null,null,null,null,null,null,null,null,null,null,null,null,null,null,null,null,null,null,null,null,null,null,null,null,null,null,null,null,null,null,null,null,null,null,null,null,null,null,null,null,null,null,null,null,null,null,null,null,null,null,null,null,null,null,null,null,null,null,null,null,null,null,null,null,null,null,null,null,null,null,null,null,null,null,null,null,null,null,null,null,null,null,null,null,null,null,null,null,null,null,null,null,null,null,null,null,null,null,null,null,null,null,null,null,null,null,null,null,null,null,null,null,null,null,null,null,null,null,null,null,null,null,null,null,null,null,null,null,null,null,null,null,null,null,null,null,null,null,null,null,null,null,null,null,null,null,null,null,null,null,null,null,null,null,null,null,null,null,null,null,null,null,null,null,null,null,null,null,null,null,null,null,null,null,null,null,null,null,null,null,null,null,null,null,null,null,null,null,null,null,null,null,null,null,null,null,null,null,null,null,null,null,null,null,null,null,null,null,null,null,null,null,null,null,null,null,null,null,null,null,null,null,null,null,null,null,null,null,null,null,null,null,null,null,null,null,null,null,null,null,null,null,null,null,null,null,null,null,null,null,null,null,null,null,null,null,null,null,null,null,null,null,null,null,null,null,null,null,null,null,null,null,null,null,null,null,null,null,null,null,null,null,null,null,null,null,null,null,null,null,null,null,null,null,null,null,null,null,null,null,null,null,null,null,null,null,null,null,null,null,null,null,null,null,null,null,null,null,null,null,null,null,null,null,null,null,null,null,null,null,null,null,null,null,null,null,null,null,null,null,null,null,null,null,null,null,null,null,null,null,null,null,null,null,null,null,null,null,null,null,null,null,null,null,null,null,null,null,null,null,null,null,null,null,null,null,null,null,null,null,null,null,null,null,null,null,null,null,null,null,null,null,null,null,null,null,null,null,null,null,null,null,null,null,null,null,null,null,null,null,null,null,null,null,null,null,null,null,null,null,null,null,null,null,null,null,null,null,null,null,null,null,null,null,null,null,null,null,null,null,null,null,null,null,null,null,null,null,null,null,null,null,null,null,null,null,null,null,null,null,null,null,null,null,null,null,null,null,null,null,null,null,null,null,null,null,null,null,null,null,null,null,null,null,null,null,null,null,null,null,null,null,null,null,null,null,null,null,null,null,null,null,null,null,null,null,null,null,null,null,null,null,null,null,null,null,null,null,null,null,null,null,null,null,null,null,null,null,null,null,null,null,null,null,null,null,null,null,null,null,null,null,null,null,null,null,null,null,null,null,null,null,null,null,null,null,null,null,null,null,null,null,null,null,null,null,null,null,null,null,null,null,null,null,null,null,null,null,null,null,null,null,null,null,null,null,null,null,null,null,null,null,null,null,null,null,null,null,null,null,null,null,null,null,null,null,null,null,null,null,null,null,null,null,null,null,null,null,null,null,null,null,null,null,null,null,null,null,null,null,null,null,null,null,null,null,null,null,null,null,null,null,null,null,null,null,null,null,null,null,null,null,null,null,null,null,null,null,null,null,null,null,null,null,null,null,null,null,null,null,null,null,null,null,null,null,null,null,null,null,null,null,null,null,null,null,null,null,null,null,null,null,null,null,null,null,null,null,null,null,null,null,null,null,null,null,null,null,null,null,null,null,null,null,null,null,null,null,null,null,null,null,null,null,null,null,null,null,null,null,null,null,null,null,null,null,null,null,null,null,null,null,null,null,null,null,null,null,null,null,null,null,null,null,null,null,null,null,null,null,null,null,null,null,null,null,null,null,null,null,null,null,null,null,null,null,null,null,null,null,null,null,null,null,null,null,null,null,null,null,null,null,null,null,null,null,null,null,null,null,null,null,null,null,null,null,null,null,null,null,null,null,null,null,null,null,null,null,null,null,null,null,null,null,null,null,null,null,null,null,null,null,null,null,null,null,null,null,null,null,null,null,null,null,null,null,null,null,null,null,null,null,null,null,null,null,null,null,null,null,null,null,null,null,null,null,null,null,null,null,null,null,null,null,null,null,null,null,null,null,null,null,null,null,null,null,null,null,null,null,null,null,null,null,null,null,null,null,null,null,null,null,null,null,null,null,null,null,null,null,null,null,null,null,null,null,null,null,null,null,null,null,null,null,null,null,null,null,null,null,null,null,null,null,null,null,null,null,null,null,null,null,null,null,null,null,null,null,null,null,null,null,null,null,null,null,null,null,null,null,null,null,null,null,null,null,null,null,null,null,null,null,null,null,null,null,null,null,null,null,null,null,null,null,null,null,null,null,null,null,null,null,null,null,null,null,null,null,null,null,null,null,null,null,null,null,null,null,null,null,null,null,null,null,null,null,null,null,null,null,null,null,null,null,null,null,null,null,null,null,null,null,null,null,null,null,null,null,null,null,null,null,null,null,null,null,null,null,null,null,null,null,null,null,null,null,null,null,null,null,null,null,null,null,null,null,null,null,null,null,null,null,null,null,null,null,null,null,null,null,null,null,null,null,null,null,null,null,null,null,null,null,null,null,null,null,null,null,null,null,null,null,null,null,null,null,null,null,null,null,null,null,null,null,null,null,null,null,null,null,null,null,null,null,null,null,null,null,null,null,null,null,null,null,null,null,null,null,null,null,null,null,null,null,null,null,null,null,null,null,null,null,null,null,null,null,null,null,null,null,null,null,null,null,null,null,null,null,null,null,null,null,null,null,null,null,null,null,null,null,null,null,null,null,null,null,null,null,null,null,null,null,null,null,null,null,null,null,null,null,null,null,null,null,null,null,null,null,null,null,null,null,null,null,null,null,null,null,null,null,null,null,null,null,null,null,null,null,null,null,null,null,null,null,null,null,null,null,null,null,null,null,null,null,null,null,null,null,null,null,null,null,null,null,null,null,null,null,null,null,null,null,null,null,null,null,null,null,null,null,null,null,null,null,null,null,null,null,null,null,null,null,null,null,null,null,null,null,null,null,null,null,null,null,null,null,null,null,null,null,null,null,null,null,null,null,null,null,null,null,null,null,null,null,null,null,null,null,null,null,null,null,null,null,null,null,null,null,null,null,null,null,null,null,null,null,null,null,null,null,null,null,null,null,null,null,null,null,null,null,null,null,null,null,null,null,null,null,null,null,null,null,null,null,null,null,null,null,null,null,null,null,null,null,null,null,null,null,null,null,null,null,null,null,null,null,null,null,null,null,null,null,null,null,null,null,null,null,null,null,null,null,null,null,null,null,null,null,null,null,null,null,null,null,null,null,null,null,null,null,null,null,null,null,null,null,null,null,null,null,null,null,null,null,null,null,null,null,null,null,null,null,null,null,null,null,null,null,null,null,null,null,null,null,null,null,null,null,null,null,null,null,null,null,null,null,null,null,null,null,null,null,null,null,null,null,null,null,null,null,null,null,null,null,null,null,null,null,null,null,null,null,null,null,null,null,null,null,null,null,null,null,null,null,null,null,null,null,null,null,null,null,null,null,null,null,null,null,null,null,null,null,null,null,null,null,null,null,null,null,null,null,null,null,null,null,null,null,null,null,null,null,null,null,null,null,null,null,null,null,null,null,null,null,null,null,null,null,null,null,null,null,null,null,null,null,null,null,null,null,null,null,null,null,null,null,null,null,null,null,null,null,null,null,null,null,null,null,null,null,null,null,null,null,null,null,null,null,null,null,null,null,null,null,null,null,null,null,null,null,null,null,null,null,null,null,null,null,null,null,null,null,null,null,null,null,null,null,null,null,null,null,null,null,null,null,null,null,null,null,null,null,null,null,null,null,null,null,null,null,null,null,null,null,null,null,null,null,null,null,null,null,null,null,null,null,null,null,null,null,null,null,null,null,null,null,null,null,null,null,null,null,null,null,null,null,null,null,null,null,null,null,null,null,null,null,null,null,null,null,null,null,null,null,null,null,null,null,null,null,null,null,null,null,null,null,null,null,null,null,null,null,null,null,null,null,null,null,null,null,null,null,null,null,null,null,null,null,null,null,null,null,null,null,null,null,null,null,null,null,null,null,null,null,null,null,null,null,null,null,null,null,null,null,null,null,null,null,null,null,null,null,null,null,null,null,null,null,null,null,null,null,null,null,null,null,null,null,null,null,null,null,null,null,null,null,null,null,null,null,null,null,null,null,null,null,null,null,null,null,null,null,null,null,null,null,null,null,null,null,null,null,null,null,null,null,null,null,null,null,null,null,null,null,null,null,null,null,null,null,null,null,null,null,null,null,null,null,null,null,null,null,null,null,null,null,null,null,null,null,null,null,null,null,null,null,null,null,null,null,null,null,null,null,null,null,null,null,null,null,null,null,null,null,null,null,null,null,null,null,null,null,null,null,null,null,null,null,null,null,null,null,null,null,null,null,null,null,null,null,null,null,null,null,null,null,null,null,null,null,null,null,null,null,null,null,null,null,null,null,null,null,null,null,null,null,null,null,null,null,null,null,null,null,null,null,null,null,null,null,null,null,null,null,null,null,null,null,null,null,null,null,null,null,null,null,null,null,null,null,null,null,null,null,null,null,null,null,null,null,null,null,null,null,null,null,null,null,null,null,null,null,null,null,null,null,null,null,null,null,null,null,null,null,null,null,null,null,null,null,null,null,null,null,null,null,null,null,null,null,null,null,null,null,null,null,null,null,null,null,null,null,null,null,null,null,null,null,null,null,null,null,null,null,null,null,null,null,null,null,null,null,null,null,null,null,null,null,null,null,null,null,null,null,null,null,null,null,null,null,null,null,null,null,null,null,null,null,null,null,null,null,null,null,null,null,null,null,null,null,null,null,null,null,null,null,null,null,null,null,null,null,null,null,null,null,null,null,null,null,null,null,null,null,null,null,null,null,null,null,null,null,null,null,null,null,null,null,null,null,null,null,null,null,null,null,null,null,null,null,null,null,null,null,null,null,null,null,null,null,null,null,null,null,null,null,null,null,null,null,null,null,null,null,null,null,null,null,null,null,null,null,null,null,null,null,null,null,null,null,null,null,null,null,null,null,null,null,null,null,null,null,null,null,null,null,null,null,null,null,null,null,null,null,null,null,null,null,null,null,null,null,null,null,null,null,null,null,null,null,null,null,null,null,null,null,null,null,null,null,null,null,null,null,null,null,null,null,null,null,null,null,null,null,null,null,null,null,null,null,null,null,null,null,null,null,null,null,null,null,null,null,null,null,null,null,null,null,null,null,null,null,null,null,null,null,null,null,null,null,null,null,null,null,null,null,null,null,null,null,null,null,null,null,null,null,null,null,null,null,null,null,null,null,null,null,null,null,null,null,null,null,null,null,null,null,null,null,null,null,null,null,null,null,null,null,null,null,null,null,null,null,null,null,null,null,null,null,null,null,null,null,null,null,null,null,null,null,null,null,null,null,null,null,null,null,null,null,null,null,null,null,null,null,null,null,null,null,null,null,null,null,null,null,null,null,null,null,null,null,null,null,null,null,null,null,null,null,null,null,null,null,null,null,null,null,null,null,null,null,null,null,null,null,null,null,null,null,null,null,null,null,null,null,null,null,null,null,null,null,null,null,null,null,null,null,null,null,null,null,null,null,null,null,null,null,null,null,null,null,null,null,null,null,null,null,null,null,null,null,null,null,null,null,null,null,null,null,null,null,null,null,null,null,null,null,null,null,null,null,null,null,null,null,null,null,null,null,null,null,null,null,null,null,null,null,null,null,null,null,null,null,null,null,null,null,null,null,null,null,null,null,null,null,null,null,null,null,null,null,null,null,null,null,null,null,null,null,null,null,null,null,null,null,null,null,null,null,null,null,null,null,null,null,null,null,null,null,null,null,null,null,null,null,null,null,null,null,null,null,null,null,null,null,null,null,null,null,null,null,null,null,null,null,null,null,null,null,null,null,null,null,null,null,null,null,null,null,null,null,null,null,null,null,null,null,null,null,null,null,null,null,null,null,null,null,null,null,null,null,null,null,null,null,null,null,null,null,null,null,null,null,null,null,null,null,null,null,null,null,null,null,null,null,null,null,null,null,null,null,null,null,null,null,null,null,null,null,null,null,null,null,null,null,null,null,null,null,null,null,null,null,null,null,null,null,null,null,null,null,null,null,null,null,null,null,null,null,null,null,null,null,null,null,null,null,null,null,null,null,null,null,null,null,null,null,null,null,null,null,null,null,null,null,null,null,null,null,null,null,null,null,null,null,null,null,null,null,null,null,null,null,null,null,null,null,null,null,null,null,null,null,null,null,null,null,null,null,null,null,null,null,null,null,null,null,null,null,null,null,null,null,null,null,null,null,null,null,null,null,null,null,null,null,null,null,null,null,null,null,null,null,null,null,null,null,null,null,null,null,null,null,null,null,null,null,null,null,null,null,null,null,null,null,null,null,null,null,null,null,null,null,null,null,null,null,null,null,null,null,null,null,null,null,null,null,null,null,null,null,null,null,null,null,null,null,null,null,null,null,null,null,null,null,null,null,null,null,null,null,null,null,null,null,null,null,null,null,null,null,null,null,null,null,null,null,null,null,null,null,null,null,null,null,null,null,null,null,null,null,null,null,null,null,null,null,null,null,null,null,null,null,null,null,null,null,null,null,null,null,null,null,null,null,null,null,null,null,null,null,null,null,null,null,null,null,null,null,null,null,null,null,null,null,null,null,null,null,null,null,null,null,null,null,null,null,null,null,null,null,null,null,null,null,null,null,null,null,null,null,null,null,null,null,null,null,null,null,null,null,null,null,null,null,null,null,null,null,null,null,null,null,null,null,null,null,null,null,null,null,null,null,null,null,null,null,null,null,null,null,null,null,null,null,null,null,null,null,null,null,null,null,null,null,null,null,null,null,null,null,null,null,null,null,null,null,null,null,null,null,null,null,null,null,null,null,null,null,null,null,null,null,null,null,null,null,null,null,null,null,null,null,null,null,null,null,null,null,null,null,null,null,null,null,null,null,null,null,null,null,null,null,null,null,null,null,null,null,null,null,null,null,null,null,null,null,null,null,null,null,null,null,null,null,null,null,null,null,null,null,null,null,null,null,null,null,null,null,null,null,null,null,null,null,null,null,null,null,null,null,null,null,null,null,null,null,null,null,null,null,null,null,null,null,null,null,null,null,null,null,null,null,null,null,null,null,null,null,null,null,null,null,null,null,null,null,null,null,null,null,null,null,null,null,null,null,null,null,null,null,null,null,null,null,null,null,null,null,null,null,null,null,null,null,null,null,null,null,null,null,null,null,null,null,null,null,null,null,null,null,null,null,null,null,null,null,null,null,null,null,null,null,null,null,null,null,null,null,null,null,null,null,null,null,null,null,null,null,null,null,null,null,null,null,null,null,null,null,null,null,null,null,null,null,null,null,null,null,null,null,null,null,null,null,null,null,null,null,null,null,null,null,null,null,null,null,null,null,null,null,null,null,null,null,null,null,null,null,null,null,null,null,null,null,null,null,null,null,null,null,null,null,null,null,null,null,null,null,null,null,null,null,null,null,null,null,null,null,null,null,null,null,null,null,null,null,null,null,null,null,null,null,null,null,null,null,null,null,null,null,null,null,null,null,null,null,null,null,null,null,null,null,null,null,null,null,null,null,null,null,null,null,null,null,null,null,null,null,null,null,null,null,null,null,null,null,null,null,null,null,null,null,null,null,null,null,null,null,null,null,null,null,null,null,null,null,null,null,null,null,null,null,null,null,null,null,null,null,null,null,null,null,null,null,null,null,null,null,null,null,null,null,null,null,null,null,null,null,null,null,null,null,null,null,null,null,null,null,null,null,null,null,null,null,null,null,null,null,null,null,null,null,null,null,null,null,null,null,null,null,null,null,null,null,null,null,null,null,null,null,null,null,null,null,null,null,null,null,null,null,null,null,null,null,null,null,null,null,null,null,null,null,null,null,null,null,null,null,null,null,null,null,null,null,null,null,null,null,null,null,null,null,null,null,null,null,null,null,null,null,null,null,null,null,null,null,null,null,null,null,null,null,null,null,null,null,null,null,null,null,null,null,null,null,null,null,null,null,null,null,null,null,null,null,null,null,null,null,null,null,null,null,null,null,null,null,null,null,null,null,null,null,null,null,null,null,null,null,null,null,null,null,null,null,null,null,null,null,null,null,null,null,null,null,null,null,null,null,null,null,null,null,null,null,null,null,null,null,null,null,null,null,null,null,null,null,null,null,null,null,null,null,null,null,null,null,null,null,null,null,null,null,null,null,null,null,null,null,null,null,null,null,null,null,null,null,null,null,null,null,null,null,null,null,null,null,null,null,null,null,null,null,null,null,null,null,null,null,null,null,null,null,null,null,null,null,null,null,null,null,null,null,null,null,null,null,null,null,null,null,null,null,null,null,null,null,null,null,null,null,null,null,null,null,null,null,null,null,null,null,null,null,null,null,null,null,null,null,null,null,null,null,null,null,null,null,null,null,null,null,null,null,null,null,null,null,null,null,null,null,null,null,null,null,null,null,null,null,null,null,null,null,null,null,null,null,null,null,null,null,null,null,null,null,null,null,null,null,null,null,null,null,null,null,null,null,null,null,null,null,null,null,null,null,null,null,null,null,null,null,null,null,null,null,null,null,null,null,null,null,null,null,null,null,null,null,null,null,null,null,null,null,null,null,null,null,null,null,null,null,null,null,null,null,null,null,null,null,null,null,null,null,null,null,null,null,null,null,null,null,null,null,null,null,null,null,null,null,null,null,null,null,null,null,null,null,null,null,null,null,null,null,null,null,null,null,null,null,null,null,null,null,null,null,null,null,null,null,null,null,null,null,null,null,null,null,null,null,null,null,null,null,null,null,null,null,null,null,null,null,null,null,null,null,null,null,null,null,null,null,null,null,null,null,null,null,null,null,null,null,null,null,null,null,null,null,null,null,null,null,null,null,null,null,null,null,null,null,null,null,null,null,null,null,null,null,null,null,null,null,null,null,null,null,null,null,null,null,null,null,null,null,null,null,null,null,null,null,null,null,null,null,null,null,null,null,null,null,null,null,null,null,null,null,null,null,null,null,null,null,null,null,null,null,null,null,null,null,null,null,null,null,null,null,null,null,null,null,null,null,null,null,null,null,null,null,null,null,null,null,null,null,null,null,null,null,null,null,null,null,null,null,null,null,null,null,null,null,null,null,null,null,null,null,null,null,null,null,null,null,null,null,null,null,null,null,null,null,null,null,null,null,null,null,null,null,null,null,null,null,null,null,null,null,null,null,null,null,null,null,null,null,null,null,null,null,null,null,null,null,null,null,null,null,null,null,null,null,null,null,null,null,null,null,null,null,null,null,null,null,null,null,null,null,null,null,null,null,null,null,null,null,null,null,null,null,null,null,null,null,null,null,null,null,null,null,null,null,null,null,null,null,null,null,null,null,null,null,null,null,null,null,null,null,null,null,null,null,null,null,null,null,null,null,null,null,null,null,null,null,null,null,null,null,null,null,null,null,null,null,null,null,null,null,null,null,null,null,null,null,null,null,null,null,null,null,null,null,null,null,null,null,null,null,null,null,null,null,null,null,null,null,null,null,null,null,null,null,null,null,null,null,null,null,null,null,null,null,null,null,null,null,null,null,null,null,null,null,null,null,null,null,null,null,null,null,null,null,null,null,null,null,null,null,null,null,null,null,null,null,null,null,null,null,null,null,null,null,null,null,null,null,null,null,null,null,null,null,null,null,null,null,null,null,null,null,null,null,null,null,null,null,null,null,null,null,null,null,null,null,null,null,null,null,null,null,null,null,null,null,null,null,null,null,null,null,null,null,null,null,null,null,null,null,null,null,null,null,null,null,null,null,null,null,null,null,null,null,null,null,null,null,null,null,null,null,null,null,null,null,null,null,null,null,null,null,null,null,null,null,null,null,null,null,null,null,null,null,null,null,null,null,null,null,null,null,null,null,null,null,null,null,null,null,null,null,null,null,null,null,null,null,null,null,null,null,null,null,null,null,null,null,null,null,null,null,null,null,null,null,null,null,null,null,null,null,null,null,null,null,null,null,null,null,null,null,null,null,null,null,null,null,null,null,null,null,null,null,null,null,null,null,null,null,null,null,null,null,null,null,null,null,null,null,null,null,null,null,null,null,null,null,null,null,null,null,null,null,null,null,null,null,null,null,null,null,null,null,null,null,null,null,null,null,null,null,null,null,null,null,null,null,null,null,null,null,null,null,null,null,null,null,null,null,null,null,null,null,null,null,null,null,null,null,null,null,null,null,null,null,null,null,null,null,null,null,null,null,null,null,null,null,null,null,null,null,null,null,null,null,null,null,null,null,null,null,null,null,null,null,null,null,null,null,null,null,null,null,null,null,null,null,null,null,null,null,null,null,null,null,null,null,null,null,null,null,null,null,null,null,null,null,null,null,null,null,null,null,null,null,null,null,null,null,null,null,null,null,null,null,null,null,null,null,null,null,null,null,null,null,null,null,null,null,null,null,null,null,null,null,null,null,null,null,null,null,null,null,null,null,null,null,null,null,null,null,null,null,null,null,null,null,null,null,null,null,null,null,null,null,null,null,null,null,null,null,null,null,null,null,null,null,null,null,null,null,null,null,null,null,null,null,null,null,null,null,null,null,null,null,null,null,null,null,null,null,null,null,null,null,null,null,null,null,null,null,null,null,null,null,null,null,null,null,null,null,null,null,null,null,null,null,null,null,null,null,null,null,null,null,null,null,null,null,null,null,null,null,null,null,null,null,null,null,null,null,null,null,null,null,null,null,null,null,null,null,null,null,null,null,null,null,null,null,null,null,null,null,null,null,null,null,null,null,null,null,null,null,null,null,null,null,null,null,null,null,null,null,null,null,null,null,null,null,null,null,null,null,null,null,null,null,null,null,null,null,null,null,null,null,null,null,null,null,null,null,null,null,null,null,null,null,null,null,null,null,null,null,null,null,null,null,null,null,null,null,null,null,null,null,null,null,null,null,null,null,null,null,null,null,null,null,null,null,null,null,null,null,null,null,null,null,null,null,null,null,null,null,null,null,null,null,null,null,null,null,null,null,null,null,null,null,null,null,null,null,null,null,null,null,null,null,null,null,null,null,null,null,null,null,null,null,null,null,null,null,null,null,null,null,null,null,null,null,null,null,null,null,null,null,null,null,null,null,null,null,null,null,null,null,null,null,null,null,null,null,null,null,null,null,null,null,null,null,null,null,null,null,null,null,null,null,null,null,null,null,null,null,null,null,null,null,null,null,null,null,null,null,null,null,null,null,null,null,null,null,null,null,null,null,null,null,null,null,null,null,null,null,null,null,null,null,null,null,null,null,null,null,null,null,null,null,null,null,null,null,null,null,null,null,null,null,null,null,null,null,null,null,null,null,null,null,null,null,null,null,null,null,null,null,null,null,null,null,null,null,null,null,null,null,null,null,null,null,null,null,null,null,null,null,null,null,null,null,null,null,null,null,null,null,null,null,null,null,null,null,null,null,null,null,null,null,null,null,null,null,null,null,null,null,null,null,null,null,null,null,null,null,null,null,null,null,null,null,null,null,null,null,null,null,null,null,null,null,null,null,null,null,null,null,null,null,null,null,null,null,null,null,null,null,null,null,null,null,null,null,null,null,null,null,null,null,null,null,null,null,null,null,null,null,null,null,null,null,null,null,null,null,null,null,null,null,null,null,null,null,null,null,null,null,null,null,null,null,null,null,null,null,null,null,null,null,null,null,null,null,null,null,null,null,null,null,null,null,null,null,null,null,null,null,null,null,null,null,null,null,null,null,null,null,null,null,null,null,null,null,null,null,null,null,null,null,null,null,null,null,null,null,null,null,null,null,null,null,null,null,null,null,null,null,null,null,null,null,null,null,null,null,null,null,null,null,null,null,null,null,null,null,null,null,null,null,null,null,null,null,null,null,null,null,null,null,null,null,null,null,null,null,null,null,null,null,null,null,null,null,null,null,null,null,null,null,null,null,null,null,null,null,null,null,null,null,null,null,null,null,null,null,null,null,null,null,null,null,null,null,null,null,null,null,null,null,null,null,null,null,null,null,null,null,null,null,null,null,null,null,null,null,null,null,null,null,null,null,null,null,null,null,null,null,null,null,null,null,null,null,null,null,null,null,null,null,null,null,null,null,null,null,null,null,null,null,null,null,null,null,null,null,null,null,null,null,null,null,null,null,null,null,null,null,null,null,null,null,null,null,null,null,null,null,null,null,null,null,null,null,null,null,null,null,null,null,null,null,null,null,null,null,null,null,null,null,null,null,null,null,null,null,null,null,null,null,null,null,null,null,null,null,null,null,null,null,null,null,null,null,null,null,null,null,null,null,null,null,null,null,null,null,null,null,null,null,null,null,null,null,null,null,null,null,null,null,null,null,null,null,null,null,null,null,null,null,null,null,null,null,null,null,null,null,null,null,null,null,null,null,null,null,null,null,null,null,null,null,null,null,null,null,null,null,null,null,null,null,null,null,null,null,null,null,null,null,null,null,null,null,null,null,null,null,null,null,null,null,null,null,null,null,null,null,null,null,null,null,null,null,null,null,null,null,null,null,null,null,null,null,null,null,null,null,null,null,null,null,null,null,null,null,null,null,null,null,null,null,null,null,null,null,null,null,null,null,null,null,null,null,null,null,null,null,null,null,null,null,null,null,null,null,null,null,null,null,null,null,null,null,null,null,null,null,null,null,null,null,null,null,null,null,null,null,null,null,null,null,null,null,null,null,null,null,null,null,null,null,null,null,null,null,null,null,null,null,null,null,null,null,null,null,null,null,null,null,null,null,null,null,null,null,null,null,null,null,null,null,null,null,null,null,null,null,null,null,null,null,null,null,null,null,null,null,null,null,null,null,null,null,null,null,null,null,null,null,null,null,null,null,null,null,null,null,null,null,null,null,null,null,null,null,null,null,null,null,null,null,null,null,null,null,null,null,null,null,null,null,null,null,null,null,null,null,null,null,null,null,null,null,null,null,null,null,null,null,null,null,null,null,null,null,null,null,null,null,null,null,null,null,null,null,null,null,null,null,null,null,null,null,null,null,null,null,null,null,null,null,null,null,null,null,null,null,null,null,null,null,null,null,null,null,null,null,null,null,null,null,null,null,null,null,null,null,null,null,null,null,null,null,null,null,null,null,null,null,null,null,null,null,null,null,null,null,null,null,null,null,null,null,null,null,null,null,null,null,null,null,null,null,null,null,null,null,null,null,null,null,null,null,null,null,null,null,null,null,null,null,null,null,null,null,null,null,null,null,null,null,null,null,null,null,null,null,null,null,null,null,null,null,null,null,null,null,null,null,null,null,null,null,null,null,null,null,null,null,null,null,null,null,null,null,null,null,null,null,null,null,null,null,null,null,null,null,null,null,null,null,null,null,null,null,null,null,null,null,null,null,null,null,null,null,null,null,null,null,null,null,null,null,null,null,null,null,null,null,null,null,null,null,null,null,null,null,null,null,null,null,null,null,null,null,null,null,null,null,null,null,null,null,null,null,null,null,null,null,null,null,null,null,null,null,null,null,null,null,null,null,null,null,null,null,null,null,null,null,null,null,null,null,null,null,null,null,null,null,null,null,null,null,null,null,null,null,null,null,null,null,null,null,null,null,null,null,null,null,null,null,null,null,null,null,null,null,null,null,null,null,null,null,null,null,null,null,null,null,null,null,null,null,null,null,null,null,null,null,null,null,null,null,null,null,null,null,null,null,null,null,null,null,null,null,null,null,null,null,null,null,null,null,null,null,null,null,null,null,null,null,null,null,null,null,null,null,null,null,null,null,null,null,null,null,null,null,null,null,null,null,null,null,null,null,null,null,null,null,null,null,null,null,null,null,null,null,null,null,null,null,null,null,null,null,null,null,null,null,null,null,null,null,null,null,null,null,null,null,null,null,null,null,null,null,null,null,null,null,null,null,null,null,null,null,null,null,null,null,null,null,null,null,null,null,null,null,null,null,null,null,null,null,null,null,null,null,null,null,null,null,null,null,null,null,null,null,null,null,null,null,null,null,null,null,null,null,null,null,null,null,null,null,null,null,null,null,null,null,null,null,null,null,null,null,null,null,null,null,null,null,null,null,null,null,null,null,null,null,null,null,null,null,null,null,null,null,null,null,null,null,null,null,null,null,null,null,null,null,null,null,null,null,null,null,null,null,null,null,null,null,null,null,null,null,null,null,null,null,null,null,null,null,null,null,null,null,null,null,null,null,null,null,null,null,null,null,null,null,null,null,null,null,null,null,null,null,null,null,null,null,null,null,null,null,null,null,null,null,null,null,null,null,null,null,null,null,null,null,null,null,null,null,null,null,null,null,null,null,null,null,null,null,null,null,null,null,null,null,null,null,null,null,null,null,null,null,null,null,null,null,null,null,null,null,null,null,null,null,null,null,null,null,null,null,null,null,null,null,null,null,null,null,null,null,null,null,null,null,null,null,null,null,null,null,null,null,null,null,null,null,null,null,null,null,null,null,null,null,null,null,null,null,null,null,null,null,null,null,null,null,null,null,null,null,null,null,null,null,null,null,null,null,null,null,null,null,null,null,null,null,null,null,null,null,null,null,null,null,null,null,null,null,null,null,null,null,null,null,null,null,null,null,null,null,null,null,null,null,null,null,null,null,null,null,null,null,null,null,null,null,null,null,null,null,null,null,null,null,null,null,null,null,null,null,null,null,null,null,null,null,null,null,null,null,null,null,null,null,null,null,null,null,null,null,null,null,null,null,null,null,null,null,null,null,null,null,null,null,null,null,null,null,null,null,null,null,null,null,null,null,null,null,null,null,null,null,null,null,null,null,null,null,null,null,null,null,null,null,null,null,null,null,null,null,null,null,null,null,null,null,null,null,null,null,null,null,null,null,null,null,null,null,null,null,null,null,null,null,null,null,null,null,null,null,null,null,null,null,null,null,null,null,null,null,null,null,null,null,null,null,null,null,null,null,null,null,null,null,null,null,null,null,null,null,null,null,null,null,null,null,null,null,null,null,null,null,null,null,null,null,null,null,null,null,null,null,null,null,null,null,null,null,null,null,null,null,null,null,null,null,null,null,null,null,null,null,null,null,null,null,null,null,null,null,null,null,null,null,null,null,null,null,null,null,null,null,null,null,null,null,null,null,null,null,null,null,null,null,null,null,null,null,null,null,null,null,null,null,null,null,null,null,null,null,null,null,null,null,null,null,null,null,null,null,null,null,null,null,null,null,null,null,null,null,null,null,null,null,null,null,null,null,null,null,null,null,null,null,null,null,null,null,null,null,null,null,null,null,null,null,null,null,null,null,null,null,null,null,null,null,null,null,null,null,null,null,null,null,null,null,null,null,null,null,null,null,null,null,null,null,null,null,null,null,null,null,null,null,null,null,null,null,null,null,null,null,null,null,null,null,null,null,null,null,null,null,null,null,null,null,null,null,null,null,null,null,null,null,null,null,null,null,null,null,null,null,null,null,null,null,null,null,null,null,null,null,null,null,null,null,null,null,null,null,null,null,null,null,null,null,null,null,null,null,null,null,null,null,null,null,null,null,null,null,null,null,null,null,null,null,null,null,null,null,null,null,null,null,null,null,null,null,null,null,null,null,null,null,null,null,null,null,null,null,null,null,null,null,null,null,null,null,null,null,null,null,null,null,null,null,null,null,null,null,null,null,null,null,null,null,null,null,null,null,null,null,null,null,null,null,null,null,null,null,null,null,null,null,null,null,null,null,null,null,null,null,null,null,null,null,null,null,null,null,null,null,null,null,null,null,null,null,null,null,null,null,null,null,null,null,null,null,null,null,null,null,null,null,null,null,null,null,null,null,null,null,null,null,null,null,null,null,null,null,null,null,null,null,null,null,null,null,null,null,null,null,null,null,null,null,null,null,null,null,null,null,null,null,null,null,null,null,null,null,null,null,null,null,null,null,null,null,null,null,null,null,null,null,null,null,null,null,null,null,null,null,null,null,null,null,null,null,null,null,null,null,null,null,null,null,null,null,null,null,null,null,null,null,null,null,null,null,null,null,null,null,null,null,null,null,null,null,null,null,null,null,null,null,null,null,null,null,null,null,null,null,null,null,null,null,null,null,null,null,null,null,null,null,null,null,null,null,null,null,null,null,null,null,null,null,null,null,null,null,null,null,null,null,null,null,null,null,null,null,null,null,null,null,null,null,null,null,null,null,null,null,null,null,null,null,null,null,null,null,null,null,null,null,null,null,null,null,null,null,null,null,null,null,null,null,null,null,null,null,null,null,null,null,null,null,null,null,null,null,null,null,null,null,null,null,null,null,null,null,null,null,null,null,null,null,null,null,null,null,null,null,null,null,null,null,null,null,null,null,null,null,null,null,null,null,null,null,null,null,null,null,null,null,null,null,null,null,null,null,null,null,null,null,null,null,null,null,null,null,null,null,null,null,null,null,null,null,null,null,null,null,null,null,null,null,null,null,null,null,null,null,null,null,null,null,null,null,null,null,null,null,null,null,null,null,null,null,null,null,null,null,null,null,null,null,null,null,null,null,null,null,null,null,null,null,null,null,null,null,null,null,null,null,null,null,null,null,null,null,null,null,null,null,null,null,null,null,null,null,null,null,null,null,null,null,null,null,null,null,null,null,null,null,null,null,null,null,null,null,null,null,null,null,null,null,null,null,null,null,null,null,null,null,null,null,null,null,null,null,null,null,null,null,null,null,null,null,null,null,null,null,null,null,null,null,null,null,null,null,null,null,null,null,null,null,null,null,null,null,null,null,null,null,null,null,null,null,null,null,null,null,null,null,null,null,null,null,null,null,null,null,null,null,null,null,null,null,null,null,null,null,null,null,null,null,null,null,null,null,null,null,null,null,null,null,null,null,null,null,null,null,null,null,null,null,null,null,null,null,null,null,null,null,null,null,null,null,null,null,null,null,null,null,null,null,null,null,null,null,null,null,null,null,null,null,null,null,null,null,null,null,null,null,null,null,null,null,null,null,null,null,null,null,null,null,null,null,null,null,null,null,null,null,null,null,null,null,null,null,null,null,null,null,null,null,null,null,null,null,null,null,null,null,null,null,null,null,null,null,null,null,null,null,null,null,null,null,null,null,null,null,null,null,null,null,null,null,null,null,null,null,null,null,null,null,null,null,null,null,null,null,null,null,null,null,null,null,null,null,null,null,null,null,null,null,null,null,null,null,null,null,null,null,null,null,null,null,null,null,null,null,null,null,null,null,null,null,null,null,null,null,null,null,null,null,null,null,null,null,null,null,null,null,null,null,null,null,null,null,null,null,null,null,null,null,null,null,null,null,null,null,null,null,null,null,null,null,null,null,null,null,null,null,null,null,null,null,null,null,null,null,null,null,null,null,null,null,null,null,null,null,null,null,null,null,null,null,null,null,null,null,null,null,null,null,null,null,null,null,null,null,null,null,null,null,null,null,null,null,null,null,null,null,null,null,null,null,null,null,null,null,null,null,null,null,null,null,null,null,null,null,null,null,null,null,null,null,null,null,null,null,null,null,null,null,null,null,null,null,null,null,null,null,null,null,null,null,null,null,null,null,null,null,null,null,null,null,null,null,null,null,null,null,null,null,null,null,null,null,null,null,null,null,null,null,null,null,null,null,null,null,null,null,null,null,null,null,null,null,null,null,null,null,null,null,null,null,null,null,null,null,null,null,null,null,null,null,null,null,null,null,null,null,null,null,null,null,null,null,null,null,null,null,null,null,null,null,null,null,null,null,null,null,null,null,null,null,null,null,null,null,null,null,null,null,null,null,null,null,null,null,null,null,null,null,null,null,null,null,null,null,null,null,null,null,null,null,null,null,null,null,null,null,null,null,null,null,null,null,null,null,null,null,null,null,null,null,null,null,null,null,null,null,null,null,null,null,null,null,null,null,null,null,null,null,null,null,null,null,null,null,null,null,null,null,null,null,null,null,null,null,null,null,null,null,null,null,null,null,null,null,null,null,null,null,null,null,null,null,null,null,null,null,null,null,null,null,null,null,null,null,null,null,null,null,null,null,null,null,null,null,null,null,null,null,null,null,null,null,null,null,null,null,null,null,null,null,null,null,null,null,null,null,null,null,null,null,null,null,null,null,null,null,null,null,null,null,null,null,null,null,null,null,null,null,null,null,null,null,null,null,null,null,null,null,null,null,null,null,null,null,null,null,null,null,null,null,null,null,null,null,null,null,null,null,null,null,null,null,null,null,null,null,null,null,null,null,null,null,null,null,null,null,null,null,null,null,null,null,null,null,null,null,null,null,null,null,null,null,null,null,null,null,null,null,null,null,null,null,null,null,null,null,null,null,null,null,null,null,null,null,null,null,null,null,null,null,null,null,null,null,null,null,null,null,null,null,null,null,null,null,null,null,null,null,null,null,null,null,null,null,null,null,null,1]

{"sheet":"FILTRO","index":11,"n_rows":1,"n_cols":14,"rows_kept":1,"cut":false,"hidden":false,"merged":[]}
["ID","TIPO","PARCELA","DESCRIÇÃO","REFERENTE","APP","CARTÃO","FORMA","TAXA","DATA DA\nVENDA","DATA","VALOR PAGO","TOTAL BRUTO","JUROS"]

{"sheet":"Planilha3","index":12,"n_rows":0,"n_cols":0,"rows_kept":0,"cut":false,"hidden":false,"merged":[]}