{"text_format":"1","workbook":"xlsx","n_sheets":2,"sheets":["LETs","Metas"],"not_rendered":{"charts":0,"images":0,"macros":1,"external_links":1,"defined_names":3,"comments":1,"pivot_tables":0},"unopened":[],"bounds":{"document_bytes":16777216,"sheet_cells":100000,"rows_first":2000,"rows_last":500,"rows_between":2000,"halvings":0,"cell_chars":16384,"cell_head_chars":4096},"cells_cut":0,"cells_raw":0,"read":"whole","date_system":"1900"}

{"sheet":"LETs","index":0,"n_rows":214,"n_cols":24,"rows_kept":214,"cut":false,"hidden":false,"merged":[[27,26,73,35],[52,1,77,1],[120,2,129,2],[108,2,111,2],[92,2,96,2],[51,0,146,0],[51,2,60,2],[65,2,69,2],[143,2,146,2],[143,4,146,4],[134,2,138,2],[121,1,146,1],[79,1,119,1],[132,2,133,2],[132,4,133,4],[134,4,138,4],[139,2,142,2],[139,4,142,4],[116,2,119,2],[116,4,119,4],[120,4,125,4],[130,2,131,2],[130,4,131,4],[105,2,107,2],[105,4,107,4],[108,4,111,4],[112,2,115,2],[112,4,115,4],[51,4,58,4],[61,2,62,2],[61,4,62,4],[63,2,64,2],[63,4,64,4],[65,4,69,4],[101,2,104,2],[101,4,104,4],[70,2,73,2],[70,4,73,4],[74,2,77,2],[74,4,77,4],[78,2,87,2],[92,4,96,4],[97,2,100,2],[97,4,100,4],[42,1,44,1],[42,2,44,2],[42,4,44,4],[45,1,50,1],[45,2,48,2],[45,4,48,4],[49,2,50,2],[49,4,50,4],[78,4,83,4],[88,2,89,2],[88,4,89,4],[90,2,91,2],[90,4,91,4],[21,4,24,4],[25,2,27,2],[25,4,27,4],[28,1,41,1],[28,2,37,2],[28,4,37,4],[38,2,41,2],[38,4,39,4],[40,4,41,4],[1,0,1,2],[2,0,50,0],[2,1,5,1],[2,2,5,2],[2,4,5,4],[6,1,14,1],[6,2,10,2],[6,4,10,4],[11,2,12,2],[11,4,12,4],[13,2,14,2],[13,4,14,4],[15,1,27,1],[15,2,20,2],[15,4,20,4],[21,2,24,2],[147,0,213,1],[147,2,156,2],[159,2,160,2],[161,2,165,2],[166,2,190,2],[191,2,213,2],[157,2,158,2]]}
["CD","Copa","2021-02-10","Gerot_Let´s - Revenda_Seropédica","P",2021,"2021-01-31","2021-02-28","2021-03-31","2021-04-30","2021-05-31","2021-06-30","2021-07-31","2021-08-31","2021-09-30","2021-10-31","2021-11-30","2021-12-31"]
["Seropédica",null,null,"Indicadores / Parâmetros",{"$f":"[1]LETs!E2","v":8},{"$f":"[1]LETs!F2","v":2021},{"$f":"[1]LETs!G2","v":"Jan/21"},{"$f":"[1]LETs!H2","v":"Fev/21"},{"$f":"[1]LETs!I2","v":"Mar/21"},{"$f":"[1]LETs!J2","v":"Abr/21"},{"$f":"[1]LETs!K2","v":"Mai/21"},{"$f":"[1]LETs!L2","v":"Jun/21"},{"$f":"[1]LETs!M2","v":"Jul/21"},{"$f":"[1]LETs!N2","v":"Ago/21"},{"$f":"[1]LETs!O2","v":"Set/21"},{"$f":"[1]LETs!P2","v":"Out/21"},{"$f":"[1]LETs!Q2","v":"Nov/21"},{"$f":"[1]LETs!R2","v":"Dez/21"},{"$f":"WORKDAY(TODAY(),-1,0)","v":"2021-02-10"}]
["SUPER COPA","Outbound","Performance - SEC","Performance - SEC",{"$f":"[1]LETs!E3","v":1},{"$f":"[1]LETs!F3","v":0.92390000000000005},{"$f":"[1]LETs!G3","v":0.90880000000000005},{"$f":"[1]LETs!H3","v":0.96719999999999995},{"$f":"[1]LETs!I3","v":0},{"$f":"[1]LETs!J3","v":0},{"$f":"[1]LETs!K3","v":0},{"$f":"[1]LETs!L3","v":0},{"$f":"[1]LETs!M3","v":0},{"$f":"[1]LETs!N3","v":0},{"$f":"[1]LETs!O3","v":0},{"$f":"[1]LETs!P3","v":0},{"$f":"[1]LETs!Q3","v":0},{"$f":"[1]LETs!R3","v":0},{"$f":"IFERROR(INDEX([1]LETs!$F$3:$AZZ$214,MATCH($D3,[1]LETs!$D$3:$D$214,0),MATCH($S$2,[1]LETs!$F$2:$AZZ$2,0)),0)","v":0.98829999999999996},null,null,"Para:","BRRJDL.COORDENADORES-SEROPEDICA <coordenadores.seropedica@b2wdigital.com>; BRRJDL.WAVE-SEROPEDICA <wave.seropedica@b2wdigital.com>; BRRJODL.PACKING-SEROP <packing.serop@b2wdigital.com>; BRRJDL.SUPERVISORES-SEROPEDICA <supervisores.seropedica@b2wdigital.com>; BRRJDL.RECEBIMENTO-SEROPEDICA <recebimento.seropedica@b2wdigital.com>; BRRJDL.PICK-SEROPEDICA <pick.seropedica@b2wdigital.com>"]
[null,null,null,"Prazo",null,{"$f":"[1]LETs!F4","v":330375},{"$f":"[1]LETs!G4","v":240822},{"$f":"[1]LETs!H4","v":89553},{"$f":"[1]LETs!I4","v":0},{"$f":"[1]LETs!J4","v":0},{"$f":"[1]LETs!K4","v":0},{"$f":"[1]LETs!L4","v":0},{"$f":"[1]LETs!M4","v":0},{"$f":"[1]LETs!N4","v":0},{"$f":"[1]LETs!O4","v":0},{"$f":"[1]LETs!P4","v":0},{"$f":"[1]LETs!Q4","v":0},{"$f":"[1]LETs!R4","v":0},{"$f":"IFERROR(INDEX([1]LETs!$F$3:$AZZ$214,MATCH($D4,[1]LETs!$D$3:$D$214,0),MATCH($S$2,[1]LETs!$F$2:$AZZ$2,0)),0)","v":11219}]
[null,null,null,"Atraso",null,{"$f":"[1]LETs!F5","v":27202},{"$f":"[1]LETs!G5","v":24169},{"$f":"[1]LETs!H5","v":3033},{"$f":"[1]LETs!I5","v":0},{"$f":"[1]LETs!J5","v":0},{"$f":"[1]LETs!K5","v":0},{"$f":"[1]LETs!L5","v":0},{"$f":"[1]LETs!M5","v":0},{"$f":"[1]LETs!N5","v":0},{"$f":"[1]LETs!O5","v":0},{"$f":"[1]LETs!P5","v":0},{"$f":"[1]LETs!Q5","v":0},{"$f":"[1]LETs!R5","v":0},{"$f":"IFERROR(INDEX([1]LETs!$F$3:$AZZ$214,MATCH($D5,[1]LETs!$D$3:$D$214,0),MATCH($S$2,[1]LETs!$F$2:$AZZ$2,0)),0)","v":133}]
[null,null,null,"Meta",null,{"$f":"[1]LETs!F6","v":0.98},{"$f":"[1]LETs!G6","v":0.98},{"$f":"[1]LETs!H6","v":0.98},{"$f":"[1]LETs!I6","v":0},{"$f":"[1]LETs!J6","v":0},{"$f":"[1]LETs!K6","v":0},{"$f":"[1]LETs!L6","v":0},{"$f":"[1]LETs!M6","v":0},{"$f":"[1]LETs!N6","v":0},{"$f":"[1]LETs!O6","v":0},{"$f":"[1]LETs!P6","v":0},{"$f":"[1]LETs!Q6","v":0},{"$f":"[1]LETs!R6","v":0},{"$f":"IF(MONTH(S$2)=1,$G6,IF(MONTH(S$2)=2,$H6,IF(MONTH(S$2)=3,$I6,IF(MONTH(S$2)=4,$J6,IF(MONTH(S$2)=5,$K6,IF(MONTH(S$2)=6,$L6,IF(MONTH(S$2)=7,$M6,IF(MONTH(S$2)=8,$N6,IF(MONTH(S$2)=9,$O6,IF(MONTH(S$2)=10,$P6,IF(MONTH(S$2)=11,$Q6,$R6)))))))))))","v":0.98},null,null,"De:","Rodolfo Miranda Mascagni <rmmascagni@submarino.com.br>; BRRJDL.QUALIDADE-SEROPEDICA <qualidade.seropedica@b2wdigital.com>; Robson Silva de Souza <robson.souza@b2wdigital.com>"]
[null,"CD","Produtividade CD","Produtividade CD",{"$f":"[1]LETs!E7","v":2},{"$f":"[1]LETs!F7","v":32.229999999999997},{"$f":"[1]LETs!G7","v":31.3},{"$f":"[1]LETs!H7","v":35},{"$f":"[1]LETs!I7","v":0},{"$f":"[1]LETs!J7","v":0},{"$f":"[1]LETs!K7","v":0},{"$f":"[1]LETs!L7","v":0},{"$f":"[1]LETs!M7","v":0},{"$f":"[1]LETs!N7","v":0},{"$f":"[1]LETs!O7","v":0},{"$f":"[1]LETs!P7","v":0},{"$f":"[1]LETs!Q7","v":0},{"$f":"[1]LETs!R7","v":0},{"$f":"IFERROR(INDEX([1]LETs!$F$3:$AZZ$214,MATCH($D7,[1]LETs!$D$3:$D$214,0),MATCH($S$2,[1]LETs!$F$2:$AZZ$2,0)),0)","v":44.25},null,null,"Assunto:",{"$f":"CONCATENATE(\"Super Copa & Copa dos Campeões - \"&TEXT(S2,\"DD/MM/AAAA\"))","v":"Super Copa & Copa dos Campeões - 10/02/2021"}]
[null,null,null,"Quadro Produtivo Total",null,{"$f":"[1]LETs!F8","v":11383},{"$f":"[1]LETs!G8","v":8523},{"$f":"[1]LETs!H8","v":2860},{"$f":"[1]LETs!I8","v":0},{"$f":"[1]LETs!J8","v":0},{"$f":"[1]LETs!K8","v":0},{"$f":"[1]LETs!L8","v":0},{"$f":"[1]LETs!M8","v":0},{"$f":"[1]LETs!N8","v":0},{"$f":"[1]LETs!O8","v":0},{"$f":"[1]LETs!P8","v":0},{"$f":"[1]LETs!Q8","v":0},{"$f":"[1]LETs!R8","v":0},{"$f":"IFERROR(INDEX([1]LETs!$F$3:$AZZ$214,MATCH($D8,[1]LETs!$D$3:$D$214,0),MATCH($S$2,[1]LETs!$F$2:$AZZ$2,0)),0)","v":313}]
[null,null,null,"QP Terceiros",null,{"$f":"[1]LETs!F9","v":0},{"$f":"[1]LETs!G9","v":0},{"$f":"[1]LETs!H9","v":0},{"$f":"[1]LETs!I9","v":0},{"$f":"[1]LETs!J9","v":0},{"$f":"[1]LETs!K9","v":0},{"$f":"[1]LETs!L9","v":0},{"$f":"[1]LETs!M9","v":0},{"$f":"[1]LETs!N9","v":0},{"$f":"[1]LETs!O9","v":0},{"$f":"[1]LETs!P9","v":0},{"$f":"[1]LETs!Q9","v":0},{"$f":"[1]LETs!R9","v":0},{"$f":"IFERROR(INDEX([1]LETs!$F$3:$AZZ$214,MATCH($D9,[1]LETs!$D$3:$D$214,0),MATCH($S$2,[1]LETs!$F$2:$AZZ$2,0)),0)","v":0}]
[null,null,null,"Faturamento",null,{"$f":"[1]LETs!F10","v":366850},{"$f":"[1]LETs!G10","v":266743},{"$f":"[1]LETs!H10","v":100107},{"$f":"[1]LETs!I10","v":0},{"$f":"[1]LETs!J10","v":0},{"$f":"[1]LETs!K10","v":0},{"$f":"[1]LETs!L10","v":0},{"$f":"[1]LETs!M10","v":0},{"$f":"[1]LETs!N10","v":0},{"$f":"[1]LETs!O10","v":0},{"$f":"[1]LETs!P10","v":0},{"$f":"[1]LETs!Q10","v":0},{"$f":"[1]LETs!R10","v":0},{"$f":"IFERROR(INDEX([1]LETs!$F$3:$AZZ$214,MATCH($D10,[1]LETs!$D$3:$D$214,0),MATCH($S$2,[1]LETs!$F$2:$AZZ$2,0)),0)","v":13851}]
[null,null,null,"Meta",null,{"$f":"[1]LETs!F11","v":41.168280000000003},{"$f":"[1]LETs!G11","v":43.605073326068187},{"$f":"[1]LETs!H11","v":33.906472627338935},{"$f":"[1]LETs!I11","v":0},{"$f":"[1]LETs!J11","v":0},{"$f":"[1]LETs!K11","v":0},{"$f":"[1]LETs!L11","v":0},{"$f":"[1]LETs!M11","v":0},{"$f":"[1]LETs!N11","v":0},{"$f":"[1]LETs!O11","v":0},{"$f":"[1]LETs!P11","v":0},{"$f":"[1]LETs!Q11","v":0},{"$f":"[1]LETs!R11","v":0},{"$f":"IF(MONTH(S$2)=1,$G11,IF(MONTH(S$2)=2,$H11,IF(MONTH(S$2)=3,$I11,IF(MONTH(S$2)=4,$J11,IF(MONTH(S$2)=5,$K11,IF(MONTH(S$2)=6,$L11,IF(MONTH(S$2)=7,$M11,IF(MONTH(S$2)=8,$N11,IF(MONTH(S$2)=9,$O11,IF(MONTH(S$2)=10,$P11,IF(MONTH(S$2)=11,$Q11,$R11)))))))))))","v":33.906472627338935},null,null,"Corpo do e-mail:",{"$f":"IF(X39<=X40,W40,IF(X39<=X41,W41,W42))","v":"Bom Dia,"}]
[null,null,"Acidentes (Típicos + Trajeto)","Acidentes",{"$f":"[1]LETs!E12","v":"-0,50\nP"},{"$f":"[1]LETs!F12","v":0},{"$f":"[1]LETs!G12","v":0},{"$f":"[1]LETs!H12","v":0},{"$f":"[1]LETs!I12","v":0},{"$f":"[1]LETs!J12","v":0},{"$f":"[1]LETs!K12","v":0},{"$f":"[1]LETs!L12","v":0},{"$f":"[1]LETs!M12","v":0},{"$f":"[1]LETs!N12","v":0},{"$f":"[1]LETs!O12","v":0},{"$f":"[1]LETs!P12","v":0},{"$f":"[1]LETs!Q12","v":0},{"$f":"[1]LETs!R12","v":0},{"$f":"IFERROR(INDEX([1]LETs!$F$3:$AZZ$214,MATCH($D12,[1]LETs!$D$3:$D$214,0),MATCH($S$2,[1]LETs!$F$2:$AZZ$2,0)),0)","v":0},null,null,null,"Segue abaixo SuperCopa e Copa dos Campeões:"]
[null,null,null,"Meta",null,{"$f":"[1]LETs!F13","v":0},{"$f":"[1]LETs!G13","v":0},{"$f":"[1]LETs!H13","v":0},{"$f":"[1]LETs!I13","v":0},{"$f":"[1]LETs!J13","v":0},{"$f":"[1]LETs!K13","v":0},{"$f":"[1]LETs!L13","v":0},{"$f":"[1]LETs!M13","v":0},{"$f":"[1]LETs!N13","v":0},{"$f":"[1]LETs!O13","v":0},{"$f":"[1]LETs!P13","v":0},{"$f":"[1]LETs!Q13","v":0},{"$f":"[1]LETs!R13","v":0},{"$f":"IF(MONTH(S$2)=1,$G13,IF(MONTH(S$2)=2,$H13,IF(MONTH(S$2)=3,$I13,IF(MONTH(S$2)=4,$J13,IF(MONTH(S$2)=5,$K13,IF(MONTH(S$2)=6,$L13,IF(MONTH(S$2)=7,$M13,IF(MONTH(S$2)=8,$N13,IF(MONTH(S$2)=9,$O13,IF(MONTH(S$2)=10,$P13,IF(MONTH(S$2)=11,$Q13,$R13)))))))))))","v":0},null,null,"A base atualizada encontra-se em: ","\\\\fsb2w03\\CD-Seropedica\\00.Novo GEROT\\0.2- Copa dos Campeões"]
[null,null,"Anomalias","Anomalias",{"$f":"[1]LETs!E14","v":"-0,50\nP"},{"$f":"[1]LETs!F14","v":0},{"$f":"[1]LETs!G14","v":0},{"$f":"[1]LETs!H14","v":0},{"$f":"[1]LETs!I14","v":0},{"$f":"[1]LETs!J14","v":0},{"$f":"[1]LETs!K14","v":0},{"$f":"[1]LETs!L14","v":0},{"$f":"[1]LETs!M14","v":0},{"$f":"[1]LETs!N14","v":0},{"$f":"[1]LETs!O14","v":0},{"$f":"[1]LETs!P14","v":0},{"$f":"[1]LETs!Q14","v":0},{"$f":"[1]LETs!R14","v":0},{"$f":"IFERROR(INDEX([1]LETs!$F$3:$AZZ$214,MATCH($D14,[1]LETs!$D$3:$D$214,0),MATCH($S$2,[1]LETs!$F$2:$AZZ$2,0)),0)","v":0},null,null,"Seguem links (PowerBI):"]
[null,null,null,"Meta",null,{"$f":"[1]LETs!F15","v":0},{"$f":"[1]LETs!G15","v":0},{"$f":"[1]LETs!H15","v":0},{"$f":"[1]LETs!I15","v":0},{"$f":"[1]LETs!J15","v":0},{"$f":"[1]LETs!K15","v":0},{"$f":"[1]LETs!L15","v":0},{"$f":"[1]LETs!M15","v":0},{"$f":"[1]LETs!N15","v":0},{"$f":"[1]LETs!O15","v":0},{"$f":"[1]LETs!P15","v":0},{"$f":"[1]LETs!Q15","v":0},{"$f":"[1]LETs!R15","v":0},{"$f":"IF(MONTH(S$2)=1,$G15,IF(MONTH(S$2)=2,$H15,IF(MONTH(S$2)=3,$I15,IF(MONTH(S$2)=4,$J15,IF(MONTH(S$2)=5,$K15,IF(MONTH(S$2)=6,$L15,IF(MONTH(S$2)=7,$M15,IF(MONTH(S$2)=8,$N15,IF(MONTH(S$2)=9,$O15,IF(MONTH(S$2)=10,$P15,IF(MONTH(S$2)=11,$Q15,$R15)))))))))))","v":0},null,null,"• Gerot: ","https://app.powerbi.com/groups/me/apps/affa335c-f89f-4d19-b1c1-935bc83b2eee/reports/c941564f-1662-481f-867a-55d748522c71/ReportSection?ctid=809e2f09-760f-4d6e-835a-d3b3e8251285"]
[null,"Estoque","Perda Operacional","Total de Perda Operacional",{"$f":"[1]LETs!E16","v":0.5},{"$f":"[1]LETs!F16","v":166.11788491080023},{"$f":"[1]LETs!G16","v":158.66377913420351},{"$f":"[1]LETs!H16","v":7.4541057765967258},{"$f":"[1]LETs!I16","v":0},{"$f":"[1]LETs!J16","v":0},{"$f":"[1]LETs!K16","v":0},{"$f":"[1]LETs!L16","v":0},{"$f":"[1]LETs!M16","v":0},{"$f":"[1]LETs!N16","v":0},{"$f":"[1]LETs!O16","v":0},{"$f":"[1]LETs!P16","v":0},{"$f":"[1]LETs!Q16","v":0},{"$f":"[1]LETs!R16","v":0},{"$f":"IFERROR(INDEX([1]LETs!$F$3:$AZZ$214,MATCH($D16,[1]LETs!$D$3:$D$214,0),MATCH($S$2,[1]LETs!$F$2:$AZZ$2,0)),0)","v":0},null,null,"• OBZ: ","https://app.powerbi.com/groups/me/apps/affa335c-f89f-4d19-b1c1-935bc83b2eee/reports/b380faef-cf63-4657-9b15-3797b44da25c/ReportSection?ctid=809e2f09-760f-4d6e-835a-d3b3e8251285"]
[null,null,null,"Avarias",null,{"$f":"[1]LETs!F17","v":147.80076648000176},{"$f":"[1]LETs!G17","v":147.25956228976167},{"$f":"[1]LETs!H17","v":0.54120419024006994},{"$f":"[1]LETs!I17","v":0},{"$f":"[1]LETs!J17","v":0},{"$f":"[1]LETs!K17","v":0},{"$f":"[1]LETs!L17","v":0},{"$f":"[1]LETs!M17","v":0},{"$f":"[1]LETs!N17","v":0},{"$f":"[1]LETs!O17","v":0},{"$f":"[1]LETs!P17","v":0},{"$f":"[1]LETs!Q17","v":0},{"$f":"[1]LETs!R17","v":0},{"$f":"IFERROR(INDEX([1]LETs!$F$3:$AZZ$214,MATCH($D17,[1]LETs!$D$3:$D$214,0),MATCH($S$2,[1]LETs!$F$2:$AZZ$2,0)),0)","v":0},null,null,"• Gerot:"]
[null,null,null,"Quebras",null,{"$f":"[1]LETs!F18","v":11.43593136862491},{"$f":"[1]LETs!G18","v":11.404216844441846},{"$f":"[1]LETs!H18","v":3.1714524183064106E-2},{"$f":"[1]LETs!I18","v":0},{"$f":"[1]LETs!J18","v":0},{"$f":"[1]LETs!K18","v":0},{"$f":"[1]LETs!L18","v":0},{"$f":"[1]LETs!M18","v":0},{"$f":"[1]LETs!N18","v":0},{"$f":"[1]LETs!O18","v":0},{"$f":"[1]LETs!P18","v":0},{"$f":"[1]LETs!Q18","v":0},{"$f":"[1]LETs!R18","v":0},{"$f":"IFERROR(INDEX([1]LETs!$F$3:$AZZ$214,MATCH($D18,[1]LETs!$D$3:$D$214,0),MATCH($S$2,[1]LETs!$F$2:$AZZ$2,0)),0)","v":0},null,null,"• Gerot:"]
[null,null,null,"Vencidos",null,{"$f":"[1]LETs!F19","v":0},{"$f":"[1]LETs!G19","v":0},{"$f":"[1]LETs!H19","v":0},{"$f":"[1]LETs!I19","v":0},{"$f":"[1]LETs!J19","v":0},{"$f":"[1]LETs!K19","v":0},{"$f":"[1]LETs!L19","v":0},{"$f":"[1]LETs!M19","v":0},{"$f":"[1]LETs!N19","v":0},{"$f":"[1]LETs!O19","v":0},{"$f":"[1]LETs!P19","v":0},{"$f":"[1]LETs!Q19","v":0},{"$f":"[1]LETs!R19","v":0},{"$f":"IFERROR(INDEX([1]LETs!$F$3:$AZZ$214,MATCH($D19,[1]LETs!$D$3:$D$214,0),MATCH($S$2,[1]LETs!$F$2:$AZZ$2,0)),0)","v":0},null,null,"• Gerot:"]
[null,null,null,"Furtos",null,{"$f":"[1]LETs!F20","v":0},{"$f":"[1]LETs!G20","v":0},{"$f":"[1]LETs!H20","v":0},{"$f":"[1]LETs!I20","v":0},{"$f":"[1]LETs!J20","v":0},{"$f":"[1]LETs!K20","v":0},{"$f":"[1]LETs!L20","v":0},{"$f":"[1]LETs!M20","v":0},{"$f":"[1]LETs!N20","v":0},{"$f":"[1]LETs!O20","v":0},{"$f":"[1]LETs!P20","v":0},{"$f":"[1]LETs!Q20","v":0},{"$f":"[1]LETs!R20","v":0},{"$f":"IFERROR(INDEX([1]LETs!$F$3:$AZZ$214,MATCH($D20,[1]LETs!$D$3:$D$214,0),MATCH($S$2,[1]LETs!$F$2:$AZZ$2,0)),0)","v":0},null,null,"• Gerot:"]
[null,null,null,"Meta",null,{"$f":"[1]LETs!F21","v":50},{"$f":"[1]LETs!G21","v":50},{"$f":"[1]LETs!H21","v":50},{"$f":"[1]LETs!I21","v":0},{"$f":"[1]LETs!J21","v":0},{"$f":"[1]LETs!K21","v":0},{"$f":"[1]LETs!L21","v":0},{"$f":"[1]LETs!M21","v":0},{"$f":"[1]LETs!N21","v":0},{"$f":"[1]LETs!O21","v":0},{"$f":"[1]LETs!P21","v":0},{"$f":"[1]LETs!Q21","v":0},{"$f":"[1]LETs!R21","v":0},{"$f":"IF(MONTH(S$2)=1,$G21,IF(MONTH(S$2)=2,$H21,IF(MONTH(S$2)=3,$I21,IF(MONTH(S$2)=4,$J21,IF(MONTH(S$2)=5,$K21,IF(MONTH(S$2)=6,$L21,IF(MONTH(S$2)=7,$M21,IF(MONTH(S$2)=8,$N21,IF(MONTH(S$2)=9,$O21,IF(MONTH(S$2)=10,$P21,IF(MONTH(S$2)=11,$Q21,$R21)))))))))))","v":50},null,null,"• Reunião de Operações: ","https://app.powerbi.com/groups/me/apps/affa335c-f89f-4d19-b1c1-935bc83b2eee/reports/3084419d-2725-472a-831f-3db122d7f60f/ReportSection84429facd09a70911520?ctid=809e2f09-760f-4d6e-835a-d3b3e8251285"]
[null,null,"Armazenagem no Prazo","Armazenagem no Prazo",{"$f":"[1]LETs!E22","v":0.5},{"$f":"[1]LETs!F22","v":0.99960000000000004},{"$f":"[1]LETs!G22","v":0.99939999999999996},{"$f":"[1]LETs!H22","v":1},{"$f":"[1]LETs!I22","v":0},{"$f":"[1]LETs!J22","v":0},{"$f":"[1]LETs!K22","v":0},{"$f":"[1]LETs!L22","v":0},{"$f":"[1]LETs!M22","v":0},{"$f":"[1]LETs!N22","v":0},{"$f":"[1]LETs!O22","v":0},{"$f":"[1]LETs!P22","v":0},{"$f":"[1]LETs!Q22","v":0},{"$f":"[1]LETs!R22","v":0},{"$f":"IFERROR(INDEX([1]LETs!$F$3:$AZZ$214,MATCH($D22,[1]LETs!$D$3:$D$214,0),MATCH($S$2,[1]LETs!$F$2:$AZZ$2,0)),0)","v":1}]
[null,null,null,"Prazo (ARM)",null,{"$f":"[1]LETs!F23","v":451888},{"$f":"[1]LETs!G23","v":329917},{"$f":"[1]LETs!H23","v":121971},{"$f":"[1]LETs!I23","v":0},{"$f":"[1]LETs!J23","v":0},{"$f":"[1]LETs!K23","v":0},{"$f":"[1]LETs!L23","v":0},{"$f":"[1]LETs!M23","v":0},{"$f":"[1]LETs!N23","v":0},{"$f":"[1]LETs!O23","v":0},{"$f":"[1]LETs!P23","v":0},{"$f":"[1]LETs!Q23","v":0},{"$f":"[1]LETs!R23","v":0},{"$f":"IFERROR(INDEX([1]LETs!$F$3:$AZZ$214,MATCH($D23,[1]LETs!$D$3:$D$214,0),MATCH($S$2,[1]LETs!$F$2:$AZZ$2,0)),0)","v":9394}]
[null,null,null,"Atraso (ARM)",null,{"$f":"[1]LETs!F24","v":192},{"$f":"[1]LETs!G24","v":192},{"$f":"[1]LETs!H24","v":0},{"$f":"[1]LETs!I24","v":0},{"$f":"[1]LETs!J24","v":0},{"$f":"[1]LETs!K24","v":0},{"$f":"[1]LETs!L24","v":0},{"$f":"[1]LETs!M24","v":0},{"$f":"[1]LETs!N24","v":0},{"$f":"[1]LETs!O24","v":0},{"$f":"[1]LETs!P24","v":0},{"$f":"[1]LETs!Q24","v":0},{"$f":"[1]LETs!R24","v":0},{"$f":"IFERROR(INDEX([1]LETs!$F$3:$AZZ$214,MATCH($D24,[1]LETs!$D$3:$D$214,0),MATCH($S$2,[1]LETs!$F$2:$AZZ$2,0)),0)","v":0}]
[null,null,null,"Meta",null,{"$f":"[1]LETs!F25","v":0.99980000000000002},{"$f":"[1]LETs!G25","v":0.99980000000000002},{"$f":"[1]LETs!H25","v":0.99980000000000002},{"$f":"[1]LETs!I25","v":0},{"$f":"[1]LETs!J25","v":0},{"$f":"[1]LETs!K25","v":0},{"$f":"[1]LETs!L25","v":0},{"$f":"[1]LETs!M25","v":0},{"$f":"[1]LETs!N25","v":0},{"$f":"[1]LETs!O25","v":0},{"$f":"[1]LETs!P25","v":0},{"$f":"[1]LETs!Q25","v":0},{"$f":"[1]LETs!R25","v":0},{"$f":"IF(MONTH(S$2)=1,$G25,IF(MONTH(S$2)=2,$H25,IF(MONTH(S$2)=3,$I25,IF(MONTH(S$2)=4,$J25,IF(MONTH(S$2)=5,$K25,IF(MONTH(S$2)=6,$L25,IF(MONTH(S$2)=7,$M25,IF(MONTH(S$2)=8,$N25,IF(MONTH(S$2)=9,$O25,IF(MONTH(S$2)=10,$P25,IF(MONTH(S$2)=11,$Q25,$R25)))))))))))","v":0.99980000000000002}]
[null,null,"Estoque Virtual","Estoque Virtual",{"$f":"[1]LETs!E26","v":1},{"$f":"[1]LETs!F26","v":277.6814491020433},{"$f":"[1]LETs!G26","v":6278.7264810440092},{"$f":"[1]LETs!H26","v":277.6814491020433},{"$f":"[1]LETs!I26","v":0},{"$f":"[1]LETs!J26","v":0},{"$f":"[1]LETs!K26","v":0},{"$f":"[1]LETs!L26","v":0},{"$f":"[1]LETs!M26","v":0},{"$f":"[1]LETs!N26","v":0},{"$f":"[1]LETs!O26","v":0},{"$f":"[1]LETs!P26","v":0},{"$f":"[1]LETs!Q26","v":0},{"$f":"[1]LETs!R26","v":0},{"$f":"IFERROR(INDEX([1]LETs!$F$3:$AZZ$214,MATCH($D26,[1]LETs!$D$3:$D$214,0),MATCH($S$2,[1]LETs!$F$2:$AZZ$2,0)),0)","v":277.6814491020433}]
[null,null,null,"Expedidos $",null,{"$f":"[1]LETs!F27","v":4922035061.8836994},{"$f":"[1]LETs!G27","v":378305068.98004818},{"$f":"[1]LETs!H27","v":4922035061.8836994},{"$f":"[1]LETs!I27","v":0},{"$f":"[1]LETs!J27","v":0},{"$f":"[1]LETs!K27","v":0},{"$f":"[1]LETs!L27","v":0},{"$f":"[1]LETs!M27","v":0},{"$f":"[1]LETs!N27","v":0},{"$f":"[1]LETs!O27","v":0},{"$f":"[1]LETs!P27","v":0},{"$f":"[1]LETs!Q27","v":0},{"$f":"[1]LETs!R27","v":0},{"$f":"IFERROR(INDEX([1]LETs!$F$3:$AZZ$214,MATCH($D27,[1]LETs!$D$3:$D$214,0),MATCH($S$2,[1]LETs!$F$2:$AZZ$2,0)),0)","v":485331360.21799999}]
[null,null,null,"Meta",null,{"$f":"[1]LETs!F28","v":265.79336999999998},{"$f":"[1]LETs!G28","v":1382.03},{"$f":"[1]LETs!H28","v":180},{"$f":"[1]LETs!I28","v":0},{"$f":"[1]LETs!J28","v":0},{"$f":"[1]LETs!K28","v":0},{"$f":"[1]LETs!L28","v":0},{"$f":"[1]LETs!M28","v":0},{"$f":"[1]LETs!N28","v":0},{"$f":"[1]LETs!O28","v":0},{"$f":"[1]LETs!P28","v":0},{"$f":"[1]LETs!Q28","v":0},{"$f":"[1]LETs!R28","v":0},{"$f":"IF(MONTH(S$2)=1,$G28,IF(MONTH(S$2)=2,$H28,IF(MONTH(S$2)=3,$I28,IF(MONTH(S$2)=4,$J28,IF(MONTH(S$2)=5,$K28,IF(MONTH(S$2)=6,$L28,IF(MONTH(S$2)=7,$M28,IF(MONTH(S$2)=8,$N28,IF(MONTH(S$2)=9,$O28,IF(MONTH(S$2)=10,$P28,IF(MONTH(S$2)=11,$Q28,$R28)))))))))))","v":180}]
[null,"CD","Absenteísmo","Absenteísmo",{"$f":"[1]LETs!E29","v":1},{"$f":"[1]LETs!F29","v":2.1100000000000001E-2},{"$f":"[1]LETs!G29","v":2.1499999999999998E-2},{"$f":"[1]LETs!H29","v":0.02},{"$f":"[1]LETs!I29","v":0},{"$f":"[1]LETs!J29","v":0},{"$f":"[1]LETs!K29","v":0},{"$f":"[1]LETs!L29","v":0},{"$f":"[1]LETs!M29","v":0},{"$f":"[1]LETs!N29","v":0},{"$f":"[1]LETs!O29","v":0},{"$f":"[1]LETs!P29","v":0},{"$f":"[1]LETs!Q29","v":0},{"$f":"[1]LETs!R29","v":0},{"$f":"IFERROR(INDEX([1]LETs!$F$3:$AZZ$214,MATCH($D29,[1]LETs!$D$3:$D$214,0),MATCH($S$2,[1]LETs!$F$2:$AZZ$2,0)),0)","v":1.3899999999999999E-2},null,null,null,"Última entrega:",{"$f":"NOW()","v":44238.435843171297}]
[null,null,null,"Quadro Líquido",null,{"$f":"[1]LETs!F30","v":12404},{"$f":"[1]LETs!G30","v":9196},{"$f":"[1]LETs!H30","v":3208},{"$f":"[1]LETs!I30","v":0},{"$f":"[1]LETs!J30","v":0},{"$f":"[1]LETs!K30","v":0},{"$f":"[1]LETs!L30","v":0},{"$f":"[1]LETs!M30","v":0},{"$f":"[1]LETs!N30","v":0},{"$f":"[1]LETs!O30","v":0},{"$f":"[1]LETs!P30","v":0},{"$f":"[1]LETs!Q30","v":0},{"$f":"[1]LETs!R30","v":0},{"$f":"IFERROR(INDEX([1]LETs!$F$3:$AZZ$214,MATCH($D30,[1]LETs!$D$3:$D$214,0),MATCH($S$2,[1]LETs!$F$2:$AZZ$2,0)),0)","v":360},null,null,null,null,{"$f":"TODAY()","v":44238}]
[null,null,null,"Faltas",null,{"$f":"[1]LETs!F31","v":262},{"$f":"[1]LETs!G31","v":198},{"$f":"[1]LETs!H31","v":64},{"$f":"[1]LETs!I31","v":0},{"$f":"[1]LETs!J31","v":0},{"$f":"[1]LETs!K31","v":0},{"$f":"[1]LETs!L31","v":0},{"$f":"[1]LETs!M31","v":0},{"$f":"[1]LETs!N31","v":0},{"$f":"[1]LETs!O31","v":0},{"$f":"[1]LETs!P31","v":0},{"$f":"[1]LETs!Q31","v":0},{"$f":"[1]LETs!R31","v":0},{"$f":"IFERROR(INDEX([1]LETs!$F$3:$AZZ$214,MATCH($D31,[1]LETs!$D$3:$D$214,0),MATCH($S$2,[1]LETs!$F$2:$AZZ$2,0)),0)","v":5},null,null,null,null,{"$f":"X29-X30","v":0.4358431712971651}]
[null,null,null,"Quadro Total",null,{"$f":"[1]LETs!F32","v":15898},{"$f":"[1]LETs!G32","v":11864},{"$f":"[1]LETs!H32","v":4034},{"$f":"[1]LETs!I32","v":0},{"$f":"[1]LETs!J32","v":0},{"$f":"[1]LETs!K32","v":0},{"$f":"[1]LETs!L32","v":0},{"$f":"[1]LETs!M32","v":0},{"$f":"[1]LETs!N32","v":0},{"$f":"[1]LETs!O32","v":0},{"$f":"[1]LETs!P32","v":0},{"$f":"[1]LETs!Q32","v":0},{"$f":"[1]LETs!R32","v":0},{"$f":"IFERROR(INDEX([1]LETs!$F$3:$AZZ$214,MATCH($D32,[1]LETs!$D$3:$D$214,0),MATCH($S$2,[1]LETs!$F$2:$AZZ$2,0)),0)","v":438}]
[null,null,null,"Ger. e Coord.",null,{"$f":"[1]LETs!F33","v":237},{"$f":"[1]LETs!G33","v":173},{"$f":"[1]LETs!H33","v":64},{"$f":"[1]LETs!I33","v":0},{"$f":"[1]LETs!J33","v":0},{"$f":"[1]LETs!K33","v":0},{"$f":"[1]LETs!L33","v":0},{"$f":"[1]LETs!M33","v":0},{"$f":"[1]LETs!N33","v":0},{"$f":"[1]LETs!O33","v":0},{"$f":"[1]LETs!P33","v":0},{"$f":"[1]LETs!Q33","v":0},{"$f":"[1]LETs!R33","v":0},{"$f":"IFERROR(INDEX([1]LETs!$F$3:$AZZ$214,MATCH($D33,[1]LETs!$D$3:$D$214,0),MATCH($S$2,[1]LETs!$F$2:$AZZ$2,0)),0)","v":7}]
[null,null,null,"Sup. e Liderança",null,{"$f":"[1]LETs!F34","v":1482},{"$f":"[1]LETs!G34","v":1095},{"$f":"[1]LETs!H34","v":387},{"$f":"[1]LETs!I34","v":0},{"$f":"[1]LETs!J34","v":0},{"$f":"[1]LETs!K34","v":0},{"$f":"[1]LETs!L34","v":0},{"$f":"[1]LETs!M34","v":0},{"$f":"[1]LETs!N34","v":0},{"$f":"[1]LETs!O34","v":0},{"$f":"[1]LETs!P34","v":0},{"$f":"[1]LETs!Q34","v":0},{"$f":"[1]LETs!R34","v":0},{"$f":"IFERROR(INDEX([1]LETs!$F$3:$AZZ$214,MATCH($D34,[1]LETs!$D$3:$D$214,0),MATCH($S$2,[1]LETs!$F$2:$AZZ$2,0)),0)","v":42}]
[null,null,null,"Inativos",null,{"$f":"[1]LETs!F35","v":785},{"$f":"[1]LETs!G35","v":580},{"$f":"[1]LETs!H35","v":205},{"$f":"[1]LETs!I35","v":0},{"$f":"[1]LETs!J35","v":0},{"$f":"[1]LETs!K35","v":0},{"$f":"[1]LETs!L35","v":0},{"$f":"[1]LETs!M35","v":0},{"$f":"[1]LETs!N35","v":0},{"$f":"[1]LETs!O35","v":0},{"$f":"[1]LETs!P35","v":0},{"$f":"[1]LETs!Q35","v":0},{"$f":"[1]LETs!R35","v":0},{"$f":"IFERROR(INDEX([1]LETs!$F$3:$AZZ$214,MATCH($D35,[1]LETs!$D$3:$D$214,0),MATCH($S$2,[1]LETs!$F$2:$AZZ$2,0)),0)","v":21}]
[null,null,null,"Ausências",null,{"$f":"[1]LETs!F36","v":2389},{"$f":"[1]LETs!G36","v":1832},{"$f":"[1]LETs!H36","v":557},{"$f":"[1]LETs!I36","v":0},{"$f":"[1]LETs!J36","v":0},{"$f":"[1]LETs!K36","v":0},{"$f":"[1]LETs!L36","v":0},{"$f":"[1]LETs!M36","v":0},{"$f":"[1]LETs!N36","v":0},{"$f":"[1]LETs!O36","v":0},{"$f":"[1]LETs!P36","v":0},{"$f":"[1]LETs!Q36","v":0},{"$f":"[1]LETs!R36","v":0},{"$f":"IFERROR(INDEX([1]LETs!$F$3:$AZZ$214,MATCH($D36,[1]LETs!$D$3:$D$214,0),MATCH($S$2,[1]LETs!$F$2:$AZZ$2,0)),0)","v":50}]
[null,null,null,"Sumidos",null,{"$f":"[1]LETs!F37","v":83},{"$f":"[1]LETs!G37","v":83},{"$f":"[1]LETs!H37","v":0},{"$f":"[1]LETs!I37","v":0},{"$f":"[1]LETs!J37","v":0},{"$f":"[1]LETs!K37","v":0},{"$f":"[1]LETs!L37","v":0},{"$f":"[1]LETs!M37","v":0},{"$f":"[1]LETs!N37","v":0},{"$f":"[1]LETs!O37","v":0},{"$f":"[1]LETs!P37","v":0},{"$f":"[1]LETs!Q37","v":0},{"$f":"[1]LETs!R37","v":0},{"$f":"IFERROR(INDEX([1]LETs!$F$3:$AZZ$214,MATCH($D37,[1]LETs!$D$3:$D$214,0),MATCH($S$2,[1]LETs!$F$2:$AZZ$2,0)),0)","v":0}]
[null,null,null,"Meta",null,{"$f":"[1]LETs!F38","v":2.4E-2},{"$f":"[1]LETs!G38","v":2.4E-2},{"$f":"[1]LETs!H38","v":2.4E-2},{"$f":"[1]LETs!I38","v":0},{"$f":"[1]LETs!J38","v":0},{"$f":"[1]LETs!K38","v":0},{"$f":"[1]LETs!L38","v":0},{"$f":"[1]LETs!M38","v":0},{"$f":"[1]LETs!N38","v":0},{"$f":"[1]LETs!O38","v":0},{"$f":"[1]LETs!P38","v":0},{"$f":"[1]LETs!Q38","v":0},{"$f":"[1]LETs!R38","v":0},{"$f":"IF(MONTH(S$2)=1,$G38,IF(MONTH(S$2)=2,$H38,IF(MONTH(S$2)=3,$I38,IF(MONTH(S$2)=4,$J38,IF(MONTH(S$2)=5,$K38,IF(MONTH(S$2)=6,$L38,IF(MONTH(S$2)=7,$M38,IF(MONTH(S$2)=8,$N38,IF(MONTH(S$2)=9,$O38,IF(MONTH(S$2)=10,$P38,IF(MONTH(S$2)=11,$Q38,$R38)))))))))))","v":2.4E-2},null,null,null,null,{"$f":"TODAY()","v":"2021-02-11"}]
[null,null,"Pulses","Pulses - Score",{"$f":"[1]LETs!E39","v":0.7},{"$f":"[1]LETs!F39","v":0.95830000000000004},{"$f":"[1]LETs!G39","v":0.94720000000000004},{"$f":"[1]LETs!H39","v":0.95830000000000004},{"$f":"[1]LETs!I39","v":0},{"$f":"[1]LETs!J39","v":0},{"$f":"[1]LETs!K39","v":0},{"$f":"[1]LETs!L39","v":0},{"$f":"[1]LETs!M39","v":0},{"$f":"[1]LETs!N39","v":0},{"$f":"[1]LETs!O39","v":0},{"$f":"[1]LETs!P39","v":0},{"$f":"[1]LETs!Q39","v":0},{"$f":"[1]LETs!R39","v":0},{"$f":"IFERROR(INDEX([1]LETs!$F$3:$AZZ$214,MATCH($D39,[1]LETs!$D$3:$D$214,0),MATCH($S$2,[1]LETs!$F$2:$AZZ$2,0)),0)","v":0.95830000000000004},null,null,null,null,{"$f":"X29-X38","v":0.4358431712971651}]
[null,null,null,"Meta",null,{"$f":"[1]LETs!F40","v":0.94},{"$f":"[1]LETs!G40","v":0.94},{"$f":"[1]LETs!H40","v":0.94},{"$f":"[1]LETs!I40","v":0},{"$f":"[1]LETs!J40","v":0},{"$f":"[1]LETs!K40","v":0},{"$f":"[1]LETs!L40","v":0},{"$f":"[1]LETs!M40","v":0},{"$f":"[1]LETs!N40","v":0},{"$f":"[1]LETs!O40","v":0},{"$f":"[1]LETs!P40","v":0},{"$f":"[1]LETs!Q40","v":0},{"$f":"[1]LETs!R40","v":0},{"$f":"IF(MONTH(S$2)=1,$G40,IF(MONTH(S$2)=2,$H40,IF(MONTH(S$2)=3,$I40,IF(MONTH(S$2)=4,$J40,IF(MONTH(S$2)=5,$K40,IF(MONTH(S$2)=6,$L40,IF(MONTH(S$2)=7,$M40,IF(MONTH(S$2)=8,$N40,IF(MONTH(S$2)=9,$O40,IF(MONTH(S$2)=10,$P40,IF(MONTH(S$2)=11,$Q40,$R40)))))))))))","v":0.94},null,null,null,"Bom Dia,",0.5]
[null,null,null,"Pulses - Adesão",{"$f":"[1]LETs!E41","v":0.3},{"$f":"[1]LETs!F41","v":0.85},{"$f":"[1]LETs!G41","v":0.85},{"$f":"[1]LETs!H41","v":0.85},{"$f":"[1]LETs!I41","v":0},{"$f":"[1]LETs!J41","v":0},{"$f":"[1]LETs!K41","v":0},{"$f":"[1]LETs!L41","v":0},{"$f":"[1]LETs!M41","v":0},{"$f":"[1]LETs!N41","v":0},{"$f":"[1]LETs!O41","v":0},{"$f":"[1]LETs!P41","v":0},{"$f":"[1]LETs!Q41","v":0},{"$f":"[1]LETs!R41","v":0},{"$f":"IFERROR(INDEX([1]LETs!$F$3:$AZZ$214,MATCH($D41,[1]LETs!$D$3:$D$214,0),MATCH($S$2,[1]LETs!$F$2:$AZZ$2,0)),0)","v":0.85},null,null,null,"Boa tarde,",0.75]
[null,null,null,"Meta",null,{"$f":"[1]LETs!F42","v":0.8},{"$f":"[1]LETs!G42","v":0.8},{"$f":"[1]LETs!H42","v":0.8},{"$f":"[1]LETs!I42","v":0},{"$f":"[1]LETs!J42","v":0},{"$f":"[1]LETs!K42","v":0},{"$f":"[1]LETs!L42","v":0},{"$f":"[1]LETs!M42","v":0},{"$f":"[1]LETs!N42","v":0},{"$f":"[1]LETs!O42","v":0},{"$f":"[1]LETs!P42","v":0},{"$f":"[1]LETs!Q42","v":0},{"$f":"[1]LETs!R42","v":0},{"$f":"IF(MONTH(S$2)=1,$G42,IF(MONTH(S$2)=2,$H42,IF(MONTH(S$2)=3,$I42,IF(MONTH(S$2)=4,$J42,IF(MONTH(S$2)=5,$K42,IF(MONTH(S$2)=6,$L42,IF(MONTH(S$2)=7,$M42,IF(MONTH(S$2)=8,$N42,IF(MONTH(S$2)=9,$O42,IF(MONTH(S$2)=10,$P42,IF(MONTH(S$2)=11,$Q42,$R42)))))))))))","v":0.8},null,null,null,"Boa Noite,"]
[null,"Inbound","TMAF","TMAF",{"$f":"[1]LETs!E43","v":1},{"$f":"[1]LETs!F43","v":6.5159317934584918E-2},{"$f":"[1]LETs!G43","v":6.8804747207475217E-2},{"$f":"[1]LETs!H43","v":5.7355267889222676E-2},{"$f":"[1]LETs!I43","v":0},{"$f":"[1]LETs!J43","v":0},{"$f":"[1]LETs!K43","v":0},{"$f":"[1]LETs!L43","v":0},{"$f":"[1]LETs!M43","v":0},{"$f":"[1]LETs!N43","v":0},{"$f":"[1]LETs!O43","v":0},{"$f":"[1]LETs!P43","v":0},{"$f":"[1]LETs!Q43","v":0},{"$f":"[1]LETs!R43","v":0},{"$f":"IFERROR(INDEX([1]LETs!$F$3:$AZZ$214,MATCH($D43,[1]LETs!$D$3:$D$214,0),MATCH($S$2,[1]LETs!$F$2:$AZZ$2,0)),0)","v":5.1574074075153263E-2}]
[null,null,null,"Qtd. CORM",null,{"$f":"[1]LETs!F44","v":647},{"$f":"[1]LETs!G44","v":441},{"$f":"[1]LETs!H44","v":206},{"$f":"[1]LETs!I44","v":0},{"$f":"[1]LETs!J44","v":0},{"$f":"[1]LETs!K44","v":0},{"$f":"[1]LETs!L44","v":0},{"$f":"[1]LETs!M44","v":0},{"$f":"[1]LETs!N44","v":0},{"$f":"[1]LETs!O44","v":0},{"$f":"[1]LETs!P44","v":0},{"$f":"[1]LETs!Q44","v":0},{"$f":"[1]LETs!R44","v":0},{"$f":"IFERROR(INDEX([1]LETs!$F$3:$AZZ$214,MATCH($D44,[1]LETs!$D$3:$D$214,0),MATCH($S$2,[1]LETs!$F$2:$AZZ$2,0)),0)","v":17}]
[null,null,null,"Meta",null,{"$f":"[1]LETs!F45","v":"01:59:59.712"},{"$f":"[1]LETs!G45","v":"02:00:00"},{"$f":"[1]LETs!H45","v":"02:00:00"},{"$f":"[1]LETs!I45","v":"00:00:00"},{"$f":"[1]LETs!J45","v":"00:00:00"},{"$f":"[1]LETs!K45","v":"00:00:00"},{"$f":"[1]LETs!L45","v":"00:00:00"},{"$f":"[1]LETs!M45","v":"00:00:00"},{"$f":"[1]LETs!N45","v":"00:00:00"},{"$f":"[1]LETs!O45","v":"00:00:00"},{"$f":"[1]LETs!P45","v":"00:00:00"},{"$f":"[1]LETs!Q45","v":"00:00:00"},{"$f":"[1]LETs!R45","v":"00:00:00"},{"$f":"IF(MONTH(S$2)=1,$G45,IF(MONTH(S$2)=2,$H45,IF(MONTH(S$2)=3,$I45,IF(MONTH(S$2)=4,$J45,IF(MONTH(S$2)=5,$K45,IF(MONTH(S$2)=6,$L45,IF(MONTH(S$2)=7,$M45,IF(MONTH(S$2)=8,$N45,IF(MONTH(S$2)=9,$O45,IF(MONTH(S$2)=10,$P45,IF(MONTH(S$2)=11,$Q45,$R45)))))))))))","v":"02:00:00"}]
[null,"Outbound","CMU","CMU",{"$f":"[1]LETs!E46","v":1},{"$f":"[1]LETs!F46","v":0.8},{"$f":"[1]LETs!G46","v":0.73},{"$f":"[1]LETs!H46","v":0.98},{"$f":"[1]LETs!I46","v":0},{"$f":"[1]LETs!J46","v":0},{"$f":"[1]LETs!K46","v":0},{"$f":"[1]LETs!L46","v":0},{"$f":"[1]LETs!M46","v":0},{"$f":"[1]LETs!N46","v":0},{"$f":"[1]LETs!O46","v":0},{"$f":"[1]LETs!P46","v":0},{"$f":"[1]LETs!Q46","v":0},{"$f":"[1]LETs!R46","v":0},{"$f":"IFERROR(INDEX([1]LETs!$F$3:$AZZ$214,MATCH($D46,[1]LETs!$D$3:$D$214,0),MATCH($S$2,[1]LETs!$F$2:$AZZ$2,0)),0)","v":1.7}]
[null,null,null,"Faturamento CMU",null,{"$f":"[1]LETs!F47","v":359980},{"$f":"[1]LETs!G47","v":266743},{"$f":"[1]LETs!H47","v":93237},{"$f":"[1]LETs!I47","v":0},{"$f":"[1]LETs!J47","v":0},{"$f":"[1]LETs!K47","v":0},{"$f":"[1]LETs!L47","v":0},{"$f":"[1]LETs!M47","v":0},{"$f":"[1]LETs!N47","v":0},{"$f":"[1]LETs!O47","v":0},{"$f":"[1]LETs!P47","v":0},{"$f":"[1]LETs!Q47","v":0},{"$f":"[1]LETs!R47","v":0},{"$f":"IFERROR(INDEX([1]LETs!$F$3:$AZZ$214,MATCH($D47,[1]LETs!$D$3:$D$214,0),MATCH($S$2,[1]LETs!$F$2:$AZZ$2,0)),0)","v":11918}]
[null,null,null,"Consumo",null,{"$f":"[1]LETs!F48","v":286915.23},{"$f":"[1]LETs!G48","v":195221.69999999998},{"$f":"[1]LETs!H48","v":91693.53},{"$f":"[1]LETs!I48","v":0},{"$f":"[1]LETs!J48","v":0},{"$f":"[1]LETs!K48","v":0},{"$f":"[1]LETs!L48","v":0},{"$f":"[1]LETs!M48","v":0},{"$f":"[1]LETs!N48","v":0},{"$f":"[1]LETs!O48","v":0},{"$f":"[1]LETs!P48","v":0},{"$f":"[1]LETs!Q48","v":0},{"$f":"[1]LETs!R48","v":0},{"$f":"IFERROR(INDEX([1]LETs!$F$3:$AZZ$214,MATCH($D48,[1]LETs!$D$3:$D$214,0),MATCH($S$2,[1]LETs!$F$2:$AZZ$2,0)),0)","v":20213.099999999999}]
[null,null,null,"Meta",null,{"$f":"[1]LETs!F49","v":0.61},{"$f":"[1]LETs!G49","v":0.61},{"$f":"[1]LETs!H49","v":0.61},{"$f":"[1]LETs!I49","v":0},{"$f":"[1]LETs!J49","v":0},{"$f":"[1]LETs!K49","v":0},{"$f":"[1]LETs!L49","v":0},{"$f":"[1]LETs!M49","v":0},{"$f":"[1]LETs!N49","v":0},{"$f":"[1]LETs!O49","v":0},{"$f":"[1]LETs!P49","v":0},{"$f":"[1]LETs!Q49","v":0},{"$f":"[1]LETs!R49","v":0},{"$f":"IF(MONTH(S$2)=1,$G49,IF(MONTH(S$2)=2,$H49,IF(MONTH(S$2)=3,$I49,IF(MONTH(S$2)=4,$J49,IF(MONTH(S$2)=5,$K49,IF(MONTH(S$2)=6,$L49,IF(MONTH(S$2)=7,$M49,IF(MONTH(S$2)=8,$N49,IF(MONTH(S$2)=9,$O49,IF(MONTH(S$2)=10,$P49,IF(MONTH(S$2)=11,$Q49,$R49)))))))))))","v":0.61}]
[null,null,"TMP Horas Produtivas","TMP Horas Produtivas",{"$f":"[1]LETs!E50","v":1},{"$f":"[1]LETs!F50","v":"02:21:27.879"},{"$f":"[1]LETs!G50","v":"02:21:09.357"},{"$f":"[1]LETs!H50","v":"02:21:46.400"},{"$f":"[1]LETs!I50","v":"00:00:00"},{"$f":"[1]LETs!J50","v":"00:00:00"},{"$f":"[1]LETs!K50","v":"00:00:00"},{"$f":"[1]LETs!L50","v":"00:00:00"},{"$f":"[1]LETs!M50","v":"00:00:00"},{"$f":"[1]LETs!N50","v":"00:00:00"},{"$f":"[1]LETs!O50","v":"00:00:00"},{"$f":"[1]LETs!P50","v":"00:00:00"},{"$f":"[1]LETs!Q50","v":"00:00:00"},{"$f":"[1]LETs!R50","v":"00:00:00"},{"$f":"IFERROR(INDEX([1]LETs!$F$3:$AZZ$214,MATCH($D50,[1]LETs!$D$3:$D$214,0),MATCH($S$2,[1]LETs!$F$2:$AZZ$2,0)),0)","v":"01:23:22"}]
[null,null,null,"Meta",null,{"$f":"[1]LETs!F51","v":"03:00:00"},{"$f":"[1]LETs!G51","v":"03:00:00"},{"$f":"[1]LETs!H51","v":"03:00:00"},{"$f":"[1]LETs!I51","v":"00:00:00"},{"$f":"[1]LETs!J51","v":"00:00:00"},{"$f":"[1]LETs!K51","v":"00:00:00"},{"$f":"[1]LETs!L51","v":"00:00:00"},{"$f":"[1]LETs!M51","v":"00:00:00"},{"$f":"[1]LETs!N51","v":"00:00:00"},{"$f":"[1]LETs!O51","v":"00:00:00"},{"$f":"[1]LETs!P51","v":"00:00:00"},{"$f":"[1]LETs!Q51","v":"00:00:00"},{"$f":"[1]LETs!R51","v":"00:00:00"},{"$f":"IF(MONTH(S$2)=1,$G51,IF(MONTH(S$2)=2,$H51,IF(MONTH(S$2)=3,$I51,IF(MONTH(S$2)=4,$J51,IF(MONTH(S$2)=5,$K51,IF(MONTH(S$2)=6,$L51,IF(MONTH(S$2)=7,$M51,IF(MONTH(S$2)=8,$N51,IF(MONTH(S$2)=9,$O51,IF(MONTH(S$2)=10,$P51,IF(MONTH(S$2)=11,$Q51,$R51)))))))))))","v":"03:00:00"}]
["COPA DOS CAMPÕES",4,"Absenteísmo","Absenteísmo",{"$f":"[1]LETs!E52","v":2},{"$f":"[1]LETs!F52","v":2.1399999999999999E-2},{"$f":"[1]LETs!G52","v":1.9400000000000001E-2},{"$f":"[1]LETs!H52","v":2.7E-2},{"$f":"[1]LETs!I52","v":0},{"$f":"[1]LETs!J52","v":0},{"$f":"[1]LETs!K52","v":0},{"$f":"[1]LETs!L52","v":0},{"$f":"[1]LETs!M52","v":0},{"$f":"[1]LETs!N52","v":0},{"$f":"[1]LETs!O52","v":0},{"$f":"[1]LETs!P52","v":0},{"$f":"[1]LETs!Q52","v":0},{"$f":"[1]LETs!R52","v":0},{"$f":"IFERROR(INDEX([1]LETs!$F$3:$AZZ$214,MATCH($D52,[1]LETs!$D$3:$D$214,0),MATCH($S$2,[1]LETs!$F$2:$AZZ$2,0)),0)","v":1.3899999999999999E-2}]
[null,"Inbound",null,"Quadro Líquido",null,{"$f":"[1]LETs!F53","v":700},{"$f":"[1]LETs!G53","v":515},{"$f":"[1]LETs!H53","v":185},{"$f":"[1]LETs!I53","v":0},{"$f":"[1]LETs!J53","v":0},{"$f":"[1]LETs!K53","v":0},{"$f":"[1]LETs!L53","v":0},{"$f":"[1]LETs!M53","v":0},{"$f":"[1]LETs!N53","v":0},{"$f":"[1]LETs!O53","v":0},{"$f":"[1]LETs!P53","v":0},{"$f":"[1]LETs!Q53","v":0},{"$f":"[1]LETs!R53","v":0},{"$f":"IFERROR(INDEX([1]LETs!$F$3:$AZZ$214,MATCH($D53,[1]LETs!$D$3:$D$214,0),MATCH($S$2,[1]LETs!$F$2:$AZZ$2,0)),0)","v":360}]
[null,null,null,"Faltas",null,{"$f":"[1]LETs!F54","v":15},{"$f":"[1]LETs!G54","v":10},{"$f":"[1]LETs!H54","v":5},{"$f":"[1]LETs!I54","v":0},{"$f":"[1]LETs!J54","v":0},{"$f":"[1]LETs!K54","v":0},{"$f":"[1]LETs!L54","v":0},{"$f":"[1]LETs!M54","v":0},{"$f":"[1]LETs!N54","v":0},{"$f":"[1]LETs!O54","v":0},{"$f":"[1]LETs!P54","v":0},{"$f":"[1]LETs!Q54","v":0},{"$f":"[1]LETs!R54","v":0},{"$f":"IFERROR(INDEX([1]LETs!$F$3:$AZZ$214,MATCH($D54,[1]LETs!$D$3:$D$214,0),MATCH($S$2,[1]LETs!$F$2:$AZZ$2,0)),0)","v":5}]
[null,null,null,"Quadro Total",null,{"$f":"[1]LETs!F55","v":778},{"$f":"[1]LETs!G55","v":577},{"$f":"[1]LETs!H55","v":201},{"$f":"[1]LETs!I55","v":0},{"$f":"[1]LETs!J55","v":0},{"$f":"[1]LETs!K55","v":0},{"$f":"[1]LETs!L55","v":0},{"$f":"[1]LETs!M55","v":0},{"$f":"[1]LETs!N55","v":0},{"$f":"[1]LETs!O55","v":0},{"$f":"[1]LETs!P55","v":0},{"$f":"[1]LETs!Q55","v":0},{"$f":"[1]LETs!R55","v":0},{"$f":"IFERROR(INDEX([1]LETs!$F$3:$AZZ$214,MATCH($D55,[1]LETs!$D$3:$D$214,0),MATCH($S$2,[1]LETs!$F$2:$AZZ$2,0)),0)","v":438}]
[null,null,null,"Ger. e Coord.",null,{"$f":"[1]LETs!F56","v":0},{"$f":"[1]LETs!G56","v":0},{"$f":"[1]LETs!H56","v":0},{"$f":"[1]LETs!I56","v":0},{"$f":"[1]LETs!J56","v":0},{"$f":"[1]LETs!K56","v":0},{"$f":"[1]LETs!L56","v":0},{"$f":"[1]LETs!M56","v":0},{"$f":"[1]LETs!N56","v":0},{"$f":"[1]LETs!O56","v":0},{"$f":"[1]LETs!P56","v":0},{"$f":"[1]LETs!Q56","v":0},{"$f":"[1]LETs!R56","v":0},{"$f":"IFERROR(INDEX([1]LETs!$F$3:$AZZ$214,MATCH($D56,[1]LETs!$D$3:$D$214,0),MATCH($S$2,[1]LETs!$F$2:$AZZ$2,0)),0)","v":7}]
[null,null,null,"Sup. e Liderança",null,{"$f":"[1]LETs!F57","v":131},{"$f":"[1]LETs!G57","v":101},{"$f":"[1]LETs!H57","v":30},{"$f":"[1]LETs!I57","v":0},{"$f":"[1]LETs!J57","v":0},{"$f":"[1]LETs!K57","v":0},{"$f":"[1]LETs!L57","v":0},{"$f":"[1]LETs!M57","v":0},{"$f":"[1]LETs!N57","v":0},{"$f":"[1]LETs!O57","v":0},{"$f":"[1]LETs!P57","v":0},{"$f":"[1]LETs!Q57","v":0},{"$f":"[1]LETs!R57","v":0},{"$f":"IFERROR(INDEX([1]LETs!$F$3:$AZZ$214,MATCH($D57,[1]LETs!$D$3:$D$214,0),MATCH($S$2,[1]LETs!$F$2:$AZZ$2,0)),0)","v":42}]
[null,null,null,"Inativos",null,{"$f":"[1]LETs!F58","v":0},{"$f":"[1]LETs!G58","v":0},{"$f":"[1]LETs!H58","v":0},{"$f":"[1]LETs!I58","v":0},{"$f":"[1]LETs!J58","v":0},{"$f":"[1]LETs!K58","v":0},{"$f":"[1]LETs!L58","v":0},{"$f":"[1]LETs!M58","v":0},{"$f":"[1]LETs!N58","v":0},{"$f":"[1]LETs!O58","v":0},{"$f":"[1]LETs!P58","v":0},{"$f":"[1]LETs!Q58","v":0},{"$f":"[1]LETs!R58","v":0},{"$f":"IFERROR(INDEX([1]LETs!$F$3:$AZZ$214,MATCH($D58,[1]LETs!$D$3:$D$214,0),MATCH($S$2,[1]LETs!$F$2:$AZZ$2,0)),0)","v":21}]
[null,null,null,"Ausências",null,{"$f":"[1]LETs!F59","v":78},{"$f":"[1]LETs!G59","v":62},{"$f":"[1]LETs!H59","v":16},{"$f":"[1]LETs!I59","v":0},{"$f":"[1]LETs!J59","v":0},{"$f":"[1]LETs!K59","v":0},{"$f":"[1]LETs!L59","v":0},{"$f":"[1]LETs!M59","v":0},{"$f":"[1]LETs!N59","v":0},{"$f":"[1]LETs!O59","v":0},{"$f":"[1]LETs!P59","v":0},{"$f":"[1]LETs!Q59","v":0},{"$f":"[1]LETs!R59","v":0},{"$f":"IFERROR(INDEX([1]LETs!$F$3:$AZZ$214,MATCH($D59,[1]LETs!$D$3:$D$214,0),MATCH($S$2,[1]LETs!$F$2:$AZZ$2,0)),0)","v":50}]
[null,null,null,"Sumidos",{"$f":"[1]LETs!E60","v":2},{"$f":"[1]LETs!F60","v":0},{"$f":"[1]LETs!G60","v":0},{"$f":"[1]LETs!H60","v":0},{"$f":"[1]LETs!I60","v":0},{"$f":"[1]LETs!J60","v":0},{"$f":"[1]LETs!K60","v":0},{"$f":"[1]LETs!L60","v":0},{"$f":"[1]LETs!M60","v":0},{"$f":"[1]LETs!N60","v":0},{"$f":"[1]LETs!O60","v":0},{"$f":"[1]LETs!P60","v":0},{"$f":"[1]LETs!Q60","v":0},{"$f":"[1]LETs!R60","v":0},{"$f":"IFERROR(INDEX([1]LETs!$F$3:$AZZ$214,MATCH($D60,[1]LETs!$D$3:$D$214,0),MATCH($S$2,[1]LETs!$F$2:$AZZ$2,0)),0)","v":0}]
[null,null,null,"Meta",{"$f":"[1]LETs!E61","v":0},{"$f":"[1]LETs!F61","v":2.4E-2},{"$f":"[1]LETs!G61","v":2.4E-2},{"$f":"[1]LETs!H61","v":2.4E-2},{"$f":"[1]LETs!I61","v":0},{"$f":"[1]LETs!J61","v":0},{"$f":"[1]LETs!K61","v":0},{"$f":"[1]LETs!L61","v":0},{"$f":"[1]LETs!M61","v":0},{"$f":"[1]LETs!N61","v":0},{"$f":"[1]LETs!O61","v":0},{"$f":"[1]LETs!P61","v":0},{"$f":"[1]LETs!Q61","v":0},{"$f":"[1]LETs!R61","v":0},{"$f":"IF(MONTH(S$2)=1,$G61,IF(MONTH(S$2)=2,$H61,IF(MONTH(S$2)=3,$I61,IF(MONTH(S$2)=4,$J61,IF(MONTH(S$2)=5,$K61,IF(MONTH(S$2)=6,$L61,IF(MONTH(S$2)=7,$M61,IF(MONTH(S$2)=8,$N61,IF(MONTH(S$2)=9,$O61,IF(MONTH(S$2)=10,$P61,IF(MONTH(S$2)=11,$Q61,$R61)))))))))))","v":2.4E-2}]
[null,null,"Acidentes (Típicos + Trajeto)","Acidentes",{"$f":"[1]LETs!E62","v":"-0,50\nP"},{"$f":"[1]LETs!F62","v":0},{"$f":"[1]LETs!G62","v":0},{"$f":"[1]LETs!H62","v":0},{"$f":"[1]LETs!I62","v":0},{"$f":"[1]LETs!J62","v":0},{"$f":"[1]LETs!K62","v":0},{"$f":"[1]LETs!L62","v":0},{"$f":"[1]LETs!M62","v":0},{"$f":"[1]LETs!N62","v":0},{"$f":"[1]LETs!O62","v":0},{"$f":"[1]LETs!P62","v":0},{"$f":"[1]LETs!Q62","v":0},{"$f":"[1]LETs!R62","v":0},{"$f":"IFERROR(INDEX([1]LETs!$F$3:$AZZ$214,MATCH($D62,[1]LETs!$D$3:$D$214,0),MATCH($S$2,[1]LETs!$F$2:$AZZ$2,0)),0)","v":0}]
[null,null,null,"Meta",null,{"$f":"[1]LETs!F63","v":0},{"$f":"[1]LETs!G63","v":0},{"$f":"[1]LETs!H63","v":0},{"$f":"[1]LETs!I63","v":0},{"$f":"[1]LETs!J63","v":0},{"$f":"[1]LETs!K63","v":0},{"$f":"[1]LETs!L63","v":0},{"$f":"[1]LETs!M63","v":0},{"$f":"[1]LETs!N63","v":0},{"$f":"[1]LETs!O63","v":0},{"$f":"[1]LETs!P63","v":0},{"$f":"[1]LETs!Q63","v":0},{"$f":"[1]LETs!R63","v":0},{"$f":"IF(MONTH(S$2)=1,$G63,IF(MONTH(S$2)=2,$H63,IF(MONTH(S$2)=3,$I63,IF(MONTH(S$2)=4,$J63,IF(MONTH(S$2)=5,$K63,IF(MONTH(S$2)=6,$L63,IF(MONTH(S$2)=7,$M63,IF(MONTH(S$2)=8,$N63,IF(MONTH(S$2)=9,$O63,IF(MONTH(S$2)=10,$P63,IF(MONTH(S$2)=11,$Q63,$R63)))))))))))","v":0}]
[null,null,"Anomalias","Anomalias",{"$f":"[1]LETs!E64","v":"-0,50\nP"},{"$f":"[1]LETs!F64","v":0},{"$f":"[1]LETs!G64","v":0},{"$f":"[1]LETs!H64","v":0},{"$f":"[1]LETs!I64","v":0},{"$f":"[1]LETs!J64","v":0},{"$f":"[1]LETs!K64","v":0},{"$f":"[1]LETs!L64","v":0},{"$f":"[1]LETs!M64","v":0},{"$f":"[1]LETs!N64","v":0},{"$f":"[1]LETs!O64","v":0},{"$f":"[1]LETs!P64","v":0},{"$f":"[1]LETs!Q64","v":0},{"$f":"[1]LETs!R64","v":0},{"$f":"IFERROR(INDEX([1]LETs!$F$3:$AZZ$214,MATCH($D64,[1]LETs!$D$3:$D$214,0),MATCH($S$2,[1]LETs!$F$2:$AZZ$2,0)),0)","v":0}]
[null,null,null,"Meta",null,{"$f":"[1]LETs!F65","v":0},{"$f":"[1]LETs!G65","v":0},{"$f":"[1]LETs!H65","v":0},{"$f":"[1]LETs!I65","v":0},{"$f":"[1]LETs!J65","v":0},{"$f":"[1]LETs!K65","v":0},{"$f":"[1]LETs!L65","v":0},{"$f":"[1]LETs!M65","v":0},{"$f":"[1]LETs!N65","v":0},{"$f":"[1]LETs!O65","v":0},{"$f":"[1]LETs!P65","v":0},{"$f":"[1]LETs!Q65","v":0},{"$f":"[1]LETs!R65","v":0},{"$f":"IF(MONTH(S$2)=1,$G65,IF(MONTH(S$2)=2,$H65,IF(MONTH(S$2)=3,$I65,IF(MONTH(S$2)=4,$J65,IF(MONTH(S$2)=5,$K65,IF(MONTH(S$2)=6,$L65,IF(MONTH(S$2)=7,$M65,IF(MONTH(S$2)=8,$N65,IF(MONTH(S$2)=9,$O65,IF(MONTH(S$2)=10,$P65,IF(MONTH(S$2)=11,$Q65,$R65)))))))))))","v":0}]
[null,null,"Produtividade Área","Produtividade Inbound",{"$f":"[1]LETs!E66","v":2},{"$f":"[1]LETs!F66","v":109.84},{"$f":"[1]LETs!G66","v":108.04},{"$f":"[1]LETs!H66","v":114.86},{"$f":"[1]LETs!I66","v":0},{"$f":"[1]LETs!J66","v":0},{"$f":"[1]LETs!K66","v":0},{"$f":"[1]LETs!L66","v":0},{"$f":"[1]LETs!M66","v":0},{"$f":"[1]LETs!N66","v":0},{"$f":"[1]LETs!O66","v":0},{"$f":"[1]LETs!P66","v":0},{"$f":"[1]LETs!Q66","v":0},{"$f":"[1]LETs!R66","v":0},{"$f":"IFERROR(INDEX([1]LETs!$F$3:$AZZ$214,MATCH($D66,[1]LETs!$D$3:$D$214,0),MATCH($S$2,[1]LETs!$F$2:$AZZ$2,0)),0)","v":87.74}]
[null,null,null,"Produção (Área)",null,{"$f":"[1]LETs!F67","v":461942},{"$f":"[1]LETs!G67","v":334280},{"$f":"[1]LETs!H67","v":127662},{"$f":"[1]LETs!I67","v":0},{"$f":"[1]LETs!J67","v":0},{"$f":"[1]LETs!K67","v":0},{"$f":"[1]LETs!L67","v":0},{"$f":"[1]LETs!M67","v":0},{"$f":"[1]LETs!N67","v":0},{"$f":"[1]LETs!O67","v":0},{"$f":"[1]LETs!P67","v":0},{"$f":"[1]LETs!Q67","v":0},{"$f":"[1]LETs!R67","v":0},{"$f":"IFERROR(INDEX([1]LETs!$F$3:$AZZ$214,MATCH($D67,[1]LETs!$D$3:$D$214,0),MATCH($S$2,[1]LETs!$F$2:$AZZ$2,0)),0)","v":10836}]
[null,null,null,"Quadro Produtivo (Área)",null,{"$f":"[1]LETs!F68","v":647},{"$f":"[1]LETs!G68","v":476},{"$f":"[1]LETs!H68","v":171},{"$f":"[1]LETs!I68","v":0},{"$f":"[1]LETs!J68","v":0},{"$f":"[1]LETs!K68","v":0},{"$f":"[1]LETs!L68","v":0},{"$f":"[1]LETs!M68","v":0},{"$f":"[1]LETs!N68","v":0},{"$f":"[1]LETs!O68","v":0},{"$f":"[1]LETs!P68","v":0},{"$f":"[1]LETs!Q68","v":0},{"$f":"[1]LETs!R68","v":0},{"$f":"IFERROR(INDEX([1]LETs!$F$3:$AZZ$214,MATCH($D68,[1]LETs!$D$3:$D$214,0),MATCH($S$2,[1]LETs!$F$2:$AZZ$2,0)),0)","v":19}]
[null,null,null,"Horas (Área)",null,{"$f":"[1]LETs!F69","v":6.5},{"$f":"[1]LETs!G69","v":6.5},{"$f":"[1]LETs!H69","v":6.5},{"$f":"[1]LETs!I69","v":0},{"$f":"[1]LETs!J69","v":0},{"$f":"[1]LETs!K69","v":0},{"$f":"[1]LETs!L69","v":0},{"$f":"[1]LETs!M69","v":0},{"$f":"[1]LETs!N69","v":0},{"$f":"[1]LETs!O69","v":0},{"$f":"[1]LETs!P69","v":0},{"$f":"[1]LETs!Q69","v":0},{"$f":"[1]LETs!R69","v":0},{"$f":"IFERROR(INDEX([1]LETs!$F$3:$AZZ$214,MATCH($D69,[1]LETs!$D$3:$D$214,0),MATCH($S$2,[1]LETs!$F$2:$AZZ$2,0)),0)","v":6.5}]
[null,null,null,"Meta",null,{"$f":"[1]LETs!F70","v":222.33783},{"$f":"[1]LETs!G70","v":234.13461538461539},{"$f":"[1]LETs!H70","v":189.5},{"$f":"[1]LETs!I70","v":0},{"$f":"[1]LETs!J70","v":0},{"$f":"[1]LETs!K70","v":0},{"$f":"[1]LETs!L70","v":0},{"$f":"[1]LETs!M70","v":0},{"$f":"[1]LETs!N70","v":0},{"$f":"[1]LETs!O70","v":0},{"$f":"[1]LETs!P70","v":0},{"$f":"[1]LETs!Q70","v":0},{"$f":"[1]LETs!R70","v":0},{"$f":"IF(MONTH(S$2)=1,$G70,IF(MONTH(S$2)=2,$H70,IF(MONTH(S$2)=3,$I70,IF(MONTH(S$2)=4,$J70,IF(MONTH(S$2)=5,$K70,IF(MONTH(S$2)=6,$L70,IF(MONTH(S$2)=7,$M70,IF(MONTH(S$2)=8,$N70,IF(MONTH(S$2)=9,$O70,IF(MONTH(S$2)=10,$P70,IF(MONTH(S$2)=11,$Q70,$R70)))))))))))","v":189.5}]
[null,null,"Erro em Doca - Recebimento","Erro em Doca - Recebimento",{"$f":"[1]LETs!E71","v":2},{"$f":"[1]LETs!F71","v":0},{"$f":"[1]LETs!G71","v":0},{"$f":"[1]LETs!H71","v":0},{"$f":"[1]LETs!I71","v":0},{"$f":"[1]LETs!J71","v":0},{"$f":"[1]LETs!K71","v":0},{"$f":"[1]LETs!L71","v":0},{"$f":"[1]LETs!M71","v":0},{"$f":"[1]LETs!N71","v":0},{"$f":"[1]LETs!O71","v":0},{"$f":"[1]LETs!P71","v":0},{"$f":"[1]LETs!Q71","v":0},{"$f":"[1]LETs!R71","v":0},{"$f":"IFERROR(INDEX([1]LETs!$F$3:$AZZ$214,MATCH($D71,[1]LETs!$D$3:$D$214,0),MATCH($S$2,[1]LETs!$F$2:$AZZ$2,0)),0)","v":0}]
[null,null,null,"Auditado (REC)",null,{"$f":"[1]LETs!F72","v":57966},{"$f":"[1]LETs!G72","v":41629},{"$f":"[1]LETs!H72","v":16337},{"$f":"[1]LETs!I72","v":0},{"$f":"[1]LETs!J72","v":0},{"$f":"[1]LETs!K72","v":0},{"$f":"[1]LETs!L72","v":0},{"$f":"[1]LETs!M72","v":0},{"$f":"[1]LETs!N72","v":0},{"$f":"[1]LETs!O72","v":0},{"$f":"[1]LETs!P72","v":0},{"$f":"[1]LETs!Q72","v":0},{"$f":"[1]LETs!R72","v":0},{"$f":"IFERROR(INDEX([1]LETs!$F$3:$AZZ$214,MATCH($D72,[1]LETs!$D$3:$D$214,0),MATCH($S$2,[1]LETs!$F$2:$AZZ$2,0)),0)","v":1472}]
[null,null,null,"Erros (REC)",null,{"$f":"[1]LETs!F73","v":0},{"$f":"[1]LETs!G73","v":0},{"$f":"[1]LETs!H73","v":0},{"$f":"[1]LETs!I73","v":0},{"$f":"[1]LETs!J73","v":0},{"$f":"[1]LETs!K73","v":0},{"$f":"[1]LETs!L73","v":0},{"$f":"[1]LETs!M73","v":0},{"$f":"[1]LETs!N73","v":0},{"$f":"[1]LETs!O73","v":0},{"$f":"[1]LETs!P73","v":0},{"$f":"[1]LETs!Q73","v":0},{"$f":"[1]LETs!R73","v":0},{"$f":"IFERROR(INDEX([1]LETs!$F$3:$AZZ$214,MATCH($D73,[1]LETs!$D$3:$D$214,0),MATCH($S$2,[1]LETs!$F$2:$AZZ$2,0)),0)","v":0}]
[null,null,null,"Meta",null,{"$f":"[1]LETs!F74","v":1.9999999999999999E-6},{"$f":"[1]LETs!G74","v":1.9999999999999999E-6},{"$f":"[1]LETs!H74","v":1.9999999999999999E-6},{"$f":"[1]LETs!I74","v":0},{"$f":"[1]LETs!J74","v":0},{"$f":"[1]LETs!K74","v":0},{"$f":"[1]LETs!L74","v":0},{"$f":"[1]LETs!M74","v":0},{"$f":"[1]LETs!N74","v":0},{"$f":"[1]LETs!O74","v":0},{"$f":"[1]LETs!P74","v":0},{"$f":"[1]LETs!Q74","v":0},{"$f":"[1]LETs!R74","v":0},{"$f":"IF(MONTH(S$2)=1,$G74,IF(MONTH(S$2)=2,$H74,IF(MONTH(S$2)=3,$I74,IF(MONTH(S$2)=4,$J74,IF(MONTH(S$2)=5,$K74,IF(MONTH(S$2)=6,$L74,IF(MONTH(S$2)=7,$M74,IF(MONTH(S$2)=8,$N74,IF(MONTH(S$2)=9,$O74,IF(MONTH(S$2)=10,$P74,IF(MONTH(S$2)=11,$Q74,$R74)))))))))))","v":1.9999999999999999E-6}]
[null,null,"Recebimento no Prazo","Recebimento no Prazo",{"$f":"[1]LETs!E75","v":2},{"$f":"[1]LETs!F75","v":0.96040000000000003},{"$f":"[1]LETs!G75","v":0.98009999999999997},{"$f":"[1]LETs!H75","v":0.9113},{"$f":"[1]LETs!I75","v":0},{"$f":"[1]LETs!J75","v":0},{"$f":"[1]LETs!K75","v":0},{"$f":"[1]LETs!L75","v":0},{"$f":"[1]LETs!M75","v":0},{"$f":"[1]LETs!N75","v":0},{"$f":"[1]LETs!O75","v":0},{"$f":"[1]LETs!P75","v":0},{"$f":"[1]LETs!Q75","v":0},{"$f":"[1]LETs!R75","v":0},{"$f":"IFERROR(INDEX([1]LETs!$F$3:$AZZ$214,MATCH($D75,[1]LETs!$D$3:$D$214,0),MATCH($S$2,[1]LETs!$F$2:$AZZ$2,0)),0)","v":0.8085}]
[null,null,null,"Prazo (REC)",null,{"$f":"[1]LETs!F76","v":449923},{"$f":"[1]LETs!G76","v":327934},{"$f":"[1]LETs!H76","v":121989},{"$f":"[1]LETs!I76","v":0},{"$f":"[1]LETs!J76","v":0},{"$f":"[1]LETs!K76","v":0},{"$f":"[1]LETs!L76","v":0},{"$f":"[1]LETs!M76","v":0},{"$f":"[1]LETs!N76","v":0},{"$f":"[1]LETs!O76","v":0},{"$f":"[1]LETs!P76","v":0},{"$f":"[1]LETs!Q76","v":0},{"$f":"[1]LETs!R76","v":0},{"$f":"IFERROR(INDEX([1]LETs!$F$3:$AZZ$214,MATCH($D76,[1]LETs!$D$3:$D$214,0),MATCH($S$2,[1]LETs!$F$2:$AZZ$2,0)),0)","v":9394}]
[null,null,null,"Atraso (REC)",null,{"$f":"[1]LETs!F77","v":18537},{"$f":"[1]LETs!G77","v":6661},{"$f":"[1]LETs!H77","v":11876},{"$f":"[1]LETs!I77","v":0},{"$f":"[1]LETs!J77","v":0},{"$f":"[1]LETs!K77","v":0},{"$f":"[1]LETs!L77","v":0},{"$f":"[1]LETs!M77","v":0},{"$f":"[1]LETs!N77","v":0},{"$f":"[1]LETs!O77","v":0},{"$f":"[1]LETs!P77","v":0},{"$f":"[1]LETs!Q77","v":0},{"$f":"[1]LETs!R77","v":0},{"$f":"IFERROR(INDEX([1]LETs!$F$3:$AZZ$214,MATCH($D77,[1]LETs!$D$3:$D$214,0),MATCH($S$2,[1]LETs!$F$2:$AZZ$2,0)),0)","v":2225}]
[null,null,null,"Meta",null,{"$f":"[1]LETs!F78","v":0.99990000000000001},{"$f":"[1]LETs!G78","v":0.99990000000000001},{"$f":"[1]LETs!H78","v":0.99990000000000001},{"$f":"[1]LETs!I78","v":0},{"$f":"[1]LETs!J78","v":0},{"$f":"[1]LETs!K78","v":0},{"$f":"[1]LETs!L78","v":0},{"$f":"[1]LETs!M78","v":0},{"$f":"[1]LETs!N78","v":0},{"$f":"[1]LETs!O78","v":0},{"$f":"[1]LETs!P78","v":0},{"$f":"[1]LETs!Q78","v":0},{"$f":"[1]LETs!R78","v":0},{"$f":"IF(MONTH(S$2)=1,$G78,IF(MONTH(S$2)=2,$H78,IF(MONTH(S$2)=3,$I78,IF(MONTH(S$2)=4,$J78,IF(MONTH(S$2)=5,$K78,IF(MONTH(S$2)=6,$L78,IF(MONTH(S$2)=7,$M78,IF(MONTH(S$2)=8,$N78,IF(MONTH(S$2)=9,$O78,IF(MONTH(S$2)=10,$P78,IF(MONTH(S$2)=11,$Q78,$R78)))))))))))","v":0.99990000000000001}]
[null,9.09,"Absenteísmo","Absenteísmo",{"$f":"[1]LETs!E79","v":2},{"$f":"[1]LETs!F79","v":1.9900000000000001E-2},{"$f":"[1]LETs!G79","v":2.1299999999999999E-2},{"$f":"[1]LETs!H79","v":1.5699999999999999E-2},{"$f":"[1]LETs!I79","v":0},{"$f":"[1]LETs!J79","v":0},{"$f":"[1]LETs!K79","v":0},{"$f":"[1]LETs!L79","v":0},{"$f":"[1]LETs!M79","v":0},{"$f":"[1]LETs!N79","v":0},{"$f":"[1]LETs!O79","v":0},{"$f":"[1]LETs!P79","v":0},{"$f":"[1]LETs!Q79","v":0},{"$f":"[1]LETs!R79","v":0},{"$f":"IFERROR(INDEX([1]LETs!$F$3:$AZZ$214,MATCH($D79,[1]LETs!$D$3:$D$214,0),MATCH($S$2,[1]LETs!$F$2:$AZZ$2,0)),0)","v":1.3899999999999999E-2}]
[null,"Estoque",null,"Quadro Líquido",null,{"$f":"[1]LETs!F80","v":4174},{"$f":"[1]LETs!G80","v":3093},{"$f":"[1]LETs!H80","v":1081},{"$f":"[1]LETs!I80","v":0},{"$f":"[1]LETs!J80","v":0},{"$f":"[1]LETs!K80","v":0},{"$f":"[1]LETs!L80","v":0},{"$f":"[1]LETs!M80","v":0},{"$f":"[1]LETs!N80","v":0},{"$f":"[1]LETs!O80","v":0},{"$f":"[1]LETs!P80","v":0},{"$f":"[1]LETs!Q80","v":0},{"$f":"[1]LETs!R80","v":0},{"$f":"IFERROR(INDEX([1]LETs!$F$3:$AZZ$214,MATCH($D80,[1]LETs!$D$3:$D$214,0),MATCH($S$2,[1]LETs!$F$2:$AZZ$2,0)),0)","v":360}]
[null,null,null,"Faltas",null,{"$f":"[1]LETs!F81","v":83},{"$f":"[1]LETs!G81","v":66},{"$f":"[1]LETs!H81","v":17},{"$f":"[1]LETs!I81","v":0},{"$f":"[1]LETs!J81","v":0},{"$f":"[1]LETs!K81","v":0},{"$f":"[1]LETs!L81","v":0},{"$f":"[1]LETs!M81","v":0},{"$f":"[1]LETs!N81","v":0},{"$f":"[1]LETs!O81","v":0},{"$f":"[1]LETs!P81","v":0},{"$f":"[1]LETs!Q81","v":0},{"$f":"[1]LETs!R81","v":0},{"$f":"IFERROR(INDEX([1]LETs!$F$3:$AZZ$214,MATCH($D81,[1]LETs!$D$3:$D$214,0),MATCH($S$2,[1]LETs!$F$2:$AZZ$2,0)),0)","v":5}]
[null,null,null,"Quadro Total",null,{"$f":"[1]LETs!F82","v":5417},{"$f":"[1]LETs!G82","v":4060},{"$f":"[1]LETs!H82","v":1357},{"$f":"[1]LETs!I82","v":0},{"$f":"[1]LETs!J82","v":0},{"$f":"[1]LETs!K82","v":0},{"$f":"[1]LETs!L82","v":0},{"$f":"[1]LETs!M82","v":0},{"$f":"[1]LETs!N82","v":0},{"$f":"[1]LETs!O82","v":0},{"$f":"[1]LETs!P82","v":0},{"$f":"[1]LETs!Q82","v":0},{"$f":"[1]LETs!R82","v":0},{"$f":"IFERROR(INDEX([1]LETs!$F$3:$AZZ$214,MATCH($D82,[1]LETs!$D$3:$D$214,0),MATCH($S$2,[1]LETs!$F$2:$AZZ$2,0)),0)","v":438}]
[null,null,null,"Ger. e Coord.",null,{"$f":"[1]LETs!F83","v":99},{"$f":"[1]LETs!G83","v":71},{"$f":"[1]LETs!H83","v":28},{"$f":"[1]LETs!I83","v":0},{"$f":"[1]LETs!J83","v":0},{"$f":"[1]LETs!K83","v":0},{"$f":"[1]LETs!L83","v":0},{"$f":"[1]LETs!M83","v":0},{"$f":"[1]LETs!N83","v":0},{"$f":"[1]LETs!O83","v":0},{"$f":"[1]LETs!P83","v":0},{"$f":"[1]LETs!Q83","v":0},{"$f":"[1]LETs!R83","v":0},{"$f":"IFERROR(INDEX([1]LETs!$F$3:$AZZ$214,MATCH($D83,[1]LETs!$D$3:$D$214,0),MATCH($S$2,[1]LETs!$F$2:$AZZ$2,0)),0)","v":7}]
[null,null,null,"Sup. e Liderança",null,{"$f":"[1]LETs!F84","v":449},{"$f":"[1]LETs!G84","v":330},{"$f":"[1]LETs!H84","v":119},{"$f":"[1]LETs!I84","v":0},{"$f":"[1]LETs!J84","v":0},{"$f":"[1]LETs!K84","v":0},{"$f":"[1]LETs!L84","v":0},{"$f":"[1]LETs!M84","v":0},{"$f":"[1]LETs!N84","v":0},{"$f":"[1]LETs!O84","v":0},{"$f":"[1]LETs!P84","v":0},{"$f":"[1]LETs!Q84","v":0},{"$f":"[1]LETs!R84","v":0},{"$f":"IFERROR(INDEX([1]LETs!$F$3:$AZZ$214,MATCH($D84,[1]LETs!$D$3:$D$214,0),MATCH($S$2,[1]LETs!$F$2:$AZZ$2,0)),0)","v":42}]
[null,null,null,"Inativos",{"$f":"[1]LETs!E85","v":0.5},{"$f":"[1]LETs!F85","v":202},{"$f":"[1]LETs!G85","v":144},{"$f":"[1]LETs!H85","v":58},{"$f":"[1]LETs!I85","v":0},{"$f":"[1]LETs!J85","v":0},{"$f":"[1]LETs!K85","v":0},{"$f":"[1]LETs!L85","v":0},{"$f":"[1]LETs!M85","v":0},{"$f":"[1]LETs!N85","v":0},{"$f":"[1]LETs!O85","v":0},{"$f":"[1]LETs!P85","v":0},{"$f":"[1]LETs!Q85","v":0},{"$f":"[1]LETs!R85","v":0},{"$f":"IFERROR(INDEX([1]LETs!$F$3:$AZZ$214,MATCH($D85,[1]LETs!$D$3:$D$214,0),MATCH($S$2,[1]LETs!$F$2:$AZZ$2,0)),0)","v":21}]
[null,null,null,"Ausências",{"$f":"[1]LETs!E86","v":0.75},{"$f":"[1]LETs!F86","v":859},{"$f":"[1]LETs!G86","v":669},{"$f":"[1]LETs!H86","v":190},{"$f":"[1]LETs!I86","v":0},{"$f":"[1]LETs!J86","v":0},{"$f":"[1]LETs!K86","v":0},{"$f":"[1]LETs!L86","v":0},{"$f":"[1]LETs!M86","v":0},{"$f":"[1]LETs!N86","v":0},{"$f":"[1]LETs!O86","v":0},{"$f":"[1]LETs!P86","v":0},{"$f":"[1]LETs!Q86","v":0},{"$f":"[1]LETs!R86","v":0},{"$f":"IFERROR(INDEX([1]LETs!$F$3:$AZZ$214,MATCH($D86,[1]LETs!$D$3:$D$214,0),MATCH($S$2,[1]LETs!$F$2:$AZZ$2,0)),0)","v":50}]
[null,null,null,"Sumidos",{"$f":"[1]LETs!E87","v":1.75},{"$f":"[1]LETs!F87","v":83},{"$f":"[1]LETs!G87","v":83},{"$f":"[1]LETs!H87","v":0},{"$f":"[1]LETs!I87","v":0},{"$f":"[1]LETs!J87","v":0},{"$f":"[1]LETs!K87","v":0},{"$f":"[1]LETs!L87","v":0},{"$f":"[1]LETs!M87","v":0},{"$f":"[1]LETs!N87","v":0},{"$f":"[1]LETs!O87","v":0},{"$f":"[1]LETs!P87","v":0},{"$f":"[1]LETs!Q87","v":0},{"$f":"[1]LETs!R87","v":0},{"$f":"IFERROR(INDEX([1]LETs!$F$3:$AZZ$214,MATCH($D87,[1]LETs!$D$3:$D$214,0),MATCH($S$2,[1]LETs!$F$2:$AZZ$2,0)),0)","v":0}]
[null,null,null,"Meta",{"$f":"[1]LETs!E88","v":0},{"$f":"[1]LETs!F88","v":2.4E-2},{"$f":"[1]LETs!G88","v":2.4E-2},{"$f":"[1]LETs!H88","v":2.4E-2},{"$f":"[1]LETs!I88","v":0},{"$f":"[1]LETs!J88","v":0},{"$f":"[1]LETs!K88","v":0},{"$f":"[1]LETs!L88","v":0},{"$f":"[1]LETs!M88","v":0},{"$f":"[1]LETs!N88","v":0},{"$f":"[1]LETs!O88","v":0},{"$f":"[1]LETs!P88","v":0},{"$f":"[1]LETs!Q88","v":0},{"$f":"[1]LETs!R88","v":0},{"$f":"IF(MONTH(S$2)=1,$G88,IF(MONTH(S$2)=2,$H88,IF(MONTH(S$2)=3,$I88,IF(MONTH(S$2)=4,$J88,IF(MONTH(S$2)=5,$K88,IF(MONTH(S$2)=6,$L88,IF(MONTH(S$2)=7,$M88,IF(MONTH(S$2)=8,$N88,IF(MONTH(S$2)=9,$O88,IF(MONTH(S$2)=10,$P88,IF(MONTH(S$2)=11,$Q88,$R88)))))))))))","v":2.4E-2}]
[null,null,"Acidentes (Típicos + Trajeto)","Acidentes",{"$f":"[1]LETs!E89","v":"-0,50\nP"},{"$f":"[1]LETs!F89","v":0},{"$f":"[1]LETs!G89","v":0},{"$f":"[1]LETs!H89","v":0},{"$f":"[1]LETs!I89","v":0},{"$f":"[1]LETs!J89","v":0},{"$f":"[1]LETs!K89","v":0},{"$f":"[1]LETs!L89","v":0},{"$f":"[1]LETs!M89","v":0},{"$f":"[1]LETs!N89","v":0},{"$f":"[1]LETs!O89","v":0},{"$f":"[1]LETs!P89","v":0},{"$f":"[1]LETs!Q89","v":0},{"$f":"[1]LETs!R89","v":0},{"$f":"IFERROR(INDEX([1]LETs!$F$3:$AZZ$214,MATCH($D89,[1]LETs!$D$3:$D$214,0),MATCH($S$2,[1]LETs!$F$2:$AZZ$2,0)),0)","v":0}]
[null,null,null,"Meta",null,{"$f":"[1]LETs!F90","v":0},{"$f":"[1]LETs!G90","v":0},{"$f":"[1]LETs!H90","v":0},{"$f":"[1]LETs!I90","v":0},{"$f":"[1]LETs!J90","v":0},{"$f":"[1]LETs!K90","v":0},{"$f":"[1]LETs!L90","v":0},{"$f":"[1]LETs!M90","v":0},{"$f":"[1]LETs!N90","v":0},{"$f":"[1]LETs!O90","v":0},{"$f":"[1]LETs!P90","v":0},{"$f":"[1]LETs!Q90","v":0},{"$f":"[1]LETs!R90","v":0},{"$f":"IF(MONTH(S$2)=1,$G90,IF(MONTH(S$2)=2,$H90,IF(MONTH(S$2)=3,$I90,IF(MONTH(S$2)=4,$J90,IF(MONTH(S$2)=5,$K90,IF(MONTH(S$2)=6,$L90,IF(MONTH(S$2)=7,$M90,IF(MONTH(S$2)=8,$N90,IF(MONTH(S$2)=9,$O90,IF(MONTH(S$2)=10,$P90,IF(MONTH(S$2)=11,$Q90,$R90)))))))))))","v":0}]
[null,null,"Anomalias","Anomalias",{"$f":"[1]LETs!E91","v":"-0,50\nP"},{"$f":"[1]LETs!F91","v":0},{"$f":"[1]LETs!G91","v":0},{"$f":"[1]LETs!H91","v":0},{"$f":"[1]LETs!I91","v":0},{"$f":"[1]LETs!J91","v":0},{"$f":"[1]LETs!K91","v":0},{"$f":"[1]LETs!L91","v":0},{"$f":"[1]LETs!M91","v":0},{"$f":"[1]LETs!N91","v":0},{"$f":"[1]LETs!O91","v":0},{"$f":"[1]LETs!P91","v":0},{"$f":"[1]LETs!Q91","v":0},{"$f":"[1]LETs!R91","v":0},{"$f":"IFERROR(INDEX([1]LETs!$F$3:$AZZ$214,MATCH($D91,[1]LETs!$D$3:$D$214,0),MATCH($S$2,[1]LETs!$F$2:$AZZ$2,0)),0)","v":0}]
[null,null,null,"Meta",null,{"$f":"[1]LETs!F92","v":0},{"$f":"[1]LETs!G92","v":0},{"$f":"[1]LETs!H92","v":0},{"$f":"[1]LETs!I92","v":0},{"$f":"[1]LETs!J92","v":0},{"$f":"[1]LETs!K92","v":0},{"$f":"[1]LETs!L92","v":0},{"$f":"[1]LETs!M92","v":0},{"$f":"[1]LETs!N92","v":0},{"$f":"[1]LETs!O92","v":0},{"$f":"[1]LETs!P92","v":0},{"$f":"[1]LETs!Q92","v":0},{"$f":"[1]LETs!R92","v":0},{"$f":"IF(MONTH(S$2)=1,$G92,IF(MONTH(S$2)=2,$H92,IF(MONTH(S$2)=3,$I92,IF(MONTH(S$2)=4,$J92,IF(MONTH(S$2)=5,$K92,IF(MONTH(S$2)=6,$L92,IF(MONTH(S$2)=7,$M92,IF(MONTH(S$2)=8,$N92,IF(MONTH(S$2)=9,$O92,IF(MONTH(S$2)=10,$P92,IF(MONTH(S$2)=11,$Q92,$R92)))))))))))","v":0}]
[null,null,"Produtividade Área","Produtividade Estoque",{"$f":"[1]LETs!E93","v":1},{"$f":"[1]LETs!F93","v":12.17},{"$f":"[1]LETs!G93","v":11.73},{"$f":"[1]LETs!H93","v":13.52},{"$f":"[1]LETs!I93","v":0},{"$f":"[1]LETs!J93","v":0},{"$f":"[1]LETs!K93","v":0},{"$f":"[1]LETs!L93","v":0},{"$f":"[1]LETs!M93","v":0},{"$f":"[1]LETs!N93","v":0},{"$f":"[1]LETs!O93","v":0},{"$f":"[1]LETs!P93","v":0},{"$f":"[1]LETs!Q93","v":0},{"$f":"[1]LETs!R93","v":0},{"$f":"IFERROR(INDEX([1]LETs!$F$3:$AZZ$214,MATCH($D93,[1]LETs!$D$3:$D$214,0),MATCH($S$2,[1]LETs!$F$2:$AZZ$2,0)),0)","v":17.22}]
[null,null,null,"Produção (Área)",null,{"$f":"[1]LETs!F94","v":369120},{"$f":"[1]LETs!G94","v":267907},{"$f":"[1]LETs!H94","v":101213},{"$f":"[1]LETs!I94","v":0},{"$f":"[1]LETs!J94","v":0},{"$f":"[1]LETs!K94","v":0},{"$f":"[1]LETs!L94","v":0},{"$f":"[1]LETs!M94","v":0},{"$f":"[1]LETs!N94","v":0},{"$f":"[1]LETs!O94","v":0},{"$f":"[1]LETs!P94","v":0},{"$f":"[1]LETs!Q94","v":0},{"$f":"[1]LETs!R94","v":0},{"$f":"IFERROR(INDEX([1]LETs!$F$3:$AZZ$214,MATCH($D94,[1]LETs!$D$3:$D$214,0),MATCH($S$2,[1]LETs!$F$2:$AZZ$2,0)),0)","v":10836}]
[null,null,null,"Quadro Produtivo (Área)",null,{"$f":"[1]LETs!F95","v":4667},{"$f":"[1]LETs!G95","v":3515},{"$f":"[1]LETs!H95","v":1152},{"$f":"[1]LETs!I95","v":0},{"$f":"[1]LETs!J95","v":0},{"$f":"[1]LETs!K95","v":0},{"$f":"[1]LETs!L95","v":0},{"$f":"[1]LETs!M95","v":0},{"$f":"[1]LETs!N95","v":0},{"$f":"[1]LETs!O95","v":0},{"$f":"[1]LETs!P95","v":0},{"$f":"[1]LETs!Q95","v":0},{"$f":"[1]LETs!R95","v":0},{"$f":"IFERROR(INDEX([1]LETs!$F$3:$AZZ$214,MATCH($D95,[1]LETs!$D$3:$D$214,0),MATCH($S$2,[1]LETs!$F$2:$AZZ$2,0)),0)","v":19}]
[null,null,null,"Horas (Área)",null,{"$f":"[1]LETs!F96","v":6.5},{"$f":"[1]LETs!G96","v":6.5},{"$f":"[1]LETs!H96","v":6.5},{"$f":"[1]LETs!I96","v":0},{"$f":"[1]LETs!J96","v":0},{"$f":"[1]LETs!K96","v":0},{"$f":"[1]LETs!L96","v":0},{"$f":"[1]LETs!M96","v":0},{"$f":"[1]LETs!N96","v":0},{"$f":"[1]LETs!O96","v":0},{"$f":"[1]LETs!P96","v":0},{"$f":"[1]LETs!Q96","v":0},{"$f":"[1]LETs!R96","v":0},{"$f":"IFERROR(INDEX([1]LETs!$F$3:$AZZ$214,MATCH($D96,[1]LETs!$D$3:$D$214,0),MATCH($S$2,[1]LETs!$F$2:$AZZ$2,0)),0)","v":6.5}]
[null,null,null,"Meta",null,{"$f":"[1]LETs!F97","v":14.188420000000001},{"$f":"[1]LETs!G97","v":15.122489575924559},{"$f":"[1]LETs!H97","v":11.338382406364408},{"$f":"[1]LETs!I97","v":0},{"$f":"[1]LETs!J97","v":0},{"$f":"[1]LETs!K97","v":0},{"$f":"[1]LETs!L97","v":0},{"$f":"[1]LETs!M97","v":0},{"$f":"[1]LETs!N97","v":0},{"$f":"[1]LETs!O97","v":0},{"$f":"[1]LETs!P97","v":0},{"$f":"[1]LETs!Q97","v":0},{"$f":"[1]LETs!R97","v":0},{"$f":"IF(MONTH(S$2)=1,$G97,IF(MONTH(S$2)=2,$H97,IF(MONTH(S$2)=3,$I97,IF(MONTH(S$2)=4,$J97,IF(MONTH(S$2)=5,$K97,IF(MONTH(S$2)=6,$L97,IF(MONTH(S$2)=7,$M97,IF(MONTH(S$2)=8,$N97,IF(MONTH(S$2)=9,$O97,IF(MONTH(S$2)=10,$P97,IF(MONTH(S$2)=11,$Q97,$R97)))))))))))","v":11.338382406364408}]
[null,null,"Cancelamentos","Cancelamentos",{"$f":"[1]LETs!E98","v":0.5},{"$f":"[1]LETs!F98","v":7.9999999999999996E-6},{"$f":"[1]LETs!G98","v":6.9999999999999999E-6},{"$f":"[1]LETs!H98","v":1.0000000000000001E-5},{"$f":"[1]LETs!I98","v":0},{"$f":"[1]LETs!J98","v":0},{"$f":"[1]LETs!K98","v":0},{"$f":"[1]LETs!L98","v":0},{"$f":"[1]LETs!M98","v":0},{"$f":"[1]LETs!N98","v":0},{"$f":"[1]LETs!O98","v":0},{"$f":"[1]LETs!P98","v":0},{"$f":"[1]LETs!Q98","v":0},{"$f":"[1]LETs!R98","v":0},{"$f":"IFERROR(INDEX([1]LETs!$F$3:$AZZ$214,MATCH($D98,[1]LETs!$D$3:$D$214,0),MATCH($S$2,[1]LETs!$F$2:$AZZ$2,0)),0)","v":0}]
[null,null,null,"Qtd. Cancel.",null,{"$f":"[1]LETs!F99","v":3},{"$f":"[1]LETs!G99","v":2},{"$f":"[1]LETs!H99","v":1},{"$f":"[1]LETs!I99","v":0},{"$f":"[1]LETs!J99","v":0},{"$f":"[1]LETs!K99","v":0},{"$f":"[1]LETs!L99","v":0},{"$f":"[1]LETs!M99","v":0},{"$f":"[1]LETs!N99","v":0},{"$f":"[1]LETs!O99","v":0},{"$f":"[1]LETs!P99","v":0},{"$f":"[1]LETs!Q99","v":0},{"$f":"[1]LETs!R99","v":0},{"$f":"IFERROR(INDEX([1]LETs!$F$3:$AZZ$214,MATCH($D99,[1]LETs!$D$3:$D$214,0),MATCH($S$2,[1]LETs!$F$2:$AZZ$2,0)),0)","v":0}]
[null,null,null,"Faturamento",null,{"$f":"[1]LETs!F100","v":366850},{"$f":"[1]LETs!G100","v":266743},{"$f":"[1]LETs!H100","v":100107},{"$f":"[1]LETs!I100","v":0},{"$f":"[1]LETs!J100","v":0},{"$f":"[1]LETs!K100","v":0},{"$f":"[1]LETs!L100","v":0},{"$f":"[1]LETs!M100","v":0},{"$f":"[1]LETs!N100","v":0},{"$f":"[1]LETs!O100","v":0},{"$f":"[1]LETs!P100","v":0},{"$f":"[1]LETs!Q100","v":0},{"$f":"[1]LETs!R100","v":0},{"$f":"IFERROR(INDEX([1]LETs!$F$3:$AZZ$214,MATCH($D100,[1]LETs!$D$3:$D$214,0),MATCH($S$2,[1]LETs!$F$2:$AZZ$2,0)),0)","v":13851}]
[null,null,null,"Meta",null,{"$f":"[1]LETs!F101","v":3.0000000000000001E-6},{"$f":"[1]LETs!G101","v":3.0000000000000001E-6},{"$f":"[1]LETs!H101","v":3.0000000000000001E-6},{"$f":"[1]LETs!I101","v":0},{"$f":"[1]LETs!J101","v":0},{"$f":"[1]LETs!K101","v":0},{"$f":"[1]LETs!L101","v":0},{"$f":"[1]LETs!M101","v":0},{"$f":"[1]LETs!N101","v":0},{"$f":"[1]LETs!O101","v":0},{"$f":"[1]LETs!P101","v":0},{"$f":"[1]LETs!Q101","v":0},{"$f":"[1]LETs!R101","v":0},{"$f":"IF(MONTH(S$2)=1,$G101,IF(MONTH(S$2)=2,$H101,IF(MONTH(S$2)=3,$I101,IF(MONTH(S$2)=4,$J101,IF(MONTH(S$2)=5,$K101,IF(MONTH(S$2)=6,$L101,IF(MONTH(S$2)=7,$M101,IF(MONTH(S$2)=8,$N101,IF(MONTH(S$2)=9,$O101,IF(MONTH(S$2)=10,$P101,IF(MONTH(S$2)=11,$Q101,$R101)))))))))))","v":3.0000000000000001E-6}]
[null,null,"Não Conformidades","Não Conformidades",{"$f":"[1]LETs!E102","v":1.25},{"$f":"[1]LETs!F102","v":3.0000000000000001E-6},{"$f":"[1]LETs!G102","v":3.9999999999999998E-6},{"$f":"[1]LETs!H102","v":0},{"$f":"[1]LETs!I102","v":0},{"$f":"[1]LETs!J102","v":0},{"$f":"[1]LETs!K102","v":0},{"$f":"[1]LETs!L102","v":0},{"$f":"[1]LETs!M102","v":0},{"$f":"[1]LETs!N102","v":0},{"$f":"[1]LETs!O102","v":0},{"$f":"[1]LETs!P102","v":0},{"$f":"[1]LETs!Q102","v":0},{"$f":"[1]LETs!R102","v":0},{"$f":"IFERROR(INDEX([1]LETs!$F$3:$AZZ$214,MATCH($D102,[1]LETs!$D$3:$D$214,0),MATCH($S$2,[1]LETs!$F$2:$AZZ$2,0)),0)","v":0}]
[null,null,null,"Qtd. NC",null,{"$f":"[1]LETs!F103","v":1},{"$f":"[1]LETs!G103","v":1},{"$f":"[1]LETs!H103","v":0},{"$f":"[1]LETs!I103","v":0},{"$f":"[1]LETs!J103","v":0},{"$f":"[1]LETs!K103","v":0},{"$f":"[1]LETs!L103","v":0},{"$f":"[1]LETs!M103","v":0},{"$f":"[1]LETs!N103","v":0},{"$f":"[1]LETs!O103","v":0},{"$f":"[1]LETs!P103","v":0},{"$f":"[1]LETs!Q103","v":0},{"$f":"[1]LETs!R103","v":0},{"$f":"IFERROR(INDEX([1]LETs!$F$3:$AZZ$214,MATCH($D103,[1]LETs!$D$3:$D$214,0),MATCH($S$2,[1]LETs!$F$2:$AZZ$2,0)),0)","v":0}]
[null,null,null,"Separados",null,{"$f":"[1]LETs!F104","v":369120},{"$f":"[1]LETs!G104","v":267907},{"$f":"[1]LETs!H104","v":101213},{"$f":"[1]LETs!I104","v":0},{"$f":"[1]LETs!J104","v":0},{"$f":"[1]LETs!K104","v":0},{"$f":"[1]LETs!L104","v":0},{"$f":"[1]LETs!M104","v":0},{"$f":"[1]LETs!N104","v":0},{"$f":"[1]LETs!O104","v":0},{"$f":"[1]LETs!P104","v":0},{"$f":"[1]LETs!Q104","v":0},{"$f":"[1]LETs!R104","v":0},{"$f":"IFERROR(INDEX([1]LETs!$F$3:$AZZ$214,MATCH($D104,[1]LETs!$D$3:$D$214,0),MATCH($S$2,[1]LETs!$F$2:$AZZ$2,0)),0)","v":14218}]
[null,null,null,"Meta",null,{"$f":"[1]LETs!F105","v":5.0000000000000002E-5},{"$f":"[1]LETs!G105","v":5.1E-5},{"$f":"[1]LETs!H105","v":5.1E-5},{"$f":"[1]LETs!I105","v":0},{"$f":"[1]LETs!J105","v":0},{"$f":"[1]LETs!K105","v":0},{"$f":"[1]LETs!L105","v":0},{"$f":"[1]LETs!M105","v":0},{"$f":"[1]LETs!N105","v":0},{"$f":"[1]LETs!O105","v":0},{"$f":"[1]LETs!P105","v":0},{"$f":"[1]LETs!Q105","v":0},{"$f":"[1]LETs!R105","v":0},{"$f":"IF(MONTH(S$2)=1,$G105,IF(MONTH(S$2)=2,$H105,IF(MONTH(S$2)=3,$I105,IF(MONTH(S$2)=4,$J105,IF(MONTH(S$2)=5,$K105,IF(MONTH(S$2)=6,$L105,IF(MONTH(S$2)=7,$M105,IF(MONTH(S$2)=8,$N105,IF(MONTH(S$2)=9,$O105,IF(MONTH(S$2)=10,$P105,IF(MONTH(S$2)=11,$Q105,$R105)))))))))))","v":5.1E-5}]
[null,null,"Divergência Picking no Packing","Divergência Picking no Packing",{"$f":"[1]LETs!E106","v":0.5},{"$f":"[1]LETs!F106","v":2.2000000000000001E-4},{"$f":"[1]LETs!G106","v":2.4000000000000001E-4},{"$f":"[1]LETs!H106","v":1.6000000000000001E-4},{"$f":"[1]LETs!I106","v":0},{"$f":"[1]LETs!J106","v":0},{"$f":"[1]LETs!K106","v":0},{"$f":"[1]LETs!L106","v":0},{"$f":"[1]LETs!M106","v":0},{"$f":"[1]LETs!N106","v":0},{"$f":"[1]LETs!O106","v":0},{"$f":"[1]LETs!P106","v":0},{"$f":"[1]LETs!Q106","v":0},{"$f":"[1]LETs!R106","v":0},{"$f":"IFERROR(INDEX([1]LETs!$F$3:$AZZ$214,MATCH($D106,[1]LETs!$D$3:$D$214,0),MATCH($S$2,[1]LETs!$F$2:$AZZ$2,0)),0)","v":6.9999999999999994E-5}]
[null,null,null,"Divergente (Pedidos)",null,{"$f":"[1]LETs!F107","v":79},{"$f":"[1]LETs!G107","v":63},{"$f":"[1]LETs!H107","v":16},{"$f":"[1]LETs!I107","v":0},{"$f":"[1]LETs!J107","v":0},{"$f":"[1]LETs!K107","v":0},{"$f":"[1]LETs!L107","v":0},{"$f":"[1]LETs!M107","v":0},{"$f":"[1]LETs!N107","v":0},{"$f":"[1]LETs!O107","v":0},{"$f":"[1]LETs!P107","v":0},{"$f":"[1]LETs!Q107","v":0},{"$f":"[1]LETs!R107","v":0},{"$f":"IFERROR(INDEX([1]LETs!$F$3:$AZZ$214,MATCH($D107,[1]LETs!$D$3:$D$214,0),MATCH($S$2,[1]LETs!$F$2:$AZZ$2,0)),0)","v":1}]
[null,null,null,"Meta",null,{"$f":"[1]LETs!F108","v":1.2E-4},{"$f":"[1]LETs!G108","v":1.2E-4},{"$f":"[1]LETs!H108","v":1.2E-4},{"$f":"[1]LETs!I108","v":0},{"$f":"[1]LETs!J108","v":0},{"$f":"[1]LETs!K108","v":0},{"$f":"[1]LETs!L108","v":0},{"$f":"[1]LETs!M108","v":0},{"$f":"[1]LETs!N108","v":0},{"$f":"[1]LETs!O108","v":0},{"$f":"[1]LETs!P108","v":0},{"$f":"[1]LETs!Q108","v":0},{"$f":"[1]LETs!R108","v":0},{"$f":"IF(MONTH(S$2)=1,$G108,IF(MONTH(S$2)=2,$H108,IF(MONTH(S$2)=3,$I108,IF(MONTH(S$2)=4,$J108,IF(MONTH(S$2)=5,$K108,IF(MONTH(S$2)=6,$L108,IF(MONTH(S$2)=7,$M108,IF(MONTH(S$2)=8,$N108,IF(MONTH(S$2)=9,$O108,IF(MONTH(S$2)=10,$P108,IF(MONTH(S$2)=11,$Q108,$R108)))))))))))","v":1.2E-4}]
[null,null,"Acurácia de Armazenagem","Acurácia de Armazenagem",{"$f":"[1]LETs!E109","v":0.5},{"$f":"[1]LETs!F109","v":1},{"$f":"[1]LETs!G109","v":1},{"$f":"[1]LETs!H109","v":1},{"$f":"[1]LETs!I109","v":0},{"$f":"[1]LETs!J109","v":0},{"$f":"[1]LETs!K109","v":0},{"$f":"[1]LETs!L109","v":0},{"$f":"[1]LETs!M109","v":0},{"$f":"[1]LETs!N109","v":0},{"$f":"[1]LETs!O109","v":0},{"$f":"[1]LETs!P109","v":0},{"$f":"[1]LETs!Q109","v":0},{"$f":"[1]LETs!R109","v":0},{"$f":"IFERROR(INDEX([1]LETs!$F$3:$AZZ$214,MATCH($D109,[1]LETs!$D$3:$D$214,0),MATCH($S$2,[1]LETs!$F$2:$AZZ$2,0)),0)","v":1}]
[null,null,null,"Locais Auditados (Arm)",null,{"$f":"[1]LETs!F110","v":1916},{"$f":"[1]LETs!G110","v":1463},{"$f":"[1]LETs!H110","v":453},{"$f":"[1]LETs!I110","v":0},{"$f":"[1]LETs!J110","v":0},{"$f":"[1]LETs!K110","v":0},{"$f":"[1]LETs!L110","v":0},{"$f":"[1]LETs!M110","v":0},{"$f":"[1]LETs!N110","v":0},{"$f":"[1]LETs!O110","v":0},{"$f":"[1]LETs!P110","v":0},{"$f":"[1]LETs!Q110","v":0},{"$f":"[1]LETs!R110","v":0},{"$f":"IFERROR(INDEX([1]LETs!$F$3:$AZZ$214,MATCH($D110,[1]LETs!$D$3:$D$214,0),MATCH($S$2,[1]LETs!$F$2:$AZZ$2,0)),0)","v":64}]
[null,null,null,"Erros de Armazenagem",null,{"$f":"[1]LETs!F111","v":0},{"$f":"[1]LETs!G111","v":0},{"$f":"[1]LETs!H111","v":0},{"$f":"[1]LETs!I111","v":0},{"$f":"[1]LETs!J111","v":0},{"$f":"[1]LETs!K111","v":0},{"$f":"[1]LETs!L111","v":0},{"$f":"[1]LETs!M111","v":0},{"$f":"[1]LETs!N111","v":0},{"$f":"[1]LETs!O111","v":0},{"$f":"[1]LETs!P111","v":0},{"$f":"[1]LETs!Q111","v":0},{"$f":"[1]LETs!R111","v":0},{"$f":"IFERROR(INDEX([1]LETs!$F$3:$AZZ$214,MATCH($D111,[1]LETs!$D$3:$D$214,0),MATCH($S$2,[1]LETs!$F$2:$AZZ$2,0)),0)","v":0}]
[null,null,null,"Meta",null,{"$f":"[1]LETs!F112","v":0.99990000000000001},{"$f":"[1]LETs!G112","v":0.99990000000000001},{"$f":"[1]LETs!H112","v":0.99990000000000001},{"$f":"[1]LETs!I112","v":0},{"$f":"[1]LETs!J112","v":0},{"$f":"[1]LETs!K112","v":0},{"$f":"[1]LETs!L112","v":0},{"$f":"[1]LETs!M112","v":0},{"$f":"[1]LETs!N112","v":0},{"$f":"[1]LETs!O112","v":0},{"$f":"[1]LETs!P112","v":0},{"$f":"[1]LETs!Q112","v":0},{"$f":"[1]LETs!R112","v":0},{"$f":"IF(MONTH(S$2)=1,$G112,IF(MONTH(S$2)=2,$H112,IF(MONTH(S$2)=3,$I112,IF(MONTH(S$2)=4,$J112,IF(MONTH(S$2)=5,$K112,IF(MONTH(S$2)=6,$L112,IF(MONTH(S$2)=7,$M112,IF(MONTH(S$2)=8,$N112,IF(MONTH(S$2)=9,$O112,IF(MONTH(S$2)=10,$P112,IF(MONTH(S$2)=11,$Q112,$R112)))))))))))","v":0.99990000000000001}]
[null,null,"Acurácia de Movimentação","Acurácia de Movimentação",{"$f":"[1]LETs!E113","v":0.5},{"$f":"[1]LETs!F113","v":0.99980000000000002},{"$f":"[1]LETs!G113","v":1},{"$f":"[1]LETs!H113","v":0.99909999999999999},{"$f":"[1]LETs!I113","v":0},{"$f":"[1]LETs!J113","v":0},{"$f":"[1]LETs!K113","v":0},{"$f":"[1]LETs!L113","v":0},{"$f":"[1]LETs!M113","v":0},{"$f":"[1]LETs!N113","v":0},{"$f":"[1]LETs!O113","v":0},{"$f":"[1]LETs!P113","v":0},{"$f":"[1]LETs!Q113","v":0},{"$f":"[1]LETs!R113","v":0},{"$f":"IFERROR(INDEX([1]LETs!$F$3:$AZZ$214,MATCH($D113,[1]LETs!$D$3:$D$214,0),MATCH($S$2,[1]LETs!$F$2:$AZZ$2,0)),0)","v":1}]
[null,null,null,"Locais Auditados (Mov)",null,{"$f":"[1]LETs!F114","v":4525},{"$f":"[1]LETs!G114","v":3419},{"$f":"[1]LETs!H114","v":1106},{"$f":"[1]LETs!I114","v":0},{"$f":"[1]LETs!J114","v":0},{"$f":"[1]LETs!K114","v":0},{"$f":"[1]LETs!L114","v":0},{"$f":"[1]LETs!M114","v":0},{"$f":"[1]LETs!N114","v":0},{"$f":"[1]LETs!O114","v":0},{"$f":"[1]LETs!P114","v":0},{"$f":"[1]LETs!Q114","v":0},{"$f":"[1]LETs!R114","v":0},{"$f":"IFERROR(INDEX([1]LETs!$F$3:$AZZ$214,MATCH($D114,[1]LETs!$D$3:$D$214,0),MATCH($S$2,[1]LETs!$F$2:$AZZ$2,0)),0)","v":173}]
[null,null,null,"Erros de Movimentação",null,{"$f":"[1]LETs!F115","v":1},{"$f":"[1]LETs!G115","v":0},{"$f":"[1]LETs!H115","v":1},{"$f":"[1]LETs!I115","v":0},{"$f":"[1]LETs!J115","v":0},{"$f":"[1]LETs!K115","v":0},{"$f":"[1]LETs!L115","v":0},{"$f":"[1]LETs!M115","v":0},{"$f":"[1]LETs!N115","v":0},{"$f":"[1]LETs!O115","v":0},{"$f":"[1]LETs!P115","v":0},{"$f":"[1]LETs!Q115","v":0},{"$f":"[1]LETs!R115","v":0},{"$f":"IFERROR(INDEX([1]LETs!$F$3:$AZZ$214,MATCH($D115,[1]LETs!$D$3:$D$214,0),MATCH($S$2,[1]LETs!$F$2:$AZZ$2,0)),0)","v":0}]
[null,null,null,"Meta",null,{"$f":"[1]LETs!F116","v":0.99950000000000006},{"$f":"[1]LETs!G116","v":0.99950000000000006},{"$f":"[1]LETs!H116","v":0.99950000000000006},{"$f":"[1]LETs!I116","v":0},{"$f":"[1]LETs!J116","v":0},{"$f":"[1]LETs!K116","v":0},{"$f":"[1]LETs!L116","v":0},{"$f":"[1]LETs!M116","v":0},{"$f":"[1]LETs!N116","v":0},{"$f":"[1]LETs!O116","v":0},{"$f":"[1]LETs!P116","v":0},{"$f":"[1]LETs!Q116","v":0},{"$f":"[1]LETs!R116","v":0},{"$f":"IF(MONTH(S$2)=1,$G116,IF(MONTH(S$2)=2,$H116,IF(MONTH(S$2)=3,$I116,IF(MONTH(S$2)=4,$J116,IF(MONTH(S$2)=5,$K116,IF(MONTH(S$2)=6,$L116,IF(MONTH(S$2)=7,$M116,IF(MONTH(S$2)=8,$N116,IF(MONTH(S$2)=9,$O116,IF(MONTH(S$2)=10,$P116,IF(MONTH(S$2)=11,$Q116,$R116)))))))))))","v":0.99950000000000006}]
[null,null,"PGE","PGE",{"$f":"[1]LETs!E117","v":0.75},{"$f":"[1]LETs!F117","v":0.98760000000000003},{"$f":"[1]LETs!G117","v":0.98660000000000003},{"$f":"[1]LETs!H117","v":0.99},{"$f":"[1]LETs!I117","v":0},{"$f":"[1]LETs!J117","v":0},{"$f":"[1]LETs!K117","v":0},{"$f":"[1]LETs!L117","v":0},{"$f":"[1]LETs!M117","v":0},{"$f":"[1]LETs!N117","v":0},{"$f":"[1]LETs!O117","v":0},{"$f":"[1]LETs!P117","v":0},{"$f":"[1]LETs!Q117","v":0},{"$f":"[1]LETs!R117","v":0},{"$f":"IFERROR(INDEX([1]LETs!$F$3:$AZZ$214,MATCH($D117,[1]LETs!$D$3:$D$214,0),MATCH($S$2,[1]LETs!$F$2:$AZZ$2,0)),0)","v":0.9899}]
[null,null,null,"Total Baixo",null,{"$f":"[1]LETs!F118","v":168354},{"$f":"[1]LETs!G118","v":116723},{"$f":"[1]LETs!H118","v":51631},{"$f":"[1]LETs!I118","v":0},{"$f":"[1]LETs!J118","v":0},{"$f":"[1]LETs!K118","v":0},{"$f":"[1]LETs!L118","v":0},{"$f":"[1]LETs!M118","v":0},{"$f":"[1]LETs!N118","v":0},{"$f":"[1]LETs!O118","v":0},{"$f":"[1]LETs!P118","v":0},{"$f":"[1]LETs!Q118","v":0},{"$f":"[1]LETs!R118","v":0},{"$f":"IFERROR(INDEX([1]LETs!$F$3:$AZZ$214,MATCH($D118,[1]LETs!$D$3:$D$214,0),MATCH($S$2,[1]LETs!$F$2:$AZZ$2,0)),0)","v":6539}]
[null,null,null,"Indisponível no Baixo",null,{"$f":"[1]LETs!F119","v":2109},{"$f":"[1]LETs!G119","v":1586},{"$f":"[1]LETs!H119","v":523},{"$f":"[1]LETs!I119","v":0},{"$f":"[1]LETs!J119","v":0},{"$f":"[1]LETs!K119","v":0},{"$f":"[1]LETs!L119","v":0},{"$f":"[1]LETs!M119","v":0},{"$f":"[1]LETs!N119","v":0},{"$f":"[1]LETs!O119","v":0},{"$f":"[1]LETs!P119","v":0},{"$f":"[1]LETs!Q119","v":0},{"$f":"[1]LETs!R119","v":0},{"$f":"IFERROR(INDEX([1]LETs!$F$3:$AZZ$214,MATCH($D119,[1]LETs!$D$3:$D$214,0),MATCH($S$2,[1]LETs!$F$2:$AZZ$2,0)),0)","v":67}]
[null,null,null,"Meta",null,{"$f":"[1]LETs!F120","v":0.98},{"$f":"[1]LETs!G120","v":0.98},{"$f":"[1]LETs!H120","v":0.98},{"$f":"[1]LETs!I120","v":0},{"$f":"[1]LETs!J120","v":0},{"$f":"[1]LETs!K120","v":0},{"$f":"[1]LETs!L120","v":0},{"$f":"[1]LETs!M120","v":0},{"$f":"[1]LETs!N120","v":0},{"$f":"[1]LETs!O120","v":0},{"$f":"[1]LETs!P120","v":0},{"$f":"[1]LETs!Q120","v":0},{"$f":"[1]LETs!R120","v":0},{"$f":"IF(MONTH(S$2)=1,$G120,IF(MONTH(S$2)=2,$H120,IF(MONTH(S$2)=3,$I120,IF(MONTH(S$2)=4,$J120,IF(MONTH(S$2)=5,$K120,IF(MONTH(S$2)=6,$L120,IF(MONTH(S$2)=7,$M120,IF(MONTH(S$2)=8,$N120,IF(MONTH(S$2)=9,$O120,IF(MONTH(S$2)=10,$P120,IF(MONTH(S$2)=11,$Q120,$R120)))))))))))","v":0.98}]
[null,8.75,"Absenteísmo","Absenteísmo",{"$f":"[1]LETs!E121","v":2},{"$f":"[1]LETs!F121","v":2.0199999999999999E-2},{"$f":"[1]LETs!G121","v":1.9300000000000001E-2},{"$f":"[1]LETs!H121","v":2.2800000000000001E-2},{"$f":"[1]LETs!I121","v":0},{"$f":"[1]LETs!J121","v":0},{"$f":"[1]LETs!K121","v":0},{"$f":"[1]LETs!L121","v":0},{"$f":"[1]LETs!M121","v":0},{"$f":"[1]LETs!N121","v":0},{"$f":"[1]LETs!O121","v":0},{"$f":"[1]LETs!P121","v":0},{"$f":"[1]LETs!Q121","v":0},{"$f":"[1]LETs!R121","v":0},{"$f":"IFERROR(INDEX([1]LETs!$F$3:$AZZ$214,MATCH($D121,[1]LETs!$D$3:$D$214,0),MATCH($S$2,[1]LETs!$F$2:$AZZ$2,0)),0)","v":1.3899999999999999E-2}]
[null,"Outbound",null,"Quadro Líquido",null,{"$f":"[1]LETs!F122","v":4802},{"$f":"[1]LETs!G122","v":3576},{"$f":"[1]LETs!H122","v":1226},{"$f":"[1]LETs!I122","v":0},{"$f":"[1]LETs!J122","v":0},{"$f":"[1]LETs!K122","v":0},{"$f":"[1]LETs!L122","v":0},{"$f":"[1]LETs!M122","v":0},{"$f":"[1]LETs!N122","v":0},{"$f":"[1]LETs!O122","v":0},{"$f":"[1]LETs!P122","v":0},{"$f":"[1]LETs!Q122","v":0},{"$f":"[1]LETs!R122","v":0},{"$f":"IFERROR(INDEX([1]LETs!$F$3:$AZZ$214,MATCH($D122,[1]LETs!$D$3:$D$214,0),MATCH($S$2,[1]LETs!$F$2:$AZZ$2,0)),0)","v":360}]
[null,null,null,"Faltas",null,{"$f":"[1]LETs!F123","v":97},{"$f":"[1]LETs!G123","v":69},{"$f":"[1]LETs!H123","v":28},{"$f":"[1]LETs!I123","v":0},{"$f":"[1]LETs!J123","v":0},{"$f":"[1]LETs!K123","v":0},{"$f":"[1]LETs!L123","v":0},{"$f":"[1]LETs!M123","v":0},{"$f":"[1]LETs!N123","v":0},{"$f":"[1]LETs!O123","v":0},{"$f":"[1]LETs!P123","v":0},{"$f":"[1]LETs!Q123","v":0},{"$f":"[1]LETs!R123","v":0},{"$f":"IFERROR(INDEX([1]LETs!$F$3:$AZZ$214,MATCH($D123,[1]LETs!$D$3:$D$214,0),MATCH($S$2,[1]LETs!$F$2:$AZZ$2,0)),0)","v":5}]
[null,null,null,"Quadro Total",null,{"$f":"[1]LETs!F124","v":6026},{"$f":"[1]LETs!G124","v":4488},{"$f":"[1]LETs!H124","v":1538},{"$f":"[1]LETs!I124","v":0},{"$f":"[1]LETs!J124","v":0},{"$f":"[1]LETs!K124","v":0},{"$f":"[1]LETs!L124","v":0},{"$f":"[1]LETs!M124","v":0},{"$f":"[1]LETs!N124","v":0},{"$f":"[1]LETs!O124","v":0},{"$f":"[1]LETs!P124","v":0},{"$f":"[1]LETs!Q124","v":0},{"$f":"[1]LETs!R124","v":0},{"$f":"IFERROR(INDEX([1]LETs!$F$3:$AZZ$214,MATCH($D124,[1]LETs!$D$3:$D$214,0),MATCH($S$2,[1]LETs!$F$2:$AZZ$2,0)),0)","v":438}]
[null,null,null,"Ger. e Coord.",null,{"$f":"[1]LETs!F125","v":72},{"$f":"[1]LETs!G125","v":54},{"$f":"[1]LETs!H125","v":18},{"$f":"[1]LETs!I125","v":0},{"$f":"[1]LETs!J125","v":0},{"$f":"[1]LETs!K125","v":0},{"$f":"[1]LETs!L125","v":0},{"$f":"[1]LETs!M125","v":0},{"$f":"[1]LETs!N125","v":0},{"$f":"[1]LETs!O125","v":0},{"$f":"[1]LETs!P125","v":0},{"$f":"[1]LETs!Q125","v":0},{"$f":"[1]LETs!R125","v":0},{"$f":"IFERROR(INDEX([1]LETs!$F$3:$AZZ$214,MATCH($D125,[1]LETs!$D$3:$D$214,0),MATCH($S$2,[1]LETs!$F$2:$AZZ$2,0)),0)","v":7}]
[null,null,null,"Sup. e Liderança",null,{"$f":"[1]LETs!F126","v":534},{"$f":"[1]LETs!G126","v":392},{"$f":"[1]LETs!H126","v":142},{"$f":"[1]LETs!I126","v":0},{"$f":"[1]LETs!J126","v":0},{"$f":"[1]LETs!K126","v":0},{"$f":"[1]LETs!L126","v":0},{"$f":"[1]LETs!M126","v":0},{"$f":"[1]LETs!N126","v":0},{"$f":"[1]LETs!O126","v":0},{"$f":"[1]LETs!P126","v":0},{"$f":"[1]LETs!Q126","v":0},{"$f":"[1]LETs!R126","v":0},{"$f":"IFERROR(INDEX([1]LETs!$F$3:$AZZ$214,MATCH($D126,[1]LETs!$D$3:$D$214,0),MATCH($S$2,[1]LETs!$F$2:$AZZ$2,0)),0)","v":42}]
[null,null,null,"Inativos",{"$f":"[1]LETs!E127","v":3.75},{"$f":"[1]LETs!F127","v":429},{"$f":"[1]LETs!G127","v":322},{"$f":"[1]LETs!H127","v":107},{"$f":"[1]LETs!I127","v":0},{"$f":"[1]LETs!J127","v":0},{"$f":"[1]LETs!K127","v":0},{"$f":"[1]LETs!L127","v":0},{"$f":"[1]LETs!M127","v":0},{"$f":"[1]LETs!N127","v":0},{"$f":"[1]LETs!O127","v":0},{"$f":"[1]LETs!P127","v":0},{"$f":"[1]LETs!Q127","v":0},{"$f":"[1]LETs!R127","v":0},{"$f":"IFERROR(INDEX([1]LETs!$F$3:$AZZ$214,MATCH($D127,[1]LETs!$D$3:$D$214,0),MATCH($S$2,[1]LETs!$F$2:$AZZ$2,0)),0)","v":21}]
[null,null,null,"Ausências",{"$f":"[1]LETs!E128","v":0.75},{"$f":"[1]LETs!F128","v":723},{"$f":"[1]LETs!G128","v":536},{"$f":"[1]LETs!H128","v":187},{"$f":"[1]LETs!I128","v":0},{"$f":"[1]LETs!J128","v":0},{"$f":"[1]LETs!K128","v":0},{"$f":"[1]LETs!L128","v":0},{"$f":"[1]LETs!M128","v":0},{"$f":"[1]LETs!N128","v":0},{"$f":"[1]LETs!O128","v":0},{"$f":"[1]LETs!P128","v":0},{"$f":"[1]LETs!Q128","v":0},{"$f":"[1]LETs!R128","v":0},{"$f":"IFERROR(INDEX([1]LETs!$F$3:$AZZ$214,MATCH($D128,[1]LETs!$D$3:$D$214,0),MATCH($S$2,[1]LETs!$F$2:$AZZ$2,0)),0)","v":50}]
[null,null,null,"Sumidos",{"$f":"[1]LETs!E129","v":1},{"$f":"[1]LETs!F129","v":0},{"$f":"[1]LETs!G129","v":0},{"$f":"[1]LETs!H129","v":0},{"$f":"[1]LETs!I129","v":0},{"$f":"[1]LETs!J129","v":0},{"$f":"[1]LETs!K129","v":0},{"$f":"[1]LETs!L129","v":0},{"$f":"[1]LETs!M129","v":0},{"$f":"[1]LETs!N129","v":0},{"$f":"[1]LETs!O129","v":0},{"$f":"[1]LETs!P129","v":0},{"$f":"[1]LETs!Q129","v":0},{"$f":"[1]LETs!R129","v":0},{"$f":"IFERROR(INDEX([1]LETs!$F$3:$AZZ$214,MATCH($D129,[1]LETs!$D$3:$D$214,0),MATCH($S$2,[1]LETs!$F$2:$AZZ$2,0)),0)","v":0}]
[null,null,null,"Meta",{"$f":"[1]LETs!E130","v":0},{"$f":"[1]LETs!F130","v":2.4E-2},{"$f":"[1]LETs!G130","v":2.4E-2},{"$f":"[1]LETs!H130","v":2.4E-2},{"$f":"[1]LETs!I130","v":0},{"$f":"[1]LETs!J130","v":0},{"$f":"[1]LETs!K130","v":0},{"$f":"[1]LETs!L130","v":0},{"$f":"[1]LETs!M130","v":0},{"$f":"[1]LETs!N130","v":0},{"$f":"[1]LETs!O130","v":0},{"$f":"[1]LETs!P130","v":0},{"$f":"[1]LETs!Q130","v":0},{"$f":"[1]LETs!R130","v":0},{"$f":"IF(MONTH(S$2)=1,$G130,IF(MONTH(S$2)=2,$H130,IF(MONTH(S$2)=3,$I130,IF(MONTH(S$2)=4,$J130,IF(MONTH(S$2)=5,$K130,IF(MONTH(S$2)=6,$L130,IF(MONTH(S$2)=7,$M130,IF(MONTH(S$2)=8,$N130,IF(MONTH(S$2)=9,$O130,IF(MONTH(S$2)=10,$P130,IF(MONTH(S$2)=11,$Q130,$R130)))))))))))","v":2.4E-2}]
[null,null,"Acidentes (Típicos + Trajeto)","Acidentes",{"$f":"[1]LETs!E131","v":"-0,50\nP"},{"$f":"[1]LETs!F131","v":0},{"$f":"[1]LETs!G131","v":0},{"$f":"[1]LETs!H131","v":0},{"$f":"[1]LETs!I131","v":0},{"$f":"[1]LETs!J131","v":0},{"$f":"[1]LETs!K131","v":0},{"$f":"[1]LETs!L131","v":0},{"$f":"[1]LETs!M131","v":0},{"$f":"[1]LETs!N131","v":0},{"$f":"[1]LETs!O131","v":0},{"$f":"[1]LETs!P131","v":0},{"$f":"[1]LETs!Q131","v":0},{"$f":"[1]LETs!R131","v":0},{"$f":"IFERROR(INDEX([1]LETs!$F$3:$AZZ$214,MATCH($D131,[1]LETs!$D$3:$D$214,0),MATCH($S$2,[1]LETs!$F$2:$AZZ$2,0)),0)","v":0}]
[null,null,null,"Meta",null,{"$f":"[1]LETs!F132","v":0},{"$f":"[1]LETs!G132","v":0},{"$f":"[1]LETs!H132","v":0},{"$f":"[1]LETs!I132","v":0},{"$f":"[1]LETs!J132","v":0},{"$f":"[1]LETs!K132","v":0},{"$f":"[1]LETs!L132","v":0},{"$f":"[1]LETs!M132","v":0},{"$f":"[1]LETs!N132","v":0},{"$f":"[1]LETs!O132","v":0},{"$f":"[1]LETs!P132","v":0},{"$f":"[1]LETs!Q132","v":0},{"$f":"[1]LETs!R132","v":0},{"$f":"IF(MONTH(S$2)=1,$G132,IF(MONTH(S$2)=2,$H132,IF(MONTH(S$2)=3,$I132,IF(MONTH(S$2)=4,$J132,IF(MONTH(S$2)=5,$K132,IF(MONTH(S$2)=6,$L132,IF(MONTH(S$2)=7,$M132,IF(MONTH(S$2)=8,$N132,IF(MONTH(S$2)=9,$O132,IF(MONTH(S$2)=10,$P132,IF(MONTH(S$2)=11,$Q132,$R132)))))))))))","v":0}]
[null,null,"Anomalias","Anomalias",{"$f":"[1]LETs!E133","v":"-0,50\nP"},{"$f":"[1]LETs!F133","v":0},{"$f":"[1]LETs!G133","v":0},{"$f":"[1]LETs!H133","v":0},{"$f":"[1]LETs!I133","v":0},{"$f":"[1]LETs!J133","v":0},{"$f":"[1]LETs!K133","v":0},{"$f":"[1]LETs!L133","v":0},{"$f":"[1]LETs!M133","v":0},{"$f":"[1]LETs!N133","v":0},{"$f":"[1]LETs!O133","v":0},{"$f":"[1]LETs!P133","v":0},{"$f":"[1]LETs!Q133","v":0},{"$f":"[1]LETs!R133","v":0},{"$f":"IFERROR(INDEX([1]LETs!$F$3:$AZZ$214,MATCH($D133,[1]LETs!$D$3:$D$214,0),MATCH($S$2,[1]LETs!$F$2:$AZZ$2,0)),0)","v":0}]
[null,null,null,"Meta",null,{"$f":"[1]LETs!F134","v":0},{"$f":"[1]LETs!G134","v":0},{"$f":"[1]LETs!H134","v":0},{"$f":"[1]LETs!I134","v":0},{"$f":"[1]LETs!J134","v":0},{"$f":"[1]LETs!K134","v":0},{"$f":"[1]LETs!L134","v":0},{"$f":"[1]LETs!M134","v":0},{"$f":"[1]LETs!N134","v":0},{"$f":"[1]LETs!O134","v":0},{"$f":"[1]LETs!P134","v":0},{"$f":"[1]LETs!Q134","v":0},{"$f":"[1]LETs!R134","v":0},{"$f":"IF(MONTH(S$2)=1,$G134,IF(MONTH(S$2)=2,$H134,IF(MONTH(S$2)=3,$I134,IF(MONTH(S$2)=4,$J134,IF(MONTH(S$2)=5,$K134,IF(MONTH(S$2)=6,$L134,IF(MONTH(S$2)=7,$M134,IF(MONTH(S$2)=8,$N134,IF(MONTH(S$2)=9,$O134,IF(MONTH(S$2)=10,$P134,IF(MONTH(S$2)=11,$Q134,$R134)))))))))))","v":0}]
[null,null,"Produtividade Área","Produtividade Outbound",{"$f":"[1]LETs!E135","v":1},{"$f":"[1]LETs!F135","v":11.31},{"$f":"[1]LETs!G135","v":11.03},{"$f":"[1]LETs!H135","v":12.12},{"$f":"[1]LETs!I135","v":0},{"$f":"[1]LETs!J135","v":0},{"$f":"[1]LETs!K135","v":0},{"$f":"[1]LETs!L135","v":0},{"$f":"[1]LETs!M135","v":0},{"$f":"[1]LETs!N135","v":0},{"$f":"[1]LETs!O135","v":0},{"$f":"[1]LETs!P135","v":0},{"$f":"[1]LETs!Q135","v":0},{"$f":"[1]LETs!R135","v":0},{"$f":"IFERROR(INDEX([1]LETs!$F$3:$AZZ$214,MATCH($D135,[1]LETs!$D$3:$D$214,0),MATCH($S$2,[1]LETs!$F$2:$AZZ$2,0)),0)","v":15.44}]
[null,null,null,"Produção (Área)",null,{"$f":"[1]LETs!F136","v":366850},{"$f":"[1]LETs!G136","v":266743},{"$f":"[1]LETs!H136","v":100107},{"$f":"[1]LETs!I136","v":0},{"$f":"[1]LETs!J136","v":0},{"$f":"[1]LETs!K136","v":0},{"$f":"[1]LETs!L136","v":0},{"$f":"[1]LETs!M136","v":0},{"$f":"[1]LETs!N136","v":0},{"$f":"[1]LETs!O136","v":0},{"$f":"[1]LETs!P136","v":0},{"$f":"[1]LETs!Q136","v":0},{"$f":"[1]LETs!R136","v":0},{"$f":"IFERROR(INDEX([1]LETs!$F$3:$AZZ$214,MATCH($D136,[1]LETs!$D$3:$D$214,0),MATCH($S$2,[1]LETs!$F$2:$AZZ$2,0)),0)","v":10836}]
[null,null,null,"Quadro Produtivo (Área)",null,{"$f":"[1]LETs!F137","v":4991},{"$f":"[1]LETs!G137","v":3720},{"$f":"[1]LETs!H137","v":1271},{"$f":"[1]LETs!I137","v":0},{"$f":"[1]LETs!J137","v":0},{"$f":"[1]LETs!K137","v":0},{"$f":"[1]LETs!L137","v":0},{"$f":"[1]LETs!M137","v":0},{"$f":"[1]LETs!N137","v":0},{"$f":"[1]LETs!O137","v":0},{"$f":"[1]LETs!P137","v":0},{"$f":"[1]LETs!Q137","v":0},{"$f":"[1]LETs!R137","v":0},{"$f":"IFERROR(INDEX([1]LETs!$F$3:$AZZ$214,MATCH($D137,[1]LETs!$D$3:$D$214,0),MATCH($S$2,[1]LETs!$F$2:$AZZ$2,0)),0)","v":19}]
[null,null,null,"Horas (Área)",null,{"$f":"[1]LETs!F138","v":6.5},{"$f":"[1]LETs!G138","v":6.5},{"$f":"[1]LETs!H138","v":6.5},{"$f":"[1]LETs!I138","v":0},{"$f":"[1]LETs!J138","v":0},{"$f":"[1]LETs!K138","v":0},{"$f":"[1]LETs!L138","v":0},{"$f":"[1]LETs!M138","v":0},{"$f":"[1]LETs!N138","v":0},{"$f":"[1]LETs!O138","v":0},{"$f":"[1]LETs!P138","v":0},{"$f":"[1]LETs!Q138","v":0},{"$f":"[1]LETs!R138","v":0},{"$f":"IFERROR(INDEX([1]LETs!$F$3:$AZZ$214,MATCH($D138,[1]LETs!$D$3:$D$214,0),MATCH($S$2,[1]LETs!$F$2:$AZZ$2,0)),0)","v":6.5}]
[null,null,null,"Meta",null,{"$f":"[1]LETs!F139","v":12.793530000000001},{"$f":"[1]LETs!G139","v":13.518589166356803},{"$f":"[1]LETs!H139","v":10.671418735401797},{"$f":"[1]LETs!I139","v":0},{"$f":"[1]LETs!J139","v":0},{"$f":"[1]LETs!K139","v":0},{"$f":"[1]LETs!L139","v":0},{"$f":"[1]LETs!M139","v":0},{"$f":"[1]LETs!N139","v":0},{"$f":"[1]LETs!O139","v":0},{"$f":"[1]LETs!P139","v":0},{"$f":"[1]LETs!Q139","v":0},{"$f":"[1]LETs!R139","v":0},{"$f":"IF(MONTH(S$2)=1,$G139,IF(MONTH(S$2)=2,$H139,IF(MONTH(S$2)=3,$I139,IF(MONTH(S$2)=4,$J139,IF(MONTH(S$2)=5,$K139,IF(MONTH(S$2)=6,$L139,IF(MONTH(S$2)=7,$M139,IF(MONTH(S$2)=8,$N139,IF(MONTH(S$2)=9,$O139,IF(MONTH(S$2)=10,$P139,IF(MONTH(S$2)=11,$Q139,$R139)))))))))))","v":10.671418735401797}]
[null,null,"Reclamações de Clientes","Reclamações de Clientes",{"$f":"[1]LETs!E140","v":1},{"$f":"[1]LETs!F140","v":5.0000000000000004E-6},{"$f":"[1]LETs!G140","v":7.9999999999999996E-6},{"$f":"[1]LETs!H140","v":0},{"$f":"[1]LETs!I140","v":0},{"$f":"[1]LETs!J140","v":0},{"$f":"[1]LETs!K140","v":0},{"$f":"[1]LETs!L140","v":0},{"$f":"[1]LETs!M140","v":0},{"$f":"[1]LETs!N140","v":0},{"$f":"[1]LETs!O140","v":0},{"$f":"[1]LETs!P140","v":0},{"$f":"[1]LETs!Q140","v":0},{"$f":"[1]LETs!R140","v":0},{"$f":"IFERROR(INDEX([1]LETs!$F$3:$AZZ$214,MATCH($D140,[1]LETs!$D$3:$D$214,0),MATCH($S$2,[1]LETs!$F$2:$AZZ$2,0)),0)","v":0}]
[null,null,null,"Qtde. Reclamações",null,{"$f":"[1]LETs!F141","v":2},{"$f":"[1]LETs!G141","v":2},{"$f":"[1]LETs!H141","v":0},{"$f":"[1]LETs!I141","v":0},{"$f":"[1]LETs!J141","v":0},{"$f":"[1]LETs!K141","v":0},{"$f":"[1]LETs!L141","v":0},{"$f":"[1]LETs!M141","v":0},{"$f":"[1]LETs!N141","v":0},{"$f":"[1]LETs!O141","v":0},{"$f":"[1]LETs!P141","v":0},{"$f":"[1]LETs!Q141","v":0},{"$f":"[1]LETs!R141","v":0},{"$f":"IFERROR(INDEX([1]LETs!$F$3:$AZZ$214,MATCH($D141,[1]LETs!$D$3:$D$214,0),MATCH($S$2,[1]LETs!$F$2:$AZZ$2,0)),0)","v":0}]
[null,null,null,"Expedidos (SEC)",null,{"$f":"[1]LETs!F142","v":364307},{"$f":"[1]LETs!G142","v":266553},{"$f":"[1]LETs!H142","v":97754},{"$f":"[1]LETs!I142","v":0},{"$f":"[1]LETs!J142","v":0},{"$f":"[1]LETs!K142","v":0},{"$f":"[1]LETs!L142","v":0},{"$f":"[1]LETs!M142","v":0},{"$f":"[1]LETs!N142","v":0},{"$f":"[1]LETs!O142","v":0},{"$f":"[1]LETs!P142","v":0},{"$f":"[1]LETs!Q142","v":0},{"$f":"[1]LETs!R142","v":0},{"$f":"IFERROR(INDEX([1]LETs!$F$3:$AZZ$214,MATCH($D142,[1]LETs!$D$3:$D$214,0),MATCH($S$2,[1]LETs!$F$2:$AZZ$2,0)),0)","v":12118}]
[null,null,null,"Meta",null,{"$f":"[1]LETs!F143","v":2.0000000000000002E-5},{"$f":"[1]LETs!G143","v":1.9000000000000001E-5},{"$f":"[1]LETs!H143","v":1.9000000000000001E-5},{"$f":"[1]LETs!I143","v":0},{"$f":"[1]LETs!J143","v":0},{"$f":"[1]LETs!K143","v":0},{"$f":"[1]LETs!L143","v":0},{"$f":"[1]LETs!M143","v":0},{"$f":"[1]LETs!N143","v":0},{"$f":"[1]LETs!O143","v":0},{"$f":"[1]LETs!P143","v":0},{"$f":"[1]LETs!Q143","v":0},{"$f":"[1]LETs!R143","v":0},{"$f":"IF(MONTH(S$2)=1,$G143,IF(MONTH(S$2)=2,$H143,IF(MONTH(S$2)=3,$I143,IF(MONTH(S$2)=4,$J143,IF(MONTH(S$2)=5,$K143,IF(MONTH(S$2)=6,$L143,IF(MONTH(S$2)=7,$M143,IF(MONTH(S$2)=8,$N143,IF(MONTH(S$2)=9,$O143,IF(MONTH(S$2)=10,$P143,IF(MONTH(S$2)=11,$Q143,$R143)))))))))))","v":1.9000000000000001E-5}]
[null,null,"Acerto Embalagens","Acerto Embalagens",{"$f":"[1]LETs!E144","v":0.5},{"$f":"[1]LETs!F144","v":0.99690000000000001},{"$f":"[1]LETs!G144","v":0.99719999999999998},{"$f":"[1]LETs!H144","v":0.99570000000000003},{"$f":"[1]LETs!I144","v":0},{"$f":"[1]LETs!J144","v":0},{"$f":"[1]LETs!K144","v":0},{"$f":"[1]LETs!L144","v":0},{"$f":"[1]LETs!M144","v":0},{"$f":"[1]LETs!N144","v":0},{"$f":"[1]LETs!O144","v":0},{"$f":"[1]LETs!P144","v":0},{"$f":"[1]LETs!Q144","v":0},{"$f":"[1]LETs!R144","v":0},{"$f":"IFERROR(INDEX([1]LETs!$F$3:$AZZ$214,MATCH($D144,[1]LETs!$D$3:$D$214,0),MATCH($S$2,[1]LETs!$F$2:$AZZ$2,0)),0)","v":""}]
[null,null,null,"Mono Faturados",null,{"$f":"[1]LETs!F145","v":310487},{"$f":"[1]LETs!G145","v":247183},{"$f":"[1]LETs!H145","v":63304},{"$f":"[1]LETs!I145","v":0},{"$f":"[1]LETs!J145","v":0},{"$f":"[1]LETs!K145","v":0},{"$f":"[1]LETs!L145","v":0},{"$f":"[1]LETs!M145","v":0},{"$f":"[1]LETs!N145","v":0},{"$f":"[1]LETs!O145","v":0},{"$f":"[1]LETs!P145","v":0},{"$f":"[1]LETs!Q145","v":0},{"$f":"[1]LETs!R145","v":0},{"$f":"IFERROR(INDEX([1]LETs!$F$3:$AZZ$214,MATCH($D145,[1]LETs!$D$3:$D$214,0),MATCH($S$2,[1]LETs!$F$2:$AZZ$2,0)),0)","v":0}]
[null,null,null,"Nº Acertos",null,{"$f":"[1]LETs!F146","v":309524},{"$f":"[1]LETs!G146","v":246491},{"$f":"[1]LETs!H146","v":63033},{"$f":"[1]LETs!I146","v":0},{"$f":"[1]LETs!J146","v":0},{"$f":"[1]LETs!K146","v":0},{"$f":"[1]LETs!L146","v":0},{"$f":"[1]LETs!M146","v":0},{"$f":"[1]LETs!N146","v":0},{"$f":"[1]LETs!O146","v":0},{"$f":"[1]LETs!P146","v":0},{"$f":"[1]LETs!Q146","v":0},{"$f":"[1]LETs!R146","v":0},{"$f":"IFERROR(INDEX([1]LETs!$F$3:$AZZ$214,MATCH($D146,[1]LETs!$D$3:$D$214,0),MATCH($S$2,[1]LETs!$F$2:$AZZ$2,0)),0)","v":0}]
[null,null,null,"Meta",null,{"$f":"[1]LETs!F147","v":0.99399999999999999},{"$f":"[1]LETs!G147","v":0.99399999999999999},{"$f":"[1]LETs!H147","v":0.99399999999999999},{"$f":"[1]LETs!I147","v":0},{"$f":"[1]LETs!J147","v":0},{"$f":"[1]LETs!K147","v":0},{"$f":"[1]LETs!L147","v":0},{"$f":"[1]LETs!M147","v":0},{"$f":"[1]LETs!N147","v":0},{"$f":"[1]LETs!O147","v":0},{"$f":"[1]LETs!P147","v":0},{"$f":"[1]LETs!Q147","v":0},{"$f":"[1]LETs!R147","v":0},{"$f":"IF(MONTH(S$2)=1,$G147,IF(MONTH(S$2)=2,$H147,IF(MONTH(S$2)=3,$I147,IF(MONTH(S$2)=4,$J147,IF(MONTH(S$2)=5,$K147,IF(MONTH(S$2)=6,$L147,IF(MONTH(S$2)=7,$M147,IF(MONTH(S$2)=8,$N147,IF(MONTH(S$2)=9,$O147,IF(MONTH(S$2)=10,$P147,IF(MONTH(S$2)=11,$Q147,$R147)))))))))))","v":0.99399999999999999}]
["TRANSFERÊNCIA",null,"Absenteísmo","Absenteísmo",null,{"$f":"[1]LETs!F148","v":2.0199999999999999E-2},{"$f":"[1]LETs!G148","v":1.9300000000000001E-2},{"$f":"[1]LETs!H148","v":2.2800000000000001E-2},{"$f":"[1]LETs!I148","v":0},{"$f":"[1]LETs!J148","v":0},{"$f":"[1]LETs!K148","v":0},{"$f":"[1]LETs!L148","v":0},{"$f":"[1]LETs!M148","v":0},{"$f":"[1]LETs!N148","v":0},{"$f":"[1]LETs!O148","v":0},{"$f":"[1]LETs!P148","v":0},{"$f":"[1]LETs!Q148","v":0},{"$f":"[1]LETs!R148","v":0},{"$f":"IFERROR(INDEX([1]LETs!$F$3:$AZZ$214,MATCH($D148,[1]LETs!$D$3:$D$214,0),MATCH($S$2,[1]LETs!$F$2:$AZZ$2,0)),0)","v":1.3899999999999999E-2}]
[null,null,null,"Quadro Líquido",null,{"$f":"[1]LETs!F149","v":4802},{"$f":"[1]LETs!G149","v":3576},{"$f":"[1]LETs!H149","v":1226},{"$f":"[1]LETs!I149","v":0},{"$f":"[1]LETs!J149","v":0},{"$f":"[1]LETs!K149","v":0},{"$f":"[1]LETs!L149","v":0},{"$f":"[1]LETs!M149","v":0},{"$f":"[1]LETs!N149","v":0},{"$f":"[1]LETs!O149","v":0},{"$f":"[1]LETs!P149","v":0},{"$f":"[1]LETs!Q149","v":0},{"$f":"[1]LETs!R149","v":0},{"$f":"IFERROR(INDEX([1]LETs!$F$3:$AZZ$214,MATCH($D149,[1]LETs!$D$3:$D$214,0),MATCH($S$2,[1]LETs!$F$2:$AZZ$2,0)),0)","v":360}]
[null,null,null,"Faltas",null,{"$f":"[1]LETs!F150","v":97},{"$f":"[1]LETs!G150","v":69},{"$f":"[1]LETs!H150","v":28},{"$f":"[1]LETs!I150","v":0},{"$f":"[1]LETs!J150","v":0},{"$f":"[1]LETs!K150","v":0},{"$f":"[1]LETs!L150","v":0},{"$f":"[1]LETs!M150","v":0},{"$f":"[1]LETs!N150","v":0},{"$f":"[1]LETs!O150","v":0},{"$f":"[1]LETs!P150","v":0},{"$f":"[1]LETs!Q150","v":0},{"$f":"[1]LETs!R150","v":0},{"$f":"IFERROR(INDEX([1]LETs!$F$3:$AZZ$214,MATCH($D150,[1]LETs!$D$3:$D$214,0),MATCH($S$2,[1]LETs!$F$2:$AZZ$2,0)),0)","v":5}]
[null,null,null,"Quadro Total",null,{"$f":"[1]LETs!F151","v":6026},{"$f":"[1]LETs!G151","v":4488},{"$f":"[1]LETs!H151","v":1538},{"$f":"[1]LETs!I151","v":0},{"$f":"[1]LETs!J151","v":0},{"$f":"[1]LETs!K151","v":0},{"$f":"[1]LETs!L151","v":0},{"$f":"[1]LETs!M151","v":0},{"$f":"[1]LETs!N151","v":0},{"$f":"[1]LETs!O151","v":0},{"$f":"[1]LETs!P151","v":0},{"$f":"[1]LETs!Q151","v":0},{"$f":"[1]LETs!R151","v":0},{"$f":"IFERROR(INDEX([1]LETs!$F$3:$AZZ$214,MATCH($D151,[1]LETs!$D$3:$D$214,0),MATCH($S$2,[1]LETs!$F$2:$AZZ$2,0)),0)","v":438}]
[null,null,null,"Ger. e Coord.",null,{"$f":"[1]LETs!F152","v":72},{"$f":"[1]LETs!G152","v":54},{"$f":"[1]LETs!H152","v":18},{"$f":"[1]LETs!I152","v":0},{"$f":"[1]LETs!J152","v":0},{"$f":"[1]LETs!K152","v":0},{"$f":"[1]LETs!L152","v":0},{"$f":"[1]LETs!M152","v":0},{"$f":"[1]LETs!N152","v":0},{"$f":"[1]LETs!O152","v":0},{"$f":"[1]LETs!P152","v":0},{"$f":"[1]LETs!Q152","v":0},{"$f":"[1]LETs!R152","v":0},{"$f":"IFERROR(INDEX([1]LETs!$F$3:$AZZ$214,MATCH($D152,[1]LETs!$D$3:$D$214,0),MATCH($S$2,[1]LETs!$F$2:$AZZ$2,0)),0)","v":7}]
[null,null,null,"Sup. e Liderança",null,{"$f":"[1]LETs!F153","v":534},{"$f":"[1]LETs!G153","v":392},{"$f":"[1]LETs!H153","v":142},{"$f":"[1]LETs!I153","v":0},{"$f":"[1]LETs!J153","v":0},{"$f":"[1]LETs!K153","v":0},{"$f":"[1]LETs!L153","v":0},{"$f":"[1]LETs!M153","v":0},{"$f":"[1]LETs!N153","v":0},{"$f":"[1]LETs!O153","v":0},{"$f":"[1]LETs!P153","v":0},{"$f":"[1]LETs!Q153","v":0},{"$f":"[1]LETs!R153","v":0},{"$f":"IFERROR(INDEX([1]LETs!$F$3:$AZZ$214,MATCH($D153,[1]LETs!$D$3:$D$214,0),MATCH($S$2,[1]LETs!$F$2:$AZZ$2,0)),0)","v":42}]
[null,null,null,"Inativos",null,{"$f":"[1]LETs!F154","v":429},{"$f":"[1]LETs!G154","v":322},{"$f":"[1]LETs!H154","v":107},{"$f":"[1]LETs!I154","v":0},{"$f":"[1]LETs!J154","v":0},{"$f":"[1]LETs!K154","v":0},{"$f":"[1]LETs!L154","v":0},{"$f":"[1]LETs!M154","v":0},{"$f":"[1]LETs!N154","v":0},{"$f":"[1]LETs!O154","v":0},{"$f":"[1]LETs!P154","v":0},{"$f":"[1]LETs!Q154","v":0},{"$f":"[1]LETs!R154","v":0},{"$f":"IFERROR(INDEX([1]LETs!$F$3:$AZZ$214,MATCH($D154,[1]LETs!$D$3:$D$214,0),MATCH($S$2,[1]LETs!$F$2:$AZZ$2,0)),0)","v":21}]
[null,null,null,"Ausências",null,{"$f":"[1]LETs!F155","v":723},{"$f":"[1]LETs!G155","v":536},{"$f":"[1]LETs!H155","v":187},{"$f":"[1]LETs!I155","v":0},{"$f":"[1]LETs!J155","v":0},{"$f":"[1]LETs!K155","v":0},{"$f":"[1]LETs!L155","v":0},{"$f":"[1]LETs!M155","v":0},{"$f":"[1]LETs!N155","v":0},{"$f":"[1]LETs!O155","v":0},{"$f":"[1]LETs!P155","v":0},{"$f":"[1]LETs!Q155","v":0},{"$f":"[1]LETs!R155","v":0},{"$f":"IFERROR(INDEX([1]LETs!$F$3:$AZZ$214,MATCH($D155,[1]LETs!$D$3:$D$214,0),MATCH($S$2,[1]LETs!$F$2:$AZZ$2,0)),0)","v":50}]
[null,null,null,"Sumidos",null,{"$f":"[1]LETs!F156","v":0},{"$f":"[1]LETs!G156","v":0},{"$f":"[1]LETs!H156","v":0},{"$f":"[1]LETs!I156","v":0},{"$f":"[1]LETs!J156","v":0},{"$f":"[1]LETs!K156","v":0},{"$f":"[1]LETs!L156","v":0},{"$f":"[1]LETs!M156","v":0},{"$f":"[1]LETs!N156","v":0},{"$f":"[1]LETs!O156","v":0},{"$f":"[1]LETs!P156","v":0},{"$f":"[1]LETs!Q156","v":0},{"$f":"[1]LETs!R156","v":0},{"$f":"IFERROR(INDEX([1]LETs!$F$3:$AZZ$214,MATCH($D156,[1]LETs!$D$3:$D$214,0),MATCH($S$2,[1]LETs!$F$2:$AZZ$2,0)),0)","v":0}]
[null,null,null,"Meta",null,{"$f":"[1]LETs!F157","v":2.4E-2},{"$f":"[1]LETs!G157","v":2.4E-2},{"$f":"[1]LETs!H157","v":2.4E-2},{"$f":"[1]LETs!I157","v":0},{"$f":"[1]LETs!J157","v":0},{"$f":"[1]LETs!K157","v":0},{"$f":"[1]LETs!L157","v":0},{"$f":"[1]LETs!M157","v":0},{"$f":"[1]LETs!N157","v":0},{"$f":"[1]LETs!O157","v":0},{"$f":"[1]LETs!P157","v":0},{"$f":"[1]LETs!Q157","v":0},{"$f":"[1]LETs!R157","v":0},{"$f":"IF(MONTH(S$2)=1,$G157,IF(MONTH(S$2)=2,$H157,IF(MONTH(S$2)=3,$I157,IF(MONTH(S$2)=4,$J157,IF(MONTH(S$2)=5,$K157,IF(MONTH(S$2)=6,$L157,IF(MONTH(S$2)=7,$M157,IF(MONTH(S$2)=8,$N157,IF(MONTH(S$2)=9,$O157,IF(MONTH(S$2)=10,$P157,IF(MONTH(S$2)=11,$Q157,$R157)))))))))))","v":2.4E-2}]
[null,null,"Acidentes (Típicos + Trajeto)","Acidentes",null,{"$f":"[1]LETs!F158","v":0},{"$f":"[1]LETs!G158","v":0},{"$f":"[1]LETs!H158","v":0},{"$f":"[1]LETs!I158","v":0},{"$f":"[1]LETs!J158","v":0},{"$f":"[1]LETs!K158","v":0},{"$f":"[1]LETs!L158","v":0},{"$f":"[1]LETs!M158","v":0},{"$f":"[1]LETs!N158","v":0},{"$f":"[1]LETs!O158","v":0},{"$f":"[1]LETs!P158","v":0},{"$f":"[1]LETs!Q158","v":0},{"$f":"[1]LETs!R158","v":0},{"$f":"IFERROR(INDEX([1]LETs!$F$3:$AZZ$214,MATCH($D158,[1]LETs!$D$3:$D$214,0),MATCH($S$2,[1]LETs!$F$2:$AZZ$2,0)),0)","v":0}]
[null,null,null,"Meta",null,{"$f":"[1]LETs!F159","v":0},{"$f":"[1]LETs!G159","v":0},{"$f":"[1]LETs!H159","v":0},{"$f":"[1]LETs!I159","v":0},{"$f":"[1]LETs!J159","v":0},{"$f":"[1]LETs!K159","v":0},{"$f":"[1]LETs!L159","v":0},{"$f":"[1]LETs!M159","v":0},{"$f":"[1]LETs!N159","v":0},{"$f":"[1]LETs!O159","v":0},{"$f":"[1]LETs!P159","v":0},{"$f":"[1]LETs!Q159","v":0},{"$f":"[1]LETs!R159","v":0},{"$f":"IF(MONTH(S$2)=1,$G159,IF(MONTH(S$2)=2,$H159,IF(MONTH(S$2)=3,$I159,IF(MONTH(S$2)=4,$J159,IF(MONTH(S$2)=5,$K159,IF(MONTH(S$2)=6,$L159,IF(MONTH(S$2)=7,$M159,IF(MONTH(S$2)=8,$N159,IF(MONTH(S$2)=9,$O159,IF(MONTH(S$2)=10,$P159,IF(MONTH(S$2)=11,$Q159,$R159)))))))))))","v":0}]
[null,null,"Anomalias","Anomalias",null,{"$f":"[1]LETs!F160","v":0},{"$f":"[1]LETs!G160","v":0},{"$f":"[1]LETs!H160","v":0},{"$f":"[1]LETs!I160","v":0},{"$f":"[1]LETs!J160","v":0},{"$f":"[1]LETs!K160","v":0},{"$f":"[1]LETs!L160","v":0},{"$f":"[1]LETs!M160","v":0},{"$f":"[1]LETs!N160","v":0},{"$f":"[1]LETs!O160","v":0},{"$f":"[1]LETs!P160","v":0},{"$f":"[1]LETs!Q160","v":0},{"$f":"[1]LETs!R160","v":0},{"$f":"IFERROR(INDEX([1]LETs!$F$3:$AZZ$214,MATCH($D160,[1]LETs!$D$3:$D$214,0),MATCH($S$2,[1]LETs!$F$2:$AZZ$2,0)),0)","v":0}]
[null,null,null,"Meta",null,{"$f":"[1]LETs!F161","v":0},{"$f":"[1]LETs!G161","v":0},{"$f":"[1]LETs!H161","v":0},{"$f":"[1]LETs!I161","v":0},{"$f":"[1]LETs!J161","v":0},{"$f":"[1]LETs!K161","v":0},{"$f":"[1]LETs!L161","v":0},{"$f":"[1]LETs!M161","v":0},{"$f":"[1]LETs!N161","v":0},{"$f":"[1]LETs!O161","v":0},{"$f":"[1]LETs!P161","v":0},{"$f":"[1]LETs!Q161","v":0},{"$f":"[1]LETs!R161","v":0},{"$f":"IF(MONTH(S$2)=1,$G161,IF(MONTH(S$2)=2,$H161,IF(MONTH(S$2)=3,$I161,IF(MONTH(S$2)=4,$J161,IF(MONTH(S$2)=5,$K161,IF(MONTH(S$2)=6,$L161,IF(MONTH(S$2)=7,$M161,IF(MONTH(S$2)=8,$N161,IF(MONTH(S$2)=9,$O161,IF(MONTH(S$2)=10,$P161,IF(MONTH(S$2)=11,$Q161,$R161)))))))))))","v":0}]
[null,null,"Produtividade Área","Produtividade Transferência",null,{"$f":"[1]LETs!F162","v":1.1299999999999999},{"$f":"[1]LETs!G162","v":0.36},{"$f":"[1]LETs!H162","v":1.21},{"$f":"[1]LETs!I162","v":0},{"$f":"[1]LETs!J162","v":0},{"$f":"[1]LETs!K162","v":0},{"$f":"[1]LETs!L162","v":0},{"$f":"[1]LETs!M162","v":0},{"$f":"[1]LETs!N162","v":0},{"$f":"[1]LETs!O162","v":0},{"$f":"[1]LETs!P162","v":0},{"$f":"[1]LETs!Q162","v":0},{"$f":"[1]LETs!R162","v":0},{"$f":"IFERROR(INDEX([1]LETs!$F$3:$AZZ$214,MATCH($D162,[1]LETs!$D$3:$D$214,0),MATCH($S$2,[1]LETs!$F$2:$AZZ$2,0)),0)","v":25.05}]
[null,null,null,"Produção (Área)",null,{"$f":"[1]LETs!F163","v":366850},{"$f":"[1]LETs!G163","v":266743},{"$f":"[1]LETs!H163","v":100107},{"$f":"[1]LETs!I163","v":0},{"$f":"[1]LETs!J163","v":0},{"$f":"[1]LETs!K163","v":0},{"$f":"[1]LETs!L163","v":0},{"$f":"[1]LETs!M163","v":0},{"$f":"[1]LETs!N163","v":0},{"$f":"[1]LETs!O163","v":0},{"$f":"[1]LETs!P163","v":0},{"$f":"[1]LETs!Q163","v":0},{"$f":"[1]LETs!R163","v":0},{"$f":"IFERROR(INDEX([1]LETs!$F$3:$AZZ$214,MATCH($D163,[1]LETs!$D$3:$D$214,0),MATCH($S$2,[1]LETs!$F$2:$AZZ$2,0)),0)","v":10836}]
[null,null,null,"Quadro Produtivo (Área)",null,{"$f":"[1]LETs!F164","v":4991},{"$f":"[1]LETs!G164","v":3720},{"$f":"[1]LETs!H164","v":1271},{"$f":"[1]LETs!I164","v":0},{"$f":"[1]LETs!J164","v":0},{"$f":"[1]LETs!K164","v":0},{"$f":"[1]LETs!L164","v":0},{"$f":"[1]LETs!M164","v":0},{"$f":"[1]LETs!N164","v":0},{"$f":"[1]LETs!O164","v":0},{"$f":"[1]LETs!P164","v":0},{"$f":"[1]LETs!Q164","v":0},{"$f":"[1]LETs!R164","v":0},{"$f":"IFERROR(INDEX([1]LETs!$F$3:$AZZ$214,MATCH($D164,[1]LETs!$D$3:$D$214,0),MATCH($S$2,[1]LETs!$F$2:$AZZ$2,0)),0)","v":19}]
[null,null,null,"Horas (Área)",null,{"$f":"[1]LETs!F165","v":65},{"$f":"[1]LETs!G165","v":201.5},{"$f":"[1]LETs!H165","v":65},{"$f":"[1]LETs!I165","v":0},{"$f":"[1]LETs!J165","v":0},{"$f":"[1]LETs!K165","v":0},{"$f":"[1]LETs!L165","v":0},{"$f":"[1]LETs!M165","v":0},{"$f":"[1]LETs!N165","v":0},{"$f":"[1]LETs!O165","v":0},{"$f":"[1]LETs!P165","v":0},{"$f":"[1]LETs!Q165","v":0},{"$f":"[1]LETs!R165","v":0},{"$f":"IFERROR(INDEX([1]LETs!$F$3:$AZZ$214,MATCH($D165,[1]LETs!$D$3:$D$214,0),MATCH($S$2,[1]LETs!$F$2:$AZZ$2,0)),0)","v":6.5}]
[null,null,null,"Meta",null,{"$f":"[1]LETs!F166","v":21.32},{"$f":"[1]LETs!G166","v":21.32},{"$f":"[1]LETs!H166","v":21.32},{"$f":"[1]LETs!I166","v":0},{"$f":"[1]LETs!J166","v":0},{"$f":"[1]LETs!K166","v":0},{"$f":"[1]LETs!L166","v":0},{"$f":"[1]LETs!M166","v":0},{"$f":"[1]LETs!N166","v":0},{"$f":"[1]LETs!O166","v":0},{"$f":"[1]LETs!P166","v":0},{"$f":"[1]LETs!Q166","v":0},{"$f":"[1]LETs!R166","v":0},{"$f":"IF(MONTH(S$2)=1,$G166,IF(MONTH(S$2)=2,$H166,IF(MONTH(S$2)=3,$I166,IF(MONTH(S$2)=4,$J166,IF(MONTH(S$2)=5,$K166,IF(MONTH(S$2)=6,$L166,IF(MONTH(S$2)=7,$M166,IF(MONTH(S$2)=8,$N166,IF(MONTH(S$2)=9,$O166,IF(MONTH(S$2)=10,$P166,IF(MONTH(S$2)=11,$Q166,$R166)))))))))))","v":21.32}]
[null,null,"NF's em Aberto","Seropédica (Origem)",null,{"$f":"[1]LETs!F167","v":25885},{"$f":"[1]LETs!G167","v":20560},{"$f":"[1]LETs!H167","v":5325},{"$f":"[1]LETs!I167","v":0},{"$f":"[1]LETs!J167","v":0},{"$f":"[1]LETs!K167","v":0},{"$f":"[1]LETs!L167","v":0},{"$f":"[1]LETs!M167","v":0},{"$f":"[1]LETs!N167","v":0},{"$f":"[1]LETs!O167","v":0},{"$f":"[1]LETs!P167","v":0},{"$f":"[1]LETs!Q167","v":0},{"$f":"[1]LETs!R167","v":0},{"$f":"IFERROR(INDEX([1]LETs!$F$3:$AZZ$214,MATCH($D167,[1]LETs!$D$3:$D$214,0),MATCH($S$2,[1]LETs!$F$2:$AZZ$2,0)),0)","v":0}]
[null,null,null,"Demais < 10 Dias",null,{"$f":"[1]LETs!F168","v":3472},{"$f":"[1]LETs!G168","v":2025},{"$f":"[1]LETs!H168","v":1447},{"$f":"[1]LETs!I168","v":0},{"$f":"[1]LETs!J168","v":0},{"$f":"[1]LETs!K168","v":0},{"$f":"[1]LETs!L168","v":0},{"$f":"[1]LETs!M168","v":0},{"$f":"[1]LETs!N168","v":0},{"$f":"[1]LETs!O168","v":0},{"$f":"[1]LETs!P168","v":0},{"$f":"[1]LETs!Q168","v":0},{"$f":"[1]LETs!R168","v":0},{"$f":"IFERROR(INDEX([1]LETs!$F$3:$AZZ$214,MATCH($D168,[1]LETs!$D$3:$D$214,0),MATCH($S$2,[1]LETs!$F$2:$AZZ$2,0)),0)","v":0}]
[null,null,null,"Vencidos > 15 Dias",null,{"$f":"[1]LETs!F169","v":8150},{"$f":"[1]LETs!G169","v":7224},{"$f":"[1]LETs!H169","v":926},{"$f":"[1]LETs!I169","v":0},{"$f":"[1]LETs!J169","v":0},{"$f":"[1]LETs!K169","v":0},{"$f":"[1]LETs!L169","v":0},{"$f":"[1]LETs!M169","v":0},{"$f":"[1]LETs!N169","v":0},{"$f":"[1]LETs!O169","v":0},{"$f":"[1]LETs!P169","v":0},{"$f":"[1]LETs!Q169","v":0},{"$f":"[1]LETs!R169","v":0},{"$f":"IFERROR(INDEX([1]LETs!$F$3:$AZZ$214,MATCH($D169,[1]LETs!$D$3:$D$214,0),MATCH($S$2,[1]LETs!$F$2:$AZZ$2,0)),0)","v":0}]
[null,null,null,"À Vencer > 10 Dias",null,{"$f":"[1]LETs!F170","v":14263},{"$f":"[1]LETs!G170","v":11311},{"$f":"[1]LETs!H170","v":2952},{"$f":"[1]LETs!I170","v":0},{"$f":"[1]LETs!J170","v":0},{"$f":"[1]LETs!K170","v":0},{"$f":"[1]LETs!L170","v":0},{"$f":"[1]LETs!M170","v":0},{"$f":"[1]LETs!N170","v":0},{"$f":"[1]LETs!O170","v":0},{"$f":"[1]LETs!P170","v":0},{"$f":"[1]LETs!Q170","v":0},{"$f":"[1]LETs!R170","v":0},{"$f":"IFERROR(INDEX([1]LETs!$F$3:$AZZ$214,MATCH($D170,[1]LETs!$D$3:$D$214,0),MATCH($S$2,[1]LETs!$F$2:$AZZ$2,0)),0)","v":0}]
[null,null,null,"Meta",null,{"$f":"[1]LETs!F171","v":4},{"$f":"[1]LETs!G171","v":4},{"$f":"[1]LETs!H171","v":4},{"$f":"[1]LETs!I171","v":0},{"$f":"[1]LETs!J171","v":0},{"$f":"[1]LETs!K171","v":0},{"$f":"[1]LETs!L171","v":0},{"$f":"[1]LETs!M171","v":0},{"$f":"[1]LETs!N171","v":0},{"$f":"[1]LETs!O171","v":0},{"$f":"[1]LETs!P171","v":0},{"$f":"[1]LETs!Q171","v":0},{"$f":"[1]LETs!R171","v":0},{"$f":"IF(MONTH(S$2)=1,$G171,IF(MONTH(S$2)=2,$H171,IF(MONTH(S$2)=3,$I171,IF(MONTH(S$2)=4,$J171,IF(MONTH(S$2)=5,$K171,IF(MONTH(S$2)=6,$L171,IF(MONTH(S$2)=7,$M171,IF(MONTH(S$2)=8,$N171,IF(MONTH(S$2)=9,$O171,IF(MONTH(S$2)=10,$P171,IF(MONTH(S$2)=11,$Q171,$R171)))))))))))","v":4}]
[null,null,null,"Belém",null,{"$f":"[1]LETs!F172","v":0},{"$f":"[1]LETs!G172","v":0},{"$f":"[1]LETs!H172","v":0},{"$f":"[1]LETs!I172","v":0},{"$f":"[1]LETs!J172","v":0},{"$f":"[1]LETs!K172","v":0},{"$f":"[1]LETs!L172","v":0},{"$f":"[1]LETs!M172","v":0},{"$f":"[1]LETs!N172","v":0},{"$f":"[1]LETs!O172","v":0},{"$f":"[1]LETs!P172","v":0},{"$f":"[1]LETs!Q172","v":0},{"$f":"[1]LETs!R172","v":0},{"$f":"IFERROR(INDEX([1]LETs!$F$3:$AZZ$214,MATCH($D172,[1]LETs!$D$3:$D$214,0),MATCH($S$2,[1]LETs!$F$2:$AZZ$2,0)),0)","v":0}]
[null,null,null,"Meta",null,{"$f":"[1]LETs!F173","v":15},{"$f":"[1]LETs!G173","v":15},{"$f":"[1]LETs!H173","v":15},{"$f":"[1]LETs!I173","v":0},{"$f":"[1]LETs!J173","v":0},{"$f":"[1]LETs!K173","v":0},{"$f":"[1]LETs!L173","v":0},{"$f":"[1]LETs!M173","v":0},{"$f":"[1]LETs!N173","v":0},{"$f":"[1]LETs!O173","v":0},{"$f":"[1]LETs!P173","v":0},{"$f":"[1]LETs!Q173","v":0},{"$f":"[1]LETs!R173","v":0},{"$f":"IF(MONTH(S$2)=1,$G173,IF(MONTH(S$2)=2,$H173,IF(MONTH(S$2)=3,$I173,IF(MONTH(S$2)=4,$J173,IF(MONTH(S$2)=5,$K173,IF(MONTH(S$2)=6,$L173,IF(MONTH(S$2)=7,$M173,IF(MONTH(S$2)=8,$N173,IF(MONTH(S$2)=9,$O173,IF(MONTH(S$2)=10,$P173,IF(MONTH(S$2)=11,$Q173,$R173)))))))))))","v":15}]
[null,null,null,"Cajamar",null,{"$f":"[1]LETs!F174","v":0},{"$f":"[1]LETs!G174","v":0},{"$f":"[1]LETs!H174","v":0},{"$f":"[1]LETs!I174","v":0},{"$f":"[1]LETs!J174","v":0},{"$f":"[1]LETs!K174","v":0},{"$f":"[1]LETs!L174","v":0},{"$f":"[1]LETs!M174","v":0},{"$f":"[1]LETs!N174","v":0},{"$f":"[1]LETs!O174","v":0},{"$f":"[1]LETs!P174","v":0},{"$f":"[1]LETs!Q174","v":0},{"$f":"[1]LETs!R174","v":0},{"$f":"IFERROR(INDEX([1]LETs!$F$3:$AZZ$214,MATCH($D174,[1]LETs!$D$3:$D$214,0),MATCH($S$2,[1]LETs!$F$2:$AZZ$2,0)),0)","v":0}]
[null,null,null,"Meta",null,{"$f":"[1]LETs!F175","v":4},{"$f":"[1]LETs!G175","v":4},{"$f":"[1]LETs!H175","v":4},{"$f":"[1]LETs!I175","v":0},{"$f":"[1]LETs!J175","v":0},{"$f":"[1]LETs!K175","v":0},{"$f":"[1]LETs!L175","v":0},{"$f":"[1]LETs!M175","v":0},{"$f":"[1]LETs!N175","v":0},{"$f":"[1]LETs!O175","v":0},{"$f":"[1]LETs!P175","v":0},{"$f":"[1]LETs!Q175","v":0},{"$f":"[1]LETs!R175","v":0},{"$f":"IF(MONTH(S$2)=1,$G175,IF(MONTH(S$2)=2,$H175,IF(MONTH(S$2)=3,$I175,IF(MONTH(S$2)=4,$J175,IF(MONTH(S$2)=5,$K175,IF(MONTH(S$2)=6,$L175,IF(MONTH(S$2)=7,$M175,IF(MONTH(S$2)=8,$N175,IF(MONTH(S$2)=9,$O175,IF(MONTH(S$2)=10,$P175,IF(MONTH(S$2)=11,$Q175,$R175)))))))))))","v":4}]
[null,null,null,"Curitiba",null,{"$f":"[1]LETs!F176","v":0},{"$f":"[1]LETs!G176","v":0},{"$f":"[1]LETs!H176","v":0},{"$f":"[1]LETs!I176","v":0},{"$f":"[1]LETs!J176","v":0},{"$f":"[1]LETs!K176","v":0},{"$f":"[1]LETs!L176","v":0},{"$f":"[1]LETs!M176","v":0},{"$f":"[1]LETs!N176","v":0},{"$f":"[1]LETs!O176","v":0},{"$f":"[1]LETs!P176","v":0},{"$f":"[1]LETs!Q176","v":0},{"$f":"[1]LETs!R176","v":0},{"$f":"IFERROR(INDEX([1]LETs!$F$3:$AZZ$214,MATCH($D176,[1]LETs!$D$3:$D$214,0),MATCH($S$2,[1]LETs!$F$2:$AZZ$2,0)),0)","v":0}]
[null,null,null,"Meta",null,{"$f":"[1]LETs!F177","v":6},{"$f":"[1]LETs!G177","v":6},{"$f":"[1]LETs!H177","v":6},{"$f":"[1]LETs!I177","v":0},{"$f":"[1]LETs!J177","v":0},{"$f":"[1]LETs!K177","v":0},{"$f":"[1]LETs!L177","v":0},{"$f":"[1]LETs!M177","v":0},{"$f":"[1]LETs!N177","v":0},{"$f":"[1]LETs!O177","v":0},{"$f":"[1]LETs!P177","v":0},{"$f":"[1]LETs!Q177","v":0},{"$f":"[1]LETs!R177","v":0},{"$f":"IF(MONTH(S$2)=1,$G177,IF(MONTH(S$2)=2,$H177,IF(MONTH(S$2)=3,$I177,IF(MONTH(S$2)=4,$J177,IF(MONTH(S$2)=5,$K177,IF(MONTH(S$2)=6,$L177,IF(MONTH(S$2)=7,$M177,IF(MONTH(S$2)=8,$N177,IF(MONTH(S$2)=9,$O177,IF(MONTH(S$2)=10,$P177,IF(MONTH(S$2)=11,$Q177,$R177)))))))))))","v":6}]
[null,null,null,"Contagem",null,{"$f":"[1]LETs!F178","v":0},{"$f":"[1]LETs!G178","v":0},{"$f":"[1]LETs!H178","v":0},{"$f":"[1]LETs!I178","v":0},{"$f":"[1]LETs!J178","v":0},{"$f":"[1]LETs!K178","v":0},{"$f":"[1]LETs!L178","v":0},{"$f":"[1]LETs!M178","v":0},{"$f":"[1]LETs!N178","v":0},{"$f":"[1]LETs!O178","v":0},{"$f":"[1]LETs!P178","v":0},{"$f":"[1]LETs!Q178","v":0},{"$f":"[1]LETs!R178","v":0},{"$f":"IFERROR(INDEX([1]LETs!$F$3:$AZZ$214,MATCH($D178,[1]LETs!$D$3:$D$214,0),MATCH($S$2,[1]LETs!$F$2:$AZZ$2,0)),0)","v":0}]
[null,null,null,"Meta",null,{"$f":"[1]LETs!F179","v":4},{"$f":"[1]LETs!G179","v":4},{"$f":"[1]LETs!H179","v":4},{"$f":"[1]LETs!I179","v":0},{"$f":"[1]LETs!J179","v":0},{"$f":"[1]LETs!K179","v":0},{"$f":"[1]LETs!L179","v":0},{"$f":"[1]LETs!M179","v":0},{"$f":"[1]LETs!N179","v":0},{"$f":"[1]LETs!O179","v":0},{"$f":"[1]LETs!P179","v":0},{"$f":"[1]LETs!Q179","v":0},{"$f":"[1]LETs!R179","v":0},{"$f":"IF(MONTH(S$2)=1,$G179,IF(MONTH(S$2)=2,$H179,IF(MONTH(S$2)=3,$I179,IF(MONTH(S$2)=4,$J179,IF(MONTH(S$2)=5,$K179,IF(MONTH(S$2)=6,$L179,IF(MONTH(S$2)=7,$M179,IF(MONTH(S$2)=8,$N179,IF(MONTH(S$2)=9,$O179,IF(MONTH(S$2)=10,$P179,IF(MONTH(S$2)=11,$Q179,$R179)))))))))))","v":4}]
[null,null,null,"Fortaleza",null,{"$f":"[1]LETs!F180","v":0},{"$f":"[1]LETs!G180","v":0},{"$f":"[1]LETs!H180","v":0},{"$f":"[1]LETs!I180","v":0},{"$f":"[1]LETs!J180","v":0},{"$f":"[1]LETs!K180","v":0},{"$f":"[1]LETs!L180","v":0},{"$f":"[1]LETs!M180","v":0},{"$f":"[1]LETs!N180","v":0},{"$f":"[1]LETs!O180","v":0},{"$f":"[1]LETs!P180","v":0},{"$f":"[1]LETs!Q180","v":0},{"$f":"[1]LETs!R180","v":0},{"$f":"IFERROR(INDEX([1]LETs!$F$3:$AZZ$214,MATCH($D180,[1]LETs!$D$3:$D$214,0),MATCH($S$2,[1]LETs!$F$2:$AZZ$2,0)),0)","v":0}]
[null,null,null,"Meta",null,{"$f":"[1]LETs!F181","v":8},{"$f":"[1]LETs!G181","v":8},{"$f":"[1]LETs!H181","v":8},{"$f":"[1]LETs!I181","v":0},{"$f":"[1]LETs!J181","v":0},{"$f":"[1]LETs!K181","v":0},{"$f":"[1]LETs!L181","v":0},{"$f":"[1]LETs!M181","v":0},{"$f":"[1]LETs!N181","v":0},{"$f":"[1]LETs!O181","v":0},{"$f":"[1]LETs!P181","v":0},{"$f":"[1]LETs!Q181","v":0},{"$f":"[1]LETs!R181","v":0},{"$f":"IF(MONTH(S$2)=1,$G181,IF(MONTH(S$2)=2,$H181,IF(MONTH(S$2)=3,$I181,IF(MONTH(S$2)=4,$J181,IF(MONTH(S$2)=5,$K181,IF(MONTH(S$2)=6,$L181,IF(MONTH(S$2)=7,$M181,IF(MONTH(S$2)=8,$N181,IF(MONTH(S$2)=9,$O181,IF(MONTH(S$2)=10,$P181,IF(MONTH(S$2)=11,$Q181,$R181)))))))))))","v":8}]
[null,null,null,"Gravataí",null,{"$f":"[1]LETs!F182","v":0},{"$f":"[1]LETs!G182","v":0},{"$f":"[1]LETs!H182","v":0},{"$f":"[1]LETs!I182","v":0},{"$f":"[1]LETs!J182","v":0},{"$f":"[1]LETs!K182","v":0},{"$f":"[1]LETs!L182","v":0},{"$f":"[1]LETs!M182","v":0},{"$f":"[1]LETs!N182","v":0},{"$f":"[1]LETs!O182","v":0},{"$f":"[1]LETs!P182","v":0},{"$f":"[1]LETs!Q182","v":0},{"$f":"[1]LETs!R182","v":0},{"$f":"IFERROR(INDEX([1]LETs!$F$3:$AZZ$214,MATCH($D182,[1]LETs!$D$3:$D$214,0),MATCH($S$2,[1]LETs!$F$2:$AZZ$2,0)),0)","v":0}]
[null,null,null,"Meta",null,{"$f":"[1]LETs!F183","v":6},{"$f":"[1]LETs!G183","v":6},{"$f":"[1]LETs!H183","v":6},{"$f":"[1]LETs!I183","v":0},{"$f":"[1]LETs!J183","v":0},{"$f":"[1]LETs!K183","v":0},{"$f":"[1]LETs!L183","v":0},{"$f":"[1]LETs!M183","v":0},{"$f":"[1]LETs!N183","v":0},{"$f":"[1]LETs!O183","v":0},{"$f":"[1]LETs!P183","v":0},{"$f":"[1]LETs!Q183","v":0},{"$f":"[1]LETs!R183","v":0},{"$f":"IF(MONTH(S$2)=1,$G183,IF(MONTH(S$2)=2,$H183,IF(MONTH(S$2)=3,$I183,IF(MONTH(S$2)=4,$J183,IF(MONTH(S$2)=5,$K183,IF(MONTH(S$2)=6,$L183,IF(MONTH(S$2)=7,$M183,IF(MONTH(S$2)=8,$N183,IF(MONTH(S$2)=9,$O183,IF(MONTH(S$2)=10,$P183,IF(MONTH(S$2)=11,$Q183,$R183)))))))))))","v":6}]
[null,null,null,"Itapevi",null,{"$f":"[1]LETs!F184","v":0},{"$f":"[1]LETs!G184","v":0},{"$f":"[1]LETs!H184","v":0},{"$f":"[1]LETs!I184","v":0},{"$f":"[1]LETs!J184","v":0},{"$f":"[1]LETs!K184","v":0},{"$f":"[1]LETs!L184","v":0},{"$f":"[1]LETs!M184","v":0},{"$f":"[1]LETs!N184","v":0},{"$f":"[1]LETs!O184","v":0},{"$f":"[1]LETs!P184","v":0},{"$f":"[1]LETs!Q184","v":0},{"$f":"[1]LETs!R184","v":0},{"$f":"IFERROR(INDEX([1]LETs!$F$3:$AZZ$214,MATCH($D184,[1]LETs!$D$3:$D$214,0),MATCH($S$2,[1]LETs!$F$2:$AZZ$2,0)),0)","v":0}]
[null,null,null,"Meta",null,{"$f":"[1]LETs!F185","v":4},{"$f":"[1]LETs!G185","v":4},{"$f":"[1]LETs!H185","v":4},{"$f":"[1]LETs!I185","v":0},{"$f":"[1]LETs!J185","v":0},{"$f":"[1]LETs!K185","v":0},{"$f":"[1]LETs!L185","v":0},{"$f":"[1]LETs!M185","v":0},{"$f":"[1]LETs!N185","v":0},{"$f":"[1]LETs!O185","v":0},{"$f":"[1]LETs!P185","v":0},{"$f":"[1]LETs!Q185","v":0},{"$f":"[1]LETs!R185","v":0},{"$f":"IF(MONTH(S$2)=1,$G185,IF(MONTH(S$2)=2,$H185,IF(MONTH(S$2)=3,$I185,IF(MONTH(S$2)=4,$J185,IF(MONTH(S$2)=5,$K185,IF(MONTH(S$2)=6,$L185,IF(MONTH(S$2)=7,$M185,IF(MONTH(S$2)=8,$N185,IF(MONTH(S$2)=9,$O185,IF(MONTH(S$2)=10,$P185,IF(MONTH(S$2)=11,$Q185,$R185)))))))))))","v":4}]
[null,null,null,"Recife",null,{"$f":"[1]LETs!F186","v":0},{"$f":"[1]LETs!G186","v":0},{"$f":"[1]LETs!H186","v":0},{"$f":"[1]LETs!I186","v":0},{"$f":"[1]LETs!J186","v":0},{"$f":"[1]LETs!K186","v":0},{"$f":"[1]LETs!L186","v":0},{"$f":"[1]LETs!M186","v":0},{"$f":"[1]LETs!N186","v":0},{"$f":"[1]LETs!O186","v":0},{"$f":"[1]LETs!P186","v":0},{"$f":"[1]LETs!Q186","v":0},{"$f":"[1]LETs!R186","v":0},{"$f":"IFERROR(INDEX([1]LETs!$F$3:$AZZ$214,MATCH($D186,[1]LETs!$D$3:$D$214,0),MATCH($S$2,[1]LETs!$F$2:$AZZ$2,0)),0)","v":0}]
[null,null,null,"Meta",null,{"$f":"[1]LETs!F187","v":8},{"$f":"[1]LETs!G187","v":8},{"$f":"[1]LETs!H187","v":8},{"$f":"[1]LETs!I187","v":0},{"$f":"[1]LETs!J187","v":0},{"$f":"[1]LETs!K187","v":0},{"$f":"[1]LETs!L187","v":0},{"$f":"[1]LETs!M187","v":0},{"$f":"[1]LETs!N187","v":0},{"$f":"[1]LETs!O187","v":0},{"$f":"[1]LETs!P187","v":0},{"$f":"[1]LETs!Q187","v":0},{"$f":"[1]LETs!R187","v":0},{"$f":"IF(MONTH(S$2)=1,$G187,IF(MONTH(S$2)=2,$H187,IF(MONTH(S$2)=3,$I187,IF(MONTH(S$2)=4,$J187,IF(MONTH(S$2)=5,$K187,IF(MONTH(S$2)=6,$L187,IF(MONTH(S$2)=7,$M187,IF(MONTH(S$2)=8,$N187,IF(MONTH(S$2)=9,$O187,IF(MONTH(S$2)=10,$P187,IF(MONTH(S$2)=11,$Q187,$R187)))))))))))","v":8}]
[null,null,null,"Ribeirão Preto",null,{"$f":"[1]LETs!F188","v":0},{"$f":"[1]LETs!G188","v":0},{"$f":"[1]LETs!H188","v":0},{"$f":"[1]LETs!I188","v":0},{"$f":"[1]LETs!J188","v":0},{"$f":"[1]LETs!K188","v":0},{"$f":"[1]LETs!L188","v":0},{"$f":"[1]LETs!M188","v":0},{"$f":"[1]LETs!N188","v":0},{"$f":"[1]LETs!O188","v":0},{"$f":"[1]LETs!P188","v":0},{"$f":"[1]LETs!Q188","v":0},{"$f":"[1]LETs!R188","v":0},{"$f":"IFERROR(INDEX([1]LETs!$F$3:$AZZ$214,MATCH($D188,[1]LETs!$D$3:$D$214,0),MATCH($S$2,[1]LETs!$F$2:$AZZ$2,0)),0)","v":0}]
[null,null,null,"Meta",null,{"$f":"[1]LETs!F189","v":4},{"$f":"[1]LETs!G189","v":4},{"$f":"[1]LETs!H189","v":4},{"$f":"[1]LETs!I189","v":0},{"$f":"[1]LETs!J189","v":0},{"$f":"[1]LETs!K189","v":0},{"$f":"[1]LETs!L189","v":0},{"$f":"[1]LETs!M189","v":0},{"$f":"[1]LETs!N189","v":0},{"$f":"[1]LETs!O189","v":0},{"$f":"[1]LETs!P189","v":0},{"$f":"[1]LETs!Q189","v":0},{"$f":"[1]LETs!R189","v":0},{"$f":"IF(MONTH(S$2)=1,$G189,IF(MONTH(S$2)=2,$H189,IF(MONTH(S$2)=3,$I189,IF(MONTH(S$2)=4,$J189,IF(MONTH(S$2)=5,$K189,IF(MONTH(S$2)=6,$L189,IF(MONTH(S$2)=7,$M189,IF(MONTH(S$2)=8,$N189,IF(MONTH(S$2)=9,$O189,IF(MONTH(S$2)=10,$P189,IF(MONTH(S$2)=11,$Q189,$R189)))))))))))","v":4}]
[null,null,null,"Salvador",null,{"$f":"[1]LETs!F190","v":0},{"$f":"[1]LETs!G190","v":0},{"$f":"[1]LETs!H190","v":0},{"$f":"[1]LETs!I190","v":0},{"$f":"[1]LETs!J190","v":0},{"$f":"[1]LETs!K190","v":0},{"$f":"[1]LETs!L190","v":0},{"$f":"[1]LETs!M190","v":0},{"$f":"[1]LETs!N190","v":0},{"$f":"[1]LETs!O190","v":0},{"$f":"[1]LETs!P190","v":0},{"$f":"[1]LETs!Q190","v":0},{"$f":"[1]LETs!R190","v":0},{"$f":"IFERROR(INDEX([1]LETs!$F$3:$AZZ$214,MATCH($D190,[1]LETs!$D$3:$D$214,0),MATCH($S$2,[1]LETs!$F$2:$AZZ$2,0)),0)","v":0}]
[null,null,null,"Meta",null,{"$f":"[1]LETs!F191","v":8},{"$f":"[1]LETs!G191","v":8},{"$f":"[1]LETs!H191","v":8},{"$f":"[1]LETs!I191","v":0},{"$f":"[1]LETs!J191","v":0},{"$f":"[1]LETs!K191","v":0},{"$f":"[1]LETs!L191","v":0},{"$f":"[1]LETs!M191","v":0},{"$f":"[1]LETs!N191","v":0},{"$f":"[1]LETs!O191","v":0},{"$f":"[1]LETs!P191","v":0},{"$f":"[1]LETs!Q191","v":0},{"$f":"[1]LETs!R191","v":0},{"$f":"IF(MONTH(S$2)=1,$G191,IF(MONTH(S$2)=2,$H191,IF(MONTH(S$2)=3,$I191,IF(MONTH(S$2)=4,$J191,IF(MONTH(S$2)=5,$K191,IF(MONTH(S$2)=6,$L191,IF(MONTH(S$2)=7,$M191,IF(MONTH(S$2)=8,$N191,IF(MONTH(S$2)=9,$O191,IF(MONTH(S$2)=10,$P191,IF(MONTH(S$2)=11,$Q191,$R191)))))))))))","v":8}]
[null,null,"Etapa de Evento","Etapa de evento",null,{"$f":"[1]LETs!F192","v":0.63629999999999998},{"$f":"[1]LETs!G192","v":0.63629999999999998},{"$f":"[1]LETs!H192","v":0.48049999999999998},{"$f":"[1]LETs!I192","v":0},{"$f":"[1]LETs!J192","v":0},{"$f":"[1]LETs!K192","v":0},{"$f":"[1]LETs!L192","v":0},{"$f":"[1]LETs!M192","v":0},{"$f":"[1]LETs!N192","v":0},{"$f":"[1]LETs!O192","v":0},{"$f":"[1]LETs!P192","v":0},{"$f":"[1]LETs!Q192","v":0},{"$f":"[1]LETs!R192","v":0},{"$f":"IFERROR(INDEX([1]LETs!$F$3:$AZZ$214,MATCH($D192,[1]LETs!$D$3:$D$214,0),MATCH($S$2,[1]LETs!$F$2:$AZZ$2,0)),0)","v":""}]
[null,null,null,"Andiatado",null,{"$f":"[1]LETs!F193","v":4539},{"$f":"[1]LETs!G193","v":4539},{"$f":"[1]LETs!H193","v":1320},{"$f":"[1]LETs!I193","v":0},{"$f":"[1]LETs!J193","v":0},{"$f":"[1]LETs!K193","v":0},{"$f":"[1]LETs!L193","v":0},{"$f":"[1]LETs!M193","v":0},{"$f":"[1]LETs!N193","v":0},{"$f":"[1]LETs!O193","v":0},{"$f":"[1]LETs!P193","v":0},{"$f":"[1]LETs!Q193","v":0},{"$f":"[1]LETs!R193","v":0},{"$f":"IFERROR(INDEX([1]LETs!$F$3:$AZZ$214,MATCH($D193,[1]LETs!$D$3:$D$214,0),MATCH($S$2,[1]LETs!$F$2:$AZZ$2,0)),0)","v":0}]
[null,null,null,"Recebimento do Host",null,{"$f":"[1]LETs!F194","v":1392},{"$f":"[1]LETs!G194","v":1392},{"$f":"[1]LETs!H194","v":118},{"$f":"[1]LETs!I194","v":0},{"$f":"[1]LETs!J194","v":0},{"$f":"[1]LETs!K194","v":0},{"$f":"[1]LETs!L194","v":0},{"$f":"[1]LETs!M194","v":0},{"$f":"[1]LETs!N194","v":0},{"$f":"[1]LETs!O194","v":0},{"$f":"[1]LETs!P194","v":0},{"$f":"[1]LETs!Q194","v":0},{"$f":"[1]LETs!R194","v":0},{"$f":"IFERROR(INDEX([1]LETs!$F$3:$AZZ$214,MATCH($D194,[1]LETs!$D$3:$D$214,0),MATCH($S$2,[1]LETs!$F$2:$AZZ$2,0)),0)","v":0}]
[null,null,null,"Picking liberado",null,{"$f":"[1]LETs!F195","v":758},{"$f":"[1]LETs!G195","v":758},{"$f":"[1]LETs!H195","v":561},{"$f":"[1]LETs!I195","v":0},{"$f":"[1]LETs!J195","v":0},{"$f":"[1]LETs!K195","v":0},{"$f":"[1]LETs!L195","v":0},{"$f":"[1]LETs!M195","v":0},{"$f":"[1]LETs!N195","v":0},{"$f":"[1]LETs!O195","v":0},{"$f":"[1]LETs!P195","v":0},{"$f":"[1]LETs!Q195","v":0},{"$f":"[1]LETs!R195","v":0},{"$f":"IFERROR(INDEX([1]LETs!$F$3:$AZZ$214,MATCH($D195,[1]LETs!$D$3:$D$214,0),MATCH($S$2,[1]LETs!$F$2:$AZZ$2,0)),0)","v":0}]
[null,null,null,"Conferência OK",null,{"$f":"[1]LETs!F196","v":6},{"$f":"[1]LETs!G196","v":6},{"$f":"[1]LETs!H196","v":0},{"$f":"[1]LETs!I196","v":0},{"$f":"[1]LETs!J196","v":0},{"$f":"[1]LETs!K196","v":0},{"$f":"[1]LETs!L196","v":0},{"$f":"[1]LETs!M196","v":0},{"$f":"[1]LETs!N196","v":0},{"$f":"[1]LETs!O196","v":0},{"$f":"[1]LETs!P196","v":0},{"$f":"[1]LETs!Q196","v":0},{"$f":"[1]LETs!R196","v":0},{"$f":"IFERROR(INDEX([1]LETs!$F$3:$AZZ$214,MATCH($D196,[1]LETs!$D$3:$D$214,0),MATCH($S$2,[1]LETs!$F$2:$AZZ$2,0)),0)","v":0}]
[null,null,null,"Nota fiscal aprovada",null,{"$f":"[1]LETs!F197","v":48},{"$f":"[1]LETs!G197","v":48},{"$f":"[1]LETs!H197","v":1},{"$f":"[1]LETs!I197","v":0},{"$f":"[1]LETs!J197","v":0},{"$f":"[1]LETs!K197","v":0},{"$f":"[1]LETs!L197","v":0},{"$f":"[1]LETs!M197","v":0},{"$f":"[1]LETs!N197","v":0},{"$f":"[1]LETs!O197","v":0},{"$f":"[1]LETs!P197","v":0},{"$f":"[1]LETs!Q197","v":0},{"$f":"[1]LETs!R197","v":0},{"$f":"IFERROR(INDEX([1]LETs!$F$3:$AZZ$214,MATCH($D197,[1]LETs!$D$3:$D$214,0),MATCH($S$2,[1]LETs!$F$2:$AZZ$2,0)),0)","v":0}]
[null,null,null,"Nota fiscal conferida",null,{"$f":"[1]LETs!F198","v":381},{"$f":"[1]LETs!G198","v":381},{"$f":"[1]LETs!H198","v":409},{"$f":"[1]LETs!I198","v":0},{"$f":"[1]LETs!J198","v":0},{"$f":"[1]LETs!K198","v":0},{"$f":"[1]LETs!L198","v":0},{"$f":"[1]LETs!M198","v":0},{"$f":"[1]LETs!N198","v":0},{"$f":"[1]LETs!O198","v":0},{"$f":"[1]LETs!P198","v":0},{"$f":"[1]LETs!Q198","v":0},{"$f":"[1]LETs!R198","v":0},{"$f":"IFERROR(INDEX([1]LETs!$F$3:$AZZ$214,MATCH($D198,[1]LETs!$D$3:$D$214,0),MATCH($S$2,[1]LETs!$F$2:$AZZ$2,0)),0)","v":0}]
[null,null,null,"Exclusão de onda de coleta",null,{"$f":"[1]LETs!F199","v":216},{"$f":"[1]LETs!G199","v":216},{"$f":"[1]LETs!H199","v":28},{"$f":"[1]LETs!I199","v":0},{"$f":"[1]LETs!J199","v":0},{"$f":"[1]LETs!K199","v":0},{"$f":"[1]LETs!L199","v":0},{"$f":"[1]LETs!M199","v":0},{"$f":"[1]LETs!N199","v":0},{"$f":"[1]LETs!O199","v":0},{"$f":"[1]LETs!P199","v":0},{"$f":"[1]LETs!Q199","v":0},{"$f":"[1]LETs!R199","v":0},{"$f":"IFERROR(INDEX([1]LETs!$F$3:$AZZ$214,MATCH($D199,[1]LETs!$D$3:$D$214,0),MATCH($S$2,[1]LETs!$F$2:$AZZ$2,0)),0)","v":0}]
[null,null,null,"Exclusão de programa de coleta",null,{"$f":"[1]LETs!F200","v":870},{"$f":"[1]LETs!G200","v":870},{"$f":"[1]LETs!H200","v":52},{"$f":"[1]LETs!I200","v":0},{"$f":"[1]LETs!J200","v":0},{"$f":"[1]LETs!K200","v":0},{"$f":"[1]LETs!L200","v":0},{"$f":"[1]LETs!M200","v":0},{"$f":"[1]LETs!N200","v":0},{"$f":"[1]LETs!O200","v":0},{"$f":"[1]LETs!P200","v":0},{"$f":"[1]LETs!Q200","v":0},{"$f":"[1]LETs!R200","v":0},{"$f":"IFERROR(INDEX([1]LETs!$F$3:$AZZ$214,MATCH($D200,[1]LETs!$D$3:$D$214,0),MATCH($S$2,[1]LETs!$F$2:$AZZ$2,0)),0)","v":0}]
[null,null,null,"Não romaneado",null,{"$f":"[1]LETs!F201","v":467},{"$f":"[1]LETs!G201","v":467},{"$f":"[1]LETs!H201","v":151},{"$f":"[1]LETs!I201","v":0},{"$f":"[1]LETs!J201","v":0},{"$f":"[1]LETs!K201","v":0},{"$f":"[1]LETs!L201","v":0},{"$f":"[1]LETs!M201","v":0},{"$f":"[1]LETs!N201","v":0},{"$f":"[1]LETs!O201","v":0},{"$f":"[1]LETs!P201","v":0},{"$f":"[1]LETs!Q201","v":0},{"$f":"[1]LETs!R201","v":0},{"$f":"IFERROR(INDEX([1]LETs!$F$3:$AZZ$214,MATCH($D201,[1]LETs!$D$3:$D$214,0),MATCH($S$2,[1]LETs!$F$2:$AZZ$2,0)),0)","v":0}]
[null,null,null,"Finalização de volumes",null,{"$f":"[1]LETs!F202","v":157},{"$f":"[1]LETs!G202","v":157},{"$f":"[1]LETs!H202","v":0},{"$f":"[1]LETs!I202","v":0},{"$f":"[1]LETs!J202","v":0},{"$f":"[1]LETs!K202","v":0},{"$f":"[1]LETs!L202","v":0},{"$f":"[1]LETs!M202","v":0},{"$f":"[1]LETs!N202","v":0},{"$f":"[1]LETs!O202","v":0},{"$f":"[1]LETs!P202","v":0},{"$f":"[1]LETs!Q202","v":0},{"$f":"[1]LETs!R202","v":0},{"$f":"IFERROR(INDEX([1]LETs!$F$3:$AZZ$214,MATCH($D202,[1]LETs!$D$3:$D$214,0),MATCH($S$2,[1]LETs!$F$2:$AZZ$2,0)),0)","v":0}]
[null,null,null,"Fechamento da gaiola",null,{"$f":"[1]LETs!F203","v":244},{"$f":"[1]LETs!G203","v":244},{"$f":"[1]LETs!H203","v":0},{"$f":"[1]LETs!I203","v":0},{"$f":"[1]LETs!J203","v":0},{"$f":"[1]LETs!K203","v":0},{"$f":"[1]LETs!L203","v":0},{"$f":"[1]LETs!M203","v":0},{"$f":"[1]LETs!N203","v":0},{"$f":"[1]LETs!O203","v":0},{"$f":"[1]LETs!P203","v":0},{"$f":"[1]LETs!Q203","v":0},{"$f":"[1]LETs!R203","v":0},{"$f":"IFERROR(INDEX([1]LETs!$F$3:$AZZ$214,MATCH($D203,[1]LETs!$D$3:$D$214,0),MATCH($S$2,[1]LETs!$F$2:$AZZ$2,0)),0)","v":0}]
[null,null,null,"Atrasado",null,{"$f":"[1]LETs!F204","v":2594},{"$f":"[1]LETs!G204","v":2594},{"$f":"[1]LETs!H204","v":1427},{"$f":"[1]LETs!I204","v":0},{"$f":"[1]LETs!J204","v":0},{"$f":"[1]LETs!K204","v":0},{"$f":"[1]LETs!L204","v":0},{"$f":"[1]LETs!M204","v":0},{"$f":"[1]LETs!N204","v":0},{"$f":"[1]LETs!O204","v":0},{"$f":"[1]LETs!P204","v":0},{"$f":"[1]LETs!Q204","v":0},{"$f":"[1]LETs!R204","v":0},{"$f":"IFERROR(INDEX([1]LETs!$F$3:$AZZ$214,MATCH($D204,[1]LETs!$D$3:$D$214,0),MATCH($S$2,[1]LETs!$F$2:$AZZ$2,0)),0)","v":0}]
[null,null,null,"Recebimento do Host",null,{"$f":"[1]LETs!F205","v":23},{"$f":"[1]LETs!G205","v":23},{"$f":"[1]LETs!H205","v":1},{"$f":"[1]LETs!I205","v":0},{"$f":"[1]LETs!J205","v":0},{"$f":"[1]LETs!K205","v":0},{"$f":"[1]LETs!L205","v":0},{"$f":"[1]LETs!M205","v":0},{"$f":"[1]LETs!N205","v":0},{"$f":"[1]LETs!O205","v":0},{"$f":"[1]LETs!P205","v":0},{"$f":"[1]LETs!Q205","v":0},{"$f":"[1]LETs!R205","v":0},{"$f":"IFERROR(INDEX([1]LETs!$F$3:$AZZ$214,MATCH($D205,[1]LETs!$D$3:$D$214,0),MATCH($S$2,[1]LETs!$F$2:$AZZ$2,0)),0)","v":0}]
[null,null,null,"Picking liberado",null,{"$f":"[1]LETs!F206","v":268},{"$f":"[1]LETs!G206","v":268},{"$f":"[1]LETs!H206","v":680},{"$f":"[1]LETs!I206","v":0},{"$f":"[1]LETs!J206","v":0},{"$f":"[1]LETs!K206","v":0},{"$f":"[1]LETs!L206","v":0},{"$f":"[1]LETs!M206","v":0},{"$f":"[1]LETs!N206","v":0},{"$f":"[1]LETs!O206","v":0},{"$f":"[1]LETs!P206","v":0},{"$f":"[1]LETs!Q206","v":0},{"$f":"[1]LETs!R206","v":0},{"$f":"IFERROR(INDEX([1]LETs!$F$3:$AZZ$214,MATCH($D206,[1]LETs!$D$3:$D$214,0),MATCH($S$2,[1]LETs!$F$2:$AZZ$2,0)),0)","v":0}]
[null,null,null,"Conferência OK",null,{"$f":"[1]LETs!F207","v":468},{"$f":"[1]LETs!G207","v":468},{"$f":"[1]LETs!H207","v":0},{"$f":"[1]LETs!I207","v":0},{"$f":"[1]LETs!J207","v":0},{"$f":"[1]LETs!K207","v":0},{"$f":"[1]LETs!L207","v":0},{"$f":"[1]LETs!M207","v":0},{"$f":"[1]LETs!N207","v":0},{"$f":"[1]LETs!O207","v":0},{"$f":"[1]LETs!P207","v":0},{"$f":"[1]LETs!Q207","v":0},{"$f":"[1]LETs!R207","v":0},{"$f":"IFERROR(INDEX([1]LETs!$F$3:$AZZ$214,MATCH($D207,[1]LETs!$D$3:$D$214,0),MATCH($S$2,[1]LETs!$F$2:$AZZ$2,0)),0)","v":0}]
[null,null,null,"Nota fiscal aprovada",null,{"$f":"[1]LETs!F208","v":9},{"$f":"[1]LETs!G208","v":9},{"$f":"[1]LETs!H208","v":4},{"$f":"[1]LETs!I208","v":0},{"$f":"[1]LETs!J208","v":0},{"$f":"[1]LETs!K208","v":0},{"$f":"[1]LETs!L208","v":0},{"$f":"[1]LETs!M208","v":0},{"$f":"[1]LETs!N208","v":0},{"$f":"[1]LETs!O208","v":0},{"$f":"[1]LETs!P208","v":0},{"$f":"[1]LETs!Q208","v":0},{"$f":"[1]LETs!R208","v":0},{"$f":"IFERROR(INDEX([1]LETs!$F$3:$AZZ$214,MATCH($D208,[1]LETs!$D$3:$D$214,0),MATCH($S$2,[1]LETs!$F$2:$AZZ$2,0)),0)","v":0}]
[null,null,null,"Nota fiscal conferida",null,{"$f":"[1]LETs!F209","v":876},{"$f":"[1]LETs!G209","v":876},{"$f":"[1]LETs!H209","v":681},{"$f":"[1]LETs!I209","v":0},{"$f":"[1]LETs!J209","v":0},{"$f":"[1]LETs!K209","v":0},{"$f":"[1]LETs!L209","v":0},{"$f":"[1]LETs!M209","v":0},{"$f":"[1]LETs!N209","v":0},{"$f":"[1]LETs!O209","v":0},{"$f":"[1]LETs!P209","v":0},{"$f":"[1]LETs!Q209","v":0},{"$f":"[1]LETs!R209","v":0},{"$f":"IFERROR(INDEX([1]LETs!$F$3:$AZZ$214,MATCH($D209,[1]LETs!$D$3:$D$214,0),MATCH($S$2,[1]LETs!$F$2:$AZZ$2,0)),0)","v":0}]
[null,null,null,"Exclusão de onda de coleta",null,{"$f":"[1]LETs!F210","v":91},{"$f":"[1]LETs!G210","v":91},{"$f":"[1]LETs!H210","v":0},{"$f":"[1]LETs!I210","v":0},{"$f":"[1]LETs!J210","v":0},{"$f":"[1]LETs!K210","v":0},{"$f":"[1]LETs!L210","v":0},{"$f":"[1]LETs!M210","v":0},{"$f":"[1]LETs!N210","v":0},{"$f":"[1]LETs!O210","v":0},{"$f":"[1]LETs!P210","v":0},{"$f":"[1]LETs!Q210","v":0},{"$f":"[1]LETs!R210","v":0},{"$f":"IFERROR(INDEX([1]LETs!$F$3:$AZZ$214,MATCH($D210,[1]LETs!$D$3:$D$214,0),MATCH($S$2,[1]LETs!$F$2:$AZZ$2,0)),0)","v":0}]
[null,null,null,"Exclusão de programa de coleta",null,{"$f":"[1]LETs!F211","v":270},{"$f":"[1]LETs!G211","v":270},{"$f":"[1]LETs!H211","v":3},{"$f":"[1]LETs!I211","v":0},{"$f":"[1]LETs!J211","v":0},{"$f":"[1]LETs!K211","v":0},{"$f":"[1]LETs!L211","v":0},{"$f":"[1]LETs!M211","v":0},{"$f":"[1]LETs!N211","v":0},{"$f":"[1]LETs!O211","v":0},{"$f":"[1]LETs!P211","v":0},{"$f":"[1]LETs!Q211","v":0},{"$f":"[1]LETs!R211","v":0},{"$f":"IFERROR(INDEX([1]LETs!$F$3:$AZZ$214,MATCH($D211,[1]LETs!$D$3:$D$214,0),MATCH($S$2,[1]LETs!$F$2:$AZZ$2,0)),0)","v":0}]
[null,null,null,"Não romaneado",null,{"$f":"[1]LETs!F212","v":68},{"$f":"[1]LETs!G212","v":68},{"$f":"[1]LETs!H212","v":22},{"$f":"[1]LETs!I212","v":0},{"$f":"[1]LETs!J212","v":0},{"$f":"[1]LETs!K212","v":0},{"$f":"[1]LETs!L212","v":0},{"$f":"[1]LETs!M212","v":0},{"$f":"[1]LETs!N212","v":0},{"$f":"[1]LETs!O212","v":0},{"$f":"[1]LETs!P212","v":0},{"$f":"[1]LETs!Q212","v":0},{"$f":"[1]LETs!R212","v":0},{"$f":"IFERROR(INDEX([1]LETs!$F$3:$AZZ$214,MATCH($D212,[1]LETs!$D$3:$D$214,0),MATCH($S$2,[1]LETs!$F$2:$AZZ$2,0)),0)","v":0}]
[null,null,null,"Finalização de volumes",null,{"$f":"[1]LETs!F213","v":77},{"$f":"[1]LETs!G213","v":77},{"$f":"[1]LETs!H213","v":36},{"$f":"[1]LETs!I213","v":0},{"$f":"[1]LETs!J213","v":0},{"$f":"[1]LETs!K213","v":0},{"$f":"[1]LETs!L213","v":0},{"$f":"[1]LETs!M213","v":0},{"$f":"[1]LETs!N213","v":0},{"$f":"[1]LETs!O213","v":0},{"$f":"[1]LETs!P213","v":0},{"$f":"[1]LETs!Q213","v":0},{"$f":"[1]LETs!R213","v":0},{"$f":"IFERROR(INDEX([1]LETs!$F$3:$AZZ$214,MATCH($D213,[1]LETs!$D$3:$D$214,0),MATCH($S$2,[1]LETs!$F$2:$AZZ$2,0)),0)","v":0}]
[null,null,null,"Fechamento da gaiola",null,{"$f":"[1]LETs!F214","v":444},{"$f":"[1]LETs!G214","v":444},{"$f":"[1]LETs!H214","v":0},{"$f":"[1]LETs!I214","v":0},{"$f":"[1]LETs!J214","v":0},{"$f":"[1]LETs!K214","v":0},{"$f":"[1]LETs!L214","v":0},{"$f":"[1]LETs!M214","v":0},{"$f":"[1]LETs!N214","v":0},{"$f":"[1]LETs!O214","v":0},{"$f":"[1]LETs!P214","v":0},{"$f":"[1]LETs!Q214","v":0},{"$f":"[1]LETs!R214","v":0},{"$f":"IFERROR(INDEX([1]LETs!$F$3:$AZZ$214,MATCH($D214,[1]LETs!$D$3:$D$214,0),MATCH($S$2,[1]LETs!$F$2:$AZZ$2,0)),0)","v":0}]

{"sheet":"Metas","index":1,"n_rows":303,"n_cols":16,"rows_kept":303,"cut":false,"hidden":false,"merged":[]}
["Performance - SEC","Jan/21","Fev/21","Mar/21","Abr/21","Mai/21","Jun/21","Jul/21","Ago/21","Set/21","Out/21","Nov/21","Dez/21",2021]
["CD",0.98,0.98,null,null,null,null,null,null,null,null,null,null,{"$f":"IFERROR(ROUND(SUMPRODUCT(B2:M2,B3:M3)/N3,4),B2)","v":0.98}]
["Total SEC",{"$f":"IFERROR(SUMIFS([1]Base!$F:$F,[1]Base!$A:$A,\">=\"&DATE(YEAR(B$1),MONTH(B$1),1),[1]Base!$A:$A,\"<=\"&EOMONTH(B$1,0),[1]Base!$C:$C,$A2),0)+IFERROR(SUMIFS([1]Base!$E:$E,[1]Base!$A:$A,\">=\"&DATE(YEAR(B$1),MONTH(B$1),1),[1]Base!$A:$A,\"<=\"&EOMONTH(B$1,0),[1]Base!$C:$C,$A2),0)","v":0},{"$f":"IFERROR(SUMIFS([1]Base!$F:$F,[1]Base!$A:$A,\">=\"&DATE(YEAR(C$1),MONTH(C$1),1),[1]Base!$A:$A,\"<=\"&EOMONTH(C$1,0),[1]Base!$C:$C,$A2),0)+IFERROR(SUMIFS([1]Base!$E:$E,[1]Base!$A:$A,\">=\"&DATE(YEAR(C$1),MONTH(C$1),1),[1]Base!$A:$A,\"<=\"&EOMONTH(C$1,0),[1]Base!$C:$C,$A2),0)","v":0},null,null,null,null,null,null,null,null,null,null,{"$f":"SUM(B3:M3)","v":0}]
["Inbound","-","-"]
["-","-","-"]
["Estoque","-","-"]
["-","-","-"]
["Outbound",{"$f":"$B$2","v":0.98},{"$f":"$B$2","v":0.98},null,null,null,null,null,null,null,null,null,null,{"$f":"N2","v":0.98}]
["Total SEC",{"$f":"B3","v":0},{"$f":"C3","v":0},null,null,null,null,null,null,null,null,null,null,{"$f":"N3","v":0}]
[]
["Reclamações de Clientes",{"$f":"B$1","v":"Jan/21"},{"$f":"C$1","v":"Fev/21"},{"$f":"D$1","v":"Mar/21"},"Abr/21","Mai/21","Jun/21","Jul/21","Ago/21","Set/21","Out/21","Nov/21","Dez/21",2021]
["CD",1.9000000000000001E-5,1.9000000000000001E-5,null,null,null,null,null,null,null,null,null,null,{"$f":"IFERROR(ROUND(SUMPRODUCT(B12:M12,B13:M13)/N13,5),B12)","v":1.9000000000000001E-5}]
["Expedidos",{"$f":"IFERROR(SUMIFS([1]Base!$AP:$AP,[1]Base!$A:$A,\">=\"&DATE(YEAR(B$1),MONTH(B$1),1),[1]Base!$A:$A,\"<=\"&EOMONTH(B$1,0),[1]Base!$C:$C,$A12),0)","v":0},{"$f":"IFERROR(SUMIFS([1]Base!$AP:$AP,[1]Base!$A:$A,\">=\"&DATE(YEAR(C$1),MONTH(C$1),1),[1]Base!$A:$A,\"<=\"&EOMONTH(C$1,0),[1]Base!$C:$C,$A12),0)","v":0},null,null,null,null,null,null,null,null,null,null,{"$f":"SUM(B13:M13)","v":0}]
["Inbound","-","-"]
["-","-","-"]
["Estoque","-","-"]
["-","-","-"]
["Outbound",{"$f":"B12","v":1.9000000000000001E-5},{"$f":"C12","v":1.9000000000000001E-5},null,null,null,null,null,null,null,null,null,null,{"$f":"N12","v":1.9000000000000001E-5}]
["Expedidos",{"$f":"B13","v":0},{"$f":"C13","v":0},null,null,null,null,null,null,null,null,null,null,{"$f":"N13","v":0}]
[]
["Perda Operacional",{"$f":"B$1","v":"Jan/21"},{"$f":"C$1","v":"Fev/21"},{"$f":"D$1","v":"Mar/21"},"Abr/21","Mai/21","Jun/21","Jul/21","Ago/21","Set/21","Out/21","Nov/21","Dez/21",2021]
["CD",50,50,null,null,null,null,null,null,null,null,null,null,{"$f":"IFERROR(ROUND(SUMPRODUCT(B22:M22,B23:M23)/N23,5),B22)","v":50}]
["Qtd. Dias",{"$f":"DAY(EOMONTH(B$1,0))","v":31},{"$f":"DAY(EOMONTH(C$1,0))","v":28},null,null,null,null,null,null,null,null,null,null,{"$f":"SUM(B23:M23)","v":59}]
["Inbound","-","-"]
["Qtd. Dias","-","-"]
["Estoque",{"$f":"B22","v":50},{"$f":"C22","v":50},null,null,null,null,null,null,null,null,null,null,{"$f":"N22","v":50}]
["Qtd. Dias",{"$f":"B23","v":31},{"$f":"C23","v":28},null,null,null,null,null,null,null,null,null,null,59]
["Outbound","-","-"]
["-","-","-"]
[]
["Disp. Equipamentos",{"$f":"B$1","v":"Jan/21"},{"$f":"C$1","v":"Fev/21"},{"$f":"D$1","v":"Mar/21"},"Abr/21","Mai/21","Jun/21","Jul/21","Ago/21","Set/21","Out/21","Nov/21","Dez/21",{"$f":"N$1","v":2021}]
["CD",0.95609999999999995,0.95609999999999995,null,null,null,null,null,null,null,null,null,null,{"$f":"IFERROR(ROUND(SUMPRODUCT(B32:M32,B33:M33)/N33,5),B32)","v":0.95609999999999995}]
["Total de Equipamentos",{"$f":"IFERROR(SUMIFS([1]Base!$AU:$AU,[1]Base!$A:$A,\">=\"&DATE(YEAR(B$1),MONTH(B$1),1),[1]Base!$A:$A,\"<=\"&EOMONTH(B$1,0),[1]Base!$C:$C,$A32),0)","v":0},{"$f":"IFERROR(SUMIFS([1]Base!$AU:$AU,[1]Base!$A:$A,\">=\"&DATE(YEAR(C$1),MONTH(C$1),1),[1]Base!$A:$A,\"<=\"&EOMONTH(C$1,0),[1]Base!$C:$C,$A32),0)","v":0},null,null,null,null,null,null,null,null,null,null,{"$f":"SUM(B33:M33)","v":0}]
["Inbound","-","-"]
["-","-","-"]
["Estoque","-","-"]
["-","-","-"]
["Outbound","-","-"]
["-","-","-"]
[]
["Produtividade CD",{"$f":"B$1","v":"Jan/21"},{"$f":"C$1","v":"Fev/21"},{"$f":"D$1","v":"Mar/21"},"Abr/21","Mai/21","Jun/21","Jul/21","Ago/21","Set/21","Out/21","Nov/21","Dez/21",2021]
["CD",43.605073326068187,33.906472627338935,null,null,null,null,null,null,null,null,null,null,{"$f":"IFERROR(ROUND(SUMPRODUCT(B42:M42,B43:M43)/N43,5),B42)","v":43.605073326068187}]
["Quadro Produtivo Total",{"$f":"IFERROR(SUMIFS([1]Base!$H:$H,[1]Base!$A:$A,\">=\"&DATE(YEAR(B$1),MONTH(B$1),1),[1]Base!$A:$A,\"<=\"&EOMONTH(B$1,0),[1]Base!$C:$C,$A42),0)","v":0},{"$f":"IFERROR(SUMIFS([1]Base!$H:$H,[1]Base!$A:$A,\">=\"&DATE(YEAR(C$1),MONTH(C$1),1),[1]Base!$A:$A,\"<=\"&EOMONTH(C$1,0),[1]Base!$C:$C,$A42),0)","v":0},null,null,null,null,null,null,null,null,null,null,{"$f":"SUM(B43:M43)","v":0}]
["Inbound",234.13461538461539,189.5,null,null,null,null,null,null,null,null,null,null,{"$f":"IFERROR(ROUND(SUMPRODUCT(B44:M44,B45:M45)/N45,5),B44)","v":234.13461538461539}]
["Quadro Produtivo Total",{"$f":"IFERROR(SUMIFS([1]Base!$H:$H,[1]Base!$A:$A,\">=\"&DATE(YEAR(B$1),MONTH(B$1),1),[1]Base!$A:$A,\"<=\"&EOMONTH(B$1,0),[1]Base!$C:$C,$A44),0)","v":0},{"$f":"IFERROR(SUMIFS([1]Base!$H:$H,[1]Base!$A:$A,\">=\"&DATE(YEAR(C$1),MONTH(C$1),1),[1]Base!$A:$A,\"<=\"&EOMONTH(C$1,0),[1]Base!$C:$C,$A44),0)","v":0},null,null,null,null,null,null,null,null,null,null,{"$f":"SUM(B45:M45)","v":0}]
["Estoque",15.122489575924559,11.338382406364408,null,null,null,null,null,null,null,null,null,null,{"$f":"IFERROR(ROUND(SUMPRODUCT(B46:M46,B47:M47)/N47,5),B46)","v":15.122489575924559}]
["Quadro Produtivo Total",{"$f":"IFERROR(SUMIFS([1]Base!$H:$H,[1]Base!$A:$A,\">=\"&DATE(YEAR(B$1),MONTH(B$1),1),[1]Base!$A:$A,\"<=\"&EOMONTH(B$1,0),[1]Base!$C:$C,$A46),0)","v":0},{"$f":"IFERROR(SUMIFS([1]Base!$H:$H,[1]Base!$A:$A,\">=\"&DATE(YEAR(C$1),MONTH(C$1),1),[1]Base!$A:$A,\"<=\"&EOMONTH(C$1,0),[1]Base!$C:$C,$A46),0)","v":0},null,null,null,null,null,null,null,null,null,null,{"$f":"SUM(B47:M47)","v":0}]
["Outbound",13.518589166356803,10.671418735401797,null,null,null,null,null,null,null,null,null,null,{"$f":"IFERROR(ROUND(SUMPRODUCT(B48:M48,B49:M49)/N49,5),B48)","v":13.518589166356803}]
["Quadro Produtivo Total",{"$f":"IFERROR(SUMIFS([1]Base!$H:$H,[1]Base!$A:$A,\">=\"&DATE(YEAR(B$1),MONTH(B$1),1),[1]Base!$A:$A,\"<=\"&EOMONTH(B$1,0),[1]Base!$C:$C,$A48),0)","v":0},{"$f":"IFERROR(SUMIFS([1]Base!$H:$H,[1]Base!$A:$A,\">=\"&DATE(YEAR(C$1),MONTH(C$1),1),[1]Base!$A:$A,\"<=\"&EOMONTH(C$1,0),[1]Base!$C:$C,$A48),0)","v":0},null,null,null,null,null,null,null,null,null,null,{"$f":"SUM(B49:M49)","v":0}]
[]
["Absenteísmo",{"$f":"B$1","v":"Jan/21"},{"$f":"C$1","v":"Fev/21"},{"$f":"D$1","v":"Mar/21"},"Abr/21","Mai/21","Jun/21","Jul/21","Ago/21","Set/21","Out/21","Nov/21","Dez/21",2021]
["CD",2.4E-2,2.4E-2,null,null,null,null,null,null,null,null,null,null,{"$f":"IFERROR(ROUND(SUMPRODUCT(B52:M52,B53:M53)/N53,5),B52)","v":2.4E-2}]
["QL",{"$f":"IFERROR(SUMIFS([1]Base!$T:$T,[1]Base!$A:$A,\">=\"&DATE(YEAR(B$1),MONTH(B$1),1),[1]Base!$A:$A,\"<=\"&EOMONTH(B$1,0),[1]Base!$C:$C,$A52),0)","v":0},{"$f":"IFERROR(SUMIFS([1]Base!$T:$T,[1]Base!$A:$A,\">=\"&DATE(YEAR(C$1),MONTH(C$1),1),[1]Base!$A:$A,\"<=\"&EOMONTH(C$1,0),[1]Base!$C:$C,$A52),0)","v":0},null,null,null,null,null,null,null,null,null,null,{"$f":"SUM(B53:M53)","v":0}]
["Inbound",{"$f":"$B$52","v":2.4E-2},{"$f":"$B$52","v":2.4E-2},null,null,null,null,null,null,null,null,null,null,{"$f":"IFERROR(ROUND(SUMPRODUCT(B54:M54,B55:M55)/N55,5),B54)","v":2.4E-2}]
["QL",{"$f":"IFERROR(SUMIFS([1]Base!$T:$T,[1]Base!$A:$A,\">=\"&DATE(YEAR(B$1),MONTH(B$1),1),[1]Base!$A:$A,\"<=\"&EOMONTH(B$1,0),[1]Base!$C:$C,$A54),0)","v":0},{"$f":"IFERROR(SUMIFS([1]Base!$T:$T,[1]Base!$A:$A,\">=\"&DATE(YEAR(C$1),MONTH(C$1),1),[1]Base!$A:$A,\"<=\"&EOMONTH(C$1,0),[1]Base!$C:$C,$A54),0)","v":0},null,null,null,null,null,null,null,null,null,null,{"$f":"SUM(B55:M55)","v":0}]
["Estoque",{"$f":"$B$52","v":2.4E-2},{"$f":"$B$52","v":2.4E-2},null,null,null,null,null,null,null,null,null,null,{"$f":"IFERROR(ROUND(SUMPRODUCT(B56:M56,B57:M57)/N57,5),B56)","v":2.4E-2}]
["QL",{"$f":"IFERROR(SUMIFS([1]Base!$T:$T,[1]Base!$A:$A,\">=\"&DATE(YEAR(B$1),MONTH(B$1),1),[1]Base!$A:$A,\"<=\"&EOMONTH(B$1,0),[1]Base!$C:$C,$A56),0)","v":0},{"$f":"IFERROR(SUMIFS([1]Base!$T:$T,[1]Base!$A:$A,\">=\"&DATE(YEAR(C$1),MONTH(C$1),1),[1]Base!$A:$A,\"<=\"&EOMONTH(C$1,0),[1]Base!$C:$C,$A56),0)","v":0},null,null,null,null,null,null,null,null,null,null,{"$f":"SUM(B57:M57)","v":0}]
["Outbound",{"$f":"$B$52","v":2.4E-2},{"$f":"$B$52","v":2.4E-2},null,null,null,null,null,null,null,null,null,null,{"$f":"IFERROR(ROUND(SUMPRODUCT(B58:M58,B59:M59)/N59,5),B58)","v":2.4E-2}]
["QL",{"$f":"IFERROR(SUMIFS([1]Base!$T:$T,[1]Base!$A:$A,\">=\"&DATE(YEAR(B$1),MONTH(B$1),1),[1]Base!$A:$A,\"<=\"&EOMONTH(B$1,0),[1]Base!$C:$C,$A58),0)","v":0},{"$f":"IFERROR(SUMIFS([1]Base!$T:$T,[1]Base!$A:$A,\">=\"&DATE(YEAR(C$1),MONTH(C$1),1),[1]Base!$A:$A,\"<=\"&EOMONTH(C$1,0),[1]Base!$C:$C,$A58),0)","v":0},null,null,null,null,null,null,null,null,null,null,{"$f":"SUM(B59:M59)","v":0}]
[]
["Acidentes (Típicos + Trajeto)",{"$f":"B$1","v":"Jan/21"},{"$f":"C$1","v":"Fev/21"},{"$f":"D$1","v":"Mar/21"},"Abr/21","Mai/21","Jun/21","Jul/21","Ago/21","Set/21","Out/21","Nov/21","Dez/21",2021]
["CD",0,0,null,null,null,null,null,null,null,null,null,null,{"$f":"IFERROR(ROUND(SUMPRODUCT(B62:M62,B63:M63)/N63,5),B62)","v":0}]
["Quantidades",{"$f":"IFERROR(SUMIFS([1]Base!$CA:$CA,[1]Base!$A:$A,\">=\"&DATE(YEAR(B$1),MONTH(B$1),1),[1]Base!$A:$A,\"<=\"&EOMONTH(B$1,0),[1]Base!$C:$C,$A62),0)","v":0},{"$f":"IFERROR(SUMIFS([1]Base!$CA:$CA,[1]Base!$A:$A,\">=\"&DATE(YEAR(C$1),MONTH(C$1),1),[1]Base!$A:$A,\"<=\"&EOMONTH(C$1,0),[1]Base!$C:$C,$A62),0)","v":0},null,null,null,null,null,null,null,null,null,null,{"$f":"SUM(B63:M63)","v":0}]
["Inbound",0,0,null,null,null,null,null,null,null,null,null,null,{"$f":"IFERROR(ROUND(SUMPRODUCT(B64:M64,B65:M65)/N65,5),B64)","v":0}]
["Quantidades",{"$f":"IFERROR(SUMIFS([1]Base!$CA:$CA,[1]Base!$A:$A,\">=\"&DATE(YEAR(B$1),MONTH(B$1),1),[1]Base!$A:$A,\"<=\"&EOMONTH(B$1,0),[1]Base!$C:$C,$A64),0)","v":0},{"$f":"IFERROR(SUMIFS([1]Base!$CA:$CA,[1]Base!$A:$A,\">=\"&DATE(YEAR(C$1),MONTH(C$1),1),[1]Base!$A:$A,\"<=\"&EOMONTH(C$1,0),[1]Base!$C:$C,$A64),0)","v":0},null,null,null,null,null,null,null,null,null,null,{"$f":"SUM(B65:M65)","v":0}]
["Estoque",0,0,null,null,null,null,null,null,null,null,null,null,{"$f":"IFERROR(ROUND(SUMPRODUCT(B66:M66,B67:M67)/N67,5),B66)","v":0}]
["Quantidades",{"$f":"IFERROR(SUMIFS([1]Base!$CA:$CA,[1]Base!$A:$A,\">=\"&DATE(YEAR(B$1),MONTH(B$1),1),[1]Base!$A:$A,\"<=\"&EOMONTH(B$1,0),[1]Base!$C:$C,$A66),0)","v":0},{"$f":"IFERROR(SUMIFS([1]Base!$CA:$CA,[1]Base!$A:$A,\">=\"&DATE(YEAR(C$1),MONTH(C$1),1),[1]Base!$A:$A,\"<=\"&EOMONTH(C$1,0),[1]Base!$C:$C,$A66),0)","v":0},null,null,null,null,null,null,null,null,null,null,{"$f":"SUM(B67:M67)","v":0}]
["Outbound",0,0,null,null,null,null,null,null,null,null,null,null,{"$f":"IFERROR(ROUND(SUMPRODUCT(B68:M68,B69:M69)/N69,5),B68)","v":0}]
["Quantidades",{"$f":"IFERROR(SUMIFS([1]Base!$CA:$CA,[1]Base!$A:$A,\">=\"&DATE(YEAR(B$1),MONTH(B$1),1),[1]Base!$A:$A,\"<=\"&EOMONTH(B$1,0),[1]Base!$C:$C,$A68),0)","v":0},{"$f":"IFERROR(SUMIFS([1]Base!$CA:$CA,[1]Base!$A:$A,\">=\"&DATE(YEAR(C$1),MONTH(C$1),1),[1]Base!$A:$A,\"<=\"&EOMONTH(C$1,0),[1]Base!$C:$C,$A68),0)","v":0},null,null,null,null,null,null,null,null,null,null,{"$f":"SUM(B69:M69)","v":0}]
[]
["Anomalias",{"$f":"B$1","v":"Jan/21"},{"$f":"C$1","v":"Fev/21"},{"$f":"D$1","v":"Mar/21"},"Abr/21","Mai/21","Jun/21","Jul/21","Ago/21","Set/21","Out/21","Nov/21","Dez/21",2021]
["CD",0,0,null,null,null,null,null,null,null,null,null,null,{"$f":"IFERROR(ROUND(SUMPRODUCT(B72:M72,B73:M73)/N73,5),B72)","v":0}]
["Quantidades",{"$f":"IFERROR(SUMIFS([1]Base!$CB:$CB,[1]Base!$A:$A,\">=\"&DATE(YEAR(B$1),MONTH(B$1),1),[1]Base!$A:$A,\"<=\"&EOMONTH(B$1,0),[1]Base!$C:$C,$A72),0)","v":0},{"$f":"IFERROR(SUMIFS([1]Base!$CB:$CB,[1]Base!$A:$A,\">=\"&DATE(YEAR(C$1),MONTH(C$1),1),[1]Base!$A:$A,\"<=\"&EOMONTH(C$1,0),[1]Base!$C:$C,$A72),0)","v":0},null,null,null,null,null,null,null,null,null,null,{"$f":"SUM(B73:M73)","v":0}]
["Inbound",0,0,null,null,null,null,null,null,null,null,null,null,{"$f":"N72","v":0}]
["Quantidades",{"$f":"IFERROR(SUMIFS([1]Base!$CB:$CB,[1]Base!$A:$A,\">=\"&DATE(YEAR(B$1),MONTH(B$1),1),[1]Base!$A:$A,\"<=\"&EOMONTH(B$1,0),[1]Base!$C:$C,$A74),0)","v":0},{"$f":"IFERROR(SUMIFS([1]Base!$CB:$CB,[1]Base!$A:$A,\">=\"&DATE(YEAR(C$1),MONTH(C$1),1),[1]Base!$A:$A,\"<=\"&EOMONTH(C$1,0),[1]Base!$C:$C,$A74),0)","v":0},null,null,null,null,null,null,null,null,null,null,{"$f":"N73","v":0}]
["Estoque",0,0,null,null,null,null,null,null,null,null,null,null,{"$f":"N72","v":0}]
["Quantidades",{"$f":"IFERROR(SUMIFS([1]Base!$CB:$CB,[1]Base!$A:$A,\">=\"&DATE(YEAR(B$1),MONTH(B$1),1),[1]Base!$A:$A,\"<=\"&EOMONTH(B$1,0),[1]Base!$C:$C,$A76),0)","v":0},{"$f":"IFERROR(SUMIFS([1]Base!$CB:$CB,[1]Base!$A:$A,\">=\"&DATE(YEAR(C$1),MONTH(C$1),1),[1]Base!$A:$A,\"<=\"&EOMONTH(C$1,0),[1]Base!$C:$C,$A76),0)","v":0},null,null,null,null,null,null,null,null,null,null,{"$f":"N73","v":0}]
["Outbound",0,0,null,null,null,null,null,null,null,null,null,null,{"$f":"N72","v":0}]
["Quantidades",{"$f":"IFERROR(SUMIFS([1]Base!$CB:$CB,[1]Base!$A:$A,\">=\"&DATE(YEAR(B$1),MONTH(B$1),1),[1]Base!$A:$A,\"<=\"&EOMONTH(B$1,0),[1]Base!$C:$C,$A78),0)","v":0},{"$f":"IFERROR(SUMIFS([1]Base!$CB:$CB,[1]Base!$A:$A,\">=\"&DATE(YEAR(C$1),MONTH(C$1),1),[1]Base!$A:$A,\"<=\"&EOMONTH(C$1,0),[1]Base!$C:$C,$A78),0)","v":0},null,null,null,null,null,null,null,null,null,null,{"$f":"N73","v":0}]
[]
["TMAF",{"$f":"B$1","v":"Jan/21"},{"$f":"C$1","v":"Fev/21"},{"$f":"D$1","v":"Mar/21"},"Abr/21","Mai/21","Jun/21","Jul/21","Ago/21","Set/21","Out/21","Nov/21","Dez/21",2021]
["CD","02:00:00","02:00:00",null,null,null,null,null,null,null,null,null,null,{"$f":"IFERROR(ROUND(SUMPRODUCT(B82:M82,B83:M83)/N83,5),B82)","v":"02:00:00"}]
["Qtd. CORM",{"$f":"IFERROR(SUMIFS([1]Base!$AE:$AE,[1]Base!$A:$A,\">=\"&DATE(YEAR(B$1),MONTH(B$1),1),[1]Base!$A:$A,\"<=\"&EOMONTH(B$1,0),[1]Base!$C:$C,$A82),0)","v":0},{"$f":"IFERROR(SUMIFS([1]Base!$AE:$AE,[1]Base!$A:$A,\">=\"&DATE(YEAR(C$1),MONTH(C$1),1),[1]Base!$A:$A,\"<=\"&EOMONTH(C$1,0),[1]Base!$C:$C,$A82),0)","v":0},null,null,null,null,null,null,null,null,null,null,{"$f":"SUM(B83:M83)","v":0}]
["Inbound",{"$f":"B82","v":"02:00:00"},{"$f":"C82","v":"02:00:00"},null,null,null,null,null,null,null,null,null,null,{"$f":"N82","v":"02:00:00"}]
["Qtd. CORM",{"$f":"B83","v":0},{"$f":"C83","v":0},null,null,null,null,null,null,null,null,null,null,{"$f":"N83","v":0}]
["Estoque","-","-"]
["-","-","-"]
["Outbound","-","-"]
["-","-","-"]
[]
["Erro em doca - Recebimento",{"$f":"B$1","v":"Jan/21"},{"$f":"C$1","v":"Fev/21"},{"$f":"D$1","v":"Mar/21"},"Abr/21","Mai/21","Jun/21","Jul/21","Ago/21","Set/21","Out/21","Nov/21","Dez/21",2021]
["CD",1.9999999999999999E-6,1.9999999999999999E-6,null,null,null,null,null,null,null,null,null,null,{"$f":"B92","v":1.9999999999999999E-6}]
["Auditados (REC)",{"$f":"IFERROR(SUMIFS([1]Base!$AY:$AY,[1]Base!$A:$A,\">=\"&DATE(YEAR(B$1),MONTH(B$1),1),[1]Base!$A:$A,\"<=\"&EOMONTH(B$1,0),[1]Base!$C:$C,$A92),0)","v":0},{"$f":"IFERROR(SUMIFS([1]Base!$AY:$AY,[1]Base!$A:$A,\">=\"&DATE(YEAR(C$1),MONTH(C$1),1),[1]Base!$A:$A,\"<=\"&EOMONTH(C$1,0),[1]Base!$C:$C,$A92),0)","v":0},null,null,null,null,null,null,null,null,null,null,{"$f":"SUM(B93:M93)","v":0}]
["Inbound",{"$f":"B92","v":1.9999999999999999E-6},{"$f":"C92","v":1.9999999999999999E-6},null,null,null,null,null,null,null,null,null,null,{"$f":"N92","v":1.9999999999999999E-6}]
["Auditados (REC)",{"$f":"B93","v":0},{"$f":"C93","v":0},null,null,null,null,null,null,null,null,null,null,{"$f":"N93","v":0}]
["Estoque","-","-",null,null,null,null,null,null,null,null,null,null,{"$f":"N92","v":1.9999999999999999E-6}]
["-","-","-",null,null,null,null,null,null,null,null,null,null,{"$f":"N93","v":0}]
["Outbound","-","-",null,null,null,null,null,null,null,null,null,null,{"$f":"N92","v":1.9999999999999999E-6}]
["-","-","-",null,null,null,null,null,null,null,null,null,null,{"$f":"N93","v":0}]
[]
["Cancelamentos",{"$f":"B$1","v":"Jan/21"},{"$f":"C$1","v":"Fev/21"},{"$f":"D$1","v":"Mar/21"},"Abr/21","Mai/21","Jun/21","Jul/21","Ago/21","Set/21","Out/21","Nov/21","Dez/21",2021]
["CD",3.0000000000000001E-6,3.0000000000000001E-6,null,null,null,null,null,null,null,null,null,null,{"$f":"B102","v":3.0000000000000001E-6}]
["Faturamento",{"$f":"IFERROR(SUMIFS([1]Base!$BB:$BB,[1]Base!$A:$A,\">=\"&DATE(YEAR(B$1),MONTH(B$1),1),[1]Base!$A:$A,\"<=\"&EOMONTH(B$1,0),[1]Base!$C:$C,$A102),0)","v":0},{"$f":"IFERROR(SUMIFS([1]Base!$BB:$BB,[1]Base!$A:$A,\">=\"&DATE(YEAR(C$1),MONTH(C$1),1),[1]Base!$A:$A,\"<=\"&EOMONTH(C$1,0),[1]Base!$C:$C,$A102),0)","v":0},null,null,null,null,null,null,null,null,null,null,{"$f":"SUM(B103:M103)","v":0}]
["Inbound","-","-",null,null,null,null,null,null,null,null,null,null,{"$f":"N102","v":3.0000000000000001E-6}]
["-","-","-",null,null,null,null,null,null,null,null,null,null,{"$f":"N103","v":0}]
["Estoque",{"$f":"B102","v":3.0000000000000001E-6},{"$f":"C102","v":3.0000000000000001E-6},null,null,null,null,null,null,null,null,null,null,{"$f":"N102","v":3.0000000000000001E-6}]
["Faturamento",{"$f":"B103","v":0},{"$f":"C103","v":0},null,null,null,null,null,null,null,null,null,null,{"$f":"N103","v":0}]
["Outbound","-","-",null,null,null,null,null,null,null,null,null,null,{"$f":"N102","v":3.0000000000000001E-6}]
["-","-","-",null,null,null,null,null,null,null,null,null,null,{"$f":"N103","v":0}]
[]
["Estoque Virtual",{"$f":"B$1","v":"Jan/21"},{"$f":"C$1","v":"Fev/21"},{"$f":"D$1","v":"Mar/21"},"Abr/21","Mai/21","Jun/21","Jul/21","Ago/21","Set/21","Out/21","Nov/21","Dez/21",2021]
["CD",1382.03,180,null,null,null,null,null,null,null,null,null,null,{"$f":"IFERROR(ROUND(SUMPRODUCT(B112:M112,B113:M113)/N113,5),B112)","v":1382.03}]
["Expedidos $",{"$f":"IFERROR(SUMIFS([1]Base!$BN:$BN,[1]Base!$A:$A,\">=\"&DATE(YEAR(B$1),MONTH(B$1),1),[1]Base!$A:$A,\"<=\"&EOMONTH(B$1,0),[1]Base!$C:$C,$A112),0)","v":0},{"$f":"IFERROR(SUMIFS([1]Base!$BN:$BN,[1]Base!$A:$A,\">=\"&DATE(YEAR(C$1),MONTH(C$1),1),[1]Base!$A:$A,\"<=\"&EOMONTH(C$1,0),[1]Base!$C:$C,$A112),0)","v":0},null,null,null,null,null,null,null,null,null,null,{"$f":"SUM(B113:M113)","v":0}]
["Inbound","-","-",null,null,null,null,null,null,null,null,null,null,{"$f":"N112","v":1382.03}]
["-","-","-",null,null,null,null,null,null,null,null,null,null,{"$f":"N113","v":0}]
["Estoque",{"$f":"B112","v":1382.03},{"$f":"C112","v":180},null,null,null,null,null,null,null,null,null,null,{"$f":"N112","v":1382.03}]
["Expedidos $",{"$f":"B113","v":0},{"$f":"C113","v":0},null,null,null,null,null,null,null,null,null,null,{"$f":"N113","v":0}]
["Outbound","-","-",null,null,null,null,null,null,null,null,null,null,{"$f":"N112","v":1382.03}]
["-","-","-",null,null,null,null,null,null,null,null,null,null,{"$f":"N113","v":0}]
[]
["PGE",{"$f":"B$1","v":"Jan/21"},{"$f":"C$1","v":"Fev/21"},{"$f":"D$1","v":"Mar/21"},"Abr/21","Mai/21","Jun/21","Jul/21","Ago/21","Set/21","Out/21","Nov/21","Dez/21",2021]
["CD",0.98,0.98,null,null,null,null,null,null,null,null,null,null,{"$f":"IFERROR(ROUND(SUMPRODUCT(B122:M122,B123:M123)/N123,5),B122)","v":0.98}]
["Disponivel no baixo",{"$f":"IFERROR(SUMIFS([1]Base!$BY:$BY,[1]Base!$A:$A,\">=\"&DATE(YEAR(B$1),MONTH(B$1),1),[1]Base!$A:$A,\"<=\"&EOMONTH(B$1,0),[1]Base!$C:$C,$A122),0)","v":0},{"$f":"IFERROR(SUMIFS([1]Base!$BY:$BY,[1]Base!$A:$A,\">=\"&DATE(YEAR(C$1),MONTH(C$1),1),[1]Base!$A:$A,\"<=\"&EOMONTH(C$1,0),[1]Base!$C:$C,$A122),0)","v":0},null,null,null,null,null,null,null,null,null,null,{"$f":"SUM(B123:M123)","v":0}]
["Inbound","-","-",null,null,null,null,null,null,null,null,null,null,{"$f":"N122","v":0.98}]
["-","-","-",null,null,null,null,null,null,null,null,null,null,{"$f":"N123","v":0}]
["Estoque",{"$f":"B122","v":0.98},{"$f":"C122","v":0.98},null,null,null,null,null,null,null,null,null,null,{"$f":"N122","v":0.98}]
["Disponivel no baixo",{"$f":"B123","v":0},{"$f":"C123","v":0},null,null,null,null,null,null,null,null,null,null,{"$f":"N123","v":0}]
["Outbound","-","-",null,null,null,null,null,null,null,null,null,null,{"$f":"N122","v":0.98}]
["-","-","-",null,null,null,null,null,null,null,null,null,null,{"$f":"N123","v":0}]
[]
["Não Conformidades",{"$f":"B$1","v":"Jan/21"},{"$f":"C$1","v":"Fev/21"},{"$f":"D$1","v":"Mar/21"},"Abr/21","Mai/21","Jun/21","Jul/21","Ago/21","Set/21","Out/21","Nov/21","Dez/21",2021]
["CD",5.1E-5,5.1E-5,null,null,null,null,null,null,null,null,null,null,{"$f":"IFERROR(ROUND(SUMPRODUCT(B132:M132,B133:M133)/N133,5),B132)","v":5.1E-5}]
["Separados",{"$f":"IFERROR(SUMIFS([1]Base!$BE:$BE,[1]Base!$A:$A,\">=\"&DATE(YEAR(B$1),MONTH(B$1),1),[1]Base!$A:$A,\"<=\"&EOMONTH(B$1,0),[1]Base!$C:$C,$A132),0)","v":0},{"$f":"IFERROR(SUMIFS([1]Base!$BE:$BE,[1]Base!$A:$A,\">=\"&DATE(YEAR(C$1),MONTH(C$1),1),[1]Base!$A:$A,\"<=\"&EOMONTH(C$1,0),[1]Base!$C:$C,$A132),0)","v":0},null,null,null,null,null,null,null,null,null,null,{"$f":"SUM(B133:M133)","v":0}]
["Inbound","-","-",null,null,null,null,null,null,null,null,null,null,{"$f":"N132","v":5.1E-5}]
["-","-","-",null,null,null,null,null,null,null,null,null,null,{"$f":"N133","v":0}]
["Estoque",{"$f":"B132","v":5.1E-5},{"$f":"C132","v":5.1E-5},null,null,null,null,null,null,null,null,null,null,{"$f":"N132","v":5.1E-5}]
["Separados",{"$f":"B133","v":0},{"$f":"C133","v":0},null,null,null,null,null,null,null,null,null,null,{"$f":"N133","v":0}]
["Outbound","-","-",null,null,null,null,null,null,null,null,null,null,{"$f":"N132","v":5.1E-5}]
["-","-","-",null,null,null,null,null,null,null,null,null,null,{"$f":"N133","v":0}]
[]
["Armazenagem no Prazo",{"$f":"B$1","v":"Jan/21"},{"$f":"C$1","v":"Fev/21"},{"$f":"D$1","v":"Mar/21"},"Abr/21","Mai/21","Jun/21","Jul/21","Ago/21","Set/21","Out/21","Nov/21","Dez/21",2021]
["CD",0.99980000000000002,0.99980000000000002,null,null,null,null,null,null,null,null,null,null,{"$f":"IFERROR(ROUND(SUMPRODUCT(B142:M142,B143:M143)/N143,5),B142)","v":0.99980000000000002}]
["Prazo+Atraso",{"$f":"IFERROR(SUMIFS([1]Base!$P:$P,[1]Base!$A:$A,\">=\"&DATE(YEAR(B$1),MONTH(B$1),1),[1]Base!$A:$A,\"<=\"&EOMONTH(B$1,0),[1]Base!$C:$C,$A142)+SUMIFS([1]Base!$Q:$Q,[1]Base!$A:$A,\">=\"&DATE(YEAR(B$1),MONTH(B$1),1),[1]Base!$A:$A,\"<=\"&EOMONTH(B$1,0),[1]Base!$C:$C,$A142),0)","v":0},{"$f":"IFERROR(SUMIFS([1]Base!$P:$P,[1]Base!$A:$A,\">=\"&DATE(YEAR(C$1),MONTH(C$1),1),[1]Base!$A:$A,\"<=\"&EOMONTH(C$1,0),[1]Base!$C:$C,$A142)+SUMIFS([1]Base!$Q:$Q,[1]Base!$A:$A,\">=\"&DATE(YEAR(C$1),MONTH(C$1),1),[1]Base!$A:$A,\"<=\"&EOMONTH(C$1,0),[1]Base!$C:$C,$A142),0)","v":0},null,null,null,null,null,null,null,null,null,null,{"$f":"SUM(B143:M143)","v":0}]
["Inbound","-","-",null,null,null,null,null,null,null,null,null,null,{"$f":"N142","v":0.99980000000000002}]
["-","-","-",null,null,null,null,null,null,null,null,null,null,{"$f":"N143","v":0}]
["Estoque",{"$f":"B142","v":0.99980000000000002},{"$f":"C142","v":0.99980000000000002},null,null,null,null,null,null,null,null,null,null,{"$f":"N142","v":0.99980000000000002}]
["Prazo+Atraso",{"$f":"B143","v":0},{"$f":"C143","v":0},null,null,null,null,null,null,null,null,null,null,{"$f":"N143","v":0}]
["Outbound","-","-",null,null,null,null,null,null,null,null,null,null,{"$f":"N142","v":0.99980000000000002}]
["-","-","-",null,null,null,null,null,null,null,null,null,null,{"$f":"N143","v":0}]
[]
["CMU",{"$f":"B$1","v":"Jan/21"},{"$f":"C$1","v":"Fev/21"},{"$f":"D$1","v":"Mar/21"},"Abr/21","Mai/21","Jun/21","Jul/21","Ago/21","Set/21","Out/21","Nov/21","Dez/21",2021]
["CD",0.61,0.61,null,null,null,null,null,null,null,null,null,null,{"$f":"IFERROR(ROUND(SUMPRODUCT(B152:M152,B153:M153)/N153,5),B152)","v":0.61}]
["Faturamento CMU",{"$f":"IFERROR(SUMIFS([1]Base!$BB:$BB,[1]Base!$A:$A,\">=\"&DATE(YEAR(B$1),MONTH(B$1),1),[1]Base!$A:$A,\"<=\"&EOMONTH(B$1,0),[1]Base!$C:$C,$A152),0)","v":0},{"$f":"IFERROR(SUMIFS([1]Base!$BB:$BB,[1]Base!$A:$A,\">=\"&DATE(YEAR(C$1),MONTH(C$1),1),[1]Base!$A:$A,\"<=\"&EOMONTH(C$1,0),[1]Base!$C:$C,$A152),0)","v":0},null,null,null,null,null,null,null,null,null,null,{"$f":"SUM(B153:M153)","v":0}]
["Inbound","-","-",null,null,null,null,null,null,null,null,null,null,{"$f":"N152","v":0.61}]
["-","-","-",null,null,null,null,null,null,null,null,null,null,{"$f":"N153","v":0}]
["Estoque","-","-",null,null,null,null,null,null,null,null,null,null,{"$f":"N152","v":0.61}]
["-","-","-",null,null,null,null,null,null,null,null,null,null,{"$f":"N153","v":0}]
["Outbound",{"$f":"B152","v":0.61},{"$f":"C152","v":0.61},null,null,null,null,null,null,null,null,null,null,{"$f":"N152","v":0.61}]
["Faturamento CMU",{"$f":"B153","v":0},{"$f":"C153","v":0},null,null,null,null,null,null,null,null,null,null,{"$f":"N153","v":0}]
[]
["Acerto Embalagens",{"$f":"B$1","v":"Jan/21"},{"$f":"C$1","v":"Fev/21"},{"$f":"D$1","v":"Mar/21"},"Abr/21","Mai/21","Jun/21","Jul/21","Ago/21","Set/21","Out/21","Nov/21","Dez/21",2021]
["CD",0.99399999999999999,0.99399999999999999,null,null,null,null,null,null,null,null,null,null,{"$f":"IFERROR(ROUND(SUMPRODUCT(B162:M162,B163:M163)/N163,5),B162)","v":0.99399999999999999}]
["Mono Faturados",{"$f":"IFERROR(SUMIFS([1]Base!$AR:$AR,[1]Base!$A:$A,\">=\"&DATE(YEAR(B$1),MONTH(B$1),1),[1]Base!$A:$A,\"<=\"&EOMONTH(B$1,0),[1]Base!$C:$C,$A162),0)","v":0},{"$f":"IFERROR(SUMIFS([1]Base!$AR:$AR,[1]Base!$A:$A,\">=\"&DATE(YEAR(C$1),MONTH(C$1),1),[1]Base!$A:$A,\"<=\"&EOMONTH(C$1,0),[1]Base!$C:$C,$A162),0)","v":0},null,null,null,null,null,null,null,null,null,null,{"$f":"SUM(B163:M163)","v":0}]
["Inbound","-","-",null,null,null,null,null,null,null,null,null,null,{"$f":"N162","v":0.99399999999999999}]
["-","-","-",null,null,null,null,null,null,null,null,null,null,{"$f":"N163","v":0}]
["Estoque","-","-",null,null,null,null,null,null,null,null,null,null,{"$f":"N162","v":0.99399999999999999}]
["-","-","-",null,null,null,null,null,null,null,null,null,null,{"$f":"N163","v":0}]
["Outbound",{"$f":"B162","v":0.99399999999999999},{"$f":"C162","v":0.99399999999999999},null,null,null,null,null,null,null,null,null,null,{"$f":"N162","v":0.99399999999999999}]
["Mono Faturados",{"$f":"B163","v":0},{"$f":"C163","v":0},null,null,null,null,null,null,null,null,null,null,{"$f":"N163","v":0}]
[]
["TMP Horas Produtivas",{"$f":"B$1","v":"Jan/21"},{"$f":"C$1","v":"Fev/21"},{"$f":"D$1","v":"Mar/21"},"Abr/21","Mai/21","Jun/21","Jul/21","Ago/21","Set/21","Out/21","Nov/21","Dez/21",2021]
["CD","03:00:00","03:00:00",null,null,null,null,null,null,null,null,null,null,{"$f":"IFERROR(ROUND(SUMPRODUCT(B172:M172,B173:M173)/N173,5),B172)","v":"03:00:00"}]
["Expedidos (SEC)",{"$f":"IFERROR(SUMIFS([1]Base!$AP:$AP,[1]Base!$A:$A,\">=\"&DATE(YEAR(B$1),MONTH(B$1),1),[1]Base!$A:$A,\"<=\"&EOMONTH(B$1,0),[1]Base!$C:$C,$A172),0)","v":0},{"$f":"IFERROR(SUMIFS([1]Base!$AP:$AP,[1]Base!$A:$A,\">=\"&DATE(YEAR(C$1),MONTH(C$1),1),[1]Base!$A:$A,\"<=\"&EOMONTH(C$1,0),[1]Base!$C:$C,$A172),0)","v":0},null,null,null,null,null,null,null,null,null,null,{"$f":"SUM(B173:M173)","v":0}]
["Inbound","-","-",null,null,null,null,null,null,null,null,null,null,{"$f":"N172","v":"03:00:00"}]
["-","-","-",null,null,null,null,null,null,null,null,null,null,{"$f":"N173","v":0}]
["Estoque","-","-"]
["-","-","-"]
["Outbound",{"$f":"B172","v":"03:00:00"},{"$f":"C172","v":"03:00:00"},null,null,null,null,null,null,null,null,null,null,{"$f":"N172","v":"03:00:00"}]
["Expedidos (SEC)",{"$f":"B173","v":0},{"$f":"C173","v":0},null,null,null,null,null,null,null,null,null,null,{"$f":"N173","v":0}]
[]
["Recebimento no Prazo",{"$f":"B$1","v":"Jan/21"},{"$f":"C$1","v":"Fev/21"},{"$f":"D$1","v":"Mar/21"},"Abr/21","Mai/21","Jun/21","Jul/21","Ago/21","Set/21","Out/21","Nov/21","Dez/21",2021]
["CD",0.99990000000000001,0.99990000000000001,null,null,null,null,null,null,null,null,null,null,{"$f":"IFERROR(ROUND(SUMPRODUCT(B182:M182,B183:M183)/N183,5),B182)","v":0.99990000000000001}]
["Prazo+Atraso",{"$f":"IFERROR(SUMIFS([1]Base!$BP:$BP,[1]Base!$A:$A,\">=\"&DATE(YEAR(B$1),MONTH(B$1),1),[1]Base!$A:$A,\"<=\"&EOMONTH(B$1,0),[1]Base!$C:$C,$A182)+SUMIFS([1]Base!BQ:BQ,[1]Base!$A:$A,\">=\"&DATE(YEAR(B$1),MONTH(B$1),1),[1]Base!$A:$A,\"<=\"&EOMONTH(B$1,0),[1]Base!$C:$C,$A182),0)","v":0},{"$f":"IFERROR(SUMIFS([1]Base!$BP:$BP,[1]Base!$A:$A,\">=\"&DATE(YEAR(C$1),MONTH(C$1),1),[1]Base!$A:$A,\"<=\"&EOMONTH(C$1,0),[1]Base!$C:$C,$A182)+SUMIFS([1]Base!BR:BR,[1]Base!$A:$A,\">=\"&DATE(YEAR(C$1),MONTH(C$1),1),[1]Base!$A:$A,\"<=\"&EOMONTH(C$1,0),[1]Base!$C:$C,$A182),0)","v":0},null,null,null,null,null,null,null,null,null,null,{"$f":"SUM(B183:M183)","v":0}]
["Inbound",{"$f":"B182","v":0.99990000000000001},{"$f":"C182","v":0.99990000000000001},null,null,null,null,null,null,null,null,null,null,{"$f":"N182","v":0.99990000000000001}]
["Prazo+Atraso",{"$f":"B183","v":0},{"$f":"C183","v":0},null,null,null,null,null,null,null,null,null,null,{"$f":"N183","v":0}]
["Estoque","-","-",null,null,null,null,null,null,null,null,null,null,{"$f":"N182","v":0.99990000000000001}]
["-","-","-",null,null,null,null,null,null,null,null,null,null,{"$f":"N183","v":0}]
["Outbound","-","-",null,null,null,null,null,null,null,null,null,null,{"$f":"N182","v":0.99990000000000001}]
["-","-","-",null,null,null,null,null,null,null,null,null,null,{"$f":"N183","v":0}]
[]
["Produtividade Área",{"$f":"B$1","v":"Jan/21"},{"$f":"C$1","v":"Fev/21"},{"$f":"D$1","v":"Mar/21"},"Abr/21","Mai/21","Jun/21","Jul/21","Ago/21","Set/21","Out/21","Nov/21","Dez/21",2021]
["CD",{"$f":"B42","v":43.605073326068187},{"$f":"C42","v":33.906472627338935},null,null,null,null,null,null,null,null,null,null,{"$f":"IFERROR(ROUND(SUMPRODUCT(B192:M192,B193:M193)/N193,5),B192)","v":43.605073326068187}]
["Quadro Produtivo Total",{"$f":"B43","v":0},0,null,null,null,null,null,null,null,null,null,null,{"$f":"SUM(B193:M193)","v":0}]
["Inbound",234.13461538461539,189.5,null,null,null,null,null,null,null,null,null,null,{"$f":"IFERROR(ROUND(SUMPRODUCT(B194:M194,B195:M195)/N195,5),B194)","v":234.13461538461539}]
["Quadro Produtivo Total",0,0,null,null,null,null,null,null,null,null,null,null,{"$f":"SUM(B195:M195)","v":0}]
["Estoque",15.122489575924559,11.338382406364408,null,null,null,null,null,null,null,null,null,null,{"$f":"IFERROR(ROUND(SUMPRODUCT(B196:M196,B197:M197)/N197,5),B196)","v":15.122489575924559}]
["Quadro Produtivo Total",0,0,null,null,null,null,null,null,null,null,null,null,{"$f":"SUM(B197:M197)","v":0}]
["Outbound",13.518589166356803,10.671418735401797,null,null,null,null,null,null,null,null,null,null,{"$f":"IFERROR(ROUND(SUMPRODUCT(B198:M198,B199:M199)/N199,5),B198)","v":13.518589166356803}]
["Quadro Produtivo Total",0,0,null,null,null,null,null,null,null,null,null,null,{"$f":"SUM(B199:M199)","v":0}]
[]
["Divergência Picking no Packing",{"$f":"B$1","v":"Jan/21"},{"$f":"C$1","v":"Fev/21"},{"$f":"D$1","v":"Mar/21"},"Abr/21","Mai/21","Jun/21","Jul/21","Ago/21","Set/21","Out/21","Nov/21","Dez/21",2021]
["CD",1.2E-4,1.2E-4,null,null,null,null,null,null,null,null,null,null,{"$f":"IFERROR(ROUND(SUMPRODUCT(B202:M202,B203:M203)/N203,5),B202)","v":1.2E-4}]
["Divergente (Pedidos)",{"$f":"IFERROR(SUMIFS([1]Base!$BG:$BG,[1]Base!$A:$A,\">=\"&DATE(YEAR(B$1),MONTH(B$1),1),[1]Base!$A:$A,\"<=\"&EOMONTH(B$1,0),[1]Base!$C:$C,$A202),0)","v":0},{"$f":"IFERROR(SUMIFS([1]Base!$BG:$BG,[1]Base!$A:$A,\">=\"&DATE(YEAR(C$1),MONTH(C$1),1),[1]Base!$A:$A,\"<=\"&EOMONTH(C$1,0),[1]Base!$C:$C,$A202),0)","v":0},null,null,null,null,null,null,null,null,null,null,{"$f":"SUM(B203:M203)","v":0}]
["Inbound","-","-",null,null,null,null,null,null,null,null,null,null,{"$f":"N202","v":1.2E-4}]
["-","-","-",null,null,null,null,null,null,null,null,null,null,{"$f":"N203","v":0}]
["Estoque",{"$f":"B202","v":1.2E-4},{"$f":"C202","v":1.2E-4},null,null,null,null,null,null,null,null,null,null,{"$f":"N202","v":1.2E-4}]
["Divergente (Pedidos)",{"$f":"B203","v":0},{"$f":"C203","v":0},null,null,null,null,null,null,null,null,null,null,{"$f":"N203","v":0}]
["Outbound","-","-",null,null,null,null,null,null,null,null,null,null,{"$f":"N202","v":1.2E-4}]
["-","-","-",null,null,null,null,null,null,null,null,null,null,{"$f":"N203","v":0}]
[]
["Acurácia de Armazenagem",{"$f":"B$1","v":"Jan/21"},{"$f":"C$1","v":"Fev/21"},{"$f":"D$1","v":"Mar/21"},"Abr/21","Mai/21","Jun/21","Jul/21","Ago/21","Set/21","Out/21","Nov/21","Dez/21",2021]
["CD",0.99990000000000001,0.99990000000000001,null,null,null,null,null,null,null,null,null,null,{"$f":"IFERROR(ROUND(SUMPRODUCT(B212:M212,B213:M213)/N213,5),B212)","v":0.99990000000000001}]
["Locais Auditados (Arm)",{"$f":"IFERROR(SUMIFS([1]Base!$BI:$BI,[1]Base!$A:$A,\">=\"&DATE(YEAR(B$1),MONTH(B$1),1),[1]Base!$A:$A,\"<=\"&EOMONTH(B$1,0),[1]Base!$C:$C,$A212),0)","v":0},{"$f":"IFERROR(SUMIFS([1]Base!$BI:$BI,[1]Base!$A:$A,\">=\"&DATE(YEAR(C$1),MONTH(C$1),1),[1]Base!$A:$A,\"<=\"&EOMONTH(C$1,0),[1]Base!$C:$C,$A212),0)","v":0},null,null,null,null,null,null,null,null,null,null,{"$f":"SUM(B213:M213)","v":0}]
["Inbound","-","-",null,null,null,null,null,null,null,null,null,null,{"$f":"N212","v":0.99990000000000001}]
["-","-","-",null,null,null,null,null,null,null,null,null,null,{"$f":"N213","v":0}]
["Estoque",{"$f":"B212","v":0.99990000000000001},{"$f":"C212","v":0.99990000000000001},null,null,null,null,null,null,null,null,null,null,{"$f":"N212","v":0.99990000000000001}]
["Locais Auditados (Arm)",{"$f":"B213","v":0},{"$f":"C213","v":0},null,null,null,null,null,null,null,null,null,null,{"$f":"N213","v":0}]
["Outbound","-","-",null,null,null,null,null,null,null,null,null,null,{"$f":"N212","v":0.99990000000000001}]
["-","-","-",null,null,null,null,null,null,null,null,null,null,{"$f":"N213","v":0}]
[]
["Acurácia de Movimentação",{"$f":"B$1","v":"Jan/21"},{"$f":"C$1","v":"Fev/21"},{"$f":"D$1","v":"Mar/21"},"Abr/21","Mai/21","Jun/21","Jul/21","Ago/21","Set/21","Out/21","Nov/21","Dez/21",2021]
["CD",0.99950000000000006,0.99950000000000006,null,null,null,null,null,null,null,null,null,null,{"$f":"IFERROR(ROUND(SUMPRODUCT(B222:M222,B223:M223)/N223,5),B222)","v":0.99950000000000006}]
["Locais Auditados (Mov)",{"$f":"IFERROR(SUMIFS([1]Base!$BI:$BI,[1]Base!$A:$A,\">=\"&DATE(YEAR(B$1),MONTH(B$1),1),[1]Base!$A:$A,\"<=\"&EOMONTH(B$1,0),[1]Base!$C:$C,$A222),0)","v":0},{"$f":"IFERROR(SUMIFS([1]Base!$BI:$BI,[1]Base!$A:$A,\">=\"&DATE(YEAR(C$1),MONTH(C$1),1),[1]Base!$A:$A,\"<=\"&EOMONTH(C$1,0),[1]Base!$C:$C,$A222),0)","v":0},null,null,null,null,null,null,null,null,null,null,{"$f":"SUM(B223:M223)","v":0}]
["Inbound","-","-",null,null,null,null,null,null,null,null,null,null,{"$f":"N222","v":0.99950000000000006}]
["-","-","-",null,null,null,null,null,null,null,null,null,null,{"$f":"N223","v":0}]
["Estoque",{"$f":"B222","v":0.99950000000000006},{"$f":"C222","v":0.99950000000000006},null,null,null,null,null,null,null,null,null,null,{"$f":"N222","v":0.99950000000000006}]
["Locais Auditados (Mov)",{"$f":"B223","v":0},{"$f":"C223","v":0},null,null,null,null,null,null,null,null,null,null,{"$f":"N223","v":0}]
["Outbound","-","-",null,null,null,null,null,null,null,null,null,null,{"$f":"N222","v":0.99950000000000006}]
["-","-","-",null,null,null,null,null,null,null,null,null,null,{"$f":"N223","v":0}]
[]
["Pulses - Score",{"$f":"B$1","v":"Jan/21"},{"$f":"C$1","v":"Fev/21"},{"$f":"D$1","v":"Mar/21"},"Abr/21","Mai/21","Jun/21","Jul/21","Ago/21","Set/21","Out/21","Nov/21","Dez/21",2021]
["CD",0.94,0.94,null,null,null,null,null,null,null,null,null,null,{"$f":"IFERROR(ROUND(SUMPRODUCT(B232:M232,B233:M233)/N233,5),B232)","v":0.94}]
["-","-","-",null,null,null,null,null,null,null,null,null,null,{"$f":"SUM(B233:M233)","v":0}]
["Inbound","-","-",null,null,null,null,null,null,null,null,null,null,{"$f":"N232","v":0.94}]
["-","-","-",null,null,null,null,null,null,null,null,null,null,{"$f":"N233","v":0}]
["Estoque","-","-",null,null,null,null,null,null,null,null,null,null,{"$f":"N232","v":0.94}]
["-","-","-",null,null,null,null,null,null,null,null,null,null,{"$f":"N233","v":0}]
["Outbound","-","-",null,null,null,null,null,null,null,null,null,null,{"$f":"N232","v":0.94}]
["-","-","-",null,null,null,null,null,null,null,null,null,null,{"$f":"N233","v":0}]
[]
["Pulses - Adesão",{"$f":"B$1","v":"Jan/21"},{"$f":"C$1","v":"Fev/21"},{"$f":"D$1","v":"Mar/21"},"Abr/21","Mai/21","Jun/21","Jul/21","Ago/21","Set/21","Out/21","Nov/21","Dez/21",2021]
["CD",0.8,0.8,null,null,null,null,null,null,null,null,null,null,{"$f":"IFERROR(ROUND(SUMPRODUCT(B242:M242,B243:M243)/N243,5),B242)","v":0.8}]
["-","-","-",null,null,null,null,null,null,null,null,null,null,{"$f":"SUM(B243:M243)","v":0}]
["Inbound","-","-",null,null,null,null,null,null,null,null,null,null,{"$f":"N242","v":0.8}]
["-","-","-",null,null,null,null,null,null,null,null,null,null,{"$f":"N243","v":0}]
["Estoque","-","-",null,null,null,null,null,null,null,null,null,null,{"$f":"N242","v":0.8}]
["-","-","-",null,null,null,null,null,null,null,null,null,null,{"$f":"N243","v":0}]
["Outbound","-","-",null,null,null,null,null,null,null,null,null,null,{"$f":"N242","v":0.8}]
["-","-","-",null,null,null,null,null,null,null,null,null,null,{"$f":"N243","v":0}]
[]
["Mapa de Calor",{"$f":"B$1","v":"Jan/21"},{"$f":"C$1","v":"Fev/21"},{"$f":"D$1","v":"Mar/21"},"Abr/21","Mai/21","Jun/21","Jul/21","Ago/21","Set/21","Out/21","Nov/21","Dez/21",2021]
["CD",0.9,0.9,null,null,null,null,null,null,null,null,null,null,{"$f":"IFERROR(ROUND(SUMPRODUCT(B252:M252,B253:M253)/N253,5),B252)","v":0.9}]
["-","-","-",null,null,null,null,null,null,null,null,null,null,{"$f":"SUM(B253:M253)","v":0}]
["Inbound","-","-",null,null,null,null,null,null,null,null,null,null,{"$f":"N252","v":0.9}]
["-","-","-",null,null,null,null,null,null,null,null,null,null,{"$f":"N253","v":0}]
["Estoque","-","-",null,null,null,null,null,null,null,null,null,null,{"$f":"N252","v":0.9}]
["-","-","-",null,null,null,null,null,null,null,null,null,null,{"$f":"N253","v":0}]
["Outbound","-","-",null,null,null,null,null,null,null,null,null,null,{"$f":"N252","v":0.9}]
["-","-","-",null,null,null,null,null,null,null,null,null,null,{"$f":"N253","v":0}]
[]
["Compactação",{"$f":"B$1","v":"Jan/21"},{"$f":"C$1","v":"Fev/21"},{"$f":"D$1","v":"Mar/21"},"Abr/21","Mai/21","Jun/21","Jul/21","Ago/21","Set/21","Out/21","Nov/21","Dez/21",2021]
["CD",0.95,0.95,null,null,null,null,null,null,null,null,null,null,{"$f":"IFERROR(ROUND(SUMPRODUCT(B262:M262,B263:M263)/N263,5),B262)","v":0.95}]
["-","-","-",null,null,null,null,null,null,null,null,null,null,{"$f":"SUM(B263:M263)","v":0}]
["Inbound","-","-",null,null,null,null,null,null,null,null,null,null,{"$f":"N262","v":0.95}]
["-","-","-",null,null,null,null,null,null,null,null,null,null,{"$f":"N263","v":0}]
["Estoque","-","-",null,null,null,null,null,null,null,null,null,null,{"$f":"N262","v":0.95}]
["-","-","-",null,null,null,null,null,null,null,null,null,null,{"$f":"N263","v":0}]
["Outbound","-","-",null,null,null,null,null,null,null,null,null,null,{"$f":"N262","v":0.95}]
["-",null,null,null,null,null,null,null,null,null,null,null,null,{"$f":"N263","v":0}]
[]
["NF's em Aberto",{"$f":"B$1","v":"Jan/21"},{"$f":"C$1","v":"Fev/21"},{"$f":"D$1","v":"Mar/21"},"Abr/21","Mai/21","Jun/21","Jul/21","Ago/21","Set/21","Out/21","Nov/21","Dez/21",2021,"RELIGIÃO","DIAS"]
["CD",71,71,null,null,null,null,null,null,null,null,null,null,{"$f":"IFERROR(ROUND(SUMPRODUCT(B272:M272,B273:M273)/N273,5),B272)","v":71},"SUDESTE",4]
["em Aberto",{"$f":"IFERROR(SUMIFS([1]Base!$CM:$CM,[1]Base!$A:$A,\">=\"&DATE(YEAR(B$1),MONTH(B$1),1),[1]Base!$A:$A,\"<=\"&EOMONTH(B$1,0),[1]Base!$C:$C,$A272),0)","v":0},{"$f":"IFERROR(SUMIFS([1]Base!$CM:$CM,[1]Base!$A:$A,\">=\"&DATE(YEAR(C$1),MONTH(C$1),1),[1]Base!$A:$A,\"<=\"&EOMONTH(C$1,0),[1]Base!$C:$C,$A272),0)","v":0}]
["Belém",15,15,null,null,null,null,null,null,null,null,null,null,15,"NORTE",15]
["em Aberto",{"$f":"IFERROR(SUMIFS([1]Base!$CN:$CN,[1]Base!$A:$A,\">=\"&DATE(YEAR(B$1),MONTH(B$1),1),[1]Base!$A:$A,\"<=\"&EOMONTH(B$1,0),[1]Base!$C:$C,$A272),0)","v":0},{"$f":"IFERROR(SUMIFS([1]Base!$CN:$CN,[1]Base!$A:$A,\">=\"&DATE(YEAR(C$1),MONTH(C$1),1),[1]Base!$A:$A,\"<=\"&EOMONTH(C$1,0),[1]Base!$C:$C,$A272),0)","v":0}]
["Cajamar",4,4,null,null,null,null,null,null,null,null,null,null,4,"SUDESTE",4]
["em Aberto",{"$f":"IFERROR(SUMIFS([1]Base!$CO:$CO,[1]Base!$A:$A,\">=\"&DATE(YEAR(B$1),MONTH(B$1),1),[1]Base!$A:$A,\"<=\"&EOMONTH(B$1,0),[1]Base!$C:$C,$A272),0)","v":0},{"$f":"IFERROR(SUMIFS([1]Base!$CO:$CO,[1]Base!$A:$A,\">=\"&DATE(YEAR(C$1),MONTH(C$1),1),[1]Base!$A:$A,\"<=\"&EOMONTH(C$1,0),[1]Base!$C:$C,$A272),0)","v":0}]
["Curitiba",6,6,null,null,null,null,null,null,null,null,null,null,6,"SUL",6]
["em Aberto",{"$f":"IFERROR(SUMIFS([1]Base!$CP:$CP,[1]Base!$A:$A,\">=\"&DATE(YEAR(B$1),MONTH(B$1),1),[1]Base!$A:$A,\"<=\"&EOMONTH(B$1,0),[1]Base!$C:$C,$A272),0)","v":0},{"$f":"IFERROR(SUMIFS([1]Base!$CP:$CP,[1]Base!$A:$A,\">=\"&DATE(YEAR(C$1),MONTH(C$1),1),[1]Base!$A:$A,\"<=\"&EOMONTH(C$1,0),[1]Base!$C:$C,$A272),0)","v":0}]
["Contagem",4,4,null,null,null,null,null,null,null,null,null,null,4,"SUDESTE",4]
["em Aberto",{"$f":"IFERROR(SUMIFS([1]Base!CQ:CQ,[1]Base!$A:$A,\">=\"&DATE(YEAR(B$1),MONTH(B$1),1),[1]Base!$A:$A,\"<=\"&EOMONTH(B$1,0),[1]Base!$C:$C,$A272),0)","v":0},{"$f":"IFERROR(SUMIFS([1]Base!CR:CR,[1]Base!$A:$A,\">=\"&DATE(YEAR(C$1),MONTH(C$1),1),[1]Base!$A:$A,\"<=\"&EOMONTH(C$1,0),[1]Base!$C:$C,$A272),0)","v":0}]
["Fortaleza",8,8,null,null,null,null,null,null,null,null,null,null,8,"NORDESTE",8]
["em Aberto",{"$f":"IFERROR(SUMIFS([1]Base!CR:CR,[1]Base!$A:$A,\">=\"&DATE(YEAR(B$1),MONTH(B$1),1),[1]Base!$A:$A,\"<=\"&EOMONTH(B$1,0),[1]Base!$C:$C,$A272),0)","v":0},{"$f":"IFERROR(SUMIFS([1]Base!CS:CS,[1]Base!$A:$A,\">=\"&DATE(YEAR(C$1),MONTH(C$1),1),[1]Base!$A:$A,\"<=\"&EOMONTH(C$1,0),[1]Base!$C:$C,$A272),0)","v":0}]
["Gravataí",6,6,null,null,null,null,null,null,null,null,null,null,6,"SUL",6]
["em Aberto",{"$f":"IFERROR(SUMIFS([1]Base!$CS:$CS,[1]Base!$A:$A,\">=\"&DATE(YEAR(B$1),MONTH(B$1),1),[1]Base!$A:$A,\"<=\"&EOMONTH(B$1,0),[1]Base!$C:$C,$A272),0)","v":0},{"$f":"IFERROR(SUMIFS([1]Base!$CS:$CS,[1]Base!$A:$A,\">=\"&DATE(YEAR(C$1),MONTH(C$1),1),[1]Base!$A:$A,\"<=\"&EOMONTH(C$1,0),[1]Base!$C:$C,$A272),0)","v":0}]
["Itapevi",4,4,null,null,null,null,null,null,null,null,null,null,4,"SUDESTE",4]
["em Aberto",{"$f":"IFERROR(SUMIFS([1]Base!CT:CT,[1]Base!$A:$A,\">=\"&DATE(YEAR(B$1),MONTH(B$1),1),[1]Base!$A:$A,\"<=\"&EOMONTH(B$1,0),[1]Base!$C:$C,$A272),0)","v":0},{"$f":"IFERROR(SUMIFS([1]Base!CU:CU,[1]Base!$A:$A,\">=\"&DATE(YEAR(C$1),MONTH(C$1),1),[1]Base!$A:$A,\"<=\"&EOMONTH(C$1,0),[1]Base!$C:$C,$A272),0)","v":0}]
["Recife",8,8,null,null,null,null,null,null,null,null,null,null,8,"NORDESTE",8]
["em Aberto",{"$f":"IFERROR(SUMIFS([1]Base!$CU:$CU,[1]Base!$A:$A,\">=\"&DATE(YEAR(B$1),MONTH(B$1),1),[1]Base!$A:$A,\"<=\"&EOMONTH(B$1,0),[1]Base!$C:$C,$A272),0)","v":0},{"$f":"IFERROR(SUMIFS([1]Base!$CU:$CU,[1]Base!$A:$A,\">=\"&DATE(YEAR(C$1),MONTH(C$1),1),[1]Base!$A:$A,\"<=\"&EOMONTH(C$1,0),[1]Base!$C:$C,$A272),0)","v":0}]
["Ribeirão Preto",4,4,null,null,null,null,null,null,null,null,null,null,4,"SUDESTE",4]
["em Aberto",{"$f":"IFERROR(SUMIFS([1]Base!$CV:$CV,[1]Base!$A:$A,\">=\"&DATE(YEAR(B$1),MONTH(B$1),1),[1]Base!$A:$A,\"<=\"&EOMONTH(B$1,0),[1]Base!$C:$C,$A272),0)","v":0},{"$f":"IFERROR(SUMIFS([1]Base!$CV:$CV,[1]Base!$A:$A,\">=\"&DATE(YEAR(C$1),MONTH(C$1),1),[1]Base!$A:$A,\"<=\"&EOMONTH(C$1,0),[1]Base!$C:$C,$A272),0)","v":0}]
["Salvador",8,8,null,null,null,null,null,null,null,null,null,null,8,"NORDESTE",8]
["em Aberto",{"$f":"IFERROR(SUMIFS([1]Base!$CW:$CW,[1]Base!$A:$A,\">=\"&DATE(YEAR(B$1),MONTH(B$1),1),[1]Base!$A:$A,\"<=\"&EOMONTH(B$1,0),[1]Base!$C:$C,$A272),0)","v":0},{"$f":"IFERROR(SUMIFS([1]Base!$CW:$CW,[1]Base!$A:$A,\">=\"&DATE(YEAR(C$1),MONTH(C$1),1),[1]Base!$A:$A,\"<=\"&EOMONTH(C$1,0),[1]Base!$C:$C,$A272),0)","v":0}]
[]
["Reimpressão",{"$f":"B$1","v":"Jan/21"},{"$f":"C$1","v":"Fev/21"},{"$f":"D$1","v":"Mar/21"},"Abr/21","Mai/21","Jun/21","Jul/21","Ago/21","Set/21","Out/21","Nov/21","Dez/21",2021]
["CD",1,1,null,null,null,null,null,null,null,null,null,null,{"$f":"IFERROR(ROUND(SUMPRODUCT(B296:M296,B297:M297)/N297,5),B296)","v":1}]
["-","-",null,null,null,null,null,null,null,null,null,null,null,{"$f":"SUM(B297:M297)","v":0}]
["Inbound","-",null,null,null,null,null,null,null,null,null,null,null,{"$f":"N296","v":1}]
["-","-",null,null,null,null,null,null,null,null,null,null,null,{"$f":"N297","v":0}]
["Estoque","-",null,null,null,null,null,null,null,null,null,null,null,{"$f":"N296","v":1}]
["-","-",null,null,null,null,null,null,null,null,null,null,null,{"$f":"N297","v":0}]
["Outbound","-",null,null,null,null,null,null,null,null,null,null,null,{"$f":"N296","v":1}]
["-",null,null,null,null,null,null,null,null,null,null,null,null,{"$f":"N297","v":0}]